Workbook
Name jorgito: #REF!
Name jorgito: #REF!
Name jorgito: #REF!
Name sandrita: #REF!
Name sandrita: #REF!
Name sandrita: #REF!
Name silvia: #REF!
Name silvia: #REF!
Name silvia: #REF!

Sheet APS-IMP SP
C1: MATRIZ DE IDENTIFICACIÓN DE ASPECTOS, EVALUACIÓN Y CONTROL DE IMPACTOS AMBIENTALES | Q1: CÓDIGO DEL FORMATO | R1: SC03-F01 | Y1: Tipo de impacto | Z1: Frecuencia | AA1: Extensión | AB1: Afectación | AC1: Legislación aplicable
Q2: VERSIÓN DEL FORMATO | R2: 13 | Y2: -4 | Z2: 0 | AA2: 1 | AB2: 1 | AC2: 0
Q3: FECHA DE ACTUALIZACIÓN | R3: 46162 | Y3: 4 | Z3: 1 | AA3: 2 | AB3: 2 | AC3: 1
A4: ÍTEM | B4: ETAPA 1 IDENTIFICACIÓN DE ASPECTOS E IMPACTOS AMBIENTALES | I4: ETAPA 2: EVALUACIÓN DE LOS ASPECTOS E IMPACTOS AMBIENTALES | P4: ETAPA 3: CONTROLES OPERACIONALES | R4: ETAPA 4: DETERMINAR ACCIONES PARA ABORDAR RIESGOS Y OPORTUNIDADES | Z4: 2 | AA4: 4 | AB4: 4 | AC4: 4
B5: DESCRIPCIÓN DE LA ACTIVIDAD | D5: ASPECTO AMBIENTAL | G5: IMPACTO AMBIENTAL | H5: TIPO DE OPERACIÓN | I5: TIPO DE IMPACTO (TP) | J5: FRECUENCIA (FR) | K5: EXTENSIÓN (EX) | L5: AFECTACIÓN (A) | M5: LEGISLACION APLICABLE (LA) | N5: VALOR DE LA SIGNIFICANCIA (VS) | O5: CLASIFICACIÓN DEL ASPECTO | P5: Sede: Principal - Dirección: Calle 24 # 7-43 Edificio 7-24 | R5: ACCIONES PARA ABORDAR RIESGOS Y OPORTUNIDADES | Z5: 3
B6: ACTIVIDAD | C6: ÁREAS | D6: TIPO DE ASPECTO | E6: ASPECTO | F6: DESCRIPCIÓN ASPECTO AMBIENTAL | G6: TIPO DE IMPACTO | P6: CONTROLES OPERACIONALES | Z6: 4
P7: ACCIONES DEL CONTROL | Q7: CONTROL
A8: 1 | B8: Atención a los usuarios | C8: Primer piso (Local) | D8: Entrada | E8: Consumo de energía eléctrica | F8: Consumo de energía generado de las actividades de atención a los usuarios, como encendido de luces y uso de computadores e impresoras. | G8: Agotamiento de los recursos naturales | H8: Normal | I8: 4 | J8: 4 | K8: 1 | L8: 2 | M8: 1 | N8: =(I8)+J8+K8+L8+M8 -> 12 | O8: =IF(N8<=14,"NOSIGNIFICATIVO",IF(AND(N8>=15,N8<=20),"SIGNIFICATIVOS")) -> NOSIGNIFICATIVO | Q8: - Implementar las acciones del Programa para el uso Eficiente y Racional para la Energía SC3-F14 | R8: OPORTUNIDADES: Se presentan las estrategias o acciones que ayudaran en mejorar el desempeño ambiental de la Entidad. ✓ Aplicación de buenas prácticas ambientales, con el propósito de transformar el enfoque de la acción climática, permitiendo generar estrategias para reducir las emisiones de gases de efecto invernadero, planificando acciones para mitigar impactos. ✓Fortalecer y/o reforzar los conocimientos y cultura ambiental a toda la Entidad (servidores, contratistas y jefes de oficina), con el fin de disminuir los impactos ambientales generados por las actividades laborales que se realizan en la Entidad, e involucrarlos más para fortalecer sus áreas en el manejo de temas ambientales. ✓En el caso de que la Entidad decida cambiar la sede principal a otra sede, incluir criterios ambientales que permitan la adaptación frente al cumplimiento normativo ambiental. ✓ Incentivar a los funcionarios y contratistas a usar medios alternativos de transporte amigables con el medio ambiente o mejorar el uso de la movilidad usando servicios de rutas de la Entidad o compartiendo vehículos para ir a la oficina, con el fin de disminuir los impactos ambientales que generan los vehículos de transporte. ✓Realizar campañas de divulgación sobre los programas y planes ambientales. ✓Gestionar mediante una asociación de reciclaje, el manejo y disposición de los residuos sólidos de la Entidad, teniendo en cuenta la normatividad vigente en cuando a los residuos aprovechables, con el fin de mejorar el control operativo del manejo de estos. ✓ Gestionar y evaluar la implementación del SGA en las sedes diferentes a la principal , teniendo en cuenta los hallazgos y recomendaciones registrados en las auditorías internas. ✓ Realizar el cálculo de guella de carbono. RIESGOS: Incumplimientos de compromisos (operativos, técnicos, presupuestales, otros) al no ejecutarse las actividades de acuerdo a los programas y planes establecidos. Acción para abordar: ✓Presentar los cronogramas de actividades de gestión del SGA en el plan de acción de cada vigencia. ✓ Incumplimientos normativos.
A9: =+A8+1 -> 2 | C9: Primer piso (Local) | D9: Entrada | E9: Consumo de energía eléctrica | F9: Consumo de energía generado de las actividades de atención a los usuarios, como encendido de luces y uso de computadores e impresoras. | G9: Contaminación del aire | H9: Normal | I9: 4 | J9: 4 | K9: 1 | L9: 2 | M9: 1 | N9: =(I9)+J9+K9+L9+M9 -> 12 | O9: =IF(N9<=14,"NOSIGNIFICATIVO",IF(AND(N9>=15,N9<=20),"SIGNIFICATIVOS")) -> NOSIGNIFICATIVO | Q9: - Implementar las acciones del Programa para el uso Eficiente y Racional para la Energía SC3-F14 - Implementar las acciones del Programa de gestión de emisiones atmosféricas y adaptación al cambio climático - SC03-F40
A10: =+A9+1 -> 3 | C10: Primer piso (Local) | D10: Entrada | E10: Consumo de agua | F10: Consumo de agua por el uso de los aspersores en caso de emergencia | G10: Agotamiento de los recursos naturales | H10: Anormal | I10: -4 | J10: 0 | K10: 1 | L10: 1 | M10: 1 | N10: =(I10)+J10+K10+L10+M10 -> -1 | O10: =IF(N10<=14,"NOSIGNIFICATIVO",IF(AND(N10>=15,N10<=20),"SIGNIFICATIVOS")) -> NOSIGNIFICATIVO | Q10: Atender las instrucciones del administrador del edificio y del grupo de SST
A11: =+A10+1 -> 4 | C11: Primer piso (Local) | D11: Salida | E11: Generación de Residuos no aprovechables | F11: Generación de residuos no aprovechables generados en actividades de atención a usuarios por funcionarios, contratistas y usuarios | G11: Sobrepresión del relleno sanitario | H11: Normal | I11: 4 | J11: 4 | K11: 4 | L11: 4 | M11: 1 | N11: =(I11)+J11+K11+L11+M11 -> 17 | O11: =IF(N11<=14,"NOSIGNIFICATIVO",IF(AND(N11>=15,N11<=20),"SIGNIFICATIVOS")) -> SIGNIFICATIVOS | P11: - Inducción al Sistema de Gestión Ambiental. - Implementar acciones mediante actividades establecidas en el cronograma del Programa de Gestión para el Manejo y Disposición de Residuos Sólidos. - Instalación de puntos ecológicos con banner informativos para conocer la correcta disposición de residuos en cada contenedor. - Realizar inspecciones para conocer como los funcionarios estas depositando los residuos solidos. - Realizar actividades encaminadas a concientizar a los funcionarios y contratistas sobre la correcta disposición de residuos sólidos. - Realizar publicaciones en INTRASIC y por correo masivo, con el fin de sensibilizar y tener buenas prácticas para la correcta disposición de residuos. - Realizar mediciones sobre la generación de residuos y su porcentaje de aprovechamiento. | Q11: - Implementar las acciones del Programa de Gestión para el Manejo y Disposición de Residuos Sólidos SC03-F13. - Informes de gestión ambiental. - Inspecciones ambientales. - Indicadores.
A12: =+A11+1 -> 5 | C12: Primer piso (Local) | D12: Salida | E12: Generación de Residuos aprovechables | F12: Generación de residuos susceptibles a ser aprovechables tales como: papel, cartón, plástico, vidrio, chatarra, etc. | G12: Reducción de afectación al medio ambiente | H12: Normal | I12: -4 | J12: 4 | K12: 1 | L12: 2 | M12: 1 | N12: =(I12)+J12+K12+L12+M12 -> 4 | O12: =IF(N12<=14,"NOSIGNIFICATIVO",IF(AND(N12>=15,N12<=20),"SIGNIFICATIVOS")) -> NOSIGNIFICATIVO | Q12: - Implementar las acciones del Programa de Gestión para el Manejo y Disposición de Residuos Sólidos SC03-F13
A13: =+A12+1 -> 6 | C13: Primer piso (Local) | D13: Entrada | E13: Consumo de papel | F13: Consumo de papel generado por impresiones y fotocopiado de documentos. | G13: Agotamiento de los recursos naturales forestales | H13: Normal | I13: 4 | J13: 3 | K13: 4 | L13: 4 | M13: 1 | N13: =(I13)+J13+K13+L13+M13 -> 16 | O13: =IF(N13<=14,"NOSIGNIFICATIVO",IF(AND(N13>=15,N13<=20),"SIGNIFICATIVOS")) -> SIGNIFICATIVOS | P13: - Inducción al Sistema de Gestión Ambiental. - Implementar acciones mediante actividades establecidas en el cronograma del Programa de Gestión para el Manejo y Disposición de Residuos Sólidos y Programa de gestión de emisiones atmosféricas y adaptación al cambio climático. -Realizar publicaciones en INTRASIC y por correo masivo, sobre Eficiencia Administrativa y Lineamientos de la Política de Cero Papel -Realizar jornada de cero impresiones, con el fin de medir y reducir el consumo de papel en la Entidad. - Llevar un control sobre la variación del consumo de papel | Q13: - Implementar las acciones del Programa de Gestión para el Manejo y Disposición de Residuos Sólidos SC03-F13 - Implementar las acciones del Programa de gestión de emisiones atmosféricas y adaptación al cambio climático - SC03-F40 - Circular interna de Eficiencia Administrativa y Lineamientos de la Política de Cero Papel. - Informe de gestión ambiental - Seguimiento al consumo de papel por medio del informe de austeridad del gasto.
A14: =+A13+1 -> 7 | C14: Primer piso (Local) | D14: Salida | E14: Consumo de tóner | F14: Consumo de tóner por impresiones y fotocopiado para atender a los usuarios | G14: Contaminación del suelo | H14: Normal | I14: 4 | J14: 4 | K14: 1 | L14: 4 | M14: 1 | N14: =(I14)+J14+K14+L14+M14 -> 14 | O14: =IF(N14<=14,"NOSIGNIFICATIVO",IF(AND(N14>=15,N14<=20),"SIGNIFICATIVOS")) -> NOSIGNIFICATIVO | Q14: - Implementar las acciones del Programa de Gestión para el Manejo y Disposición de Residuos Sólidos SC03-F13 - Implementar las acciones del Programa de Compras Públicas Sostenibles SC03-F20 - Implementar las acciones del Programa de gestión de emisiones atmosféricas y adaptación al cambio climático - SC03-F40
A15: =+A14+1 -> 8 | C15: Primer piso (Local) | D15: Salida | E15: Generación de residuos peligrosos o especiales | F15: Derrame de tóner | G15: Contaminación del suelo | H15: Emergencia | I15: -4 | J15: 0 | K15: 1 | L15: 1 | M15: 1 | N15: =(I15)+J15+K15+L15+M15 -> -1 | O15: =IF(N15<=14,"NOSIGNIFICATIVO",IF(AND(N15>=15,N15<=20),"SIGNIFICATIVOS")) -> NOSIGNIFICATIVO | Q15: - Implementar las acciones del Plan de Gestión Integral de Residuos Peligrosos SC03-F16 - Implementar las acciones del Plan de preparación y respuesta ante una emergencia y/o contingencia ambiental SC03-F17
A16: =+A15+1 -> 9 | B16: Operaciones de oficina | C16: Pisos 6, 7, 8, 9, 10,11,12,13, 14,16 y 17 | D16: Entrada | E16: Consumo de energía eléctrica | F16: Consumo de energía generado por el encendido de luces y uso de aparatos eléctricos y electrónicos para necesarios para realizar las labores de los funcionarios, contratistas | G16: Agotamiento de los recursos naturales | H16: Normal | I16: 4 | J16: 4 | K16: 4 | L16: 4 | M16: 1 | N16: =(I16)+J16+K16+L16+M16 -> 17 | O16: =IF(N16<=14,"NOSIGNIFICATIVO",IF(AND(N16>=15,N16<=20),"SIGNIFICATIVOS")) -> SIGNIFICATIVOS | P16: - Inducción al Sistema de Gestión Ambiental. - Implementar acciones mediante actividades establecidas en el cronograma del Programa para el Uso Eficiente Racional de la Energía. - Aplicación de Circular Interna de Medidas de Austeridad del Gasto. - Realizar actividades encaminadas a concientizar a los funcionarios y contratistas sobre el uso eficiente y racional de energía. - Realizar publicaciones en INTRASIC y por correo masivo, con el fin de sensibilizar y tener buen uso del consumo de energía. - Realizar mediciones sobre el consumo de energía. - Realizar inspecciones para ver los daños eléctricos. - Jornada de apagones ambientales. - Actividad de comparendos ambientales. | Q16: - Implementar las acciones del Programa para el uso Eficiente y Racional para la Energía SC3-F14 - Circular 13 de 2025 Medidas de Austeridad del Gasto - Informes de gestión ambiental. - Inspecciones ambientales. - Indicadores.
A17: =+A16+1 -> 10 | C17: Pisos 6, 7, 8, 9, 10,11,12,13, 14,16 y 17 | D17: Entrada | E17: Consumo de energía eléctrica | F17: Consumo de energía generado por el encendido de luces y uso de aparatos eléctricos y electrónicos para necesarios para realizar las labores de los funcionarios, contratistas | G17: Contaminación del aire | H17: Normal | I17: 4 | J17: 4 | K17: 1 | L17: 2 | M17: 1 | N17: =(I17)+J17+K17+L17+M17 -> 12 | O17: =IF(N17<=14,"NOSIGNIFICATIVO",IF(AND(N17>=15,N17<=20),"SIGNIFICATIVOS")) -> NOSIGNIFICATIVO | Q17: - Implementar las acciones del Programa para el uso Eficiente y Racional para la Energía SC3-F14 - Implementar las acciones del Programa de gestión de emisiones atmosféricas y adaptación al cambio climático - SC03-F40
A18: =+A17+1 -> 11 | C18: Pisos 6, 7, 8, 9, 10,11,12,13, 14,16 y 18 | D18: Entrada | E18: Consumo de agua | F18: Consumo de agua por el uso de los aspersores en caso de emergencia | G18: Agotamiento de los recursos naturales | H18: Anormal | I18: -4 | J18: 0 | K18: 1 | L18: 1 | M18: 1 | N18: =(I18)+J18+K18+L18+M18 -> -1 | O18: =IF(N18<=14,"NOSIGNIFICATIVO",IF(AND(N18>=15,N18<=20),"SIGNIFICATIVOS")) -> NOSIGNIFICATIVO | Q18: Atender las instrucciones del administrador del edificio y del grupo de SST
A19: =+A18+1 -> 12 | C19: Pisos 6, 7, 8, 9, 10,11,12,13, 14,16 y 17 | D19: Salida | E19: Generación de Residuos no aprovechables | F19: Generación de residuos no aprovechables generados en las operaciones de oficina por funcionarios y contratistas | G19: Sobrepresión del relleno sanitario | H19: Normal | I19: 4 | J19: 4 | K19: 4 | L19: 2 | M19: 1 | N19: =(I19)+J19+K19+L19+M19 -> 15 | O19: =IF(N19<=14,"NOSIGNIFICATIVO",IF(AND(N19>=15,N19<=20),"SIGNIFICATIVOS")) -> SIGNIFICATIVOS | P19: - Inducción al Sistema de Gestión Ambiental. - Implementar acciones mediante actividades establecidas en el cronograma del Programa de Gestión para el Manejo y Disposición de Residuos Sólidos. - Instalación de puntos ecológicos con banner informativos para conocer la correcta disposición de residuos en cada contenedor. - Realizar inspecciones para conocer como los funcionarios estas depositando los residuos solidos. - Realizar actividades encaminadas a concientizar a los funcionarios y contratistas sobre la correcta disposición de residuos sólidos. - Realizar publicaciones en INTRASIC y por correo masivo, con el fin de sensibilizar y tener buenas prácticas para la correcta disposición de residuos. - Realizar mediciones sobre la generación de residuos y su porcentaje de aprovechamiento. | Q19: - Implementar las acciones del Programa de Gestión para el Manejo y Disposición de Residuos Sólidos SC03-F13. - Informes de gestión ambiental. - Inspecciones ambientales. - Indicadores.
A20: =+A19+1 -> 13 | C20: Pisos 6, 7, 8, 9, 10,11,12,13, 14,16 y 17 | D20: Salida | E20: Generación de Residuos aprovechables | F20: Generación de residuos susceptibles a ser aprovechables tales como: papel, cartón, plástico, vidrio, chatarra, etc., generados por los funcionarios y contratistas. | G20: Reducción del consumo de recursos naturales | H20: Normal | I20: -4 | J20: 4 | K20: 1 | L20: 2 | M20: 1 | N20: =(I20)+J20+K20+L20+M20 -> 4 | O20: =IF(N20<=14,"NOSIGNIFICATIVO",IF(AND(N20>=15,N20<=20),"SIGNIFICATIVOS")) -> NOSIGNIFICATIVO | Q20: - Implementar las acciones del Programa de Gestión para el Manejo y Disposición de Residuos Sólidos SC03-F13:
A21: =+A20+1 -> 14 | C21: Pisos 6, 7, 8, 9, 10,11,12,13, 14,16 y 17 | D21: Entrada | E21: Consumo de papel | F21: Consumo de papel generado por impresiones y fotocopiado de documentos. | G21: Agotamiento de los recursos naturales forestales | H21: Normal | I21: 4 | J21: 4 | K21: 4 | L21: 4 | M21: 1 | N21: =(I21)+J21+K21+L21+M21 -> 17 | O21: =IF(N21<=14,"NOSIGNIFICATIVO",IF(AND(N21>=15,N21<=20),"SIGNIFICATIVOS")) -> SIGNIFICATIVOS | P21: - Inducción al Sistema de Gestión Ambiental. - Implementar acciones mediante actividades establecidas en el cronograma del Programa de Gestión para el Manejo y Disposición de Residuos Sólidos, Programa de Compras Públicas Sostenibles, Programa de gestión de emisiones atmosféricas y adaptación al cambio climático. -Realizar publicaciones en INTRASIC y por correo masivo, sobre Eficiencia Administrativa y Lineamientos de la Política de Cero Papel -Realizar jornada de cero impresiones, con el fin de medir y reducir el consumo de papel en la Entidad. - Llevar un control sobre la variación del consumo de papel. | Q21: - Implementar las acciones del Programa de Gestión para el Manejo y Disposición de Residuos Sólidos SC03-F13 - Implementar las acciones del Programa de Compras Públicas Sostenibles SC03-F20: Verificación de la ficha técnica de criterios ambientales y/o sostenibilidad - Implementar las acciones del Programa de gestión de emisiones atmosféricas y adaptación al cambio climático - SC03-F40 - Circular interna de Eficiencia Administrativa y Lineamientos de la Política de Cero Papel. - Informe de gestión ambiental - Seguimiento al consumo de papel por medio del informe de austeridad del gasto.
A22: =+A21+1 -> 15 | C22: Pisos 6, 7, 8, 9, 10,11,12,13, 14,16 y 17 | D22: Salida | E22: Consumo de tóner | F22: Consumo de tóner por impresiones y fotocopiado de las diferentes áreas de trabajo. | G22: Contaminación del suelo | H22: Normal | I22: 4 | J22: 4 | K22: 1 | L22: 4 | M22: 1 | N22: =(I22)+J22+K22+L22+M22 -> 14 | O22: =IF(N22<=14,"NOSIGNIFICATIVO",IF(AND(N22>=15,N22<=20),"SIGNIFICATIVOS")) -> NOSIGNIFICATIVO | Q22: - Implementar las acciones del Programa de Gestión para el Manejo y Disposición de Residuos Sólidos SC03-F13 - Implementar las acciones del Programa de Compras Públicas Sostenibles SC03-F20 - Implementar las acciones del Programa de gestión de emisiones atmosféricas y adaptación al cambio climático - SC03-F40
A23: =+A22+1 -> 16 | C23: Pisos 6, 7, 8, 9, 10,11,12,13, 14,16 y 17 | D23: Salida | E23: Generación de residuos peligrosos o especiales | F23: Derrame de tóner | G23: Contaminación del suelo | H23: Emergencia | I23: -4 | J23: 0 | K23: 1 | L23: 1 | M23: 1 | N23: =(I23)+J23+K23+L23+M23 -> -1 | O23: =IF(N23<=14,"NOSIGNIFICATIVO",IF(AND(N23>=15,N23<=20),"SIGNIFICATIVOS")) -> NOSIGNIFICATIVO | Q23: - Implementar las acciones del Plan de Gestión Integral de Residuos Peligrosos SC03-F16 - Implementar las acciones del Plan de preparación y respuesta ante una emergencia y/o contingencia ambiental SC03-F17
A24: =+A23+1 -> 17 | C24: Sala de pruebas delegaturas | D24: Salida | E24: Generación de residuos peligrosos o especiales | F24: Derrames de sustancias químicas almacenadas para pruebas | G24: Contaminación del suelo | H24: Emergencia | I24: 4 | J24: 0 | K24: 1 | L24: 1 | M24: 1 | N24: =(I24)+J24+K24+L24+M24 -> 7 | O24: =IF(N24<=14,"NOSIGNIFICATIVO",IF(AND(N24>=15,N24<=20),"SIGNIFICATIVOS")) -> NOSIGNIFICATIVO | Q24: - Implementar las acciones del Plan de Gestión Integral de Residuos Peligrosos SC03-F16 - Implementar las acciones del Plan de preparación y respuesta ante una emergencia y/o contingencia ambiental SC03-F17
A25: =+A24+1 -> 18 | B25: Capacitaciones, cursos, charlas, comités, audiencias, reuniones, juntas y actividades varias | C25: Pisos 6, 7, 8, 9, 10,11,12,13, 14,16 y 17 | D25: Entrada | E25: Consumo de energía eléctrica | F25: Consumo de energía generado por el encendido de luces y uso de aparatos eléctricos y electrónicos para necesarios para realizar capacitaciones, reuniones, etc. | G25: Agotamiento de los recursos naturales | H25: Normal | I25: -4 | J25: 4 | K25: 1 | L25: 1 | M25: 1 | N25: =(I25)+J25+K25+L25+M25 -> 3 | O25: =IF(N25<=14,"NOSIGNIFICATIVO",IF(AND(N25>=15,N25<=20),"SIGNIFICATIVOS")) -> NOSIGNIFICATIVO | Q25: - Implementar las acciones del Programa para el uso Eficiente y Racional para la Energía SC3-F14 - Implementar las acciones del Programa de gestión de emisiones atmosféricas y adaptación al cambio climático - SC03-F40
A26: =+A25+1 -> 19 | C26: Pisos 6, 7, 8, 9, 10,11,12,13, 14,16 y 17 | D26: Entrada | E26: Consumo de energía eléctrica | F26: Consumo de energía generado por el encendido de luces y uso de aparatos eléctricos y electrónicos para necesarios para realizar capacitaciones, reuniones, etc. | G26: Contaminación del aire | H26: Normal | I26: 4 | J26: 4 | K26: 1 | L26: 2 | M26: 1 | N26: =(I26)+J26+K26+L26+M26 -> 12 | O26: =IF(N26<=14,"NOSIGNIFICATIVO",IF(AND(N26>=15,N26<=20),"SIGNIFICATIVOS")) -> NOSIGNIFICATIVO | Q26: - Implementar las acciones del Programa para el uso Eficiente y Racional para la Energía SC3-F14 - Implementar las acciones del Programa de gestión de emisiones atmosféricas y adaptación al cambio climático - SC03-F40
A27: =+A26+1 -> 20 | C27: Pisos 6, 7, 8, 9, 10,11,12,13, 14,16 y 17 | D27: Salida | E27: Generación de Residuos no aprovechables | F27: Generación de residuos no aprovechables generados en actividades por funcionarios y contratistas | G27: Sobrepresión del relleno sanitario | H27: Normal | I27: -4 | J27: 3 | K27: 1 | L27: 2 | M27: 1 | N27: =(I27)+J27+K27+L27+M27 -> 3 | O27: =IF(N27<=14,"NOSIGNIFICATIVO",IF(AND(N27>=15,N27<=20),"SIGNIFICATIVOS")) -> NOSIGNIFICATIVO | Q27: - Implementar las acciones del Programa de Gestión para el Manejo y Disposición de Residuos Sólidos SC03-F13:
A28: =+A27+1 -> 21 | C28: Pisos 6, 7, 8, 9, 10,11,12,13, 14,16 y 17 | D28: Salida | E28: Generación de Residuos aprovechables | F28: Generación de residuos susceptibles a ser aprovechables tales como: papel, cartón, plástico, vidrio, chatarra, etc. | G28: Reducción de afectación al medio ambiente | H28: Normal | I28: -4 | J28: 3 | K28: 1 | L28: 1 | M28: 1 | N28: =(I28)+J28+K28+L28+M28 -> 2 | O28: =IF(N28<=14,"NOSIGNIFICATIVO",IF(AND(N28>=15,N28<=20),"SIGNIFICATIVOS")) -> NOSIGNIFICATIVO | Q28: - Implementar las acciones del Programa de Gestión para el Manejo y Disposición de Residuos Sólidos SC03-F13
A29: =+A28+1 -> 22 | C29: Pisos 6, 7, 8, 9, 10,11,12,13, 14,16 y 17 | D29: Entrada | E29: Consumo de papel | F29: Consumo de papel generado por registros de asistencia y/o impresiones y fotocopiado de documentos. | G29: Agotamiento de los recursos naturales forestales | H29: Normal | I29: 4 | J29: 4 | K29: 1 | L29: 4 | M29: 1 | N29: =(I29)+J29+K29+L29+M29 -> 14 | O29: =IF(N29<=14,"NOSIGNIFICATIVO",IF(AND(N29>=15,N29<=20),"SIGNIFICATIVOS")) -> NOSIGNIFICATIVO | Q29: - Implementar las acciones del Programa de Gestión para el Manejo y Disposición de Residuos Sólidos SC03-F13 - Implementar las acciones del Programa de gestión de emisiones atmosféricas y adaptación al cambio climático - SC03-F40 - Circular interna No. 15 Eficiencia Administrativa y Lineamientos de la Política de Cero Papel
A30: =+A29+1 -> 23 | C30: Pisos 6, 7, 8, 9, 10,11,12,13, 14,16 y 17 | D30: Salida | E30: Generación de conciencia ambiental | F30: Prevención de la contaminación | G30: Reducción en la afectación ambiental | H30: Normal | I30: -4 | J30: 4 | K30: 1 | L30: 4 | M30: 1 | N30: =(I30)+J30+K30+L30+M30 -> 6 | O30: =IF(N30<=14,"NOSIGNIFICATIVO",IF(AND(N30>=15,N30<=20),"SIGNIFICATIVOS")) -> NOSIGNIFICATIVO | Q30: - Curso de inducción a los sistemas SST y SGA - Capacitaciones - Encuestas - Semana Ambiental - Actividades ambientales
A31: =+A30+1 -> 24 | B31: Impresión y fotocopiado | C31: Pisos 6, 7, 8, 9, 10,11,12,13, 14,16 y 17 | D31: Entrada | E31: Consumo de energía eléctrica | F31: Consumo de energía generado por el uso de impresoras, escáneres necesarios para realizar impresiones y fotocopiados en las labores de la Entidad. | G31: Agotamiento de los recursos naturales | H31: Normal | I31: 4 | J31: 4 | K31: 4 | L31: 4 | M31: 1 | N31: =(I31)+J31+K31+L31+M31 -> 17 | O31: =IF(N31<=14,"NOSIGNIFICATIVO",IF(AND(N31>=15,N31<=20),"SIGNIFICATIVOS")) -> SIGNIFICATIVOS | P31: - Inducción al Sistema de Gestión Ambiental. - Implementar acciones mediante actividades establecidas en el cronograma del Programa para el Uso Eficiente Racional de la Energía. - Aplicación de Circular Interna de Medidas de Austeridad del Gasto. - Realizar actividades encaminadas a concientizar a los funcionarios y contratistas sobre el uso eficiente y racional de energía. - Realizar publicaciones en INTRASIC y por correo masivo, con el fin de sensibilizar y tener buen uso del consumo de energía. - Realizar mediciones sobre el consumo de energía. - Realizar inspecciones para ver los daños eléctricos. - Jornada de apagones ambientales. - Actividad de comparendos ambientales. | Q31: - Implementar las acciones del Programa para el uso Eficiente y Racional para la Energía SC3-F14 - Circular 13 de 2025 Medidas de Austeridad del Gasto - Informes de gestión ambiental. - Inspecciones ambientales. - Indicadores.
A32: =+A31+1 -> 25 | C32: Pisos 6, 7, 8, 9, 10,11,12,13, 14,16 y 17 | D32: Entrada | E32: Consumo de energía eléctrica | F32: Consumo de energía generado por el uso de impresoras, escáneres necesarios para realizar impresiones y fotocopiados en las labores de la Entidad. | G32: Contaminación del aire | H32: Normal | I32: 4 | J32: 4 | K32: 1 | L32: 2 | M32: 1 | N32: =(I32)+J32+K32+L32+M32 -> 12 | O32: =IF(N32<=14,"NOSIGNIFICATIVO",IF(AND(N32>=15,N32<=20),"SIGNIFICATIVOS")) -> NOSIGNIFICATIVO | Q32: - Implementar las acciones del Programa para el uso Eficiente y Racional para la Energía SC3-F14 - Implementar las acciones del Programa de gestión de emisiones atmosféricas y adaptación al cambio climático - SC03-F40
A33: =+A32+1 -> 26 | C33: Pisos 6, 7, 8, 9, 10,11,12,13, 14,16 y 17 | D33: Entrada | E33: Consumo de papel | F33: Consumo de papel generado por impresiones y fotocopiado de documentos. | G33: Agotamiento de los recursos naturales forestales | H33: Normal | I33: 4 | J33: 4 | K33: 1 | L33: 4 | M33: 1 | N33: =(I33)+J33+K33+L33+M33 -> 14 | O33: =IF(N33<=14,"NOSIGNIFICATIVO",IF(AND(N33>=15,N33<=20),"SIGNIFICATIVOS")) -> NOSIGNIFICATIVO | Q33: - Implementar las acciones del Programa de Gestión para el Manejo y Disposición de Residuos Sólidos SC03-F13 - Implementar las acciones del Programa de gestión de emisiones atmosféricas y adaptación al cambio climático - SC03-F40 - Circular interna No. 15 Eficiencia Administrativa y Lineamientos de la Política de Cero Papel
A34: =+A33+1 -> 27 | C34: Pisos 6, 7, 8, 9, 10,11,12,13, 14,16 y 17 | D34: Salida | E34: Generación de Residuos aprovechables | F34: Generación de residuos susceptibles a ser aprovechables como el papel. | G34: Reducción de afectación al medio ambiente | H34: Normal | I34: -4 | J34: 4 | K34: 1 | L34: 1 | M34: 1 | N34: =(I34)+J34+K34+L34+M34 -> 3 | O34: =IF(N34<=14,"NOSIGNIFICATIVO",IF(AND(N34>=15,N34<=20),"SIGNIFICATIVOS")) -> NOSIGNIFICATIVO | Q34: - Implementar las acciones del Programa de Gestión para el Manejo y Disposición de Residuos Sólidos SC03-F13
A35: =+A34+1 -> 28 | C35: Pisos 6, 7, 8, 9, 10,11,12,13, 14,16 y 17 | D35: Salida | E35: Generación de residuos peligrosos o especiales | F35: Generación de RAEEs y tóner. | G35: Contaminación del suelo | H35: Normal | I35: 4 | J35: 3 | K35: 1 | L35: 4 | M35: 1 | N35: =(I35)+J35+K35+L35+M35 -> 13 | O35: =IF(N35<=14,"NOSIGNIFICATIVO",IF(AND(N35>=15,N35<=20),"SIGNIFICATIVOS")) -> NOSIGNIFICATIVO | Q35: - Implementar las acciones del Plan de Gestión Integral de Residuos Peligrosos SC03-F16
A36: =+A35+1 -> 29 | C36: Pisos 6, 7, 8, 9, 10,11,12,13, 14,16 y 17 | D36: Salida | E36: Generación de residuos peligrosos o especiales | F36: Derrame de tóner | G36: Contaminación del suelo | H36: Emergencia | I36: 4 | J36: 0 | K36: 1 | L36: 1 | M36: 1 | N36: =(I36)+J36+K36+L36+M36 -> 7 | O36: =IF(N36<=14,"NOSIGNIFICATIVO",IF(AND(N36>=15,N36<=20),"SIGNIFICATIVOS")) -> NOSIGNIFICATIVO | Q36: - Implementar las acciones del Plan de Gestión Integral de Residuos Peligrosos SC03-F16 - Implementar las acciones del Plan de preparación y respuesta ante una emergencia y/o contingencia ambiental SC03-F17
A37: =+A36+1 -> 30 | B37: Inventario / Almacenamiento de insumos y bienes | C37: Piso 2 | D37: Entrada | E37: Consumo de energía eléctrica | F37: Consumo de energía generado de los equipos y/o luminarias requeridas para llevar a cabo las operaciones de oficina. | G37: Agotamiento de los recursos naturales | H37: Normal | I37: -4 | J37: 4 | K37: 1 | L37: 1 | M37: 1 | N37: =(I37)+J37+K37+L37+M37 -> 3 | O37: =IF(N37<=14,"NOSIGNIFICATIVO",IF(AND(N37>=15,N37<=20),"SIGNIFICATIVOS")) -> NOSIGNIFICATIVO | Q37: - Implementar las acciones del Programa para el uso Eficiente y Racional para la Energía SC3-F14 - Implementar las acciones del Programa de gestión de emisiones atmosféricas y adaptación al cambio climático - SC03-F40
A38: =+A37+1 -> 31 | C38: Piso 2 | D38: Entrada | E38: Consumo de energía eléctrica | F38: Consumo de energía generado de los equipos y/o luminarias requeridas para llevar a cabo las operaciones de oficina. | G38: Contaminación del aire | H38: Normal | I38: 4 | J38: 4 | K38: 1 | L38: 2 | M38: 1 | N38: =(I38)+J38+K38+L38+M38 -> 12 | O38: =IF(N38<=14,"NOSIGNIFICATIVO",IF(AND(N38>=15,N38<=20),"SIGNIFICATIVOS")) -> NOSIGNIFICATIVO | Q38: - Implementar las acciones del Programa para el uso Eficiente y Racional para la Energía SC3-F14 - Implementar las acciones del Programa de gestión de emisiones atmosféricas y adaptación al cambio climático - SC03-F40
A39: =+A38+1 -> 32 | C39: Piso 2 | D39: Salida | E39: Generación de Residuos no aprovechables | F39: Generación de residuos no aprovechables generados por la realización de la actividad. | G39: Sobrepresión del relleno sanitario | H39: Normal | I39: -4 | J39: 3 | K39: 1 | L39: 2 | M39: 1 | N39: =(I39)+J39+K39+L39+M39 -> 3 | O39: =IF(N39<=14,"NOSIGNIFICATIVO",IF(AND(N39>=15,N39<=20),"SIGNIFICATIVOS")) -> NOSIGNIFICATIVO | Q39: - Implementar las acciones del Programa de Gestión para el Manejo y Disposición de Residuos Sólidos SC03-F13
A40: =+A39+1 -> 33 | C40: Piso 2 | D40: Salida | E40: Generación de Residuos aprovechables | F40: Generación de residuos aprovechables generados en las bajas definitivas de los bienes de la Entidad y papel generado por impresiones y/o documentos. | G40: Reducción de afectación al medio ambiente | H40: Normal | I40: -4 | J40: 4 | K40: 1 | L40: 1 | M40: 1 | N40: =(I40)+J40+K40+L40+M40 -> 3 | O40: =IF(N40<=14,"NOSIGNIFICATIVO",IF(AND(N40>=15,N40<=20),"SIGNIFICATIVOS")) -> NOSIGNIFICATIVO | Q40: - Implementar las acciones del Programa de Gestión para el Manejo y Disposición de Residuos Sólidos SC03-F13
...

Sheet ListadoDesplegable
A2: DESCRIPCIÓN DE LA ACTIVIDAD | B2: ASPECTO AMBIENTAL | C2: IMPACTO AMBIENTAL | D2: TIPO OPERACIÓN | E2: TIPO DE IMPACTO (TP) | G2: FRECUENCIA (FR) | I2: EXTENSIÓN (EX) | K2: AFECTACIÓN (A) | M2: LEGISLACION APLICABLE (LA)
A3: Atención a los usuarios | B3: Consumo de agua | C3: Agotamiento de los recursos naturales | D3: Normal | E3: POSITIVO | F3: -4 | G3: NO SE PRESENTA | H3: 0 | I3: REDUCIDA | J3: 1 | K3: BAJA | L3: 1 | M3: NO APLICA | N3: 0
A4: Operaciones de oficina | B4: Consumo de combustible | C4: Contaminación y/o alteración de agua | D4: Anormal | E4: NEGATIVO | F4: 4 | G4: ANUAL | H4: 1 | I4: AMPLIA | J4: 2 | K4: MODERADA | L4: 2 | M4: APLICA Y SE CUMPLE | N4: 1
A5: Capacitaciones, cursos, charlas, comités, audiencias, reuniones, juntas y actividades varias | B5: Consumo de energía eléctrica | C5: Contaminación del aire | D5: Emergencia | G5: SEMESTRAL | H5: 2 | I5: FUERA DE LAS INSTALACIONES | J5: 4 | K5: ALTA | L5: 4 | M5: APLICA Y NO SE CUMPLE | N5: 4
A6: Impresión y fotocopiado | B6: Consumo de papel | C6: Agotamiento de los recursos naturales | G6: MENSUAL | H6: 3
A7: Inventario / Almacenamiento de insumos y bienes | B7: Generación de conciencia ambiental | C7: Contaminación y/o alteración del suelo | G7: DIARIA | H7: 4
A8: Atenciones de consultas médicas y/o jornadas de salud y bienestar | B8: Generación de emisiones atmosféricas | C8: Alteración del paisaje
A9: Servicio de cafetería, consumo de alimentos | B9: Generación de olores y/o vapores | C9: Sobrepresión del relleno sanitario
A10: Aseo, limpieza y desinfección | B10: Generación de residuos aprovechables (Orgánicos, Papel, plástico, cartón etc.) | C10: Aumento en la conciencia ambiental
A11: Servicio de baños | B11: Generación de residuos no aprovechables (Residuos ordinarios) | C11: Reducción de afectación al medio ambiente
A12: Clasificación y almacenamiento y entrega de residuos | B12: Generación de residuos Peligrosos | C12: Afectación ambiental
A13: Fumigación de las instalaciones de la SIC | B13: (Tóner, biosanitarios, luminarias, etc.) | C13: Contaminación visual
A14: Operaciones de vehículos (parque automotor y rutas para el desplazamiento de los funcionarios) | B14: Generación de residuos especiales (Pilas, cargadores, escombros, llantas, RAEEs)
A15: Operación de las | B15: Generación de vertimientos
A16: Mantenimiento locativo (Adecuación de áreas, reformas de instalaciones) | B16: Otros aspectos ambientales
A17: Mantenimiento de aires acondicionados | B17: Publicidad visual exterior
A18: Mantenimiento de Computadores e impresoras.
A19: Eliminación de Documentos
A20: Instalación de aviso institucional
A21: Inclusión de criterios ambientales en la contratación de bienes y servicios
A22: Promoción de movilidad sostenible

Sheet A.C.V. SP
B1: ANÁLISIS DE CICLO DE VIDA | D1: CÓDIGO DEL FORMATO | E1: ='APS-IMP SP'!R1 -> SC03-F01
D2: VERSIÓN DEL FORMATO | E2: ='APS-IMP SP'!R2 -> 13
D3: FECHA DE ACTUALIZACIÓN Y EVALUACIÓN | E3: =+'APS-IMP SP'!R3 -> 46162
A4: SEDE: Principal
A5: OBJETIVO: | B5: Realizar el análisis desde la perspectiva del ciclo de vida de los aspectos ambientales más significativos que tiene la Entidad identificados en la matriz de aspectos e impactos ambientales.
A6: ALCANCE: | B6: Este análisis es enfocado a todos los procesos y servicios que presta la Entidad.
A7: ASPECTOS AMBIENTALES: | B7: La Superintendencia de Industria y Comercio implementa el procedimiento SC03-P01, para la identificación de Aspectos e Impactos Ambientales derivados de las actividades de la Entidad desde la perspectiva del ciclo de vida de un producto o servicio y así poder establecer cuáles son significativos y cuáles de estos pueden convertirse en riesgos u oportunidades para la Entidad.
A8: DETERMINACIÓN DE LOS ASPECTOS E IMPACTOS AMBIENTALES PARA EL ACV. | B8: Con el fin de garantizar la implementación, se describen las etapas típicas del ciclo de vida de los productos (o servicios) en donde se describen el diseño y operación, producto generado, tratamiento al finalizar la vida y la disposición final, entre otros. Las etapas del ciclo de vida que sean aplicables variarán dependiendo de la actividad, producto o servicio. Para la elaboración del análisis de ciclo de vida de los productos y servicios, se tienen en cuenta los Aspectos Ambientales Significativos, sin embargo, por el cambio a la nueva sede no se tiene un periodo de tiempo comparables para su debida identificación.
A9: DESCRIPCIÓN
A10: La Superintendencia de Industria y Comercio realiza la actualización y/o evaluación de los aspectos derivados de 19 actividades identificadas en la sede principal y así poder establecer cuáles son significativos. Por lo anterior, el Sistema de Gestión Ambiental tomando en consideración, la información obtenida en la recopilación de datos de los programas y planes (inspecciones, indicadores, formatos, entre otros ) así como de la encuesta de identificación de aspectos se toma como retroalimentación y actualización de la Matriz de Identificación de Aspectos, Evaluación y Control de Impactos Ambientales SC03-F01 de la Entidad, el cual contribuye al cumplimiento y fortalecimiento el desempeño ambiental de la Entidad. De acuerdo a lo anterior se identifico que aspectos ambientales significativos: - Generación de Residuos no aprovechables - Consumo de energía eléctrica - Consumo de agua - Consumo de papel | E10: TOTAL
D11: ACTIVIDADES IDENTIFICADAS | E11: 19
D12: TOTAL DE ASPECTOS E IMPACTOS AMBIENTALES | E12: 120
D13: TOTAL DE ASPECTOS AMBIENTALES SIGNIFICATIVOS. | E13: 10
A14: CICLO DE VIDA
A15: Generación de Residuos no aprovechables
A16: Consumo de energía eléctrica
A17: Consumo de agua
A18: Consumo de papel
A19: Superintendencia de Industria y Comercio Sede Principal Bogotá D.C. Teléfonos: 601-5870000

Sheet APS-IMP SB
C1: MATRIZ DE IDENTIFICACIÓN DE ASPECTOS, EVALUACIÓN Y CONTROL DE IMPACTOS AMBIENTALES | Q1: CÓDIGO DEL FORMATO | R1: SC03-F01 | Y1: Tipo de impacto | Z1: Frecuencia | AA1: Extensión | AB1: Afectación | AC1: Legislación aplicable
Q2: VERSIÓN DEL FORMATO | R2: =+'APS-IMP SP'!R2 -> 13 | Y2: -4 | Z2: 0 | AA2: 1 | AB2: 1 | AC2: 0
Q3: FECHA DE ACTUALIZACIÓN | R3: =+'APS-IMP SP'!R3 -> 46162 | Y3: 4 | Z3: 1 | AA3: 2 | AB3: 2 | AC3: 1
A4: ÍTEM | B4: ETAPA 1 IDENTIFICACIÓN DE ASPECTOS E IMPACTOS AMBIENTALES | I4: ETAPA 2: EVALUACIÓN DE LOS ASPECTOS E IMPACTOS AMBIENTALES | P4: ETAPA 3: CONTROLES OPERACIONALES | R4: ETAPA 4: DETERMINAR ACCIONES PARA ABORDAR RIESGOS Y OPORTUNIDADES | Z4: 2 | AA4: 4 | AB4: 4 | AC4: 4
B5: DESCRIPCIÓN DE LA ACTIVIDAD | D5: ASPECTO AMBIENTAL | G5: IMPACTO AMBIENTAL | H5: TIPO DE OPERACIÓN | I5: TIPO DE IMPACTO (TP) | J5: FRECUENCIA (FR) | K5: EXTENSIÓN (EX) | L5: AFECTACIÓN (A) | M5: LEGISLACION APLICABLE (LA) | N5: VALOR DE LA SIGNIFICANCIA (VS) | O5: CLASIFICACIÓN DEL ASPECTO | P5: Sede: Bodegas Dirección: Transversal 93 # 51 - 98 bodegas 10-11, 44 y 48 | R5: ACCIONES PARA ABORDAR RIESGOS Y OPORTUNIDADES | Z5: 3
B6: ACTIVIDAD | C6: ÁREAS | D6: TIPO DE ASPECTO | E6: ASPECTO | F6: DESCRIPCIÓN ASPECTO AMBIENTAL | G6: TIPO DE IMPACTO | P6: CONTROLES OPERACIONALES | Z6: 4
P7: ACCIONES DEL CONTROL | Q7: CONTROL
A8: 1 | B8: Operaciones de oficina | C8: Bodega 10-11 Bodega 44 Bodega 48 | D8: Entrada | E8: Consumo de energía eléctrica | F8: Consumo de energía generado por el encendido de luces y uso de aparatos eléctricos y electrónicos para necesarios para realizar las labores de los funcionarios, contratistas | G8: Agotamiento de los recursos naturales | H8: Normal | I8: 4 | J8: 4 | K8: 4 | L8: 4 | M8: 1 | N8: =(I8)+J8+K8+L8+M8 -> 17 | O8: =IF(N8<=14,"NOSIGNIFICATIVO",IF(AND(N8>=15,N8<=20),"SIGNIFICATIVOS")) -> SIGNIFICATIVOS | P8: - Inducción al Sistema de Gestión Ambiental. - Implementar acciones mediante actividades establecidas en el cronograma del Programa para el Uso Eficiente Racional de la Energía. - Aplicación de Circular Interna de Medidas de Austeridad del Gasto. - Realizar actividades encaminadas a concientizar a los funcionarios y contratistas sobre el uso eficiente y racional de energía. - Realizar publicaciones en INTRASIC y por correo masivo, con el fin de sensibilizar y tener buen uso del consumo de energía. - Realizar mediciones sobre el consumo de energía. - Realizar inspecciones para ver los daños eléctricos. - Jornada de apagones ambientales. - Actividad de comparendos ambientales. | Q8: - Implementar las acciones del Programa para el uso Eficiente y Racional para la Energía SC3-F14 - Circular 13 de 2025 Medidas de Austeridad del Gasto - Informes de gestión ambiental. - Inspecciones ambientales. - Indicadores. | R8: OPORTUNIDADES: Se presentan las estrategias o acciones que ayudaran en mejorar el desempeño ambiental de la Entidad. ✓ Implementar criterios de ambientales y/o sostenibilidad con el fin de mitigar los aspectos ambientales de tal manera que no sean significativos. ✓ Aplicación de buenas prácticas ambientales, con el propósito de transformar el enfoque de la acción climática, permitiendo generar estrategias para reducir las emisiones de gases de efecto invernadero, planificando acciones para mitigar impactos. ✓Fortalecer y/o reforzar los conocimientos y cultura ambiental a toda la Entidad (servidores, contratistas y jefes de oficina), con el fin de disminuir los impactos ambientales generados por las actividades laborales que se realizan en la Entidad, e involucrarlos más para fortalecer sus áreas en el manejo de temas ambientales. ✓En el caso de que la Entidad decida cambiar la sede principal a otra sede, incluir criterios ambientales que permitan la adaptación frente al cumplimiento normativo ambiental. ✓ Incentivar a los funcionarios y contratistas a usar medios alternativos de transporte amigables con el medio ambiente o mejorar el uso de la movilidad usando servicios de rutas de la Entidad o compartiendo vehículos para ir a la oficina, con el fin de disminuir los impactos ambientales que generan los vehículos de transporte. ✓Realizar campañas de divulgación sobre los programas y planes ambientales. ✓Gestionar mediante una asociación de reciclaje, el manejo y disposición de los residuos sólidos de la Entidad, teniendo en cuenta la normatividad vigente en cuando a los residuos aprovechables, con el fin de mejorar el control operativo del manejo de estos. RIESGOS: Incumplimientos de compromisos (operativos, técnicos, presupuestales, otros) al no ejecutarse las actividades de acuerdo a los programas y planes establecidos. Acción para abordar: ✓Presentar los cronogramas de actividades de gestión del SGA en el plan de acción de cada vigencia. ✓ Incumplimientos normativos
A9: =+A8+1 -> 2 | C9: Bodega 10-11 Bodega 44 Bodega 48 | D9: Entrada | E9: Consumo de energía eléctrica | F9: Consumo de energía generado por el encendido de luces y uso de aparatos eléctricos y electrónicos para necesarios para realizar las labores de los funcionarios, contratistas | G9: Contaminación del aire | H9: Normal | I9: 4 | J9: 4 | K9: 1 | L9: 2 | M9: 1 | N9: =(I9)+J9+K9+L9+M9 -> 12 | O9: =IF(N9<=14,"NOSIGNIFICATIVO",IF(AND(N9>=15,N9<=20),"SIGNIFICATIVOS")) -> NOSIGNIFICATIVO | Q9: - Implementar las acciones del Programa para el uso Eficiente y Racional para la Energía SC3-F14 - Implementar las acciones del Programa de Compras Públicas Sostenibles SC03-F20: Verificación de la ficha técnica de criterios ambientales y/o sostenibilidad - Implementar las acciones del Programa de gestión de emisiones atmosféricas y adaptación al cambio climático - SC03-F40
A10: =+A9+1 -> 3 | C10: Bodega 10-11 Bodega 44 Bodega 48 | D10: Salida | E10: Generación de Residuos no aprovechables | F10: Generación de residuos no aprovechables generados en las operaciones de oficina por funcionarios y contratistas | G10: Sobrepresión del relleno sanitario | H10: Normal | I10: 4 | J10: 4 | K10: 4 | L10: 2 | M10: 1 | N10: =(I10)+J10+K10+L10+M10 -> 15 | O10: =IF(N10<=14,"NOSIGNIFICATIVO",IF(AND(N10>=15,N10<=20),"SIGNIFICATIVOS")) -> SIGNIFICATIVOS | P10: - Inducción al Sistema de Gestión Ambiental. - Implementar acciones mediante actividades establecidas en el cronograma del Programa de Gestión para el Manejo y Disposición de Residuos Sólidos. - Verificar que el contratista instale puntos ecológicos con banner informativos para conocer la correcta disposición de residuos en cada contenedor y cuente con centros de acopio para el debido almacenamiento y entrega de los residuos. - Realizar inspecciones para conocer como los funcionarios estas depositando los residuos solidos. - Realizar actividades encaminadas a concientizar a los funcionarios y contratistas sobre la correcta disposición de residuos sólidos. - Realizar publicaciones en INTRASIC y por correo masivo, con el fin de sensibilizar y tener buenas prácticas para la correcta disposición de residuos. - Realizar mediciones sobre la generación de residuos y su porcentaje de aprovechamiento. | Q10: - Implementar las acciones del Programa de Gestión para el Manejo y Disposición de Residuos Sólidos SC03-F13. - Implementar las acciones del Programa de Compras Públicas Sostenibles SC03-F20: Verificación de la ficha técnica de criterios ambientales y/o sostenibilidad - Informes de gestión ambiental. - Inspecciones ambientales. - Indicadores.
A11: =+A10+1 -> 4 | C11: Bodega 10-11 Bodega 44 Bodega 48 | D11: Salida | E11: Generación de Residuos aprovechables | F11: Generación de residuos susceptibles a ser aprovechables tales como: papel, cartón, plástico, vidrio, chatarra, etc., generados por los funcionarios y contratistas. | G11: Reducción del consumo de recursos naturales | H11: Normal | I11: -4 | J11: 4 | K11: 1 | L11: 2 | M11: 1 | N11: =(I11)+J11+K11+L11+M11 -> 4 | O11: =IF(N11<=14,"NOSIGNIFICATIVO",IF(AND(N11>=15,N11<=20),"SIGNIFICATIVOS")) -> NOSIGNIFICATIVO | Q11: - Implementar las acciones del Programa de Gestión para el Manejo y Disposición de Residuos Sólidos SC03-F13 - Implementar las acciones del Programa de Compras Públicas Sostenibles SC03-F20: Verificación de la ficha técnica de criterios ambientales y/o sostenibilidad
A12: =+A11+1 -> 5 | C12: Bodega 10-11 Bodega 44 Bodega 48 | D12: Entrada | E12: Consumo de papel | F12: Consumo de papel generado por impresiones y fotocopiado de documentos. | G12: Agotamiento de los recursos naturales forestales | H12: Normal | I12: 4 | J12: 4 | K12: 4 | L12: 4 | M12: 1 | N12: =(I12)+J12+K12+L12+M12 -> 17 | O12: =IF(N12<=14,"NOSIGNIFICATIVO",IF(AND(N12>=15,N12<=20),"SIGNIFICATIVOS")) -> SIGNIFICATIVOS | P12: - Inducción al Sistema de Gestión Ambiental. - Implementar acciones mediante actividades establecidas en el cronograma del Programa de Gestión para el Manejo y Disposición de Residuos Sólidos y Programa de gestión de emisiones atmosféricas y adaptación al cambio climático. -Realizar publicaciones en INTRASIC y por correo masivo, sobre Eficiencia Administrativa y Lineamientos de la Política de Cero Papel -Realizar jornada de cero impresiones, con el fin de medir y reducir el consumo de papel en la Entidad. - Llevar un control sobre la variación del consumo de papel | Q12: - Implementar las acciones del Programa de Gestión para el Manejo y Disposición de Residuos Sólidos SC03-F13 - Implementar las acciones del Programa de gestión de emisiones atmosféricas y adaptación al cambio climático - SC03-F40 - Circular interna de Eficiencia Administrativa y Lineamientos de la Política de Cero Papel. - Informe de gestión ambiental - Seguimiento al consumo de papel por medio del informe de austeridad del gasto.
A13: =+A12+1 -> 6 | C13: Bodega 10-11 Bodega 44 Bodega 48 | D13: Salida | E13: Consumo de tóner | F13: Consumo de tóner por impresiones y fotocopiado de las diferentes áreas de trabajo. | G13: Contaminación del suelo | H13: Normal | I13: 4 | J13: 4 | K13: 1 | L13: 4 | M13: 1 | N13: =(I13)+J13+K13+L13+M13 -> 14 | O13: =IF(N13<=14,"NOSIGNIFICATIVO",IF(AND(N13>=15,N13<=20),"SIGNIFICATIVOS")) -> NOSIGNIFICATIVO | Q13: - Implementar las acciones del Programa de Gestión para el Manejo y Disposición de Residuos Sólidos SC03-F13 - Implementar las acciones del Programa de Compras Públicas Sostenibles SC03-F20 - Implementar las acciones del Programa de gestión de emisiones atmosféricas y adaptación al cambio climático - SC03-F40
A14: =+A13+1 -> 7 | C14: Bodega 10-11 Bodega 44 Bodega 48 | D14: Salida | E14: Generación de residuos peligrosos o especiales | F14: Derrame de tóner | G14: Contaminación del suelo | H14: Emergencia | I14: -4 | J14: 0 | K14: 1 | L14: 1 | M14: 1 | N14: =(I14)+J14+K14+L14+M14 -> -1 | O14: =IF(N14<=14,"NOSIGNIFICATIVO",IF(AND(N14>=15,N14<=20),"SIGNIFICATIVOS")) -> NOSIGNIFICATIVO | Q14: - Implementar las acciones del Plan de Gestión Integral de Residuos Peligrosos SC03-F16 - Implementar las acciones del Plan de preparación y respuesta ante una emergencia y/o contingencia ambiental SC03-F17 - Implementar las acciones del Programa de Compras Públicas Sostenibles SC03-F20: Verificación de la ficha técnica de criterios ambientales y/o sostenibilidad
A15: =+A14+1 -> 8 | C15: Bodega 10-11 Bodega 44 Bodega 48 | D15: Salida | E15: Generación de residuos peligrosos o especiales | F15: Ruptura de luminarias (mercurio, focos y halógenos) | G15: Contaminación del suelo | H15: Emergencia | I15: -4 | J15: 0 | K15: 1 | L15: 1 | M15: 1 | N15: =(I15)+J15+K15+L15+M15 -> -1 | O15: =IF(N15<=14,"NOSIGNIFICATIVO",IF(AND(N15>=15,N15<=20),"SIGNIFICATIVOS")) -> NOSIGNIFICATIVO | Q15: - Implementar las acciones del Plan de Gestión Integral de Residuos Peligrosos SC03-F16 - Implementar las acciones del Plan de preparación y respuesta ante una emergencia y/o contingencia ambiental SC03-F17 - Implementar las acciones del Programa de Compras Públicas Sostenibles SC03-F20: Verificación de la ficha técnica de criterios ambientales y/o sostenibilidad
A16: =+A15+1 -> 9 | C16: Bodega 10-11 Bodega 44 Bodega 54 | D16: Salida | E16: Generación de conciencia ambiental | F16: Prevención de la contaminación | G16: Reducción en la afectación ambiental | H16: Normal | I16: -4 | J16: 4 | K16: 1 | L16: 4 | M16: 1 | N16: =(I16)+J16+K16+L16+M16 -> 6 | O16: =IF(N16<=14,"NOSIGNIFICATIVO",IF(AND(N16>=15,N16<=20),"SIGNIFICATIVOS")) -> NOSIGNIFICATIVO | Q16: - Curso de inducción a los sistemas SST y SGA - Capacitaciones - Encuestas - Semana Ambiental - Actividades ambientales
A17: =+A16+1 -> 10 | B17: Impresión y fotocopiado | C17: Bodega 10-11 Bodega 44 Bodega 48 | D17: Entrada | E17: Consumo de energía eléctrica | F17: Consumo de energía generado por el uso de impresoras, escáneres necesarios para realizar impresiones y fotocopiados en las labores de la Entidad. | G17: Agotamiento de los recursos naturales | H17: Normal | I17: 4 | J17: 4 | K17: 4 | L17: 4 | M17: 1 | N17: =(I17)+J17+K17+L17+M17 -> 17 | O17: =IF(N17<=14,"NOSIGNIFICATIVO",IF(AND(N17>=15,N17<=20),"SIGNIFICATIVOS")) -> SIGNIFICATIVOS | P17: - Inducción al Sistema de Gestión Ambiental. - Implementar acciones mediante actividades establecidas en el cronograma del Programa para el Uso Eficiente Racional de la Energía. - Aplicación de Circular Interna de Medidas de Austeridad del Gasto. - Realizar actividades encaminadas a concientizar a los funcionarios y contratistas sobre el uso eficiente y racional de energía. - Realizar publicaciones en INTRASIC y por correo masivo, con el fin de sensibilizar y tener buen uso del consumo de energía. - Realizar mediciones sobre el consumo de energía. - Realizar inspecciones para ver los daños eléctricos. - Jornada de apagones ambientales. - Actividad de comparendos ambientales. | Q17: - Implementar las acciones del Programa para el uso Eficiente y Racional para la Energía SC3-F14 - Circular 13 de 2025 Medidas de Austeridad del Gasto - Informes de gestión ambiental. - Inspecciones ambientales. - Indicadores.
A18: =+A17+1 -> 11 | C18: Bodega 10-11 Bodega 44 Bodega 48 | D18: Entrada | E18: Consumo de energía eléctrica | F18: Consumo de energía generado por el encendido de luces y uso de impresoras, escáneres necesarios para realizar impresiones y fotocopiados en las labores de la Entidad. | G18: Contaminación del aire | H18: Normal | I18: 4 | J18: 4 | K18: 1 | L18: 4 | M18: 1 | N18: =(I18)+J18+K18+L18+M18 -> 14 | O18: =IF(N18<=14,"NOSIGNIFICATIVO",IF(AND(N18>=15,N18<=20),"SIGNIFICATIVOS")) -> NOSIGNIFICATIVO | Q18: - Implementar las acciones del Programa para el uso Eficiente y Racional para la Energía SC3-F14 - Implementar las acciones del Programa de Compras Públicas Sostenibles SC03-F20: Verificación de la ficha técnica de criterios ambientales y/o sostenibilidad - Implementar las acciones del Programa de gestión de emisiones atmosféricas y adaptación al cambio climático - SC03-F40
A19: =+A18+1 -> 12 | C19: Bodega 10-11 Bodega 44 Bodega 48 | D19: Entrada | E19: Consumo de papel | F19: Consumo de papel generado por impresiones y fotocopiado de documentos. | G19: Agotamiento de los recursos naturales forestales | H19: Normal | I19: 4 | J19: 4 | K19: 1 | L19: 4 | M19: 1 | N19: =(I19)+J19+K19+L19+M19 -> 14 | O19: =IF(N19<=14,"NOSIGNIFICATIVO",IF(AND(N19>=15,N19<=20),"SIGNIFICATIVOS")) -> NOSIGNIFICATIVO | Q19: - Implementar las acciones del Programa de Gestión para el Manejo y Disposición de Residuos Sólidos SC03-F13 - Implementar las acciones del Programa de gestión de emisiones atmosféricas y adaptación al cambio climático - SC03-F40 - Circular interna No. 15 Eficiencia Administrativa y Lineamientos de la Política de Cero Papel
A20: =+A19+1 -> 13 | C20: Bodega 10-11 Bodega 44 Bodega 48 | D20: Salida | E20: Generación de Residuos aprovechables | F20: Generación de residuos susceptibles a ser aprovechables como el papel. | G20: Reducción de afectación al medio ambiente | H20: Normal | I20: -4 | J20: 4 | K20: 1 | L20: 1 | M20: 1 | N20: =(I20)+J20+K20+L20+M20 -> 3 | O20: =IF(N20<=14,"NOSIGNIFICATIVO",IF(AND(N20>=15,N20<=20),"SIGNIFICATIVOS")) -> NOSIGNIFICATIVO | Q20: - Implementar las acciones del Programa de Gestión para el Manejo y Disposición de Residuos Sólidos SC03-F13 - Implementar las acciones del Programa de Compras Públicas Sostenibles SC03-F20: Verificación de la ficha técnica de criterios ambientales y/o sostenibilidad
A21: =+A20+1 -> 14 | C21: Bodega 10-11 Bodega 44 Bodega 48 | D21: Salida | E21: Generación de residuos peligrosos o especiales | F21: Generación de RAEEs y tóner. | G21: Contaminación del suelo | H21: Normal | I21: 4 | J21: 3 | K21: 1 | L21: 4 | M21: 1 | N21: =(I21)+J21+K21+L21+M21 -> 13 | O21: =IF(N21<=14,"NOSIGNIFICATIVO",IF(AND(N21>=15,N21<=20),"SIGNIFICATIVOS")) -> NOSIGNIFICATIVO | Q21: - Implementar las acciones del Plan de Gestión Integral de Residuos Peligrosos SC03-F16 - Implementar las acciones del Programa de Compras Públicas Sostenibles SC03-F20: Verificación de la ficha técnica de criterios ambientales y/o sostenibilidad
A22: =+A21+1 -> 15 | C22: Bodega 10-11 Bodega 44 Bodega 48 | D22: Salida | E22: Generación de residuos peligrosos o especiales | F22: Derrame de tóner | G22: Contaminación del suelo | H22: Emergencia | I22: 4 | J22: 0 | K22: 1 | L22: 1 | M22: 1 | N22: =(I22)+J22+K22+L22+M22 -> 7 | O22: =IF(N22<=14,"NOSIGNIFICATIVO",IF(AND(N22>=15,N22<=20),"SIGNIFICATIVOS")) -> NOSIGNIFICATIVO | Q22: - Implementar las acciones del Plan de Gestión Integral de Residuos Peligrosos SC03-F16 - Implementar las acciones del Plan de preparación y respuesta ante una emergencia y/o contingencia ambiental SC03-F17 - Implementar las acciones del Programa de Compras Públicas Sostenibles SC03-F20: Verificación de la ficha técnica de criterios ambientales y/o sostenibilidad
A23: =+A22+1 -> 16 | B23: Servicio de cafetería, consumo de alimentos | C23: Bodega 10-11 | D23: Entrada | E23: Consumo de energía eléctrica | F23: Consumo de energía generado el uso de electrodomésticos. | G23: Agotamiento de los recursos naturales | H23: Normal | I23: 4 | J23: 4 | K23: 1 | L23: 2 | M23: 1 | N23: =(I23)+J23+K23+L23+M23 -> 12 | O23: =IF(N23<=14,"NOSIGNIFICATIVO",IF(AND(N23>=15,N23<=20),"SIGNIFICATIVOS")) -> NOSIGNIFICATIVO | Q23: - Implementar las acciones del Programa para el uso Eficiente y Racional para la Energía SC3-F14 - Implementar las acciones del Programa de Compras Públicas Sostenibles SC03-F20: Verificación de la ficha técnica de criterios ambientales y/o sostenibilidad
A24: =+A23+1 -> 17 | C24: Bodega 10-11 | D24: Entrada | E24: Consumo de energía eléctrica | F24: Consumo de energía generado el uso de electrodomésticos. | G24: Contaminación del aire | H24: Normal | I24: 4 | J24: 4 | K24: 1 | L24: 2 | M24: 1 | N24: =(I24)+J24+K24+L24+M24 -> 12 | O24: =IF(N24<=14,"NOSIGNIFICATIVO",IF(AND(N24>=15,N24<=20),"SIGNIFICATIVOS")) -> NOSIGNIFICATIVO | Q24: - Implementar las acciones del Programa para el uso Eficiente y Racional para la Energía SC3-F14 - Implementar las acciones del Programa de Compras Públicas Sostenibles SC03-F20: Verificación de la ficha técnica de criterios ambientales y/o sostenibilidad - Implementar las acciones del Programa de gestión de emisiones atmosféricas y adaptación al cambio climático - SC03-F40
A25: =+A24+1 -> 18 | C25: Bodega 10-11 | D25: Salida | E25: Generación de Residuos no aprovechables | F25: Generación de residuos ordinarios y orgánicos generados en el servicio de cafetería | G25: Sobrepresión del relleno sanitario | H25: Normal | I25: 4 | J25: 4 | K25: 4 | L25: 4 | M25: 1 | N25: =(I25)+J25+K25+L25+M25 -> 17 | O25: =IF(N25<=14,"NOSIGNIFICATIVO",IF(AND(N25>=15,N25<=20),"SIGNIFICATIVOS")) -> SIGNIFICATIVOS | P25: - Inducción al Sistema de Gestión Ambiental. - Implementar acciones mediante actividades establecidas en el cronograma del Programa de Gestión para el Manejo y Disposición de Residuos Sólidos. - Verificar que el contratista instale puntos ecológicos con banner informativos para conocer la correcta disposición de residuos en cada contenedor y cuente con centros de acopio para el debido almacenamiento y entrega de los residuos. Realizar inspecciones para conocer como los funcionarios estas depositando los residuos solidos. - Realizar actividades encaminadas a concientizar a los funcionarios y contratistas sobre la correcta disposición de residuos sólidos. - Realizar publicaciones en INTRASIC y por correo masivo, con el fin de sensibilizar y tener buenas prácticas para la correcta disposición de residuos. - Realizar mediciones sobre la generación de residuos y su porcentaje de aprovechamiento. | Q25: - Implementar las acciones del Programa de Gestión para el Manejo y Disposición de Residuos Sólidos SC03-F13. - Implementar las acciones del Programa de Compras Públicas Sostenibles SC03-F20: Verificación de la ficha técnica de criterios ambientales y/o sostenibilidad - Informes de gestión ambiental. - Inspecciones ambientales. - Indicadores.
A26: =+A25+1 -> 19 | C26: Bodega 10-11 | D26: Salida | E26: Generación de Residuos aprovechables | F26: Generación de residuos susceptibles a ser aprovechables tales como: papel, cartón, plástico, vidrio, chatarra, etc. | G26: Reducción de afectación al medio ambiente | H26: Normal | I26: -4 | J26: 4 | K26: 1 | L26: 1 | M26: 1 | N26: =(I26)+J26+K26+L26+M26 -> 3 | O26: =IF(N26<=14,"NOSIGNIFICATIVO",IF(AND(N26>=15,N26<=20),"SIGNIFICATIVOS")) -> NOSIGNIFICATIVO | Q26: - Implementar las acciones del Programa de Gestión para el Manejo y Disposición de Residuos Sólidos SC03-F13 - Implementar las acciones del Programa de Compras Públicas Sostenibles SC03-F20: Verificación de la ficha técnica de criterios ambientales y/o sostenibilidad
A27: =+A26+1 -> 20 | C27: Bodega 10-11 | D27: Salida | E27: Generación de residuos peligrosos o especiales | F27: Ruptura de luminarias (mercurio, focos y halógenos) | G27: Contaminación del suelo | H27: Emergencia | I27: 4 | J27: 0 | K27: 1 | L27: 1 | M27: 1 | N27: =(I27)+J27+K27+L27+M27 -> 7 | O27: =IF(N27<=14,"NOSIGNIFICATIVO",IF(AND(N27>=15,N27<=20),"SIGNIFICATIVOS")) -> NOSIGNIFICATIVO | Q27: - Implementar las acciones del Plan de Gestión Integral de Residuos Peligrosos SC03-F16 - Implementar las acciones del Plan de preparación y respuesta ante una emergencia y/o contingencia ambiental SC03-F17 - Implementar las acciones del Programa de Compras Públicas Sostenibles SC03-F20: Verificación de la ficha técnica de criterios ambientales y/o sostenibilidad
A28: =+A27+1 -> 21 | C28: Bodega 10-11 | D28: Salida | E28: Consumo de agua | F28: Consumo de agua por el funcionamiento de lavaplatos y preparación de bebidas calientes. | G28: Contaminación del suelo | H28: Normal | I28: 4 | J28: 3 | K28: 1 | L28: 4 | M28: 1 | N28: =(I28)+J28+K28+L28+M28 -> 13 | O28: =IF(N28<=14,"NOSIGNIFICATIVO",IF(AND(N28>=15,N28<=20),"SIGNIFICATIVOS")) -> NOSIGNIFICATIVO | Q28: - Implementar las acciones del Programa de Gestión para el Uso Eficiente y Racional del Agua SC03-F15 - Implementar las acciones del Programa de Compras Públicas Sostenibles SC03-F20: Verificación de la ficha técnica de criterios ambientales y/o sostenibilidad
A29: =+A28+1 -> 22 | C29: Bodega 10-11 | D29: Salida | E29: Consumo de agua | F29: Ruptura de la red hidráulica | G29: Agotamiento de los recursos naturales | H29: Emergencia | I29: 4 | J29: 0 | K29: 1 | L29: 1 | M29: 1 | N29: =(I29)+J29+K29+L29+M29 -> 7 | O29: =IF(N29<=14,"NOSIGNIFICATIVO",IF(AND(N29>=15,N29<=20),"SIGNIFICATIVOS")) -> NOSIGNIFICATIVO | Q29: - Implementar las acciones del Plan de Gestión Integral de Residuos Peligrosos SC03-F16 - Implementar las acciones del Plan de preparación y respuesta ante una emergencia y/o contingencia ambiental SC03-F17 - Implementar las acciones del Programa de Compras Públicas Sostenibles SC03-F20: Verificación de la ficha técnica de criterios ambientales y/o sostenibilidad
