Workbook
Name jorgito: #REF!
Name jorgito: #REF!
Name jorgito: #REF!
Name sandrita: #REF!
Name sandrita: #REF!
Name sandrita: #REF!
Name silvia: #REF!
Name silvia: #REF!
Name silvia: #REF!

Sheet APS-IMP SP
C1: MATRIZ DE IDENTIFICACIÓN DE ASPECTOS, EVALUACIÓN Y CONTROL DE IMPACTOS AMBIENTALES | Q1: CÓDIGO DEL FORMATO | R1: SC03-F01 | Y1: Tipo de impacto | Z1: Frecuencia | AA1: Extensión | AB1: Afectación | AC1: Legislación aplicable
Q2: VERSIÓN DEL FORMATO | R2: 13 | Y2: -4 | Z2: 0 | AA2: 1 | AB2: 1 | AC2: 0
Q3: FECHA DE ACTUALIZACIÓN | R3: 46162 | Y3: 4 | Z3: 1 | AA3: 2 | AB3: 2 | AC3: 1
A4: ÍTEM | B4: ETAPA 1 IDENTIFICACIÓN DE ASPECTOS E IMPACTOS AMBIENTALES | I4: ETAPA 2: EVALUACIÓN DE LOS ASPECTOS E IMPACTOS AMBIENTALES | P4: ETAPA 3: CONTROLES OPERACIONALES | R4: ETAPA 4: DETERMINAR ACCIONES PARA ABORDAR RIESGOS Y OPORTUNIDADES | Z4: 2 | AA4: 4 | AB4: 4 | AC4: 4
B5: DESCRIPCIÓN DE LA ACTIVIDAD | D5: ASPECTO AMBIENTAL | G5: IMPACTO AMBIENTAL | H5: TIPO DE OPERACIÓN | I5: TIPO DE IMPACTO (TP) | J5: FRECUENCIA (FR) | K5: EXTENSIÓN (EX) | L5: AFECTACIÓN (A) | M5: LEGISLACION APLICABLE (LA) | N5: VALOR DE LA SIGNIFICANCIA (VS) | O5: CLASIFICACIÓN DEL ASPECTO | P5: Sede: Principal - Dirección: Calle 24 # 7-43 Edificio 7-24 | R5: ACCIONES PARA ABORDAR RIESGOS Y OPORTUNIDADES | Z5: 3
B6: ACTIVIDAD | C6: ÁREAS | D6: TIPO DE ASPECTO | E6: ASPECTO | F6: DESCRIPCIÓN ASPECTO AMBIENTAL | G6: TIPO DE IMPACTO | P6: CONTROLES OPERACIONALES | Z6: 4
P7: ACCIONES DEL CONTROL | Q7: CONTROL
A8: 1 | B8: Atención a los usuarios | C8: Primer piso (Local) | D8: Entrada | E8: Consumo de energía eléctrica | F8: Consumo de energía generado de las actividades de atención a los usuarios, como encendido de luces y uso de computadores e impresoras. | G8: Agotamiento de los recursos naturales | H8: Normal | I8: 4 | J8: 4 | K8: 1 | L8: 2 | M8: 1 | N8: =(I8)+J8+K8+L8+M8 -> 12 | O8: =IF(N8<=14,"NOSIGNIFICATIVO",IF(AND(N8>=15,N8<=20),"SIGNIFICATIVOS")) -> NOSIGNIFICATIVO | Q8: - Implementar las acciones del Programa para el uso Eficiente y Racional para la Energía SC3-F14 | R8: OPORTUNIDADES: Se presentan las estrategias o acciones que ayudaran en mejorar el desempeño ambiental de la Entidad. ✓ Aplicación de buenas prácticas ambientales, con el propósito de transformar el enfoque de la acción climática, permitiendo generar estrategias para reducir las emisiones de gases de efecto invernadero, planificando acciones para mitigar impactos. ✓Fortalecer y/o reforzar los conocimientos y cultura ambiental a toda la Entidad (servidores, contratistas y jefes de oficina), con el fin de disminuir los impactos ambientales generados por las actividades laborales que se realizan en la Entidad, e involucrarlos más para fortalecer sus áreas en el manejo de temas ambientales. ✓En el caso de que la Entidad decida cambiar la sede principal a otra sede, incluir criterios ambientales que permitan la adaptación frente al cumplimiento normativo ambiental. ✓ Incentivar a los funcionarios y contratistas a usar medios alternativos de transporte amigables con el medio ambiente o mejorar el uso de la movilidad usando servicios de rutas de la Entidad o compartiendo vehículos para ir a la oficina, con el fin de disminuir los impactos ambientales que generan los vehículos de transporte. ✓Realizar campañas de divulgación sobre los programas y planes ambientales. ✓Gestionar mediante una asociación de reciclaje, el manejo y disposición de los residuos sólidos de la Entidad, teniendo en cuenta la normatividad vigente en cuando a los residuos aprovechables, con el fin de mejorar el control operativo del manejo de estos. ✓ Gestionar y evaluar la implementación del SGA en las sedes diferentes a la principal , teniendo en cuenta los hallazgos y recomendaciones registrados en las auditorías internas. ✓ Realizar el cálculo de guella de carbono. RIESGOS: Incumplimientos de compromisos (operativos, técnicos, presupuestales, otros) al no ejecutarse las actividades de acuerdo a los programas y planes establecidos. Acción para abordar: ✓Presentar los cronogramas de actividades de gestión del SGA en el plan de acción de cada vigencia. ✓ Incumplimientos normativos.
A9: =+A8+1 -> 2 | C9: Primer piso (Local) | D9: Entrada | E9: Consumo de energía eléctrica | F9: Consumo de energía generado de las actividades de atención a los usuarios, como encendido de luces y uso de computadores e impresoras. | G9: Contaminación del aire | H9: Normal | I9: 4 | J9: 4 | K9: 1 | L9: 2 | M9: 1 | N9: =(I9)+J9+K9+L9+M9 -> 12 | O9: =IF(N9<=14,"NOSIGNIFICATIVO",IF(AND(N9>=15,N9<=20),"SIGNIFICATIVOS")) -> NOSIGNIFICATIVO | Q9: - Implementar las acciones del Programa para el uso Eficiente y Racional para la Energía SC3-F14 - Implementar las acciones del Programa de gestión de emisiones atmosféricas y adaptación al cambio climático - SC03-F40
A10: =+A9+1 -> 3 | C10: Primer piso (Local) | D10: Entrada | E10: Consumo de agua | F10: Consumo de agua por el uso de los aspersores en caso de emergencia | G10: Agotamiento de los recursos naturales | H10: Anormal | I10: -4 | J10: 0 | K10: 1 | L10: 1 | M10: 1 | N10: =(I10)+J10+K10+L10+M10 -> -1 | O10: =IF(N10<=14,"NOSIGNIFICATIVO",IF(AND(N10>=15,N10<=20),"SIGNIFICATIVOS")) -> NOSIGNIFICATIVO | Q10: Atender las instrucciones del administrador del edificio y del grupo de SST
A11: =+A10+1 -> 4 | C11: Primer piso (Local) | D11: Salida | E11: Generación de Residuos no aprovechables | F11: Generación de residuos no aprovechables generados en actividades de atención a usuarios por funcionarios, contratistas y usuarios | G11: Sobrepresión del relleno sanitario | H11: Normal | I11: 4 | J11: 4 | K11: 4 | L11: 4 | M11: 1 | N11: =(I11)+J11+K11+L11+M11 -> 17 | O11: =IF(N11<=14,"NOSIGNIFICATIVO",IF(AND(N11>=15,N11<=20),"SIGNIFICATIVOS")) -> SIGNIFICATIVOS | P11: - Inducción al Sistema de Gestión Ambiental. - Implementar acciones mediante actividades establecidas en el cronograma del Programa de Gestión para el Manejo y Disposición de Residuos Sólidos. - Instalación de puntos ecológicos con banner informativos para conocer la correcta disposición de residuos en cada contenedor. - Realizar inspecciones para conocer como los funcionarios estas depositando los residuos solidos. - Realizar actividades encaminadas a concientizar a los funcionarios y contratistas sobre la correcta disposición de residuos sólidos. - Realizar publicaciones en INTRASIC y por correo masivo, con el fin de sensibilizar y tener buenas prácticas para la correcta disposición de residuos. - Realizar mediciones sobre la generación de residuos y su porcentaje de aprovechamiento. | Q11: - Implementar las acciones del Programa de Gestión para el Manejo y Disposición de Residuos Sólidos SC03-F13. - Informes de gestión ambiental. - Inspecciones ambientales. - Indicadores.
A12: =+A11+1 -> 5 | C12: Primer piso (Local) | D12: Salida | E12: Generación de Residuos aprovechables | F12: Generación de residuos susceptibles a ser aprovechables tales como: papel, cartón, plástico, vidrio, chatarra, etc. | G12: Reducción de afectación al medio ambiente | H12: Normal | I12: -4 | J12: 4 | K12: 1 | L12: 2 | M12: 1 | N12: =(I12)+J12+K12+L12+M12 -> 4 | O12: =IF(N12<=14,"NOSIGNIFICATIVO",IF(AND(N12>=15,N12<=20),"SIGNIFICATIVOS")) -> NOSIGNIFICATIVO | Q12: - Implementar las acciones del Programa de Gestión para el Manejo y Disposición de Residuos Sólidos SC03-F13
A13: =+A12+1 -> 6 | C13: Primer piso (Local) | D13: Entrada | E13: Consumo de papel | F13: Consumo de papel generado por impresiones y fotocopiado de documentos. | G13: Agotamiento de los recursos naturales forestales | H13: Normal | I13: 4 | J13: 3 | K13: 4 | L13: 4 | M13: 1 | N13: =(I13)+J13+K13+L13+M13 -> 16 | O13: =IF(N13<=14,"NOSIGNIFICATIVO",IF(AND(N13>=15,N13<=20),"SIGNIFICATIVOS")) -> SIGNIFICATIVOS | P13: - Inducción al Sistema de Gestión Ambiental. - Implementar acciones mediante actividades establecidas en el cronograma del Programa de Gestión para el Manejo y Disposición de Residuos Sólidos y Programa de gestión de emisiones atmosféricas y adaptación al cambio climático. -Realizar publicaciones en INTRASIC y por correo masivo, sobre Eficiencia Administrativa y Lineamientos de la Política de Cero Papel -Realizar jornada de cero impresiones, con el fin de medir y reducir el consumo de papel en la Entidad. - Llevar un control sobre la variación del consumo de papel | Q13: - Implementar las acciones del Programa de Gestión para el Manejo y Disposición de Residuos Sólidos SC03-F13 - Implementar las acciones del Programa de gestión de emisiones atmosféricas y adaptación al cambio climático - SC03-F40 - Circular interna de Eficiencia Administrativa y Lineamientos de la Política de Cero Papel. - Informe de gestión ambiental - Seguimiento al consumo de papel por medio del informe de austeridad del gasto.
A14: =+A13+1 -> 7 | C14: Primer piso (Local) | D14: Salida | E14: Consumo de tóner | F14: Consumo de tóner por impresiones y fotocopiado para atender a los usuarios | G14: Contaminación del suelo | H14: Normal | I14: 4 | J14: 4 | K14: 1 | L14: 4 | M14: 1 | N14: =(I14)+J14+K14+L14+M14 -> 14 | O14: =IF(N14<=14,"NOSIGNIFICATIVO",IF(AND(N14>=15,N14<=20),"SIGNIFICATIVOS")) -> NOSIGNIFICATIVO | Q14: - Implementar las acciones del Programa de Gestión para el Manejo y Disposición de Residuos Sólidos SC03-F13 - Implementar las acciones del Programa de Compras Públicas Sostenibles SC03-F20 - Implementar las acciones del Programa de gestión de emisiones atmosféricas y adaptación al cambio climático - SC03-F40
A15: =+A14+1 -> 8 | C15: Primer piso (Local) | D15: Salida | E15: Generación de residuos peligrosos o especiales | F15: Derrame de tóner | G15: Contaminación del suelo | H15: Emergencia | I15: -4 | J15: 0 | K15: 1 | L15: 1 | M15: 1 | N15: =(I15)+J15+K15+L15+M15 -> -1 | O15: =IF(N15<=14,"NOSIGNIFICATIVO",IF(AND(N15>=15,N15<=20),"SIGNIFICATIVOS")) -> NOSIGNIFICATIVO | Q15: - Implementar las acciones del Plan de Gestión Integral de Residuos Peligrosos SC03-F16 - Implementar las acciones del Plan de preparación y respuesta ante una emergencia y/o contingencia ambiental SC03-F17
A16: =+A15+1 -> 9 | B16: Operaciones de oficina | C16: Pisos 6, 7, 8, 9, 10,11,12,13, 14,16 y 17 | D16: Entrada | E16: Consumo de energía eléctrica | F16: Consumo de energía generado por el encendido de luces y uso de aparatos eléctricos y electrónicos para necesarios para realizar las labores de los funcionarios, contratistas | G16: Agotamiento de los recursos naturales | H16: Normal | I16: 4 | J16: 4 | K16: 4 | L16: 4 | M16: 1 | N16: =(I16)+J16+K16+L16+M16 -> 17 | O16: =IF(N16<=14,"NOSIGNIFICATIVO",IF(AND(N16>=15,N16<=20),"SIGNIFICATIVOS")) -> SIGNIFICATIVOS | P16: - Inducción al Sistema de Gestión Ambiental. - Implementar acciones mediante actividades establecidas en el cronograma del Programa para el Uso Eficiente Racional de la Energía. - Aplicación de Circular Interna de Medidas de Austeridad del Gasto. - Realizar actividades encaminadas a concientizar a los funcionarios y contratistas sobre el uso eficiente y racional de energía. - Realizar publicaciones en INTRASIC y por correo masivo, con el fin de sensibilizar y tener buen uso del consumo de energía. - Realizar mediciones sobre el consumo de energía. - Realizar inspecciones para ver los daños eléctricos. - Jornada de apagones ambientales. - Actividad de comparendos ambientales. | Q16: - Implementar las acciones del Programa para el uso Eficiente y Racional para la Energía SC3-F14 - Circular 13 de 2025 Medidas de Austeridad del Gasto - Informes de gestión ambiental. - Inspecciones ambientales. - Indicadores.
A17: =+A16+1 -> 10 | C17: Pisos 6, 7, 8, 9, 10,11,12,13, 14,16 y 17 | D17: Entrada | E17: Consumo de energía eléctrica | F17: Consumo de energía generado por el encendido de luces y uso de aparatos eléctricos y electrónicos para necesarios para realizar las labores de los funcionarios, contratistas | G17: Contaminación del aire | H17: Normal | I17: 4 | J17: 4 | K17: 1 | L17: 2 | M17: 1 | N17: =(I17)+J17+K17+L17+M17 -> 12 | O17: =IF(N17<=14,"NOSIGNIFICATIVO",IF(AND(N17>=15,N17<=20),"SIGNIFICATIVOS")) -> NOSIGNIFICATIVO | Q17: - Implementar las acciones del Programa para el uso Eficiente y Racional para la Energía SC3-F14 - Implementar las acciones del Programa de gestión de emisiones atmosféricas y adaptación al cambio climático - SC03-F40
A18: =+A17+1 -> 11 | C18: Pisos 6, 7, 8, 9, 10,11,12,13, 14,16 y 18 | D18: Entrada | E18: Consumo de agua | F18: Consumo de agua por el uso de los aspersores en caso de emergencia | G18: Agotamiento de los recursos naturales | H18: Anormal | I18: -4 | J18: 0 | K18: 1 | L18: 1 | M18: 1 | N18: =(I18)+J18+K18+L18+M18 -> -1 | O18: =IF(N18<=14,"NOSIGNIFICATIVO",IF(AND(N18>=15,N18<=20),"SIGNIFICATIVOS")) -> NOSIGNIFICATIVO | Q18: Atender las instrucciones del administrador del edificio y del grupo de SST
A19: =+A18+1 -> 12 | C19: Pisos 6, 7, 8, 9, 10,11,12,13, 14,16 y 17 | D19: Salida | E19: Generación de Residuos no aprovechables | F19: Generación de residuos no aprovechables generados en las operaciones de oficina por funcionarios y contratistas | G19: Sobrepresión del relleno sanitario | H19: Normal | I19: 4 | J19: 4 | K19: 4 | L19: 2 | M19: 1 | N19: =(I19)+J19+K19+L19+M19 -> 15 | O19: =IF(N19<=14,"NOSIGNIFICATIVO",IF(AND(N19>=15,N19<=20),"SIGNIFICATIVOS")) -> SIGNIFICATIVOS | P19: - Inducción al Sistema de Gestión Ambiental. - Implementar acciones mediante actividades establecidas en el cronograma del Programa de Gestión para el Manejo y Disposición de Residuos Sólidos. - Instalación de puntos ecológicos con banner informativos para conocer la correcta disposición de residuos en cada contenedor. - Realizar inspecciones para conocer como los funcionarios estas depositando los residuos solidos. - Realizar actividades encaminadas a concientizar a los funcionarios y contratistas sobre la correcta disposición de residuos sólidos. - Realizar publicaciones en INTRASIC y por correo masivo, con el fin de sensibilizar y tener buenas prácticas para la correcta disposición de residuos. - Realizar mediciones sobre la generación de residuos y su porcentaje de aprovechamiento. | Q19: - Implementar las acciones del Programa de Gestión para el Manejo y Disposición de Residuos Sólidos SC03-F13. - Informes de gestión ambiental. - Inspecciones ambientales. - Indicadores.
A20: =+A19+1 -> 13 | C20: Pisos 6, 7, 8, 9, 10,11,12,13, 14,16 y 17 | D20: Salida | E20: Generación de Residuos aprovechables | F20: Generación de residuos susceptibles a ser aprovechables tales como: papel, cartón, plástico, vidrio, chatarra, etc., generados por los funcionarios y contratistas. | G20: Reducción del consumo de recursos naturales | H20: Normal | I20: -4 | J20: 4 | K20: 1 | L20: 2 | M20: 1 | N20: =(I20)+J20+K20+L20+M20 -> 4 | O20: =IF(N20<=14,"NOSIGNIFICATIVO",IF(AND(N20>=15,N20<=20),"SIGNIFICATIVOS")) -> NOSIGNIFICATIVO | Q20: - Implementar las acciones del Programa de Gestión para el Manejo y Disposición de Residuos Sólidos SC03-F13:
A21: =+A20+1 -> 14 | C21: Pisos 6, 7, 8, 9, 10,11,12,13, 14,16 y 17 | D21: Entrada | E21: Consumo de papel | F21: Consumo de papel generado por impresiones y fotocopiado de documentos. | G21: Agotamiento de los recursos naturales forestales | H21: Normal | I21: 4 | J21: 4 | K21: 4 | L21: 4 | M21: 1 | N21: =(I21)+J21+K21+L21+M21 -> 17 | O21: =IF(N21<=14,"NOSIGNIFICATIVO",IF(AND(N21>=15,N21<=20),"SIGNIFICATIVOS")) -> SIGNIFICATIVOS | P21: - Inducción al Sistema de Gestión Ambiental. - Implementar acciones mediante actividades establecidas en el cronograma del Programa de Gestión para el Manejo y Disposición de Residuos Sólidos, Programa de Compras Públicas Sostenibles, Programa de gestión de emisiones atmosféricas y adaptación al cambio climático. -Realizar publicaciones en INTRASIC y por correo masivo, sobre Eficiencia Administrativa y Lineamientos de la Política de Cero Papel -Realizar jornada de cero impresiones, con el fin de medir y reducir el consumo de papel en la Entidad. - Llevar un control sobre la variación del consumo de papel. | Q21: - Implementar las acciones del Programa de Gestión para el Manejo y Disposición de Residuos Sólidos SC03-F13 - Implementar las acciones del Programa de Compras Públicas Sostenibles SC03-F20: Verificación de la ficha técnica de criterios ambientales y/o sostenibilidad - Implementar las acciones del Programa de gestión de emisiones atmosféricas y adaptación al cambio climático - SC03-F40 - Circular interna de Eficiencia Administrativa y Lineamientos de la Política de Cero Papel. - Informe de gestión ambiental - Seguimiento al consumo de papel por medio del informe de austeridad del gasto.
A22: =+A21+1 -> 15 | C22: Pisos 6, 7, 8, 9, 10,11,12,13, 14,16 y 17 | D22: Salida | E22: Consumo de tóner | F22: Consumo de tóner por impresiones y fotocopiado de las diferentes áreas de trabajo. | G22: Contaminación del suelo | H22: Normal | I22: 4 | J22: 4 | K22: 1 | L22: 4 | M22: 1 | N22: =(I22)+J22+K22+L22+M22 -> 14 | O22: =IF(N22<=14,"NOSIGNIFICATIVO",IF(AND(N22>=15,N22<=20),"SIGNIFICATIVOS")) -> NOSIGNIFICATIVO | Q22: - Implementar las acciones del Programa de Gestión para el Manejo y Disposición de Residuos Sólidos SC03-F13 - Implementar las acciones del Programa de Compras Públicas Sostenibles SC03-F20 - Implementar las acciones del Programa de gestión de emisiones atmosféricas y adaptación al cambio climático - SC03-F40
A23: =+A22+1 -> 16 | C23: Pisos 6, 7, 8, 9, 10,11,12,13, 14,16 y 17 | D23: Salida | E23: Generación de residuos peligrosos o especiales | F23: Derrame de tóner | G23: Contaminación del suelo | H23: Emergencia | I23: -4 | J23: 0 | K23: 1 | L23: 1 | M23: 1 | N23: =(I23)+J23+K23+L23+M23 -> -1 | O23: =IF(N23<=14,"NOSIGNIFICATIVO",IF(AND(N23>=15,N23<=20),"SIGNIFICATIVOS")) -> NOSIGNIFICATIVO | Q23: - Implementar las acciones del Plan de Gestión Integral de Residuos Peligrosos SC03-F16 - Implementar las acciones del Plan de preparación y respuesta ante una emergencia y/o contingencia ambiental SC03-F17
A24: =+A23+1 -> 17 | C24: Sala de pruebas delegaturas | D24: Salida | E24: Generación de residuos peligrosos o especiales | F24: Derrames de sustancias químicas almacenadas para pruebas | G24: Contaminación del suelo | H24: Emergencia | I24: 4 | J24: 0 | K24: 1 | L24: 1 | M24: 1 | N24: =(I24)+J24+K24+L24+M24 -> 7 | O24: =IF(N24<=14,"NOSIGNIFICATIVO",IF(AND(N24>=15,N24<=20),"SIGNIFICATIVOS")) -> NOSIGNIFICATIVO | Q24: - Implementar las acciones del Plan de Gestión Integral de Residuos Peligrosos SC03-F16 - Implementar las acciones del Plan de preparación y respuesta ante una emergencia y/o contingencia ambiental SC03-F17
A25: =+A24+1 -> 18 | B25: Capacitaciones, cursos, charlas, comités, audiencias, reuniones, juntas y actividades varias | C25: Pisos 6, 7, 8, 9, 10,11,12,13, 14,16 y 17 | D25: Entrada | E25: Consumo de energía eléctrica | F25: Consumo de energía generado por el encendido de luces y uso de aparatos eléctricos y electrónicos para necesarios para realizar capacitaciones, reuniones, etc. | G25: Agotamiento de los recursos naturales | H25: Normal | I25: -4 | J25: 4 | K25: 1 | L25: 1 | M25: 1 | N25: =(I25)+J25+K25+L25+M25 -> 3 | O25: =IF(N25<=14,"NOSIGNIFICATIVO",IF(AND(N25>=15,N25<=20),"SIGNIFICATIVOS")) -> NOSIGNIFICATIVO | Q25: - Implementar las acciones del Programa para el uso Eficiente y Racional para la Energía SC3-F14 - Implementar las acciones del Programa de gestión de emisiones atmosféricas y adaptación al cambio climático - SC03-F40
A26: =+A25+1 -> 19 | C26: Pisos 6, 7, 8, 9, 10,11,12,13, 14,16 y 17 | D26: Entrada | E26: Consumo de energía eléctrica | F26: Consumo de energía generado por el encendido de luces y uso de aparatos eléctricos y electrónicos para necesarios para realizar capacitaciones, reuniones, etc. | G26: Contaminación del aire | H26: Normal | I26: 4 | J26: 4 | K26: 1 | L26: 2 | M26: 1 | N26: =(I26)+J26+K26+L26+M26 -> 12 | O26: =IF(N26<=14,"NOSIGNIFICATIVO",IF(AND(N26>=15,N26<=20),"SIGNIFICATIVOS")) -> NOSIGNIFICATIVO | Q26: - Implementar las acciones del Programa para el uso Eficiente y Racional para la Energía SC3-F14 - Implementar las acciones del Programa de gestión de emisiones atmosféricas y adaptación al cambio climático - SC03-F40
A27: =+A26+1 -> 20 | C27: Pisos 6, 7, 8, 9, 10,11,12,13, 14,16 y 17 | D27: Salida | E27: Generación de Residuos no aprovechables | F27: Generación de residuos no aprovechables generados en actividades por funcionarios y contratistas | G27: Sobrepresión del relleno sanitario | H27: Normal | I27: -4 | J27: 3 | K27: 1 | L27: 2 | M27: 1 | N27: =(I27)+J27+K27+L27+M27 -> 3 | O27: =IF(N27<=14,"NOSIGNIFICATIVO",IF(AND(N27>=15,N27<=20),"SIGNIFICATIVOS")) -> NOSIGNIFICATIVO | Q27: - Implementar las acciones del Programa de Gestión para el Manejo y Disposición de Residuos Sólidos SC03-F13:
A28: =+A27+1 -> 21 | C28: Pisos 6, 7, 8, 9, 10,11,12,13, 14,16 y 17 | D28: Salida | E28: Generación de Residuos aprovechables | F28: Generación de residuos susceptibles a ser aprovechables tales como: papel, cartón, plástico, vidrio, chatarra, etc. | G28: Reducción de afectación al medio ambiente | H28: Normal | I28: -4 | J28: 3 | K28: 1 | L28: 1 | M28: 1 | N28: =(I28)+J28+K28+L28+M28 -> 2 | O28: =IF(N28<=14,"NOSIGNIFICATIVO",IF(AND(N28>=15,N28<=20),"SIGNIFICATIVOS")) -> NOSIGNIFICATIVO | Q28: - Implementar las acciones del Programa de Gestión para el Manejo y Disposición de Residuos Sólidos SC03-F13
A29: =+A28+1 -> 22 | C29: Pisos 6, 7, 8, 9, 10,11,12,13, 14,16 y 17 | D29: Entrada | E29: Consumo de papel | F29: Consumo de papel generado por registros de asistencia y/o impresiones y fotocopiado de documentos. | G29: Agotamiento de los recursos naturales forestales | H29: Normal | I29: 4 | J29: 4 | K29: 1 | L29: 4 | M29: 1 | N29: =(I29)+J29+K29+L29+M29 -> 14 | O29: =IF(N29<=14,"NOSIGNIFICATIVO",IF(AND(N29>=15,N29<=20),"SIGNIFICATIVOS")) -> NOSIGNIFICATIVO | Q29: - Implementar las acciones del Programa de Gestión para el Manejo y Disposición de Residuos Sólidos SC03-F13 - Implementar las acciones del Programa de gestión de emisiones atmosféricas y adaptación al cambio climático - SC03-F40 - Circular interna No. 15 Eficiencia Administrativa y Lineamientos de la Política de Cero Papel
A30: =+A29+1 -> 23 | C30: Pisos 6, 7, 8, 9, 10,11,12,13, 14,16 y 17 | D30: Salida | E30: Generación de conciencia ambiental | F30: Prevención de la contaminación | G30: Reducción en la afectación ambiental | H30: Normal | I30: -4 | J30: 4 | K30: 1 | L30: 4 | M30: 1 | N30: =(I30)+J30+K30+L30+M30 -> 6 | O30: =IF(N30<=14,"NOSIGNIFICATIVO",IF(AND(N30>=15,N30<=20),"SIGNIFICATIVOS")) -> NOSIGNIFICATIVO | Q30: - Curso de inducción a los sistemas SST y SGA - Capacitaciones - Encuestas - Semana Ambiental - Actividades ambientales
A31: =+A30+1 -> 24 | B31: Impresión y fotocopiado | C31: Pisos 6, 7, 8, 9, 10,11,12,13, 14,16 y 17 | D31: Entrada | E31: Consumo de energía eléctrica | F31: Consumo de energía generado por el uso de impresoras, escáneres necesarios para realizar impresiones y fotocopiados en las labores de la Entidad. | G31: Agotamiento de los recursos naturales | H31: Normal | I31: 4 | J31: 4 | K31: 4 | L31: 4 | M31: 1 | N31: =(I31)+J31+K31+L31+M31 -> 17 | O31: =IF(N31<=14,"NOSIGNIFICATIVO",IF(AND(N31>=15,N31<=20),"SIGNIFICATIVOS")) -> SIGNIFICATIVOS | P31: - Inducción al Sistema de Gestión Ambiental. - Implementar acciones mediante actividades establecidas en el cronograma del Programa para el Uso Eficiente Racional de la Energía. - Aplicación de Circular Interna de Medidas de Austeridad del Gasto. - Realizar actividades encaminadas a concientizar a los funcionarios y contratistas sobre el uso eficiente y racional de energía. - Realizar publicaciones en INTRASIC y por correo masivo, con el fin de sensibilizar y tener buen uso del consumo de energía. - Realizar mediciones sobre el consumo de energía. - Realizar inspecciones para ver los daños eléctricos. - Jornada de apagones ambientales. - Actividad de comparendos ambientales. | Q31: - Implementar las acciones del Programa para el uso Eficiente y Racional para la Energía SC3-F14 - Circular 13 de 2025 Medidas de Austeridad del Gasto - Informes de gestión ambiental. - Inspecciones ambientales. - Indicadores.
A32: =+A31+1 -> 25 | C32: Pisos 6, 7, 8, 9, 10,11,12,13, 14,16 y 17 | D32: Entrada | E32: Consumo de energía eléctrica | F32: Consumo de energía generado por el uso de impresoras, escáneres necesarios para realizar impresiones y fotocopiados en las labores de la Entidad. | G32: Contaminación del aire | H32: Normal | I32: 4 | J32: 4 | K32: 1 | L32: 2 | M32: 1 | N32: =(I32)+J32+K32+L32+M32 -> 12 | O32: =IF(N32<=14,"NOSIGNIFICATIVO",IF(AND(N32>=15,N32<=20),"SIGNIFICATIVOS")) -> NOSIGNIFICATIVO | Q32: - Implementar las acciones del Programa para el uso Eficiente y Racional para la Energía SC3-F14 - Implementar las acciones del Programa de gestión de emisiones atmosféricas y adaptación al cambio climático - SC03-F40
A33: =+A32+1 -> 26 | C33: Pisos 6, 7, 8, 9, 10,11,12,13, 14,16 y 17 | D33: Entrada | E33: Consumo de papel | F33: Consumo de papel generado por impresiones y fotocopiado de documentos. | G33: Agotamiento de los recursos naturales forestales | H33: Normal | I33: 4 | J33: 4 | K33: 1 | L33: 4 | M33: 1 | N33: =(I33)+J33+K33+L33+M33 -> 14 | O33: =IF(N33<=14,"NOSIGNIFICATIVO",IF(AND(N33>=15,N33<=20),"SIGNIFICATIVOS")) -> NOSIGNIFICATIVO | Q33: - Implementar las acciones del Programa de Gestión para el Manejo y Disposición de Residuos Sólidos SC03-F13 - Implementar las acciones del Programa de gestión de emisiones atmosféricas y adaptación al cambio climático - SC03-F40 - Circular interna No. 15 Eficiencia Administrativa y Lineamientos de la Política de Cero Papel
A34: =+A33+1 -> 27 | C34: Pisos 6, 7, 8, 9, 10,11,12,13, 14,16 y 17 | D34: Salida | E34: Generación de Residuos aprovechables | F34: Generación de residuos susceptibles a ser aprovechables como el papel. | G34: Reducción de afectación al medio ambiente | H34: Normal | I34: -4 | J34: 4 | K34: 1 | L34: 1 | M34: 1 | N34: =(I34)+J34+K34+L34+M34 -> 3 | O34: =IF(N34<=14,"NOSIGNIFICATIVO",IF(AND(N34>=15,N34<=20),"SIGNIFICATIVOS")) -> NOSIGNIFICATIVO | Q34: - Implementar las acciones del Programa de Gestión para el Manejo y Disposición de Residuos Sólidos SC03-F13
A35: =+A34+1 -> 28 | C35: Pisos 6, 7, 8, 9, 10,11,12,13, 14,16 y 17 | D35: Salida | E35: Generación de residuos peligrosos o especiales | F35: Generación de RAEEs y tóner. | G35: Contaminación del suelo | H35: Normal | I35: 4 | J35: 3 | K35: 1 | L35: 4 | M35: 1 | N35: =(I35)+J35+K35+L35+M35 -> 13 | O35: =IF(N35<=14,"NOSIGNIFICATIVO",IF(AND(N35>=15,N35<=20),"SIGNIFICATIVOS")) -> NOSIGNIFICATIVO | Q35: - Implementar las acciones del Plan de Gestión Integral de Residuos Peligrosos SC03-F16
A36: =+A35+1 -> 29 | C36: Pisos 6, 7, 8, 9, 10,11,12,13, 14,16 y 17 | D36: Salida | E36: Generación de residuos peligrosos o especiales | F36: Derrame de tóner | G36: Contaminación del suelo | H36: Emergencia | I36: 4 | J36: 0 | K36: 1 | L36: 1 | M36: 1 | N36: =(I36)+J36+K36+L36+M36 -> 7 | O36: =IF(N36<=14,"NOSIGNIFICATIVO",IF(AND(N36>=15,N36<=20),"SIGNIFICATIVOS")) -> NOSIGNIFICATIVO | Q36: - Implementar las acciones del Plan de Gestión Integral de Residuos Peligrosos SC03-F16 - Implementar las acciones del Plan de preparación y respuesta ante una emergencia y/o contingencia ambiental SC03-F17
A37: =+A36+1 -> 30 | B37: Inventario / Almacenamiento de insumos y bienes | C37: Piso 2 | D37: Entrada | E37: Consumo de energía eléctrica | F37: Consumo de energía generado de los equipos y/o luminarias requeridas para llevar a cabo las operaciones de oficina. | G37: Agotamiento de los recursos naturales | H37: Normal | I37: -4 | J37: 4 | K37: 1 | L37: 1 | M37: 1 | N37: =(I37)+J37+K37+L37+M37 -> 3 | O37: =IF(N37<=14,"NOSIGNIFICATIVO",IF(AND(N37>=15,N37<=20),"SIGNIFICATIVOS")) -> NOSIGNIFICATIVO | Q37: - Implementar las acciones del Programa para el uso Eficiente y Racional para la Energía SC3-F14 - Implementar las acciones del Programa de gestión de emisiones atmosféricas y adaptación al cambio climático - SC03-F40
A38: =+A37+1 -> 31 | C38: Piso 2 | D38: Entrada | E38: Consumo de energía eléctrica | F38: Consumo de energía generado de los equipos y/o luminarias requeridas para llevar a cabo las operaciones de oficina. | G38: Contaminación del aire | H38: Normal | I38: 4 | J38: 4 | K38: 1 | L38: 2 | M38: 1 | N38: =(I38)+J38+K38+L38+M38 -> 12 | O38: =IF(N38<=14,"NOSIGNIFICATIVO",IF(AND(N38>=15,N38<=20),"SIGNIFICATIVOS")) -> NOSIGNIFICATIVO | Q38: - Implementar las acciones del Programa para el uso Eficiente y Racional para la Energía SC3-F14 - Implementar las acciones del Programa de gestión de emisiones atmosféricas y adaptación al cambio climático - SC03-F40
A39: =+A38+1 -> 32 | C39: Piso 2 | D39: Salida | E39: Generación de Residuos no aprovechables | F39: Generación de residuos no aprovechables generados por la realización de la actividad. | G39: Sobrepresión del relleno sanitario | H39: Normal | I39: -4 | J39: 3 | K39: 1 | L39: 2 | M39: 1 | N39: =(I39)+J39+K39+L39+M39 -> 3 | O39: =IF(N39<=14,"NOSIGNIFICATIVO",IF(AND(N39>=15,N39<=20),"SIGNIFICATIVOS")) -> NOSIGNIFICATIVO | Q39: - Implementar las acciones del Programa de Gestión para el Manejo y Disposición de Residuos Sólidos SC03-F13
A40: =+A39+1 -> 33 | C40: Piso 2 | D40: Salida | E40: Generación de Residuos aprovechables | F40: Generación de residuos aprovechables generados en las bajas definitivas de los bienes de la Entidad y papel generado por impresiones y/o documentos. | G40: Reducción de afectación al medio ambiente | H40: Normal | I40: -4 | J40: 4 | K40: 1 | L40: 1 | M40: 1 | N40: =(I40)+J40+K40+L40+M40 -> 3 | O40: =IF(N40<=14,"NOSIGNIFICATIVO",IF(AND(N40>=15,N40<=20),"SIGNIFICATIVOS")) -> NOSIGNIFICATIVO | Q40: - Implementar las acciones del Programa de Gestión para el Manejo y Disposición de Residuos Sólidos SC03-F13
A41: =+A40+1 -> 34 | C41: Piso 2 | D41: Entrada | E41: Consumo de papel | F41: Consumo de papel generado por impresiones y fotocopiado de documentos requeridos para realizar la actividad. | G41: Agotamiento de los recursos naturales forestales | H41: Normal | I41: 4 | J41: 3 | K41: 1 | L41: 4 | M41: 1 | N41: =(I41)+J41+K41+L41+M41 -> 13 | O41: =IF(N41<=14,"NOSIGNIFICATIVO",IF(AND(N41>=15,N41<=20),"SIGNIFICATIVOS")) -> NOSIGNIFICATIVO | Q41: - Implementar las acciones del Programa de Gestión para el Manejo y Disposición de Residuos Sólidos SC03-F13 - Implementar las acciones del Programa de gestión de emisiones atmosféricas y adaptación al cambio climático - SC03-F40 - Circular interna No. 15 Eficiencia Administrativa y Lineamientos de la Política de Cero Papel
A42: =+A41+1 -> 35 | C42: Piso 2 | D42: Entrada | E42: Consumo de papel | F42: Producción del papel que se compra para todas los actividades y/o procesos de la Entidad | G42: Contaminación del aire | H42: Normal | I42: 4 | J42: 1 | K42: 1 | L42: 4 | M42: 1 | N42: =(I42)+J42+K42+L42+M42 -> 11 | O42: =IF(N42<=14,"NOSIGNIFICATIVO",IF(AND(N42>=15,N42<=20),"SIGNIFICATIVOS")) -> NOSIGNIFICATIVO | Q42: - Implementar las acciones del Programa de Gestión para el Manejo y Disposición de Residuos Sólidos SC03-F13 - Implementar las acciones del Programa de gestión de emisiones atmosféricas y adaptación al cambio climático - SC03-F40 - Circular interna No. 15 Eficiencia Administrativa y Lineamientos de la Política de Cero Papel
A43: =+A42+1 -> 36 | C43: Piso 2 | D43: Salida | E43: Generación de residuos peligrosos o especiales | F43: Generación de RAEEs, tóner, pilas, baterías por finalización de la vida útil. | G43: Contaminación del suelo | H43: Anormal | I43: 4 | J43: 3 | K43: 1 | L43: 4 | M43: 1 | N43: =(I43)+J43+K43+L43+M43 -> 13 | O43: =IF(N43<=14,"NOSIGNIFICATIVO",IF(AND(N43>=15,N43<=20),"SIGNIFICATIVOS")) -> NOSIGNIFICATIVO | Q43: - Implementar las acciones del Plan de Gestión Integral de Residuos Peligrosos SC03-F16
A44: =+A43+1 -> 37 | C44: Piso 8 | D44: Salida | E44: Generación de residuos peligrosos o especiales | F44: Generación de residuos peligrosos por almacenamiento de productos químicos. | G44: Contaminación del suelo | H44: Normal | I44: 4 | J44: 1 | K44: 1 | L44: 2 | M44: 1 | N44: =(I44)+J44+K44+L44+M44 -> 9 | O44: =IF(N44<=14,"NOSIGNIFICATIVO",IF(AND(N44>=15,N44<=20),"SIGNIFICATIVOS")) -> NOSIGNIFICATIVO | Q44: - Implementar las acciones del Plan de Gestión Integral de Residuos Peligrosos SC03-F16
A45: =+A44+1 -> 38 | C45: Piso 8 | D45: Salida | E45: Generación de residuos peligrosos o especiales | F45: Derrame de producto químico | G45: Contaminación del suelo | H45: Emergencia | I45: 4 | J45: 0 | K45: 1 | L45: 1 | M45: 1 | N45: =(I45)+J45+K45+L45+M45 -> 7 | O45: =IF(N45<=14,"NOSIGNIFICATIVO",IF(AND(N45>=15,N45<=20),"SIGNIFICATIVOS")) -> NOSIGNIFICATIVO | Q45: - Implementar las acciones del Plan de Gestión Integral de Residuos Peligrosos SC03-F16 - Implementar las acciones del Plan de preparación y respuesta ante una emergencia y/o contingencia ambiental SC03-F17
A46: =+A45+1 -> 39 | C46: NA | D46: Salida | E46: Generación de residuos peligrosos o especiales | F46: Ruptura de luminarias (mercurio, focos y halógenos) | G46: Contaminación del suelo | H46: Emergencia | I46: 4 | J46: 0 | K46: 1 | L46: 1 | M46: 1 | N46: =(I46)+J46+K46+L46+M46 -> 7 | O46: =IF(N46<=14,"NOSIGNIFICATIVO",IF(AND(N46>=15,N46<=20),"SIGNIFICATIVOS")) -> NOSIGNIFICATIVO | Q46: - Implementar las acciones del Plan de Gestión Integral de Residuos Peligrosos SC03-F16 - Implementar las acciones del Plan de preparación y respuesta ante una emergencia y/o contingencia ambiental SC03-F17
A47: =+A46+1 -> 40 | B47: Atenciones de consultas médicas, sala amiga y/o jornadas de salud y bienestar | C47: Piso 2 | D47: Entrada | E47: Consumo de energía eléctrica | F47: Consumo de energía generado de las actividades de atenciones médicas a los usuarios. | G47: Agotamiento de los recursos naturales | H47: Normal | I47: -4 | J47: 4 | K47: 1 | L47: 1 | M47: 1 | N47: =(I47)+J47+K47+L47+M47 -> 3 | O47: =IF(N47<=14,"NOSIGNIFICATIVO",IF(AND(N47>=15,N47<=20),"SIGNIFICATIVOS")) -> NOSIGNIFICATIVO | Q47: - Implementar las acciones del Programa para el uso Eficiente y Racional para la Energía SC3-F14
A48: =+A47+1 -> 41 | C48: Piso 2 | D48: Entrada | E48: Consumo de energía eléctrica | F48: Consumo de energía generado de las actividades de atenciones médicas a los usuarios. | G48: Contaminación del aire | H48: Normal | I48: 4 | J48: 4 | K48: 1 | L48: 2 | M48: 1 | N48: =(I48)+J48+K48+L48+M48 -> 12 | O48: =IF(N48<=14,"NOSIGNIFICATIVO",IF(AND(N48>=15,N48<=20),"SIGNIFICATIVOS")) -> NOSIGNIFICATIVO | Q48: - Implementar las acciones del Programa para el uso Eficiente y Racional para la Energía SC3-F14 - Implementar las acciones del Programa de gestión de emisiones atmosféricas y adaptación al cambio climático - SC03-F40
A49: =+A48+1 -> 42 | C49: Piso 2 | D49: Salida | E49: Generación de Residuos no aprovechables | F49: Generación de residuos ordinarios por la atención de consultas medicas | G49: Sobrepresión del relleno sanitario | H49: Normal | I49: -4 | J49: 3 | K49: 1 | L49: 2 | M49: 1 | N49: =(I49)+J49+K49+L49+M49 -> 3 | O49: =IF(N49<=14,"NOSIGNIFICATIVO",IF(AND(N49>=15,N49<=20),"SIGNIFICATIVOS")) -> NOSIGNIFICATIVO | Q49: - Implementar las acciones del Programa de Gestión para el Manejo y Disposición de Residuos Sólidos SC03-F13
A50: =+A49+1 -> 43 | C50: Piso 2 | D50: Salida | E50: Generación de Residuos aprovechables | F50: Generación de residuos susceptibles a ser aprovechables tales como: papel, cartón, plástico, etc. | G50: Reducción de afectación al medio ambiente | H50: Normal | I50: -4 | J50: 4 | K50: 1 | L50: 1 | M50: 1 | N50: =(I50)+J50+K50+L50+M50 -> 3 | O50: =IF(N50<=14,"NOSIGNIFICATIVO",IF(AND(N50>=15,N50<=20),"SIGNIFICATIVOS")) -> NOSIGNIFICATIVO | Q50: - Implementar las acciones del Programa de Gestión para el Manejo y Disposición de Residuos Sólidos SC03-F13
A51: =+A50+1 -> 44 | C51: Piso 2 | D51: Entrada | E51: Consumo de papel | F51: Consumo de papel generado por impresiones de remisiones de ordenes médicas y documentos | G51: Agotamiento de los recursos naturales forestales | H51: Normal | I51: 4 | J51: 3 | K51: 1 | L51: 4 | M51: 1 | N51: =(I51)+J51+K51+L51+M51 -> 13 | O51: =IF(N51<=14,"NOSIGNIFICATIVO",IF(AND(N51>=15,N51<=20),"SIGNIFICATIVOS")) -> NOSIGNIFICATIVO | Q51: - Implementar las acciones del Programa de Gestión para el Manejo y Disposición de Residuos Sólidos SC03-F13 - Implementar las acciones del Programa de gestión de emisiones atmosféricas y adaptación al cambio climático - SC03-F40 - Circular interna No. 15 Eficiencia Administrativa y Lineamientos de la Política de Cero Papel
A52: =+A51+1 -> 45 | C52: Piso 2 | D52: Salida | E52: Generación de residuos peligrosos o especiales | F52: Generación de residuos biosanitarios por la actividad de consultas medicas. | G52: Contaminación del suelo | H52: Normal | I52: 4 | J52: 1 | K52: 1 | L52: 2 | M52: 1 | N52: =(I52)+J52+K52+L52+M52 -> 9 | O52: =IF(N52<=14,"NOSIGNIFICATIVO",IF(AND(N52>=15,N52<=20),"SIGNIFICATIVOS")) -> NOSIGNIFICATIVO | Q52: - Implementar las acciones del Plan de Gestión Integral de Residuos Peligrosos SC03-F16
A53: =+A52+1 -> 46 | C53: Piso 2 | D53: Salida | E53: Generación de residuos peligrosos o especiales | F53: Derrame de tóner | G53: Contaminación del suelo | H53: Emergencia | I53: 4 | J53: 0 | K53: 1 | L53: 1 | M53: 1 | N53: =(I53)+J53+K53+L53+M53 -> 7 | O53: =IF(N53<=14,"NOSIGNIFICATIVO",IF(AND(N53>=15,N53<=20),"SIGNIFICATIVOS")) -> NOSIGNIFICATIVO | Q53: - Implementar las acciones del Plan de Gestión Integral de Residuos Peligrosos SC03-F16 - Implementar las acciones del Plan de preparación y respuesta ante una emergencia y/o contingencia ambiental SC03-F17
A54: =+A53+1 -> 47 | C54: Piso 2 | D54: Salida | E54: Consumo de agua | F54: Consumo de agua por el uso del lavamanos ubicado en el consultorio médico | G54: Contaminación del suelo | H54: Normal | I54: 4 | J54: 3 | K54: 1 | L54: 4 | M54: 1 | N54: =(I54)+J54+K54+L54+M54 -> 13 | O54: =IF(N54<=14,"NOSIGNIFICATIVO",IF(AND(N54>=15,N54<=20),"SIGNIFICATIVOS")) -> NOSIGNIFICATIVO | Q54: - Implementar las acciones del Programa de Gestión para el Uso Eficiente y Racional del Agua SC03-F15
A55: =+A54+1 -> 48 | C55: Piso 2 | D55: Salida | E55: Consumo de agua | F55: Ruptura de la red hidráulica del lavamanos del consultorio médico | G55: Agotamiento de los recursos naturales | H55: Emergencia | I55: 4 | J55: 0 | K55: 1 | L55: 1 | M55: 1 | N55: =(I55)+J55+K55+L55+M55 -> 7 | O55: =IF(N55<=14,"NOSIGNIFICATIVO",IF(AND(N55>=15,N55<=20),"SIGNIFICATIVOS")) -> NOSIGNIFICATIVO | Q55: - Implementar las acciones del Programa de Gestión para el Uso Eficiente y Racional del Agua SC03-F15 - Implementar las acciones del Plan de preparación y respuesta ante una emergencia y/o contingencia ambiental SC03-F17
A56: =+A55+1 -> 49 | B56: Servicio de cafetería, consumo de alimentos | C56: Piso 11 | D56: Entrada | E56: Consumo de energía eléctrica | F56: Consumo de energía generado el uso de electrodomésticos. | G56: Agotamiento de los recursos naturales | H56: Normal | I56: 4 | J56: 4 | K56: 1 | L56: 2 | M56: 1 | N56: =(I56)+J56+K56+L56+M56 -> 12 | O56: =IF(N56<=14,"NOSIGNIFICATIVO",IF(AND(N56>=15,N56<=20),"SIGNIFICATIVOS")) -> NOSIGNIFICATIVO | Q56: - Implementar las acciones del Programa para el uso Eficiente y Racional para la Energía SC3-F14
A57: =+A56+1 -> 50 | C57: Piso 11 | D57: Entrada | E57: Consumo de energía eléctrica | F57: Consumo de energía generado el uso de electrodomésticos. | G57: Contaminación del aire | H57: Normal | I57: 4 | J57: 4 | K57: 1 | L57: 2 | M57: 1 | N57: =(I57)+J57+K57+L57+M57 -> 12 | O57: =IF(N57<=14,"NOSIGNIFICATIVO",IF(AND(N57>=15,N57<=20),"SIGNIFICATIVOS")) -> NOSIGNIFICATIVO | Q57: - Implementar las acciones del Programa para el uso Eficiente y Racional para la Energía SC3-F14 - Implementar las acciones del Programa de gestión de emisiones atmosféricas y adaptación al cambio climático - SC03-F40
A58: =+A57+1 -> 51 | C58: Piso 11 | D58: Salida | E58: Generación de Residuos no aprovechables | F58: Generación de residuos ordinarios y orgánicos generados en el servicio de cafetería | G58: Sobrepresión del relleno sanitario | H58: Normal | I58: 4 | J58: 4 | K58: 4 | L58: 4 | M58: 1 | N58: =(I58)+J58+K58+L58+M58 -> 17 | O58: =IF(N58<=14,"NOSIGNIFICATIVO",IF(AND(N58>=15,N58<=20),"SIGNIFICATIVOS")) -> SIGNIFICATIVOS | P58: - Inducción al Sistema de Gestión Ambiental. - Implementar acciones mediante actividades establecidas en el cronograma del Programa de Gestión para el Manejo y Disposición de Residuos Sólidos. - Instalación de puntos ecológicos con banner informativos para conocer la correcta disposición de residuos en cada contenedor. - Realizar inspecciones para conocer como los funcionarios estas depositando los residuos solidos. - Realizar actividades encaminadas a concientizar a los funcionarios y contratistas sobre la correcta disposición de residuos sólidos. - Realizar publicaciones en INTRASIC y por correo masivo, con el fin de sensibilizar y tener buenas prácticas para la correcta disposición de residuos. - Realizar mediciones sobre la generación de residuos y su porcentaje de aprovechamiento. | Q58: - Implementar las acciones del Programa de Gestión para el Manejo y Disposición de Residuos Sólidos SC03-F13. - Informes de gestión ambiental. - Inspecciones ambientales. - Indicadores.
A59: =+A58+1 -> 52 | C59: Piso 11 | D59: Salida | E59: Generación de Residuos aprovechables | F59: Generación de residuos susceptibles a ser aprovechables tales como: papel, cartón, plástico, vidrio, chatarra, etc. | G59: Reducción de afectación al medio ambiente | H59: Normal | I59: 4 | J59: 3 | K59: 1 | L59: 4 | M59: 1 | N59: =(I59)+J59+K59+L59+M59 -> 13 | O59: =IF(N59<=14,"NOSIGNIFICATIVO",IF(AND(N59>=15,N59<=20),"SIGNIFICATIVOS")) -> NOSIGNIFICATIVO | Q59: - Implementar las acciones del Programa de Gestión para el Manejo y Disposición de Residuos Sólidos SC03-F13
A60: =+A59+1 -> 53 | C60: Piso 11 | D60: Salida | E60: Consumo de agua | F60: Consumo de agua por el funcionamiento de lavaplatos y preparación de bebidas calientes. | G60: Contaminación del suelo | H60: Normal | I60: 4 | J60: 3 | K60: 1 | L60: 4 | M60: 1 | N60: =(I60)+J60+K60+L60+M60 -> 13 | O60: =IF(N60<=14,"NOSIGNIFICATIVO",IF(AND(N60>=15,N60<=20),"SIGNIFICATIVOS")) -> NOSIGNIFICATIVO | Q60: - Implementar las acciones del Programa de Gestión para el Uso Eficiente y Racional del Agua SC03-F15
A61: =+A60+1 -> 54 | C61: Piso 11 | D61: Salida | E61: Consumo de agua | F61: Ruptura de la red hidráulica (lavaplatos) | G61: Agotamiento de los recursos naturales | H61: Emergencia | I61: 4 | J61: 0 | K61: 1 | L61: 1 | M61: 1 | N61: =(I61)+J61+K61+L61+M61 -> 7 | O61: =IF(N61<=14,"NOSIGNIFICATIVO",IF(AND(N61>=15,N61<=20),"SIGNIFICATIVOS")) -> NOSIGNIFICATIVO | Q61: - Implementar las acciones del Programa de Gestión para el Uso Eficiente y Racional del Agua SC03-F15 - Implementar las acciones del Plan de preparación y respuesta ante una emergencia y/o contingencia ambiental SC03-F17
A62: =+A61+1 -> 55 | C62: Piso 6, 9, 10, 11, 12, 13, 14, 16 y 17 | D62: Salida | E62: Generación de vertimientos | F62: Vertimientos domésticos generados por las descargas de agua en lavamanos | G62: Contaminación del agua | H62: Normal | I62: 4 | J62: 2 | K62: 1 | L62: 1 | M62: 0 | N62: =(I62)+J62+K62+L62+M62 -> 8 | O62: =IF(N62<=14,"NOSIGNIFICATIVO",IF(AND(N62>=15,N62<=20),"SIGNIFICATIVOS")) -> NOSIGNIFICATIVO | Q62: - Implementar las acciones del Programa de gestión para el uso Eficiente y Racional del Agua SC3-F15
A63: =+A62+1 -> 56 | B63: Aseo, limpieza y desinfección | C63: Todos los pisos de las Entidad | D63: Entrada | E63: Consumo de energía eléctrica | F63: Consumo de energía generado en las diferentes áreas donde se requiere iluminación y uso de maquinas para las actividades de aseo, limpieza y desinfección. | G63: Agotamiento de los recursos naturales | H63: Normal | I63: 4 | J63: 4 | K63: 1 | L63: 2 | M63: 1 | N63: =(I63)+J63+K63+L63+M63 -> 12 | O63: =IF(N63<=14,"NOSIGNIFICATIVO",IF(AND(N63>=15,N63<=20),"SIGNIFICATIVOS")) -> NOSIGNIFICATIVO | Q63: - Implementar las acciones del Programa para el uso Eficiente y Racional para la Energía SC3-F14
A64: =+A63+1 -> 57 | C64: Todos los pisos de las Entidad | D64: Entrada | E64: Consumo de energía eléctrica | F64: Consumo de energía generado en las diferentes áreas donde se requiere iluminación y uso de maquinas para las actividades de aseo, limpieza y desinfección. | G64: Contaminación del aire | H64: Normal | I64: 4 | J64: 4 | K64: 1 | L64: 2 | M64: 1 | N64: =(I64)+J64+K64+L64+M64 -> 12 | O64: =IF(N64<=14,"NOSIGNIFICATIVO",IF(AND(N64>=15,N64<=20),"SIGNIFICATIVOS")) -> NOSIGNIFICATIVO | Q64: - Implementar las acciones del Programa para el uso Eficiente y Racional para la Energía SC3-F14 - Implementar las acciones del Programa de gestión de emisiones atmosféricas y adaptación al cambio climático - SC03-F40
A65: =+A64+1 -> 58 | C65: Todos los pisos de las Entidad | D65: Salida | E65: Generación de Residuos no aprovechables | F65: Generación de residuos ordinarios y orgánicos generados en el servicio de aseo y desinfección de las áreas. | G65: Sobrepresión del relleno sanitario | H65: Normal | I65: -4 | J65: 4 | K65: 1 | L65: 2 | M65: 1 | N65: =(I65)+J65+K65+L65+M65 -> 4 | O65: =IF(N65<=14,"NOSIGNIFICATIVO",IF(AND(N65>=15,N65<=20),"SIGNIFICATIVOS")) -> NOSIGNIFICATIVO | Q65: - Implementar las acciones del Programa de Gestión para el Manejo y Disposición de Residuos Sólidos SC03-F13
A66: =+A65+1 -> 59 | C66: Todos los pisos de las Entidad | D66: Salida | E66: Generación de Residuos aprovechables | F66: Generación de residuos susceptibles a ser aprovechables tales como: papel, cartón, plástico, vidrio, chatarra, etc. en las diferentes áreas y puntos ecológicos instalados en las diferentes sedes. | G66: Reducción de afectación al medio ambiente | H66: Normal | I66: -4 | J66: 4 | K66: 1 | L66: 1 | M66: 1 | N66: =(I66)+J66+K66+L66+M66 -> 3 | O66: =IF(N66<=14,"NOSIGNIFICATIVO",IF(AND(N66>=15,N66<=20),"SIGNIFICATIVOS")) -> NOSIGNIFICATIVO | Q66: - Implementar las acciones del Programa de Gestión para el Manejo y Disposición de Residuos Sólidos SC03-F13
A67: =+A66+1 -> 60 | C67: Todos los pisos de las Entidad | D67: Entrada | E67: Consumo de papel | F67: Consumo de papel generado por impresiones y fotocopiado de formatos necesarios para el registro de información de la actividad. | G67: Agotamiento de los recursos naturales forestales | H67: Normal | I67: 4 | J67: 4 | K67: 1 | L67: 4 | M67: 1 | N67: =(I67)+J67+K67+L67+M67 -> 14 | O67: =IF(N67<=14,"NOSIGNIFICATIVO",IF(AND(N67>=15,N67<=20),"SIGNIFICATIVOS")) -> NOSIGNIFICATIVO | Q67: - Implementar las acciones del Programa de Gestión para el Manejo y Disposición de Residuos Sólidos SC03-F13 - Implementar las acciones del Programa de gestión de emisiones atmosféricas y adaptación al cambio climático - SC03-F40 - Circular interna No. 15 Eficiencia Administrativa y Lineamientos de la Política de Cero Papel
A68: =+A67+1 -> 61 | C68: Todos los pisos de las Entidad | D68: Salida | E68: Generación de residuos peligrosos o especiales | F68: Consumo de productos químicos para limpieza y desinfección ( envases vacíos) | G68: Contaminación del suelo | H68: Normal | I68: 4 | J68: 1 | K68: 1 | L68: 2 | M68: 1 | N68: =(I68)+J68+K68+L68+M68 -> 9 | O68: =IF(N68<=14,"NOSIGNIFICATIVO",IF(AND(N68>=15,N68<=20),"SIGNIFICATIVOS")) -> NOSIGNIFICATIVO | Q68: - Implementar las acciones del Plan de Gestión Integral de Residuos Peligrosos SC03-F16
A69: =+A68+1 -> 62 | C69: Todos los pisos de las Entidad | D69: Salida | E69: Generación de residuos peligrosos o especiales | F69: Derrame de producto químico | G69: Contaminación del suelo | H69: Emergencia | I69: 4 | J69: 0 | K69: 1 | L69: 1 | M69: 1 | N69: =(I69)+J69+K69+L69+M69 -> 7 | O69: =IF(N69<=14,"NOSIGNIFICATIVO",IF(AND(N69>=15,N69<=20),"SIGNIFICATIVOS")) -> NOSIGNIFICATIVO | Q69: - Implementar las acciones del Plan de Gestión Integral de Residuos Peligrosos SC03-F16 - Implementar las acciones del Plan de preparación y respuesta ante una emergencia y/o contingencia ambiental SC03-F17
A70: =+A69+1 -> 63 | C70: NA | D70: Salida | E70: Generación de residuos peligrosos o especiales | F70: Ruptura de luminarias (mercurio, focos y halógenos) | G70: Contaminación del suelo | H70: Emergencia | I70: 4 | J70: 0 | K70: 1 | L70: 1 | M70: 1 | N70: =(I70)+J70+K70+L70+M70 -> 7 | O70: =IF(N70<=14,"NOSIGNIFICATIVO",IF(AND(N70>=15,N70<=20),"SIGNIFICATIVOS")) -> NOSIGNIFICATIVO | Q70: - Implementar las acciones del Plan de Gestión Integral de Residuos Peligrosos SC03-F16 - Implementar las acciones del Plan de preparación y respuesta ante una emergencia y/o contingencia ambiental SC03-F17
A71: =+A70+1 -> 64 | C71: Todos los pisos de las Entidad | D71: Salida | E71: Consumo de agua | F71: Consumo de agua por el funcionamiento los sanitarios, orinal y lavamanos | G71: Contaminación del suelo | H71: Normal | I71: 4 | J71: 3 | K71: 1 | L71: 4 | M71: 1 | N71: =(I71)+J71+K71+L71+M71 -> 13 | O71: =IF(N71<=14,"NOSIGNIFICATIVO",IF(AND(N71>=15,N71<=20),"SIGNIFICATIVOS")) -> NOSIGNIFICATIVO | Q71: - Implementar las acciones del Programa de Gestión para el Uso Eficiente y Racional del Agua SC03-F15 - Informes de gestión ambiental mensual.
A72: =+A71+1 -> 65 | C72: Todos los pisos de las Entidad | D72: Salida | E72: Consumo de agua | F72: Ruptura de la red hidráulica | G72: Agotamiento de los recursos naturales | H72: Emergencia | I72: 4 | J72: 0 | K72: 1 | L72: 1 | M72: 1 | N72: =(I72)+J72+K72+L72+M72 -> 7 | O72: =IF(N72<=14,"NOSIGNIFICATIVO",IF(AND(N72>=15,N72<=20),"SIGNIFICATIVOS")) -> NOSIGNIFICATIVO | Q72: - Implementar las acciones del Programa de Gestión para el Uso Eficiente y Racional del Agua SC03-F15 - Implementar las acciones del Plan de preparación y respuesta ante una emergencia y/o contingencia ambiental SC03-F17
A73: =+A72+1 -> 66 | C73: Todos los pisos de la Entidad | D73: Salida | E73: Generación de vertimientos | F73: Vertimientos domésticos derivados de las actividades de limpieza, aseo y desinfección | G73: Contaminación del agua | H73: Normal | I73: 4 | J73: 3 | K73: 1 | L73: 1 | M73: 0 | N73: =(I73)+J73+K73+L73+M73 -> 9 | O73: =IF(N73<=14,"NOSIGNIFICATIVO",IF(AND(N73>=15,N73<=20),"SIGNIFICATIVOS")) -> NOSIGNIFICATIVO | Q73: - Implementar las acciones del Programa de gestión para el uso Eficiente y Racional del Agua SC3-F15
A74: =+A73+1 -> 67 | B74: Servicio de baños | C74: Todos los pisos de la Entidad | D74: Entrada | E74: Consumo de energía eléctrica | F74: Consumo de energía generado en las diferentes áreas donde se requiere el uso de los baños internos y externos de control de la Entidad. | G74: Agotamiento de los recursos naturales | H74: Normal | I74: 4 | J74: 4 | K74: 1 | L74: 2 | M74: 1 | N74: =(I74)+J74+K74+L74+M74 -> 12 | O74: =IF(N74<=14,"NOSIGNIFICATIVO",IF(AND(N74>=15,N74<=20),"SIGNIFICATIVOS")) -> NOSIGNIFICATIVO | Q74: - Implementar las acciones del Programa para el uso Eficiente y Racional para la Energía SC3-F14
A75: =+A74+1 -> 68 | C75: Todos los pisos de la Entidad | D75: Entrada | E75: Consumo de energía eléctrica | F75: Consumo de energía generado en las diferentes áreas donde se requiere el uso de los baños internos y externos de control de la Entidad. | G75: Contaminación del aire | H75: Normal | I75: 4 | J75: 4 | K75: 1 | L75: 2 | M75: 1 | N75: =(I75)+J75+K75+L75+M75 -> 12 | O75: =IF(N75<=14,"NOSIGNIFICATIVO",IF(AND(N75>=15,N75<=20),"SIGNIFICATIVOS")) -> NOSIGNIFICATIVO | Q75: - Implementar las acciones del Programa para el uso Eficiente y Racional para la Energía SC3-F14 - Implementar las acciones del Programa de gestión de emisiones atmosféricas y adaptación al cambio climático - SC03-F40
A76: =+A75+1 -> 69 | C76: Todos los pisos de la Entidad | D76: Salida | E76: Generación de Residuos no aprovechables | F76: Generación de papel higiénico, toallas higiénicas, toallas de papel, entre otros. | G76: Sobrepresión del relleno sanitario | H76: Normal | I76: -4 | J76: 4 | K76: 1 | L76: 2 | M76: 1 | N76: =(I76)+J76+K76+L76+M76 -> 4 | O76: =IF(N76<=14,"NOSIGNIFICATIVO",IF(AND(N76>=15,N76<=20),"SIGNIFICATIVOS")) -> NOSIGNIFICATIVO | Q76: - Implementar las acciones del Programa de Gestión para el Manejo y Disposición de Residuos Sólidos SC03-F13
A77: =+A76+1 -> 70 | C77: Todos los pisos de la Entidad | D77: Salida | E77: Consumo de agua | F77: Consumo de agua por el funcionamiento los sanitarios, orinal y lavamanos | G77: Contaminación del suelo | H77: Normal | I77: 4 | J77: 3 | K77: 4 | L77: 4 | M77: 1 | N77: =(I77)+J77+K77+L77+M77 -> 16 | O77: =IF(N77<=14,"NOSIGNIFICATIVO",IF(AND(N77>=15,N77<=20),"SIGNIFICATIVOS")) -> SIGNIFICATIVOS | P77: - Inducción al Sistema de Gestión Ambiental. - Implementar acciones mediante actividades establecidas en el cronograma del Programa para el Uso Eficiente Racional de la Agua. - Realizar actividades encaminadas a concientizar a los funcionarios y contratistas sobre el uso eficiente y racional de Agua. - Realizar publicaciones en INTRASIC y por correo masivo, con el fin de sensibilizar y tener buen uso del consumo de Agua. - Realizar mediciones sobre el consumo de agua. - Realizar inspecciones para ver los daños y fugas hidráulicos . | Q77: - Implementar las acciones del Programa para el uso Eficiente y Racional para la Agua SC3-F15 - Informes de gestión ambiental. - Inspecciones ambientales. - Indicadores.
A78: =+A77+1 -> 71 | C78: Todos los pisos de la Entidad | D78: Salida | E78: Consumo de agua | F78: Ruptura de la red hidráulica | G78: Agotamiento de los recursos naturales | H78: Emergencia | I78: 4 | J78: 0 | K78: 1 | L78: 1 | M78: 1 | N78: =(I78)+J78+K78+L78+M78 -> 7 | O78: =IF(N78<=14,"NOSIGNIFICATIVO",IF(AND(N78>=15,N78<=20),"SIGNIFICATIVOS")) -> NOSIGNIFICATIVO | Q78: - Implementar las acciones del Programa de Gestión para el Uso Eficiente y Racional del Agua SC03-F15 - Implementar las acciones del Plan de preparación y respuesta ante una emergencia y/o contingencia ambiental SC03-F17
A79: =+A78+1 -> 72 | C79: Todos los pisos de la Entidad | D79: Salida | E79: Generación de vertimientos | F79: Vertimientos domésticos generados por las descargas de los sanitarios, orinales, lavamanos | G79: Contaminación del agua | H79: Normal | I79: 4 | J79: 4 | K79: 1 | L79: 1 | M79: 0 | N79: =(I79)+J79+K79+L79+M79 -> 10 | O79: =IF(N79<=14,"NOSIGNIFICATIVO",IF(AND(N79>=15,N79<=20),"SIGNIFICATIVOS")) -> NOSIGNIFICATIVO | Q79: - Implementar las acciones del Programa de gestión para el uso Eficiente y Racional del Agua SC3-F15
A80: =+A79+1 -> 73 | B80: Clasificación y almacenamiento y entrega de residuos | C80: Piso 2 | D80: Entrada | E80: Consumo de energía eléctrica | F80: Consumo de energía generado en las diferentes áreas donde se requiere el uso de los baños internos y externos de control de la Entidad. | G80: Agotamiento de los recursos naturales | H80: Normal | I80: -4 | J80: 4 | K80: 1 | L80: 1 | M80: 1 | N80: =(I80)+J80+K80+L80+M80 -> 3 | O80: =IF(N80<=14,"NOSIGNIFICATIVO",IF(AND(N80>=15,N80<=20),"SIGNIFICATIVOS")) -> NOSIGNIFICATIVO | Q80: - Implementar las acciones del Programa para el uso Eficiente y Racional para la Energía SC3-F14
A81: =+A80+1 -> 74 | C81: Piso 2 | D81: Entrada | E81: Consumo de energía eléctrica | F81: Consumo de energía generado en las diferentes áreas donde se requiere el uso de los baños internos y externos de control de la Entidad. | G81: Contaminación del aire | H81: Normal | I81: 4 | J81: 4 | K81: 1 | L81: 2 | M81: 1 | N81: =(I81)+J81+K81+L81+M81 -> 12 | O81: =IF(N81<=14,"NOSIGNIFICATIVO",IF(AND(N81>=15,N81<=20),"SIGNIFICATIVOS")) -> NOSIGNIFICATIVO | Q81: - Implementar las acciones del Programa para el uso Eficiente y Racional para la Energía SC3-F14 - Implementar las acciones del Programa de gestión de emisiones atmosféricas y adaptación al cambio climático - SC03-F40
A82: =+A81+1 -> 75 | C82: Piso 2 | D82: Salida | E82: Generación de Residuos aprovechables | F82: Almacenamiento, clasificación y entrega de los residuos aprovechables | G82: Reducción de afectación al medio ambiente | H82: Normal | I82: -4 | J82: 4 | K82: 1 | L82: 1 | M82: 1 | N82: =(I82)+J82+K82+L82+M82 -> 3 | O82: =IF(N82<=14,"NOSIGNIFICATIVO",IF(AND(N82>=15,N82<=20),"SIGNIFICATIVOS")) -> NOSIGNIFICATIVO | Q82: - Implementar las acciones del Programa de Gestión para el Manejo y Disposición de Residuos Sólidos SC03-F13
A83: =+A82+1 -> 76 | C83: Piso 2 | D83: Entrada | E83: Consumo de papel | F83: Consumo de papel generado por impresiones y fotocopiado de formatos necesarios para el registro de información de la actividad. | G83: Agotamiento de los recursos naturales forestales | H83: Normal | I83: 4 | J83: 3 | K83: 1 | L83: 4 | M83: 1 | N83: =(I83)+J83+K83+L83+M83 -> 13 | O83: =IF(N83<=14,"NOSIGNIFICATIVO",IF(AND(N83>=15,N83<=20),"SIGNIFICATIVOS")) -> NOSIGNIFICATIVO | Q83: - Implementar las acciones del Programa de Gestión para el Manejo y Disposición de Residuos Sólidos SC03-F13 - Implementar las acciones del Programa de gestión de emisiones atmosféricas y adaptación al cambio climático - SC03-F40 - Circular interna No. 15 Eficiencia Administrativa y Lineamientos de la Política de Cero Papel
A84: =+A83+1 -> 77 | C84: Piso 2 | D84: Salida | E84: Generación de residuos peligrosos o especiales | F84: Generación de RAEEs | G84: Contaminación del suelo | H84: Normal | I84: 4 | J84: 1 | K84: 1 | L84: 2 | M84: 1 | N84: =(I84)+J84+K84+L84+M84 -> 9 | O84: =IF(N84<=14,"NOSIGNIFICATIVO",IF(AND(N84>=15,N84<=20),"SIGNIFICATIVOS")) -> NOSIGNIFICATIVO | Q84: - Implementar las acciones del Plan de Gestión Integral de Residuos Peligrosos SC03-F16
A85: =+A84+1 -> 78 | C85: Piso 2 | D85: Salida | E85: Generación de residuos peligrosos o especiales | F85: Ruptura de bolsa o embalaje de los de residuos | G85: Contaminación del suelo | H85: Normal | I85: 4 | J85: 3 | K85: 1 | L85: 2 | M85: 1 | N85: =(I85)+J85+K85+L85+M85 -> 11 | O85: =IF(N85<=14,"NOSIGNIFICATIVO",IF(AND(N85>=15,N85<=20),"SIGNIFICATIVOS")) -> NOSIGNIFICATIVO | Q85: - Implementar las acciones del Plan de Gestión Integral de Residuos Peligrosos SC03-F16
A86: =+A85+1 -> 79 | C86: Exterior | D86: Salida | E86: Generación de emisiones atmosféricas, olores y/o vapores | F86: Generación de emisiones por lubricantes, aceites en vehículos para transportar los residuos sólidos. | G86: Contaminación del aire | H86: Normal | I86: 4 | J86: 4 | K86: 1 | L86: 2 | M86: 1 | N86: =(I86)+J86+K86+L86+M86 -> 12 | O86: =IF(N86<=14,"NOSIGNIFICATIVO",IF(AND(N86>=15,N86<=20),"SIGNIFICATIVOS")) -> NOSIGNIFICATIVO | Q86: - Implementar las acciones del Programa de gestión de emisiones atmosféricas y adaptación al cambio climático - SC3-F40
A87: =+A86+1 -> 80 | C87: Exterior | D87: Salida | E87: Consumo de combustible | F87: Consumo de combustible por el uso de vehículos para el retiro de los residuos sólidos de la Entidad. | G87: Disminución del recurso natural no renovable | H87: Normal | I87: 4 | J87: 3 | K87: 1 | L87: 2 | M87: 1 | N87: =(I87)+J87+K87+L87+M87 -> 11 | O87: =IF(N87<=14,"NOSIGNIFICATIVO",IF(AND(N87>=15,N87<=20),"SIGNIFICATIVOS")) -> NOSIGNIFICATIVO | Q87: - Implementar las acciones del Programa de gestión de emisiones atmosféricas y adaptación al cambio climático - SC03-F40 - Implementar las acciones del Programa de Compras Públicas Sostenibles SC03-F20: - Verificación de la ficha técnica de criterios ambientales y/o sostenibilidad
A88: =+A87+1 -> 81 | C88: Exterior | D88: Salida | E88: Consumo de combustible | F88: Consumo de combustible por el uso de vehículos para el retiro de los residuos sólidos de la Entidad. | G88: Contaminación del aire | H88: Normal | I88: 4 | J88: 3 | K88: 1 | L88: 2 | M88: 1 | N88: =(I88)+J88+K88+L88+M88 -> 11 | O88: =IF(N88<=14,"NOSIGNIFICATIVO",IF(AND(N88>=15,N88<=20),"SIGNIFICATIVOS")) -> NOSIGNIFICATIVO | Q88: - Implementar las acciones del Programa de gestión de emisiones atmosféricas y adaptación al cambio climático - SC03-F40 - Implementar las acciones del Programa de Compras Públicas Sostenibles SC03-F20: - Verificación de la ficha técnica de criterios ambientales y/o sostenibilidad
A89: =+A88+1 -> 82 | C89: Piso 2 | D89: Salida | E89: Generación de conciencia ambiental | F89: Prevención de la contaminación | G89: Reducción en la afectación ambiental | H89: Normal | I89: -4 | J89: 4 | K89: 1 | L89: 4 | M89: 1 | N89: =(I89)+J89+K89+L89+M89 -> 6 | O89: =IF(N89<=14,"NOSIGNIFICATIVO",IF(AND(N89>=15,N89<=20),"SIGNIFICATIVOS")) -> NOSIGNIFICATIVO | Q89: - Segregación adecuada de los residuos aprovechables, tomando conciencia de los aspectos generados por la inadecuada disposición final de los residuos
A90: =+A89+1 -> 83 | B90: Fumigación de las instalaciones de la SIC | C90: Todos los pisos de la Entidad | D90: Salida | E90: Consumo de energía eléctrica | F90: Consumo de energía generado en las diferentes áreas donde se requiere realizar el proceso de fumigaciones. | G90: Agotamiento de los recursos naturales | H90: Normal | I90: -4 | J90: 4 | K90: 1 | L90: 1 | M90: 1 | N90: =(I90)+J90+K90+L90+M90 -> 3 | O90: =IF(N90<=14,"NOSIGNIFICATIVO",IF(AND(N90>=15,N90<=20),"SIGNIFICATIVOS")) -> NOSIGNIFICATIVO | Q90: - Implementar las acciones del Programa para el uso Eficiente y Racional para la Energía SC3-F14 - Implementar las acciones del Programa de Compras Públicas Sostenibles SC03-F20 - Verificación de la ficha técnica de criterios ambientales y/o sostenibilidad
A91: =+A90+1 -> 84 | C91: Todos los pisos de la Entidad | D91: Salida | E91: Consumo de energía eléctrica | F91: Consumo de energía generado en las diferentes áreas donde se requiere realizar el proceso de fumigaciones. | G91: Contaminación del aire | H91: Normal | I91: 4 | J91: 4 | K91: 1 | L91: 2 | M91: 1 | N91: =(I91)+J91+K91+L91+M91 -> 12 | O91: =IF(N91<=14,"NOSIGNIFICATIVO",IF(AND(N91>=15,N91<=20),"SIGNIFICATIVOS")) -> NOSIGNIFICATIVO | Q91: - Implementar las acciones del Programa para el uso Eficiente y Racional para la Energía SC3-F14 - Implementar las acciones del Programa de gestión de emisiones atmosféricas y adaptación al cambio climático - SC03-F40
A92: =+A91+1 -> 85 | C92: Todos los pisos de la Entidad | D92: Salida | E92: Generación de residuos peligrosos o especiales | F92: Consumo de productos químicos para la fumigación (envases vacíos) | G92: Contaminación del suelo | H92: Normal | I92: 4 | J92: 1 | K92: 1 | L92: 2 | M92: 1 | N92: =(I92)+J92+K92+L92+M92 -> 9 | O92: =IF(N92<=14,"NOSIGNIFICATIVO",IF(AND(N92>=15,N92<=20),"SIGNIFICATIVOS")) -> NOSIGNIFICATIVO | Q92: - Implementar las acciones del Plan de Gestión Integral de Residuos Peligrosos SC03-F16 - Implementar las acciones del Programa de Compras Públicas Sostenibles SC03-F20: Verificación de la ficha técnica de criterios ambientales y/o sostenibilidad
A93: =+A92+1 -> 86 | C93: Todos los pisos de la Entidad | D93: Salida | E93: Generación de emisiones atmosféricas | F93: Emisión de gases contaminantes por el uso de productos químicos para las actividades de fumigación | G93: Contaminación del aire | H93: Normal | I93: 4 | J93: 1 | K93: 1 | L93: 1 | M93: 1 | N93: =(I93)+J93+K93+L93+M93 -> 8 | O93: =IF(N93<=14,"NOSIGNIFICATIVO",IF(AND(N93>=15,N93<=20),"SIGNIFICATIVOS")) -> NOSIGNIFICATIVO | Q93: - Implementar las acciones del Programa de gestión de emisiones atmosféricas y adaptación al cambio climático - SC3-F40 - Implementar las acciones del Programa de Compras Públicas Sostenibles SC03-F20: Verificación de la ficha técnica de criterios ambientales y/o sostenibilidad
A94: =+A93+1 -> 87 | B94: Operaciones de vehículos (parque automotor y servicios de transportes desplazamiento de los funcionarios y vehículos oficiales) | C94: Talleres y/o concesionarios -contratistas de mantenimiento | D94: Salida | E94: Generación de residuos peligrosos o especiales | F94: Generación de aceites usados, filtros usados, residuos contaminados, baterías usadas, llantas usadas | G94: Contaminación del suelo | H94: Normal | I94: 4 | J94: 1 | K94: 1 | L94: 2 | M94: 1 | N94: =(I94)+J94+K94+L94+M94 -> 9 | O94: =IF(N94<=14,"NOSIGNIFICATIVO",IF(AND(N94>=15,N94<=20),"SIGNIFICATIVOS")) -> NOSIGNIFICATIVO | Q94: - Implementar las acciones del Plan de Gestión Integral de Residuos Peligrosos SC03-F16 - Implementar las acciones del Programa de Compras Públicas Sostenibles SC03-F20: Verificación de la ficha técnica de criterios ambientales y/o sostenibilidad
A95: =+A94+1 -> 88 | C95: Talleres y/o concesionarios -contratistas de mantenimiento | D95: Salida | E95: Consumo de agua | F95: Lavado de vehículos | G95: Agotamiento de los recursos naturales | H95: Normal | I95: 4 | J95: 1 | K95: 1 | L95: 2 | M95: 1 | N95: =(I95)+J95+K95+L95+M95 -> 9 | O95: =IF(N95<=14,"NOSIGNIFICATIVO",IF(AND(N95>=15,N95<=20),"SIGNIFICATIVOS")) -> NOSIGNIFICATIVO | Q95: -Implementar las acciones del Programa de Compras Públicas sostenibles - SC03-F20. - Verificación de la ficha técnica de criterios ambientales y/o sostenibilidad
A96: =+A95+1 -> 89 | C96: Talleres y/o concesionarios -contratistas de mantenimiento | D96: Salida | E96: Generación de vertimientos | F96: Lavado de vehículos | G96: Contaminación del agua | H96: Normal | I96: 4 | J96: 1 | K96: 1 | L96: 2 | M96: 1 | N96: =(I96)+J96+K96+L96+M96 -> 9 | O96: =IF(N96<=14,"NOSIGNIFICATIVO",IF(AND(N96>=15,N96<=20),"SIGNIFICATIVOS")) -> NOSIGNIFICATIVO | Q96: - Implementar las acciones del Programa de gestión para el uso Eficiente y Racional del Agua SC3-F15
A97: =+A96+1 -> 90 | C97: Parqueaderos | D97: Salida | E97: Generación de residuos peligrosos o especiales | F97: Derrames de aceites, líquidos de frenos y demás sustancias químicas de los vehículos (trapos contaminados) | G97: Contaminación del suelo | H97: Emergencia | I97: 4 | J97: 2 | K97: 2 | L97: 1 | M97: 1 | N97: =(I97)+J97+K97+L97+M97 -> 10 | O97: =IF(N97<=14,"NOSIGNIFICATIVO",IF(AND(N97>=15,N97<=20),"SIGNIFICATIVOS")) -> NOSIGNIFICATIVO | P97: - Implementar criterios de sostenibilidad en los procesos de contratación que generen residuos peligrosos y llevar un control sobre la debida disposición de estos. | Q97: - Implementar las acciones del Programa de Compras Públicas Sostenibles SC03-F20
A98: =+A97+1 -> 91 | C98: Parqueadero / Exteriores | D98: Salida | E98: Generación de emisiones atmosféricas | F98: Generación de emisiones generadas por fuentes móviles | G98: Contaminación del aire | H98: Normal | I98: 4 | J98: 4 | K98: 1 | L98: 2 | M98: 1 | N98: =(I98)+J98+K98+L98+M98 -> 12 | O98: =IF(N98<=14,"NOSIGNIFICATIVO",IF(AND(N98>=15,N98<=20),"SIGNIFICATIVOS")) -> NOSIGNIFICATIVO | Q98: - Implementar las acciones del Programa de gestión de emisiones atmosféricas y adaptación al cambio climático - SC3-F40 - Implementar las acciones del Programa de Compras Públicas Sostenibles SC03-F20 : Verificación de la ficha técnica de criterios ambientales y/o sostenibilidad
A99: =+A98+1 -> 92 | C99: Exteriores | D99: Salida | E99: Generación de residuos peligrosos o especiales | F99: Derrames de aceites, líquidos de frenos y demás sustancias químicas de los vehículos (trapos contaminados) | G99: Contaminación del suelo | H99: Emergencia | I99: 4 | J99: 0 | K99: 1 | L99: 1 | M99: 1 | N99: =(I99)+J99+K99+L99+M99 -> 7 | O99: =IF(N99<=14,"NOSIGNIFICATIVO",IF(AND(N99>=15,N99<=20),"SIGNIFICATIVOS")) -> NOSIGNIFICATIVO | Q99: - Implementar las acciones del Plan de Gestión Integral de Residuos Peligrosos SC03-F16 - Implementar las acciones del Plan de preparación y respuesta ante una emergencia y/o contingencia ambiental SC03-F17 - Implementar las acciones del Programa de Compras Públicas Sostenibles SC03-F20: Verificación de la ficha técnica de criterios ambientales y/o sostenibilidad
A100: =+A99+1 -> 93 | C100: Exteriores | D100: Salida | E100: Consumo de combustible | F100: Consumo de combustible por el Servicio de transporte y vehículos de funcionarios. | G100: Disminución del recurso natural no renovable | H100: Normal | I100: 4 | J100: 4 | K100: 1 | L100: 1 | M100: 1 | N100: =(I100)+J100+K100+L100+M100 -> 11 | O100: =IF(N100<=14,"NOSIGNIFICATIVO",IF(AND(N100>=15,N100<=20),"SIGNIFICATIVOS")) -> NOSIGNIFICATIVO | Q100: - Implementar las acciones del Programa de gestión de emisiones atmosféricas y adaptación al cambio climático - SC03-F40 - Implementar las acciones del Programa de Compras Públicas Sostenibles SC03-F20: - Verificación de la ficha técnica de criterios ambientales y/o sostenibilidad
...

Sheet ListadoDesplegable
A2: DESCRIPCIÓN DE LA ACTIVIDAD | B2: ASPECTO AMBIENTAL | C2: IMPACTO AMBIENTAL | D2: TIPO OPERACIÓN | E2: TIPO DE IMPACTO (TP) | G2: FRECUENCIA (FR) | I2: EXTENSIÓN (EX) | K2: AFECTACIÓN (A) | M2: LEGISLACION APLICABLE (LA)
A3: Atención a los usuarios | B3: Consumo de agua | C3: Agotamiento de los recursos naturales | D3: Normal | E3: POSITIVO | F3: -4 | G3: NO SE PRESENTA | H3: 0 | I3: REDUCIDA | J3: 1 | K3: BAJA | L3: 1 | M3: NO APLICA | N3: 0
A4: Operaciones de oficina | B4: Consumo de combustible | C4: Contaminación y/o alteración de agua | D4: Anormal | E4: NEGATIVO | F4: 4 | G4: ANUAL | H4: 1 | I4: AMPLIA | J4: 2 | K4: MODERADA | L4: 2 | M4: APLICA Y SE CUMPLE | N4: 1
A5: Capacitaciones, cursos, charlas, comités, audiencias, reuniones, juntas y actividades varias | B5: Consumo de energía eléctrica | C5: Contaminación del aire | D5: Emergencia | G5: SEMESTRAL | H5: 2 | I5: FUERA DE LAS INSTALACIONES | J5: 4 | K5: ALTA | L5: 4 | M5: APLICA Y NO SE CUMPLE | N5: 4
A6: Impresión y fotocopiado | B6: Consumo de papel | C6: Agotamiento de los recursos naturales | G6: MENSUAL | H6: 3
A7: Inventario / Almacenamiento de insumos y bienes | B7: Generación de conciencia ambiental | C7: Contaminación y/o alteración del suelo | G7: DIARIA | H7: 4
A8: Atenciones de consultas médicas y/o jornadas de salud y bienestar | B8: Generación de emisiones atmosféricas | C8: Alteración del paisaje
A9: Servicio de cafetería, consumo de alimentos | B9: Generación de olores y/o vapores | C9: Sobrepresión del relleno sanitario
A10: Aseo, limpieza y desinfección | B10: Generación de residuos aprovechables (Orgánicos, Papel, plástico, cartón etc.) | C10: Aumento en la conciencia ambiental
A11: Servicio de baños | B11: Generación de residuos no aprovechables (Residuos ordinarios) | C11: Reducción de afectación al medio ambiente
A12: Clasificación y almacenamiento y entrega de residuos | B12: Generación de residuos Peligrosos | C12: Afectación ambiental
A13: Fumigación de las instalaciones de la SIC | B13: (Tóner, biosanitarios, luminarias, etc.) | C13: Contaminación visual
A14: Operaciones de vehículos (parque automotor y rutas para el desplazamiento de los funcionarios) | B14: Generación de residuos especiales (Pilas, cargadores, escombros, llantas, RAEEs)
A15: Operación de las | B15: Generación de vertimientos
A16: Mantenimiento locativo (Adecuación de áreas, reformas de instalaciones) | B16: Otros aspectos ambientales
A17: Mantenimiento de aires acondicionados | B17: Publicidad visual exterior
A18: Mantenimiento de Computadores e impresoras.
A19: Eliminación de Documentos
A20: Instalación de aviso institucional
A21: Inclusión de criterios ambientales en la contratación de bienes y servicios
A22: Promoción de movilidad sostenible

Sheet A.C.V. SP
B1: ANÁLISIS DE CICLO DE VIDA | D1: CÓDIGO DEL FORMATO | E1: ='APS-IMP SP'!R1 -> SC03-F01
D2: VERSIÓN DEL FORMATO | E2: ='APS-IMP SP'!R2 -> 13
D3: FECHA DE ACTUALIZACIÓN Y EVALUACIÓN | E3: =+'APS-IMP SP'!R3 -> 46162
A4: SEDE: Principal
A5: OBJETIVO: | B5: Realizar el análisis desde la perspectiva del ciclo de vida de los aspectos ambientales más significativos que tiene la Entidad identificados en la matriz de aspectos e impactos ambientales.
A6: ALCANCE: | B6: Este análisis es enfocado a todos los procesos y servicios que presta la Entidad.
A7: ASPECTOS AMBIENTALES: | B7: La Superintendencia de Industria y Comercio implementa el procedimiento SC03-P01, para la identificación de Aspectos e Impactos Ambientales derivados de las actividades de la Entidad desde la perspectiva del ciclo de vida de un producto o servicio y así poder establecer cuáles son significativos y cuáles de estos pueden convertirse en riesgos u oportunidades para la Entidad.
A8: DETERMINACIÓN DE LOS ASPECTOS E IMPACTOS AMBIENTALES PARA EL ACV. | B8: Con el fin de garantizar la implementación, se describen las etapas típicas del ciclo de vida de los productos (o servicios) en donde se describen el diseño y operación, producto generado, tratamiento al finalizar la vida y la disposición final, entre otros. Las etapas del ciclo de vida que sean aplicables variarán dependiendo de la actividad, producto o servicio. Para la elaboración del análisis de ciclo de vida de los productos y servicios, se tienen en cuenta los Aspectos Ambientales Significativos, sin embargo, por el cambio a la nueva sede no se tiene un periodo de tiempo comparables para su debida identificación.
A9: DESCRIPCIÓN
A10: La Superintendencia de Industria y Comercio realiza la actualización y/o evaluación de los aspectos derivados de 19 actividades identificadas en la sede principal y así poder establecer cuáles son significativos. Por lo anterior, el Sistema de Gestión Ambiental tomando en consideración, la información obtenida en la recopilación de datos de los programas y planes (inspecciones, indicadores, formatos, entre otros ) así como de la encuesta de identificación de aspectos se toma como retroalimentación y actualización de la Matriz de Identificación de Aspectos, Evaluación y Control de Impactos Ambientales SC03-F01 de la Entidad, el cual contribuye al cumplimiento y fortalecimiento el desempeño ambiental de la Entidad. De acuerdo a lo anterior se identifico que aspectos ambientales significativos: - Generación de Residuos no aprovechables - Consumo de energía eléctrica - Consumo de agua - Consumo de papel | E10: TOTAL
D11: ACTIVIDADES IDENTIFICADAS | E11: 19
D12: TOTAL DE ASPECTOS E IMPACTOS AMBIENTALES | E12: 120
D13: TOTAL DE ASPECTOS AMBIENTALES SIGNIFICATIVOS. | E13: 10
A14: CICLO DE VIDA
A15: Generación de Residuos no aprovechables
A16: Consumo de energía eléctrica
A17: Consumo de agua
A18: Consumo de papel
A19: Superintendencia de Industria y Comercio Sede Principal Bogotá D.C. Teléfonos: 601-5870000

Sheet APS-IMP SB
C1: MATRIZ DE IDENTIFICACIÓN DE ASPECTOS, EVALUACIÓN Y CONTROL DE IMPACTOS AMBIENTALES | Q1: CÓDIGO DEL FORMATO | R1: SC03-F01 | Y1: Tipo de impacto | Z1: Frecuencia | AA1: Extensión | AB1: Afectación | AC1: Legislación aplicable
Q2: VERSIÓN DEL FORMATO | R2: =+'APS-IMP SP'!R2 -> 13 | Y2: -4 | Z2: 0 | AA2: 1 | AB2: 1 | AC2: 0
Q3: FECHA DE ACTUALIZACIÓN | R3: =+'APS-IMP SP'!R3 -> 46162 | Y3: 4 | Z3: 1 | AA3: 2 | AB3: 2 | AC3: 1
A4: ÍTEM | B4: ETAPA 1 IDENTIFICACIÓN DE ASPECTOS E IMPACTOS AMBIENTALES | I4: ETAPA 2: EVALUACIÓN DE LOS ASPECTOS E IMPACTOS AMBIENTALES | P4: ETAPA 3: CONTROLES OPERACIONALES | R4: ETAPA 4: DETERMINAR ACCIONES PARA ABORDAR RIESGOS Y OPORTUNIDADES | Z4: 2 | AA4: 4 | AB4: 4 | AC4: 4
B5: DESCRIPCIÓN DE LA ACTIVIDAD | D5: ASPECTO AMBIENTAL | G5: IMPACTO AMBIENTAL | H5: TIPO DE OPERACIÓN | I5: TIPO DE IMPACTO (TP) | J5: FRECUENCIA (FR) | K5: EXTENSIÓN (EX) | L5: AFECTACIÓN (A) | M5: LEGISLACION APLICABLE (LA) | N5: VALOR DE LA SIGNIFICANCIA (VS) | O5: CLASIFICACIÓN DEL ASPECTO | P5: Sede: Bodegas Dirección: Transversal 93 # 51 - 98 bodegas 10-11, 44 y 48 | R5: ACCIONES PARA ABORDAR RIESGOS Y OPORTUNIDADES | Z5: 3
B6: ACTIVIDAD | C6: ÁREAS | D6: TIPO DE ASPECTO | E6: ASPECTO | F6: DESCRIPCIÓN ASPECTO AMBIENTAL | G6: TIPO DE IMPACTO | P6: CONTROLES OPERACIONALES | Z6: 4
P7: ACCIONES DEL CONTROL | Q7: CONTROL
A8: 1 | B8: Operaciones de oficina | C8: Bodega 10-11 Bodega 44 Bodega 48 | D8: Entrada | E8: Consumo de energía eléctrica | F8: Consumo de energía generado por el encendido de luces y uso de aparatos eléctricos y electrónicos para necesarios para realizar las labores de los funcionarios, contratistas | G8: Agotamiento de los recursos naturales | H8: Normal | I8: 4 | J8: 4 | K8: 4 | L8: 4 | M8: 1 | N8: =(I8)+J8+K8+L8+M8 -> 17 | O8: =IF(N8<=14,"NOSIGNIFICATIVO",IF(AND(N8>=15,N8<=20),"SIGNIFICATIVOS")) -> SIGNIFICATIVOS | P8: - Inducción al Sistema de Gestión Ambiental. - Implementar acciones mediante actividades establecidas en el cronograma del Programa para el Uso Eficiente Racional de la Energía. - Aplicación de Circular Interna de Medidas de Austeridad del Gasto. - Realizar actividades encaminadas a concientizar a los funcionarios y contratistas sobre el uso eficiente y racional de energía. - Realizar publicaciones en INTRASIC y por correo masivo, con el fin de sensibilizar y tener buen uso del consumo de energía. - Realizar mediciones sobre el consumo de energía. - Realizar inspecciones para ver los daños eléctricos. - Jornada de apagones ambientales. - Actividad de comparendos ambientales. | Q8: - Implementar las acciones del Programa para el uso Eficiente y Racional para la Energía SC3-F14 - Circular 13 de 2025 Medidas de Austeridad del Gasto - Informes de gestión ambiental. - Inspecciones ambientales. - Indicadores. | R8: OPORTUNIDADES: Se presentan las estrategias o acciones que ayudaran en mejorar el desempeño ambiental de la Entidad. ✓ Implementar criterios de ambientales y/o sostenibilidad con el fin de mitigar los aspectos ambientales de tal manera que no sean significativos. ✓ Aplicación de buenas prácticas ambientales, con el propósito de transformar el enfoque de la acción climática, permitiendo generar estrategias para reducir las emisiones de gases de efecto invernadero, planificando acciones para mitigar impactos. ✓Fortalecer y/o reforzar los conocimientos y cultura ambiental a toda la Entidad (servidores, contratistas y jefes de oficina), con el fin de disminuir los impactos ambientales generados por las actividades laborales que se realizan en la Entidad, e involucrarlos más para fortalecer sus áreas en el manejo de temas ambientales. ✓En el caso de que la Entidad decida cambiar la sede principal a otra sede, incluir criterios ambientales que permitan la adaptación frente al cumplimiento normativo ambiental. ✓ Incentivar a los funcionarios y contratistas a usar medios alternativos de transporte amigables con el medio ambiente o mejorar el uso de la movilidad usando servicios de rutas de la Entidad o compartiendo vehículos para ir a la oficina, con el fin de disminuir los impactos ambientales que generan los vehículos de transporte. ✓Realizar campañas de divulgación sobre los programas y planes ambientales. ✓Gestionar mediante una asociación de reciclaje, el manejo y disposición de los residuos sólidos de la Entidad, teniendo en cuenta la normatividad vigente en cuando a los residuos aprovechables, con el fin de mejorar el control operativo del manejo de estos. RIESGOS: Incumplimientos de compromisos (operativos, técnicos, presupuestales, otros) al no ejecutarse las actividades de acuerdo a los programas y planes establecidos. Acción para abordar: ✓Presentar los cronogramas de actividades de gestión del SGA en el plan de acción de cada vigencia. ✓ Incumplimientos normativos
A9: =+A8+1 -> 2 | C9: Bodega 10-11 Bodega 44 Bodega 48 | D9: Entrada | E9: Consumo de energía eléctrica | F9: Consumo de energía generado por el encendido de luces y uso de aparatos eléctricos y electrónicos para necesarios para realizar las labores de los funcionarios, contratistas | G9: Contaminación del aire | H9: Normal | I9: 4 | J9: 4 | K9: 1 | L9: 2 | M9: 1 | N9: =(I9)+J9+K9+L9+M9 -> 12 | O9: =IF(N9<=14,"NOSIGNIFICATIVO",IF(AND(N9>=15,N9<=20),"SIGNIFICATIVOS")) -> NOSIGNIFICATIVO | Q9: - Implementar las acciones del Programa para el uso Eficiente y Racional para la Energía SC3-F14 - Implementar las acciones del Programa de Compras Públicas Sostenibles SC03-F20: Verificación de la ficha técnica de criterios ambientales y/o sostenibilidad - Implementar las acciones del Programa de gestión de emisiones atmosféricas y adaptación al cambio climático - SC03-F40
A10: =+A9+1 -> 3 | C10: Bodega 10-11 Bodega 44 Bodega 48 | D10: Salida | E10: Generación de Residuos no aprovechables | F10: Generación de residuos no aprovechables generados en las operaciones de oficina por funcionarios y contratistas | G10: Sobrepresión del relleno sanitario | H10: Normal | I10: 4 | J10: 4 | K10: 4 | L10: 2 | M10: 1 | N10: =(I10)+J10+K10+L10+M10 -> 15 | O10: =IF(N10<=14,"NOSIGNIFICATIVO",IF(AND(N10>=15,N10<=20),"SIGNIFICATIVOS")) -> SIGNIFICATIVOS | P10: - Inducción al Sistema de Gestión Ambiental. - Implementar acciones mediante actividades establecidas en el cronograma del Programa de Gestión para el Manejo y Disposición de Residuos Sólidos. - Verificar que el contratista instale puntos ecológicos con banner informativos para conocer la correcta disposición de residuos en cada contenedor y cuente con centros de acopio para el debido almacenamiento y entrega de los residuos. - Realizar inspecciones para conocer como los funcionarios estas depositando los residuos solidos. - Realizar actividades encaminadas a concientizar a los funcionarios y contratistas sobre la correcta disposición de residuos sólidos. - Realizar publicaciones en INTRASIC y por correo masivo, con el fin de sensibilizar y tener buenas prácticas para la correcta disposición de residuos. - Realizar mediciones sobre la generación de residuos y su porcentaje de aprovechamiento. | Q10: - Implementar las acciones del Programa de Gestión para el Manejo y Disposición de Residuos Sólidos SC03-F13. - Implementar las acciones del Programa de Compras Públicas Sostenibles SC03-F20: Verificación de la ficha técnica de criterios ambientales y/o sostenibilidad - Informes de gestión ambiental. - Inspecciones ambientales. - Indicadores.
A11: =+A10+1 -> 4 | C11: Bodega 10-11 Bodega 44 Bodega 48 | D11: Salida | E11: Generación de Residuos aprovechables | F11: Generación de residuos susceptibles a ser aprovechables tales como: papel, cartón, plástico, vidrio, chatarra, etc., generados por los funcionarios y contratistas. | G11: Reducción del consumo de recursos naturales | H11: Normal | I11: -4 | J11: 4 | K11: 1 | L11: 2 | M11: 1 | N11: =(I11)+J11+K11+L11+M11 -> 4 | O11: =IF(N11<=14,"NOSIGNIFICATIVO",IF(AND(N11>=15,N11<=20),"SIGNIFICATIVOS")) -> NOSIGNIFICATIVO | Q11: - Implementar las acciones del Programa de Gestión para el Manejo y Disposición de Residuos Sólidos SC03-F13 - Implementar las acciones del Programa de Compras Públicas Sostenibles SC03-F20: Verificación de la ficha técnica de criterios ambientales y/o sostenibilidad
A12: =+A11+1 -> 5 | C12: Bodega 10-11 Bodega 44 Bodega 48 | D12: Entrada | E12: Consumo de papel | F12: Consumo de papel generado por impresiones y fotocopiado de documentos. | G12: Agotamiento de los recursos naturales forestales | H12: Normal | I12: 4 | J12: 4 | K12: 4 | L12: 4 | M12: 1 | N12: =(I12)+J12+K12+L12+M12 -> 17 | O12: =IF(N12<=14,"NOSIGNIFICATIVO",IF(AND(N12>=15,N12<=20),"SIGNIFICATIVOS")) -> SIGNIFICATIVOS | P12: - Inducción al Sistema de Gestión Ambiental. - Implementar acciones mediante actividades establecidas en el cronograma del Programa de Gestión para el Manejo y Disposición de Residuos Sólidos y Programa de gestión de emisiones atmosféricas y adaptación al cambio climático. -Realizar publicaciones en INTRASIC y por correo masivo, sobre Eficiencia Administrativa y Lineamientos de la Política de Cero Papel -Realizar jornada de cero impresiones, con el fin de medir y reducir el consumo de papel en la Entidad. - Llevar un control sobre la variación del consumo de papel | Q12: - Implementar las acciones del Programa de Gestión para el Manejo y Disposición de Residuos Sólidos SC03-F13 - Implementar las acciones del Programa de gestión de emisiones atmosféricas y adaptación al cambio climático - SC03-F40 - Circular interna de Eficiencia Administrativa y Lineamientos de la Política de Cero Papel. - Informe de gestión ambiental - Seguimiento al consumo de papel por medio del informe de austeridad del gasto.
A13: =+A12+1 -> 6 | C13: Bodega 10-11 Bodega 44 Bodega 48 | D13: Salida | E13: Consumo de tóner | F13: Consumo de tóner por impresiones y fotocopiado de las diferentes áreas de trabajo. | G13: Contaminación del suelo | H13: Normal | I13: 4 | J13: 4 | K13: 1 | L13: 4 | M13: 1 | N13: =(I13)+J13+K13+L13+M13 -> 14 | O13: =IF(N13<=14,"NOSIGNIFICATIVO",IF(AND(N13>=15,N13<=20),"SIGNIFICATIVOS")) -> NOSIGNIFICATIVO | Q13: - Implementar las acciones del Programa de Gestión para el Manejo y Disposición de Residuos Sólidos SC03-F13 - Implementar las acciones del Programa de Compras Públicas Sostenibles SC03-F20 - Implementar las acciones del Programa de gestión de emisiones atmosféricas y adaptación al cambio climático - SC03-F40
A14: =+A13+1 -> 7 | C14: Bodega 10-11 Bodega 44 Bodega 48 | D14: Salida | E14: Generación de residuos peligrosos o especiales | F14: Derrame de tóner | G14: Contaminación del suelo | H14: Emergencia | I14: -4 | J14: 0 | K14: 1 | L14: 1 | M14: 1 | N14: =(I14)+J14+K14+L14+M14 -> -1 | O14: =IF(N14<=14,"NOSIGNIFICATIVO",IF(AND(N14>=15,N14<=20),"SIGNIFICATIVOS")) -> NOSIGNIFICATIVO | Q14: - Implementar las acciones del Plan de Gestión Integral de Residuos Peligrosos SC03-F16 - Implementar las acciones del Plan de preparación y respuesta ante una emergencia y/o contingencia ambiental SC03-F17 - Implementar las acciones del Programa de Compras Públicas Sostenibles SC03-F20: Verificación de la ficha técnica de criterios ambientales y/o sostenibilidad
A15: =+A14+1 -> 8 | C15: Bodega 10-11 Bodega 44 Bodega 48 | D15: Salida | E15: Generación de residuos peligrosos o especiales | F15: Ruptura de luminarias (mercurio, focos y halógenos) | G15: Contaminación del suelo | H15: Emergencia | I15: -4 | J15: 0 | K15: 1 | L15: 1 | M15: 1 | N15: =(I15)+J15+K15+L15+M15 -> -1 | O15: =IF(N15<=14,"NOSIGNIFICATIVO",IF(AND(N15>=15,N15<=20),"SIGNIFICATIVOS")) -> NOSIGNIFICATIVO | Q15: - Implementar las acciones del Plan de Gestión Integral de Residuos Peligrosos SC03-F16 - Implementar las acciones del Plan de preparación y respuesta ante una emergencia y/o contingencia ambiental SC03-F17 - Implementar las acciones del Programa de Compras Públicas Sostenibles SC03-F20: Verificación de la ficha técnica de criterios ambientales y/o sostenibilidad
A16: =+A15+1 -> 9 | C16: Bodega 10-11 Bodega 44 Bodega 54 | D16: Salida | E16: Generación de conciencia ambiental | F16: Prevención de la contaminación | G16: Reducción en la afectación ambiental | H16: Normal | I16: -4 | J16: 4 | K16: 1 | L16: 4 | M16: 1 | N16: =(I16)+J16+K16+L16+M16 -> 6 | O16: =IF(N16<=14,"NOSIGNIFICATIVO",IF(AND(N16>=15,N16<=20),"SIGNIFICATIVOS")) -> NOSIGNIFICATIVO | Q16: - Curso de inducción a los sistemas SST y SGA - Capacitaciones - Encuestas - Semana Ambiental - Actividades ambientales
A17: =+A16+1 -> 10 | B17: Impresión y fotocopiado | C17: Bodega 10-11 Bodega 44 Bodega 48 | D17: Entrada | E17: Consumo de energía eléctrica | F17: Consumo de energía generado por el uso de impresoras, escáneres necesarios para realizar impresiones y fotocopiados en las labores de la Entidad. | G17: Agotamiento de los recursos naturales | H17: Normal | I17: 4 | J17: 4 | K17: 4 | L17: 4 | M17: 1 | N17: =(I17)+J17+K17+L17+M17 -> 17 | O17: =IF(N17<=14,"NOSIGNIFICATIVO",IF(AND(N17>=15,N17<=20),"SIGNIFICATIVOS")) -> SIGNIFICATIVOS | P17: - Inducción al Sistema de Gestión Ambiental. - Implementar acciones mediante actividades establecidas en el cronograma del Programa para el Uso Eficiente Racional de la Energía. - Aplicación de Circular Interna de Medidas de Austeridad del Gasto. - Realizar actividades encaminadas a concientizar a los funcionarios y contratistas sobre el uso eficiente y racional de energía. - Realizar publicaciones en INTRASIC y por correo masivo, con el fin de sensibilizar y tener buen uso del consumo de energía. - Realizar mediciones sobre el consumo de energía. - Realizar inspecciones para ver los daños eléctricos. - Jornada de apagones ambientales. - Actividad de comparendos ambientales. | Q17: - Implementar las acciones del Programa para el uso Eficiente y Racional para la Energía SC3-F14 - Circular 13 de 2025 Medidas de Austeridad del Gasto - Informes de gestión ambiental. - Inspecciones ambientales. - Indicadores.
A18: =+A17+1 -> 11 | C18: Bodega 10-11 Bodega 44 Bodega 48 | D18: Entrada | E18: Consumo de energía eléctrica | F18: Consumo de energía generado por el encendido de luces y uso de impresoras, escáneres necesarios para realizar impresiones y fotocopiados en las labores de la Entidad. | G18: Contaminación del aire | H18: Normal | I18: 4 | J18: 4 | K18: 1 | L18: 4 | M18: 1 | N18: =(I18)+J18+K18+L18+M18 -> 14 | O18: =IF(N18<=14,"NOSIGNIFICATIVO",IF(AND(N18>=15,N18<=20),"SIGNIFICATIVOS")) -> NOSIGNIFICATIVO | Q18: - Implementar las acciones del Programa para el uso Eficiente y Racional para la Energía SC3-F14 - Implementar las acciones del Programa de Compras Públicas Sostenibles SC03-F20: Verificación de la ficha técnica de criterios ambientales y/o sostenibilidad - Implementar las acciones del Programa de gestión de emisiones atmosféricas y adaptación al cambio climático - SC03-F40
A19: =+A18+1 -> 12 | C19: Bodega 10-11 Bodega 44 Bodega 48 | D19: Entrada | E19: Consumo de papel | F19: Consumo de papel generado por impresiones y fotocopiado de documentos. | G19: Agotamiento de los recursos naturales forestales | H19: Normal | I19: 4 | J19: 4 | K19: 1 | L19: 4 | M19: 1 | N19: =(I19)+J19+K19+L19+M19 -> 14 | O19: =IF(N19<=14,"NOSIGNIFICATIVO",IF(AND(N19>=15,N19<=20),"SIGNIFICATIVOS")) -> NOSIGNIFICATIVO | Q19: - Implementar las acciones del Programa de Gestión para el Manejo y Disposición de Residuos Sólidos SC03-F13 - Implementar las acciones del Programa de gestión de emisiones atmosféricas y adaptación al cambio climático - SC03-F40 - Circular interna No. 15 Eficiencia Administrativa y Lineamientos de la Política de Cero Papel
A20: =+A19+1 -> 13 | C20: Bodega 10-11 Bodega 44 Bodega 48 | D20: Salida | E20: Generación de Residuos aprovechables | F20: Generación de residuos susceptibles a ser aprovechables como el papel. | G20: Reducción de afectación al medio ambiente | H20: Normal | I20: -4 | J20: 4 | K20: 1 | L20: 1 | M20: 1 | N20: =(I20)+J20+K20+L20+M20 -> 3 | O20: =IF(N20<=14,"NOSIGNIFICATIVO",IF(AND(N20>=15,N20<=20),"SIGNIFICATIVOS")) -> NOSIGNIFICATIVO | Q20: - Implementar las acciones del Programa de Gestión para el Manejo y Disposición de Residuos Sólidos SC03-F13 - Implementar las acciones del Programa de Compras Públicas Sostenibles SC03-F20: Verificación de la ficha técnica de criterios ambientales y/o sostenibilidad
A21: =+A20+1 -> 14 | C21: Bodega 10-11 Bodega 44 Bodega 48 | D21: Salida | E21: Generación de residuos peligrosos o especiales | F21: Generación de RAEEs y tóner. | G21: Contaminación del suelo | H21: Normal | I21: 4 | J21: 3 | K21: 1 | L21: 4 | M21: 1 | N21: =(I21)+J21+K21+L21+M21 -> 13 | O21: =IF(N21<=14,"NOSIGNIFICATIVO",IF(AND(N21>=15,N21<=20),"SIGNIFICATIVOS")) -> NOSIGNIFICATIVO | Q21: - Implementar las acciones del Plan de Gestión Integral de Residuos Peligrosos SC03-F16 - Implementar las acciones del Programa de Compras Públicas Sostenibles SC03-F20: Verificación de la ficha técnica de criterios ambientales y/o sostenibilidad
A22: =+A21+1 -> 15 | C22: Bodega 10-11 Bodega 44 Bodega 48 | D22: Salida | E22: Generación de residuos peligrosos o especiales | F22: Derrame de tóner | G22: Contaminación del suelo | H22: Emergencia | I22: 4 | J22: 0 | K22: 1 | L22: 1 | M22: 1 | N22: =(I22)+J22+K22+L22+M22 -> 7 | O22: =IF(N22<=14,"NOSIGNIFICATIVO",IF(AND(N22>=15,N22<=20),"SIGNIFICATIVOS")) -> NOSIGNIFICATIVO | Q22: - Implementar las acciones del Plan de Gestión Integral de Residuos Peligrosos SC03-F16 - Implementar las acciones del Plan de preparación y respuesta ante una emergencia y/o contingencia ambiental SC03-F17 - Implementar las acciones del Programa de Compras Públicas Sostenibles SC03-F20: Verificación de la ficha técnica de criterios ambientales y/o sostenibilidad
A23: =+A22+1 -> 16 | B23: Servicio de cafetería, consumo de alimentos | C23: Bodega 10-11 | D23: Entrada | E23: Consumo de energía eléctrica | F23: Consumo de energía generado el uso de electrodomésticos. | G23: Agotamiento de los recursos naturales | H23: Normal | I23: 4 | J23: 4 | K23: 1 | L23: 2 | M23: 1 | N23: =(I23)+J23+K23+L23+M23 -> 12 | O23: =IF(N23<=14,"NOSIGNIFICATIVO",IF(AND(N23>=15,N23<=20),"SIGNIFICATIVOS")) -> NOSIGNIFICATIVO | Q23: - Implementar las acciones del Programa para el uso Eficiente y Racional para la Energía SC3-F14 - Implementar las acciones del Programa de Compras Públicas Sostenibles SC03-F20: Verificación de la ficha técnica de criterios ambientales y/o sostenibilidad
A24: =+A23+1 -> 17 | C24: Bodega 10-11 | D24: Entrada | E24: Consumo de energía eléctrica | F24: Consumo de energía generado el uso de electrodomésticos. | G24: Contaminación del aire | H24: Normal | I24: 4 | J24: 4 | K24: 1 | L24: 2 | M24: 1 | N24: =(I24)+J24+K24+L24+M24 -> 12 | O24: =IF(N24<=14,"NOSIGNIFICATIVO",IF(AND(N24>=15,N24<=20),"SIGNIFICATIVOS")) -> NOSIGNIFICATIVO | Q24: - Implementar las acciones del Programa para el uso Eficiente y Racional para la Energía SC3-F14 - Implementar las acciones del Programa de Compras Públicas Sostenibles SC03-F20: Verificación de la ficha técnica de criterios ambientales y/o sostenibilidad - Implementar las acciones del Programa de gestión de emisiones atmosféricas y adaptación al cambio climático - SC03-F40
A25: =+A24+1 -> 18 | C25: Bodega 10-11 | D25: Salida | E25: Generación de Residuos no aprovechables | F25: Generación de residuos ordinarios y orgánicos generados en el servicio de cafetería | G25: Sobrepresión del relleno sanitario | H25: Normal | I25: 4 | J25: 4 | K25: 4 | L25: 4 | M25: 1 | N25: =(I25)+J25+K25+L25+M25 -> 17 | O25: =IF(N25<=14,"NOSIGNIFICATIVO",IF(AND(N25>=15,N25<=20),"SIGNIFICATIVOS")) -> SIGNIFICATIVOS | P25: - Inducción al Sistema de Gestión Ambiental. - Implementar acciones mediante actividades establecidas en el cronograma del Programa de Gestión para el Manejo y Disposición de Residuos Sólidos. - Verificar que el contratista instale puntos ecológicos con banner informativos para conocer la correcta disposición de residuos en cada contenedor y cuente con centros de acopio para el debido almacenamiento y entrega de los residuos. Realizar inspecciones para conocer como los funcionarios estas depositando los residuos solidos. - Realizar actividades encaminadas a concientizar a los funcionarios y contratistas sobre la correcta disposición de residuos sólidos. - Realizar publicaciones en INTRASIC y por correo masivo, con el fin de sensibilizar y tener buenas prácticas para la correcta disposición de residuos. - Realizar mediciones sobre la generación de residuos y su porcentaje de aprovechamiento. | Q25: - Implementar las acciones del Programa de Gestión para el Manejo y Disposición de Residuos Sólidos SC03-F13. - Implementar las acciones del Programa de Compras Públicas Sostenibles SC03-F20: Verificación de la ficha técnica de criterios ambientales y/o sostenibilidad - Informes de gestión ambiental. - Inspecciones ambientales. - Indicadores.
A26: =+A25+1 -> 19 | C26: Bodega 10-11 | D26: Salida | E26: Generación de Residuos aprovechables | F26: Generación de residuos susceptibles a ser aprovechables tales como: papel, cartón, plástico, vidrio, chatarra, etc. | G26: Reducción de afectación al medio ambiente | H26: Normal | I26: -4 | J26: 4 | K26: 1 | L26: 1 | M26: 1 | N26: =(I26)+J26+K26+L26+M26 -> 3 | O26: =IF(N26<=14,"NOSIGNIFICATIVO",IF(AND(N26>=15,N26<=20),"SIGNIFICATIVOS")) -> NOSIGNIFICATIVO | Q26: - Implementar las acciones del Programa de Gestión para el Manejo y Disposición de Residuos Sólidos SC03-F13 - Implementar las acciones del Programa de Compras Públicas Sostenibles SC03-F20: Verificación de la ficha técnica de criterios ambientales y/o sostenibilidad
A27: =+A26+1 -> 20 | C27: Bodega 10-11 | D27: Salida | E27: Generación de residuos peligrosos o especiales | F27: Ruptura de luminarias (mercurio, focos y halógenos) | G27: Contaminación del suelo | H27: Emergencia | I27: 4 | J27: 0 | K27: 1 | L27: 1 | M27: 1 | N27: =(I27)+J27+K27+L27+M27 -> 7 | O27: =IF(N27<=14,"NOSIGNIFICATIVO",IF(AND(N27>=15,N27<=20),"SIGNIFICATIVOS")) -> NOSIGNIFICATIVO | Q27: - Implementar las acciones del Plan de Gestión Integral de Residuos Peligrosos SC03-F16 - Implementar las acciones del Plan de preparación y respuesta ante una emergencia y/o contingencia ambiental SC03-F17 - Implementar las acciones del Programa de Compras Públicas Sostenibles SC03-F20: Verificación de la ficha técnica de criterios ambientales y/o sostenibilidad
A28: =+A27+1 -> 21 | C28: Bodega 10-11 | D28: Salida | E28: Consumo de agua | F28: Consumo de agua por el funcionamiento de lavaplatos y preparación de bebidas calientes. | G28: Contaminación del suelo | H28: Normal | I28: 4 | J28: 3 | K28: 1 | L28: 4 | M28: 1 | N28: =(I28)+J28+K28+L28+M28 -> 13 | O28: =IF(N28<=14,"NOSIGNIFICATIVO",IF(AND(N28>=15,N28<=20),"SIGNIFICATIVOS")) -> NOSIGNIFICATIVO | Q28: - Implementar las acciones del Programa de Gestión para el Uso Eficiente y Racional del Agua SC03-F15 - Implementar las acciones del Programa de Compras Públicas Sostenibles SC03-F20: Verificación de la ficha técnica de criterios ambientales y/o sostenibilidad
A29: =+A28+1 -> 22 | C29: Bodega 10-11 | D29: Salida | E29: Consumo de agua | F29: Ruptura de la red hidráulica | G29: Agotamiento de los recursos naturales | H29: Emergencia | I29: 4 | J29: 0 | K29: 1 | L29: 1 | M29: 1 | N29: =(I29)+J29+K29+L29+M29 -> 7 | O29: =IF(N29<=14,"NOSIGNIFICATIVO",IF(AND(N29>=15,N29<=20),"SIGNIFICATIVOS")) -> NOSIGNIFICATIVO | Q29: - Implementar las acciones del Plan de Gestión Integral de Residuos Peligrosos SC03-F16 - Implementar las acciones del Plan de preparación y respuesta ante una emergencia y/o contingencia ambiental SC03-F17 - Implementar las acciones del Programa de Compras Públicas Sostenibles SC03-F20: Verificación de la ficha técnica de criterios ambientales y/o sostenibilidad
A30: =+A29+1 -> 23 | C30: Bodega 10-11 | D30: Salida | E30: Generación de emisiones atmosféricas | F30: Fuga del gas refrigerante | G30: Contaminación del aire | H30: Emergencia | I30: 4 | J30: 0 | K30: 1 | L30: 1 | M30: 1 | N30: =(I30)+J30+K30+L30+M30 -> 7 | O30: =IF(N30<=14,"NOSIGNIFICATIVO",IF(AND(N30>=15,N30<=20),"SIGNIFICATIVOS")) -> NOSIGNIFICATIVO | Q30: - Implementar las acciones del Plan de Gestión Integral de Residuos Peligrosos SC03-F16 - Implementar las acciones del Plan de preparación y respuesta ante una emergencia y/o contingencia ambiental SC03-F17 - Implementar las acciones del Programa de Compras Públicas Sostenibles SC03-F20: Verificación de la ficha técnica de criterios ambientales y/o sostenibilidad
A31: =+A30+1 -> 24 | C31: Bodega 10-11 | D31: Salida | E31: Generación de conciencia ambiental | F31: Prevención de la contaminación | G31: Reducción en la afectación ambiental | H31: Normal | I31: -4 | J31: 4 | K31: 1 | L31: 4 | M31: 1 | N31: =(I31)+J31+K31+L31+M31 -> 6 | O31: =IF(N31<=14,"NOSIGNIFICATIVO",IF(AND(N31>=15,N31<=20),"SIGNIFICATIVOS")) -> NOSIGNIFICATIVO | Q31: - Curso de inducción a los sistemas SST y SGA - Capacitaciones - Encuestas - Semana Ambiental - Actividades ambientales
A32: =+A31+1 -> 25 | C32: Bodega 10-11 | D32: Salida | E32: Generación de vertimientos | F32: Vertimientos domésticos generados por las descargas de agua en lavamanos | G32: Contaminación del agua | H32: Normal | I32: 4 | J32: 0 | K32: 1 | L32: 1 | M32: 0 | N32: =(I32)+J32+K32+L32+M32 -> 6 | O32: =IF(N32<=14,"NOSIGNIFICATIVO",IF(AND(N32>=15,N32<=20),"SIGNIFICATIVOS")) -> NOSIGNIFICATIVO | Q32: - Implementar las acciones del Programa de gestión para el uso Eficiente y Racional del Agua SC3-F15
A33: =+A32+1 -> 26 | B33: Aseo, limpieza y desinfección | C33: Bodega 10-11 Bodegas 44 Bodega 48 | D33: Entrada | E33: Consumo de energía eléctrica | F33: Consumo de energía generado en las diferentes áreas donde se requiere iluminación y uso de maquinas para las actividades de aseo, limpieza y desinfección. | G33: Agotamiento de los recursos naturales | H33: Normal | I33: 4 | J33: 4 | K33: 1 | L33: 2 | M33: 1 | N33: =(I33)+J33+K33+L33+M33 -> 12 | O33: =IF(N33<=14,"NOSIGNIFICATIVO",IF(AND(N33>=15,N33<=20),"SIGNIFICATIVOS")) -> NOSIGNIFICATIVO | Q33: - Implementar las acciones del Programa para el uso Eficiente y Racional para la Energía SC3-F14 - Implementar las acciones del Programa de Compras Públicas Sostenibles SC03-F20: Verificación de la ficha técnica de criterios ambientales y/o sostenibilidad
A34: =+A33+1 -> 27 | C34: Bodega 10-11 Bodegas 44 Bodega 48 | D34: Entrada | E34: Consumo de energía eléctrica | F34: Consumo de energía generado en las diferentes áreas donde se requiere iluminación y uso de maquinas para las actividades de aseo, limpieza y desinfección. | G34: Contaminación del aire | H34: Normal | I34: 4 | J34: 4 | K34: 1 | L34: 2 | M34: 1 | N34: =(I34)+J34+K34+L34+M34 -> 12 | O34: =IF(N34<=14,"NOSIGNIFICATIVO",IF(AND(N34>=15,N34<=20),"SIGNIFICATIVOS")) -> NOSIGNIFICATIVO | Q34: - Implementar las acciones del Programa para el uso Eficiente y Racional para la Energía SC3-F14 - Implementar las acciones del Programa de Compras Públicas Sostenibles SC03-F20: Verificación de la ficha técnica de criterios ambientales y/o sostenibilidad - Implementar las acciones del Programa de gestión de emisiones atmosféricas y adaptación al cambio climático - SC03-F40
A35: =+A34+1 -> 28 | C35: Bodega 10-11 Bodegas 44 Bodega 48 | D35: Salida | E35: Generación de Residuos no aprovechables | F35: Generación de residuos ordinarios y orgánicos generados en el servicio de aseo y desinfección de las áreas. | G35: Sobrepresión del relleno sanitario | H35: Normal | I35: -4 | J35: 4 | K35: 1 | L35: 2 | M35: 1 | N35: =(I35)+J35+K35+L35+M35 -> 4 | O35: =IF(N35<=14,"NOSIGNIFICATIVO",IF(AND(N35>=15,N35<=20),"SIGNIFICATIVOS")) -> NOSIGNIFICATIVO | Q35: - Implementar las acciones del Programa de Gestión para el Manejo y Disposición de Residuos Sólidos SC03-F13 - Implementar las acciones del Programa de Compras Públicas Sostenibles SC03-F20: Verificación de la ficha técnica de criterios ambientales y/o sostenibilidad
A36: =+A35+1 -> 29 | C36: Bodega 10-11 Bodegas 44 Bodega 48 | D36: Salida | E36: Generación de Residuos aprovechables | F36: Generación de residuos susceptibles a ser aprovechables tales como: papel, cartón, plástico, vidrio, chatarra, etc. en las diferentes áreas y puntos ecológicos instalados en las diferentes sedes. | G36: Reducción de afectación al medio ambiente | H36: Normal | I36: -4 | J36: 4 | K36: 1 | L36: 1 | M36: 1 | N36: =(I36)+J36+K36+L36+M36 -> 3 | O36: =IF(N36<=14,"NOSIGNIFICATIVO",IF(AND(N36>=15,N36<=20),"SIGNIFICATIVOS")) -> NOSIGNIFICATIVO | Q36: - Implementar las acciones del Programa de Gestión para el Manejo y Disposición de Residuos Sólidos SC03-F13 - Implementar las acciones del Programa de Compras Públicas Sostenibles SC03-F20: Verificación de la ficha técnica de criterios ambientales y/o sostenibilidad
A37: =+A36+1 -> 30 | C37: Bodega 10-11 Bodegas 44 Bodega 48 | D37: Entrada | E37: Consumo de papel | F37: Consumo de papel generado por impresiones y fotocopiado de formatos necesarios para el registro de información de la actividad. | G37: Agotamiento de los recursos naturales forestales | H37: Normal | I37: 4 | J37: 4 | K37: 1 | L37: 4 | M37: 1 | N37: =(I37)+J37+K37+L37+M37 -> 14 | O37: =IF(N37<=14,"NOSIGNIFICATIVO",IF(AND(N37>=15,N37<=20),"SIGNIFICATIVOS")) -> NOSIGNIFICATIVO | Q37: - Implementar las acciones del Programa de Gestión para el Manejo y Disposición de Residuos Sólidos SC03-F13 - Implementar las acciones del Programa de gestión de emisiones atmosféricas y adaptación al cambio climático - SC03-F40 - Circular interna No. 15 Eficiencia Administrativa y Lineamientos de la Política de Cero Papel
A38: =+A37+1 -> 31 | C38: Bodega 10-11 Bodegas 44 Bodega 48 | D38: Salida | E38: Generación de residuos peligrosos o especiales | F38: Consumo de productos químicos para limpieza y desinfección ( envases vacíos) | G38: Contaminación del suelo | H38: Normal | I38: 4 | J38: 1 | K38: 1 | L38: 2 | M38: 1 | N38: =(I38)+J38+K38+L38+M38 -> 9 | O38: =IF(N38<=14,"NOSIGNIFICATIVO",IF(AND(N38>=15,N38<=20),"SIGNIFICATIVOS")) -> NOSIGNIFICATIVO | Q38: - Implementar las acciones del Plan de Gestión Integral de Residuos Peligrosos SC03-F16 - Implementar las acciones del Programa de Compras Públicas Sostenibles SC03-F20: Verificación de la ficha técnica de criterios ambientales y/o sostenibilidad
A39: =+A38+1 -> 32 | C39: Bodega 10-11 Bodegas 44 Bodega 48 | D39: Salida | E39: Generación de residuos peligrosos o especiales | F39: Derrame de productos químicos | G39: Contaminación del suelo | H39: Emergencia | I39: 4 | J39: 0 | K39: 1 | L39: 1 | M39: 1 | N39: =(I39)+J39+K39+L39+M39 -> 7 | O39: =IF(N39<=14,"NOSIGNIFICATIVO",IF(AND(N39>=15,N39<=20),"SIGNIFICATIVOS")) -> NOSIGNIFICATIVO | Q39: - Implementar las acciones del Plan de Gestión Integral de Residuos Peligrosos SC03-F16 - Implementar las acciones del Plan de preparación y respuesta ante una emergencia y/o contingencia ambiental SC03-F17 - Implementar las acciones del Programa de Compras Públicas Sostenibles SC03-F20: Verificación de la ficha técnica de criterios ambientales y/o sostenibilidad
A40: =+A39+1 -> 33 | C40: Bodega 10-11 Bodegas 44 Bodega 48 | D40: Salida | E40: Generación de residuos peligrosos o especiales | F40: Ruptura de luminarias (mercurio, focos y halógenos) | G40: Contaminación del suelo | H40: Emergencia | I40: 4 | J40: 0 | K40: 1 | L40: 1 | M40: 1 | N40: =(I40)+J40+K40+L40+M40 -> 7 | O40: =IF(N40<=14,"NOSIGNIFICATIVO",IF(AND(N40>=15,N40<=20),"SIGNIFICATIVOS")) -> NOSIGNIFICATIVO | Q40: - Implementar las acciones del Plan de Gestión Integral de Residuos Peligrosos SC03-F16 - Implementar las acciones del Plan de preparación y respuesta ante una emergencia y/o contingencia ambiental SC03-F17 - Implementar las acciones del Programa de Compras Públicas Sostenibles SC03-F20: Verificación de la ficha técnica de criterios ambientales y/o sostenibilidad
A41: =+A40+1 -> 34 | C41: Bodega 10-11 Bodegas 44 Bodega 48 | D41: Salida | E41: Consumo de agua | F41: Consumo de agua por el funcionamiento los sanitarios, orinal y lavamanos | G41: Contaminación del suelo | H41: Normal | I41: 4 | J41: 3 | K41: 1 | L41: 4 | M41: 1 | N41: =(I41)+J41+K41+L41+M41 -> 13 | O41: =IF(N41<=14,"NOSIGNIFICATIVO",IF(AND(N41>=15,N41<=20),"SIGNIFICATIVOS")) -> NOSIGNIFICATIVO | Q41: - Implementar las acciones del Programa de Gestión para el Uso Eficiente y Racional del Agua SC03-F15 - Implementar las acciones del Programa de Compras Públicas Sostenibles SC03-F20: Verificación de la ficha técnica de criterios ambientales y/o sostenibilidad
A42: =+A41+1 -> 35 | C42: Bodega 10-11 Bodegas 44 Bodega 48 | D42: Salida | E42: Consumo de agua | F42: Ruptura de la red hidráulica | G42: Agotamiento de los recursos naturales | H42: Emergencia | I42: 4 | J42: 0 | K42: 1 | L42: 1 | M42: 1 | N42: =(I42)+J42+K42+L42+M42 -> 7 | O42: =IF(N42<=14,"NOSIGNIFICATIVO",IF(AND(N42>=15,N42<=20),"SIGNIFICATIVOS")) -> NOSIGNIFICATIVO | Q42: - Implementar las acciones del Plan de Gestión Integral de Residuos Peligrosos SC03-F16 - Implementar las acciones del Plan de preparación y respuesta ante una emergencia y/o contingencia ambiental SC03-F17 - Implementar las acciones del Programa de Compras Públicas Sostenibles SC03-F20: Verificación de la ficha técnica de criterios ambientales y/o sostenibilidad
A43: =+A42+1 -> 36 | C43: Bodega 10-11 Bodegas 44 Bodega 48 | D43: Salida | E43: Generación de vertimientos | F43: Vertimientos domésticos derivados de las actividades de limpieza, aseo y desinfección | G43: Contaminación del agua | H43: Normal | I43: 4 | J43: 0 | K43: 1 | L43: 1 | M43: 0 | N43: =(I43)+J43+K43+L43+M43 -> 6 | O43: =IF(N43<=14,"NOSIGNIFICATIVO",IF(AND(N43>=15,N43<=20),"SIGNIFICATIVOS")) -> NOSIGNIFICATIVO | Q43: - Implementar las acciones del Programa de gestión para el uso Eficiente y Racional del Agua SC3-F15
A44: =+A43+1 -> 37 | B44: Servicio de baños | C44: Bodega 10-11 Bodegas 44 Bodega 48 | D44: Entrada | E44: Consumo de energía eléctrica | F44: Consumo de energía generado en las diferentes áreas donde se requiere el uso de los baños internos y externos de control de la Entidad. | G44: Agotamiento de los recursos naturales | H44: Normal | I44: 4 | J44: 4 | K44: 1 | L44: 2 | M44: 1 | N44: =(I44)+J44+K44+L44+M44 -> 12 | O44: =IF(N44<=14,"NOSIGNIFICATIVO",IF(AND(N44>=15,N44<=20),"SIGNIFICATIVOS")) -> NOSIGNIFICATIVO | Q44: - Implementar las acciones del Programa para el uso Eficiente y Racional para la Energía SC3-F14 - Implementar las acciones del Programa de Compras Públicas Sostenibles SC03-F20: Verificación de la ficha técnica de criterios ambientales y/o sostenibilidad
A45: =+A44+1 -> 38 | C45: Bodega 10-11 Bodegas 44 Bodega 48 | D45: Entrada | E45: Consumo de energía eléctrica | F45: Consumo de energía generado en las diferentes áreas donde se requiere el uso de los baños internos y externos de control de la Entidad. | G45: Contaminación del aire | H45: Normal | I45: 4 | J45: 4 | K45: 1 | L45: 2 | M45: 1 | N45: =(I45)+J45+K45+L45+M45 -> 12 | O45: =IF(N45<=14,"NOSIGNIFICATIVO",IF(AND(N45>=15,N45<=20),"SIGNIFICATIVOS")) -> NOSIGNIFICATIVO | Q45: - Implementar las acciones del Programa para el uso Eficiente y Racional para la Energía SC3-F14 - Implementar las acciones del Programa de Compras Públicas Sostenibles SC03-F20: Verificación de la ficha técnica de criterios ambientales y/o sostenibilidad - Implementar las acciones del Programa de gestión de emisiones atmosféricas y adaptación al cambio climático - SC03-F40
A46: =+A45+1 -> 39 | C46: Bodega 10-11 Bodegas 44 Bodega 48 | D46: Salida | E46: Generación de Residuos no aprovechables | F46: Generación de papel higiénico, toallas higiénicas, toallas de papel, entre otros. | G46: Sobrepresión del relleno sanitario | H46: Normal | I46: -4 | J46: 4 | K46: 1 | L46: 2 | M46: 1 | N46: =(I46)+J46+K46+L46+M46 -> 4 | O46: =IF(N46<=14,"NOSIGNIFICATIVO",IF(AND(N46>=15,N46<=20),"SIGNIFICATIVOS")) -> NOSIGNIFICATIVO | Q46: - Implementar las acciones del Programa de Gestión para el Manejo y Disposición de Residuos Sólidos SC03-F13 - Implementar las acciones del Programa de Compras Públicas Sostenibles SC03-F20: Verificación de la ficha técnica de criterios ambientales y/o sostenibilidad
A47: =+A46+1 -> 40 | C47: Bodega 10-11 Bodegas 44 Bodega 48 | D47: Salida | E47: Consumo de agua | F47: Consumo de agua por el funcionamiento los sanitarios, orinal y lavamanos | G47: Contaminación del suelo | H47: Normal | I47: 4 | J47: 3 | K47: 4 | L47: 4 | M47: 1 | N47: =(I47)+J47+K47+L47+M47 -> 16 | O47: =IF(N47<=14,"NOSIGNIFICATIVO",IF(AND(N47>=15,N47<=20),"SIGNIFICATIVOS")) -> SIGNIFICATIVOS | P47: - Capacitar al personal que labora en la sede sobre al Sistema de Gestión Ambiental. - Implementar acciones mediante actividades establecidas en el cronograma del Programa para el Uso Eficiente Racional de la Agua. - Realizar actividades encaminadas a concientizar a los funcionarios y contratistas sobre el uso eficiente y racional de Agua. - Realizar publicaciones en INTRASIC y por correo masivo, con el fin de sensibilizar y tener buen uso del consumo de Agua. - Realizar mediciones sobre el consumo de agua. - Realizar inspecciones para ver los daños y fugas hidráulicos . | Q47: - Implementar las acciones del Programa de Gestión para el Uso Eficiente y Racional del Agua SC03-F15 - Implementar las acciones del Programa de Compras Públicas Sostenibles SC03-F20: Verificación de la ficha técnica de criterios ambientales y/o sostenibilidad
A48: =+A47+1 -> 41 | C48: Bodega 10-11 Bodegas 44 Bodega 48 | D48: Salida | E48: Consumo de agua | F48: Ruptura de la red hidráulica | G48: Agotamiento de los recursos naturales | H48: Emergencia | I48: 4 | J48: 0 | K48: 1 | L48: 1 | M48: 1 | N48: =(I48)+J48+K48+L48+M48 -> 7 | O48: =IF(N48<=14,"NOSIGNIFICATIVO",IF(AND(N48>=15,N48<=20),"SIGNIFICATIVOS")) -> NOSIGNIFICATIVO | Q48: - Implementar las acciones del Plan de Gestión Integral de Residuos Peligrosos SC03-F16 - Implementar las acciones del Plan de preparación y respuesta ante una emergencia y/o contingencia ambiental SC03-F17 - Implementar las acciones del Programa de Compras Públicas Sostenibles SC03-F20: Verificación de la ficha técnica de criterios ambientales y/o sostenibilidad
A49: =+A48+1 -> 42 | C49: Bodega 10-11 Bodegas 44 Bodega 48 | D49: Salida | E49: Generación de vertimientos | F49: Vertimientos domésticos generados por las descargas de los sanitarios, orinales, lavamanos | G49: Contaminación del agua | H49: Normal | I49: 4 | J49: 0 | K49: 1 | L49: 1 | M49: 0 | N49: =(I49)+J49+K49+L49+M49 -> 6 | O49: =IF(N49<=14,"NOSIGNIFICATIVO",IF(AND(N49>=15,N49<=20),"SIGNIFICATIVOS")) -> NOSIGNIFICATIVO | Q49: - Implementar las acciones del Programa de gestión para el uso Eficiente y Racional del Agua SC3-F15
A50: =+A49+1 -> 43 | B50: Clasificación y almacenamiento y entrega de residuos | C50: Bodega 10-11 Bodegas 44 Bodega 48 (Acopios Temporales) | D50: Entrada | E50: Consumo de energía eléctrica | F50: Consumo de energía generado en las diferentes áreas donde se requiere el uso de los baños internos y externos de control de la Entidad. | G50: Agotamiento de los recursos naturales | H50: Normal | I50: -4 | J50: 4 | K50: 1 | L50: 1 | M50: 1 | N50: =(I50)+J50+K50+L50+M50 -> 3 | O50: =IF(N50<=14,"NOSIGNIFICATIVO",IF(AND(N50>=15,N50<=20),"SIGNIFICATIVOS")) -> NOSIGNIFICATIVO | Q50: - Implementar las acciones del Programa para el uso Eficiente y Racional para la Energía SC3-F14 - Implementar las acciones del Programa de Compras Públicas Sostenibles SC03-F20: Verificación de la ficha técnica de criterios ambientales y/o sostenibilidad
A51: =+A50+1 -> 44 | C51: Bodega 10-11 Bodegas 44 Bodega 48 (Acopios Temporales) | D51: Entrada | E51: Consumo de energía eléctrica | F51: Consumo de energía generado en las diferentes áreas donde se requiere el uso de los baños internos y externos de control de la Entidad. | G51: Contaminación del aire | H51: Normal | I51: -4 | J51: 4 | K51: 1 | L51: 1 | M51: 1 | N51: =(I51)+J51+K51+L51+M51 -> 3 | O51: =IF(N51<=14,"NOSIGNIFICATIVO",IF(AND(N51>=15,N51<=20),"SIGNIFICATIVOS")) -> NOSIGNIFICATIVO | Q51: - Implementar las acciones del Programa para el uso Eficiente y Racional para la Energía SC3-F14 - Implementar las acciones del Programa de Compras Públicas Sostenibles SC03-F20: Verificación de la ficha técnica de criterios ambientales y/o sostenibilidad - Implementar las acciones del Programa de gestión de emisiones atmosféricas y adaptación al cambio climático - SC03-F40
A52: =+A51+1 -> 45 | C52: Bodega 10-11 Bodegas 44 Bodega 48 (Acopios Temporales) | D52: Salida | E52: Generación de Residuos aprovechables | F52: Almacenamiento, clasificación y entrega de los residuos aprovechables | G52: Reducción de afectación al medio ambiente | H52: Normal | I52: -4 | J52: 4 | K52: 1 | L52: 1 | M52: 1 | N52: =(I52)+J52+K52+L52+M52 -> 3 | O52: =IF(N52<=14,"NOSIGNIFICATIVO",IF(AND(N52>=15,N52<=20),"SIGNIFICATIVOS")) -> NOSIGNIFICATIVO | Q52: - Implementar las acciones del Programa de Gestión para el Manejo y Disposición de Residuos Sólidos SC03-F13 - Implementar las acciones del Programa de Compras Públicas Sostenibles SC03-F20: Verificación de la ficha técnica de criterios ambientales y/o sostenibilidad
A53: =+A52+1 -> 46 | C53: Bodega 10-11 Bodegas 44 Bodega 48 (Acopios Temporales) | D53: Entrada | E53: Consumo de papel | F53: Consumo de papel generado por impresiones y fotocopiado de formatos necesarios para el registro de información de la actividad. | G53: Agotamiento de los recursos naturales forestales | H53: Normal | I53: 4 | J53: 3 | K53: 1 | L53: 4 | M53: 1 | N53: =(I53)+J53+K53+L53+M53 -> 13 | O53: =IF(N53<=14,"NOSIGNIFICATIVO",IF(AND(N53>=15,N53<=20),"SIGNIFICATIVOS")) -> NOSIGNIFICATIVO | Q53: - Implementar las acciones del Programa de Gestión para el Manejo y Disposición de Residuos Sólidos SC03-F13 - Implementar las acciones del Programa de gestión de emisiones atmosféricas y adaptación al cambio climático - SC03-F40 - Circular interna No. 15 Eficiencia Administrativa y Lineamientos de la Política de Cero Papel
A54: =+A53+1 -> 47 | C54: Bodega 10-11 Bodegas 44 Bodega 48 (Acopios Temporales) | D54: Salida | E54: Generación de residuos peligrosos o especiales | F54: Generación de RAEEs | G54: Contaminación del suelo | H54: Normal | I54: 4 | J54: 1 | K54: 1 | L54: 2 | M54: 1 | N54: =(I54)+J54+K54+L54+M54 -> 9 | O54: =IF(N54<=14,"NOSIGNIFICATIVO",IF(AND(N54>=15,N54<=20),"SIGNIFICATIVOS")) -> NOSIGNIFICATIVO | Q54: - Implementar las acciones del Plan de Gestión Integral de Residuos Peligrosos SC03-F16 - Implementar las acciones del Programa de Compras Públicas Sostenibles SC03-F20: Verificación de la ficha técnica de criterios ambientales y/o sostenibilidad
A55: =+A54+1 -> 48 | C55: Bodega 10-11 Bodegas 44 Bodega 48 (Acopios Temporales) | D55: Salida | E55: Generación de residuos peligrosos o especiales | F55: Ruptura de bolsa o embalaje de los de residuos | G55: Contaminación del suelo | H55: Anormal | I55: 4 | J55: 3 | K55: 1 | L55: 2 | M55: 1 | N55: =(I55)+J55+K55+L55+M55 -> 11 | O55: =IF(N55<=14,"NOSIGNIFICATIVO",IF(AND(N55>=15,N55<=20),"SIGNIFICATIVOS")) -> NOSIGNIFICATIVO | Q55: - Implementar las acciones del Plan de Gestión Integral de Residuos Peligrosos SC03-F16 - Implementar las acciones del Programa de Compras Públicas Sostenibles SC03-F20: Verificación de la ficha técnica de criterios ambientales y/o sostenibilidad
A56: =+A55+1 -> 49 | C56: Exterior | D56: Salida | E56: Generación de emisiones atmosféricas, olores y/o vapores | F56: Generación de emisiones por lubricantes, aceites en vehículos para transportar los residuos sólidos. | G56: Contaminación del aire | H56: Normal | I56: 4 | J56: 4 | K56: 1 | L56: 2 | M56: 1 | N56: =(I56)+J56+K56+L56+M56 -> 12 | O56: =IF(N56<=14,"NOSIGNIFICATIVO",IF(AND(N56>=15,N56<=20),"SIGNIFICATIVOS")) -> NOSIGNIFICATIVO | Q56: - Implementar las acciones del Programa de gestión de emisiones atmosféricas y adaptación al cambio climático - SC3-F40 - Implementar las acciones del Programa de Compras Públicas Sostenibles SC03-F20: Verificación de la ficha técnica de criterios ambientales y/o sostenibilidad
A57: =+A56+1 -> 50 | C57: Exterior | D57: Salida | E57: Consumo de combustible | F57: Consumo de combustible por el uso de vehículos para el retiro de los residuos sólidos de la Entidad. | G57: Disminución del recurso natural no renovable | H57: Normal | I57: 4 | J57: 3 | K57: 1 | L57: 2 | M57: 1 | N57: =(I57)+J57+K57+L57+M57 -> 11 | O57: =IF(N57<=14,"NOSIGNIFICATIVO",IF(AND(N57>=15,N57<=20),"SIGNIFICATIVOS")) -> NOSIGNIFICATIVO | Q57: - Implementar las acciones del Programa para el uso Eficiente y Racional para la Energía SC3-F14 - Implementar las acciones del Programa de Compras Públicas Sostenibles SC03-F20: Verificación de la ficha técnica de criterios ambientales y/o sostenibilidad
A58: =+A57+1 -> 51 | C58: Exterior | D58: Salida | E58: Consumo de combustible | F58: Consumo de combustible por el uso de vehículos para el retiro de los residuos sólidos de la Entidad. | G58: Contaminación del aire | H58: Normal | I58: 4 | J58: 3 | K58: 1 | L58: 2 | M58: 1 | N58: =(I58)+J58+K58+L58+M58 -> 11 | O58: =IF(N58<=14,"NOSIGNIFICATIVO",IF(AND(N58>=15,N58<=20),"SIGNIFICATIVOS")) -> NOSIGNIFICATIVO | Q58: - Implementar las acciones del Programa de gestión de emisiones atmosféricas y adaptación al cambio climático - SC03-F40 - Implementar las acciones del Programa de Compras Públicas Sostenibles SC03-F20: - Verificación de la ficha técnica de criterios ambientales y/o sostenibilidad
A59: =+A58+1 -> 52 | C59: Bodega 10-11 Bodegas 44 Bodega 48 (Acopios Temporales) | D59: Salida | E59: Generación de conciencia ambiental | F59: Prevención de la contaminación | G59: Reducción en la afectación ambiental | H59: Normal | I59: -4 | J59: 4 | K59: 1 | L59: 4 | M59: 1 | N59: =(I59)+J59+K59+L59+M59 -> 6 | O59: =IF(N59<=14,"NOSIGNIFICATIVO",IF(AND(N59>=15,N59<=20),"SIGNIFICATIVOS")) -> NOSIGNIFICATIVO | Q59: - Segregación adecuada de los residuos aprovechables, tomando conciencia de los aspectos generados por la inadecuada disposición final de los residuos
A60: =+A59+1 -> 53 | B60: Fumigación de las instalaciones de la SIC | C60: Bodega 10-11 Bodegas 44 Bodega 48 | D60: Salida | E60: Consumo de energía eléctrica | F60: Consumo de energía generado en las diferentes áreas donde se requiere realizar el proceso de fumigaciones. | G60: Agotamiento de los recursos naturales | H60: Normal | I60: -4 | J60: 4 | K60: 1 | L60: 1 | M60: 1 | N60: =(I60)+J60+K60+L60+M60 -> 3 | O60: =IF(N60<=14,"NOSIGNIFICATIVO",IF(AND(N60>=15,N60<=20),"SIGNIFICATIVOS")) -> NOSIGNIFICATIVO | Q60: - Implementar las acciones del Programa para el uso Eficiente y Racional para la Energía SC3-F14 - Implementar las acciones del Programa de Compras Públicas Sostenibles SC03-F20: Verificación de la ficha técnica de criterios ambientales y/o sostenibilidad
A61: =+A60+1 -> 54 | C61: Bodega 10-11 Bodegas 44 Bodega 48 | D61: Salida | E61: Consumo de energía eléctrica | F61: Consumo de energía generado en las diferentes áreas donde se requiere realizar el proceso de fumigaciones. | G61: Contaminación del aire | H61: Normal | I61: -4 | J61: 4 | K61: 1 | L61: 1 | M61: 1 | N61: =(I61)+J61+K61+L61+M61 -> 3 | O61: =IF(N61<=14,"NOSIGNIFICATIVO",IF(AND(N61>=15,N61<=20),"SIGNIFICATIVOS")) -> NOSIGNIFICATIVO | Q61: - Implementar las acciones del Programa para el uso Eficiente y Racional para la Energía SC3-F14 - Implementar las acciones del Programa de Compras Públicas Sostenibles SC03-F20: Verificación de la ficha técnica de criterios ambientales y/o sostenibilidad - Implementar las acciones del Programa de gestión de emisiones atmosféricas y adaptación al cambio climático - SC03-F40
A62: =+A61+1 -> 55 | C62: Bodega 10-11 Bodegas 44 Bodega 48 | D62: Salida | E62: Generación de residuos peligrosos o especiales | F62: Consumo de productos químicos para la fumigación (envases vacíos) | G62: Contaminación del suelo | H62: Normal | I62: 4 | J62: 1 | K62: 1 | L62: 2 | M62: 1 | N62: =(I62)+J62+K62+L62+M62 -> 9 | O62: =IF(N62<=14,"NOSIGNIFICATIVO",IF(AND(N62>=15,N62<=20),"SIGNIFICATIVOS")) -> NOSIGNIFICATIVO | Q62: - Implementar las acciones del Plan de Gestión Integral de Residuos Peligrosos SC03-F16 - Implementar las acciones del Programa de Compras Públicas Sostenibles SC03-F20: Verificación de la ficha técnica de criterios ambientales y/o sostenibilidad
A63: =+A62+1 -> 56 | C63: Bodega 10-11 Bodegas 44 Bodega 48 | D63: Salida | E63: Generación de emisiones atmosféricas | F63: Emisión de gases contaminantes por el uso de productos químicos para las actividades de fumigación | G63: Contaminación del aire | H63: Normal | I63: 4 | J63: 1 | K63: 1 | L63: 1 | M63: 1 | N63: =(I63)+J63+K63+L63+M63 -> 8 | O63: =IF(N63<=14,"NOSIGNIFICATIVO",IF(AND(N63>=15,N63<=20),"SIGNIFICATIVOS")) -> NOSIGNIFICATIVO | Q63: - Implementar las acciones del Programa de gestión de emisiones atmosféricas y adaptación al cambio climático - SC3-F40 - Implementar las acciones del Programa de Compras Públicas Sostenibles SC03-F20: Verificación de la ficha técnica de criterios ambientales y/o sostenibilidad
A64: =+A63+1 -> 57 | B64: Operaciones de vehículos (movilización de expedientes para la sede principal) | C64: Exterior | D64: Salida | E64: Generación de residuos peligrosos o especiales | F64: Generación de aceites usados, filtros usados, residuos contaminados, baterías usadas, llantas usadas | G64: Contaminación del suelo | H64: Normal | I64: 4 | J64: 1 | K64: 1 | L64: 2 | M64: 1 | N64: =(I64)+J64+K64+L64+M64 -> 9 | O64: =IF(N64<=14,"NOSIGNIFICATIVO",IF(AND(N64>=15,N64<=20),"SIGNIFICATIVOS")) -> NOSIGNIFICATIVO | Q64: - Implementar las acciones del Plan de Gestión Integral de Residuos Peligrosos SC03-F16 - Implementar las acciones del Programa de Compras Públicas Sostenibles SC03-F20: Verificación de la ficha técnica de criterios ambientales y/o sostenibilidad
A65: =+A64+1 -> 58 | C65: Exterior | D65: Salida | E65: Consumo de agua | F65: Lavado de vehículos | G65: Agotamiento de los recursos naturales | H65: Normal | I65: 4 | J65: 1 | K65: 1 | L65: 2 | M65: 1 | N65: =(I65)+J65+K65+L65+M65 -> 9 | O65: =IF(N65<=14,"NOSIGNIFICATIVO",IF(AND(N65>=15,N65<=20),"SIGNIFICATIVOS")) -> NOSIGNIFICATIVO | Q65: - Implementar las acciones del Programa de Gestión para el Uso Eficiente y Racional del Agua SC03-F15 - Implementar las acciones del Programa de Compras Públicas Sostenibles SC03-F20: Verificación de la ficha técnica de criterios ambientales y/o sostenibilidad
A66: =+A65+1 -> 59 | C66: Exterior | D66: Salida | E66: Generación de vertimientos | F66: Lavado de vehículos | G66: Contaminación del agua | H66: Normal | I66: 4 | J66: 1 | K66: 1 | L66: 2 | M66: 1 | N66: =(I66)+J66+K66+L66+M66 -> 9 | O66: =IF(N66<=14,"NOSIGNIFICATIVO",IF(AND(N66>=15,N66<=20),"SIGNIFICATIVOS")) -> NOSIGNIFICATIVO | Q66: - Implementar las acciones del Programa de gestión para el uso Eficiente y Racional del Agua SC3-F15
A67: =+A66+1 -> 60 | C67: Exterior | D67: Salida | E67: Generación de emisiones atmosféricas | F67: Generación de emisiones generadas por fuentes móviles | G67: Contaminación del aire | H67: Normal | I67: 4 | J67: 4 | K67: 1 | L67: 2 | M67: 1 | N67: =(I67)+J67+K67+L67+M67 -> 12 | O67: =IF(N67<=14,"NOSIGNIFICATIVO",IF(AND(N67>=15,N67<=20),"SIGNIFICATIVOS")) -> NOSIGNIFICATIVO | Q67: - Implementar las acciones del Programa de gestión de emisiones atmosféricas y adaptación al cambio climático - SC3-F40 - Implementar las acciones del Programa de Compras Públicas Sostenibles SC03-F20: Verificación de la ficha técnica de criterios ambientales y/o sostenibilidad
A68: =+A67+1 -> 61 | C68: Exterior | D68: Salida | E68: Generación de residuos peligrosos o especiales | F68: Derrames de aceites, líquidos de frenos y demás sustancias químicas de los vehículos (trapos contaminados) | G68: Contaminación del suelo | H68: Emergencia | I68: 4 | J68: 0 | K68: 1 | L68: 1 | M68: 1 | N68: =(I68)+J68+K68+L68+M68 -> 7 | O68: =IF(N68<=14,"NOSIGNIFICATIVO",IF(AND(N68>=15,N68<=20),"SIGNIFICATIVOS")) -> NOSIGNIFICATIVO | Q68: - Implementar las acciones del Plan de Gestión Integral de Residuos Peligrosos SC03-F16 - Implementar las acciones del Plan de preparación y respuesta ante una emergencia y/o contingencia ambiental SC03-F17 - Implementar las acciones del Programa de Compras Públicas Sostenibles SC03-F20: Verificación de la ficha técnica de criterios ambientales y/o sostenibilidad
A69: =+A68+1 -> 62 | C69: Exterior | D69: Salida | E69: Consumo de combustible | F69: Consumo de combustible por el Servicio de transporte | G69: Disminución del recurso natural no renovable | H69: Normal | I69: 4 | J69: 4 | K69: 1 | L69: 1 | M69: 1 | N69: =(I69)+J69+K69+L69+M69 -> 11 | O69: =IF(N69<=14,"NOSIGNIFICATIVO",IF(AND(N69>=15,N69<=20),"SIGNIFICATIVOS")) -> NOSIGNIFICATIVO | Q69: - Implementar las acciones del Programa de gestión de emisiones atmosféricas y adaptación al cambio climático - SC03-F40 - Implementar las acciones del Programa de Compras Públicas Sostenibles SC03-F20: - Verificación de la ficha técnica de criterios ambientales y/o sostenibilidad
A70: =+A69+1 -> 63 | C70: Exterior | D70: Salida | E70: Consumo de combustible | F70: Consumo de combustible por el Servicio de transporte | G70: Contaminación del aire | H70: Normal | I70: 4 | J70: 4 | K70: 1 | L70: 1 | M70: 1 | N70: =(I70)+J70+K70+L70+M70 -> 11 | O70: =IF(N70<=14,"NOSIGNIFICATIVO",IF(AND(N70>=15,N70<=20),"SIGNIFICATIVOS")) -> NOSIGNIFICATIVO
A71: =+A70+1 -> 64 | C71: Exterior | D71: Salida | E71: Consumo de combustible | F71: Funcionamiento de vehículos oficiales. | G71: Disminución del recurso natural no renovable | H71: Normal | I71: 4 | J71: 4 | K71: 1 | L71: 1 | M71: 1 | N71: =(I71)+J71+K71+L71+M71 -> 11 | O71: =IF(N71<=14,"NOSIGNIFICATIVO",IF(AND(N71>=15,N71<=20),"SIGNIFICATIVOS")) -> NOSIGNIFICATIVO | Q71: - Implementar las acciones del Programa de gestión de emisiones atmosféricas y adaptación al cambio climático - SC03-F40 - Implementar las acciones del Programa de Compras Públicas Sostenibles SC03-F20: - Verificación de la ficha técnica de criterios ambientales y/o sostenibilidad
A72: =+A71+1 -> 65 | C72: Exterior | D72: Salida | E72: Consumo de combustible | F72: Funcionamiento de vehículos oficiales. | G72: Contaminación del aire | H72: Normal | I72: 4 | J72: 4 | K72: 1 | L72: 1 | M72: 1 | N72: =(I72)+J72+K72+L72+M72 -> 11 | O72: =IF(N72<=14,"NOSIGNIFICATIVO",IF(AND(N72>=15,N72<=20),"SIGNIFICATIVOS")) -> NOSIGNIFICATIVO
A73: =+A72+1 -> 66 | B73: Operación de aparatos de climatización (Neveras, aires acondicionados en cuartos fríos) | C73: Bodega 10-11 Bodegas 44 Bodega 48 | D73: Entrada | E73: Consumo de energía eléctrica | F73: Consumo de energía generado por las actividades de mantenimiento locativo | G73: Agotamiento de los recursos naturales | H73: Normal | I73: 4 | J73: 4 | K73: 4 | L73: 4 | M73: 1 | N73: =(I73)+J73+K73+L73+M73 -> 17 | O73: =IF(N73<=14,"NOSIGNIFICATIVO",IF(AND(N73>=15,N73<=20),"SIGNIFICATIVOS")) -> SIGNIFICATIVOS | P73: - Inducción al Sistema de Gestión Ambiental. - Implementar acciones mediante actividades establecidas en el cronograma del Programa para el Uso Eficiente Racional de la Energía. - Aplicación de Circular Interna de Medidas de Austeridad del Gasto. - Realizar actividades encaminadas a concientizar a los funcionarios y contratistas sobre el uso eficiente y racional de energía. - Realizar publicaciones en INTRASIC y por correo masivo, con el fin de sensibilizar y tener buen uso del consumo de energía. - Realizar mediciones sobre el consumo de energía. - Realizar inspecciones para ver los daños eléctricos. - Jornada de apagones ambientales. - Actividad de comparendos ambientales. | Q73: - Implementar las acciones del Programa para el uso Eficiente y Racional para la Energía SC3-F14 - Circular 13 de 2025 Medidas de Austeridad del Gasto - Informes de gestión ambiental. - Inspecciones ambientales. - Indicadores.
A74: =+A73+1 -> 67 | C74: Bodega 10-11 Bodegas 44 Bodega 48 | D74: Entrada | E74: Consumo de energía eléctrica | F74: Consumo de energía generado por las actividades de mantenimiento locativo | G74: Contaminación del aire | H74: Normal | I74: -4 | J74: 4 | K74: 4 | L74: 4 | M74: 1 | N74: =(I74)+J74+K74+L74+M74 -> 9 | O74: =IF(N74<=14,"NOSIGNIFICATIVO",IF(AND(N74>=15,N74<=20),"SIGNIFICATIVOS")) -> NOSIGNIFICATIVO | Q74: - Implementar las acciones del Programa para el uso Eficiente y Racional para la Energía SC3-F14 - Implementar las acciones del Programa de Compras Públicas Sostenibles SC03-F20: Verificación de la ficha técnica de criterios ambientales y/o sostenibilidad - Implementar las acciones del Programa de gestión de emisiones atmosféricas y adaptación al cambio climático - SC03-F40
A75: =+A74+1 -> 68 | C75: Bodega 10-11 Bodegas 44 Bodega 48 | D75: Salida | E75: Generación de residuos peligrosos o especiales | F75: Generación de RAEEs, luminarias fundidas, envases de productos químicos, trapos contaminados, entre otros. | G75: Contaminación del suelo | H75: Normal | I75: 4 | J75: 1 | K75: 1 | L75: 2 | M75: 1 | N75: =(I75)+J75+K75+L75+M75 -> 9 | O75: =IF(N75<=14,"NOSIGNIFICATIVO",IF(AND(N75>=15,N75<=20),"SIGNIFICATIVOS")) -> NOSIGNIFICATIVO | Q75: - Implementar las acciones del Plan de Gestión Integral de Residuos Peligrosos SC03-F16 - Implementar las acciones del Programa de Compras Públicas Sostenibles SC03-F20: Verificación de la ficha técnica de criterios ambientales y/o sostenibilidad
A76: =+A75+1 -> 69 | C76: Bodega 10-11 Bodegas 44 Bodega 48 | D76: Salida | E76: Generación de residuos peligrosos o especiales | F76: Derrame de productos químicos | G76: Contaminación del suelo | H76: Emergencia | I76: 4 | J76: 0 | K76: 1 | L76: 1 | M76: 1 | N76: =(I76)+J76+K76+L76+M76 -> 7 | O76: =IF(N76<=14,"NOSIGNIFICATIVO",IF(AND(N76>=15,N76<=20),"SIGNIFICATIVOS")) -> NOSIGNIFICATIVO | Q76: - Implementar las acciones del Plan de Gestión Integral de Residuos Peligrosos SC03-F16 - Implementar las acciones del Plan de preparación y respuesta ante una emergencia y/o contingencia ambiental SC03-F17 - Implementar las acciones del Programa de Compras Públicas Sostenibles SC03-F20: Verificación de la ficha técnica de criterios ambientales y/o sostenibilidad
A77: =+A76+1 -> 70 | C77: Bodega 10-11 Bodegas 44 Bodega 48 | D77: Salida | E77: Generación de residuos peligrosos o especiales | F77: Ruptura de luminarias (mercurio, focos y halógenos) | G77: Contaminación del suelo | H77: Emergencia | I77: 4 | J77: 0 | K77: 1 | L77: 1 | M77: 1 | N77: =(I77)+J77+K77+L77+M77 -> 7 | O77: =IF(N77<=14,"NOSIGNIFICATIVO",IF(AND(N77>=15,N77<=20),"SIGNIFICATIVOS")) -> NOSIGNIFICATIVO | Q77: - Implementar las acciones del Plan de Gestión Integral de Residuos Peligrosos SC03-F16 - Implementar las acciones del Plan de preparación y respuesta ante una emergencia y/o contingencia ambiental SC03-F17 - Implementar las acciones del Programa de Compras Públicas Sostenibles SC03-F20: Verificación de la ficha técnica de criterios ambientales y/o sostenibilidad
A78: =+A77+1 -> 71 | C78: Bodega 10-11 Bodegas 44 Bodega 48 | D78: Salida | E78: Generación de emisiones atmosféricas | F78: Uso del gas refrigerante para mantenimiento de aparatos de climatización | G78: Contaminación del aire | H78: Normal | I78: 4 | J78: 0 | K78: 1 | L78: 1 | M78: 1 | N78: =(I78)+J78+K78+L78+M78 -> 7 | O78: =IF(N78<=14,"NOSIGNIFICATIVO",IF(AND(N78>=15,N78<=20),"SIGNIFICATIVOS")) -> NOSIGNIFICATIVO | Q78: - Implementar las acciones del Programa de gestión de emisiones atmosféricas y adaptación al cambio climático - SC3-F40 - Implementar las acciones del Programa de Compras Públicas Sostenibles SC03-F20: Verificación de la ficha técnica de criterios ambientales y/o sostenibilidad
A79: =+A78+1 -> 72 | C79: Bodega 10-11 Bodegas 44 Bodega 48 | D79: Salida | E79: Generación de emisiones atmosféricas | F79: Fuga del gas refrigerante | G79: Contaminación del aire | H79: Emergencia | I79: 4 | J79: 0 | K79: 1 | L79: 1 | M79: 1 | N79: =(I79)+J79+K79+L79+M79 -> 7 | O79: =IF(N79<=14,"NOSIGNIFICATIVO",IF(AND(N79>=15,N79<=20),"SIGNIFICATIVOS")) -> NOSIGNIFICATIVO | Q79: - Implementar las acciones del Plan de Gestión Integral de Residuos Peligrosos SC03-F16 - Implementar las acciones del Plan de preparación y respuesta ante una emergencia y/o contingencia ambiental SC03-F17 - Implementar las acciones del Programa de Compras Públicas Sostenibles SC03-F20: Verificación de la ficha técnica de criterios ambientales y/o sostenibilidad
A80: =+A79+1 -> 73 | B80: Eliminación de Documentos y material divulgativo | C80: Bodega 10-11 Bodegas 44 Bodega 48 | D80: Salida | E80: Generación de Residuos no aprovechables | F80: Generación de residuos no aprovechables generados que no tenga ningún aprovechamiento | G80: Sobrepresión del relleno sanitario | H80: Anormal | I80: -4 | J80: 3 | K80: 1 | L80: 2 | M80: 1 | N80: =(I80)+J80+K80+L80+M80 -> 3 | O80: =IF(N80<=14,"NOSIGNIFICATIVO",IF(AND(N80>=15,N80<=20),"SIGNIFICATIVOS")) -> NOSIGNIFICATIVO | Q80: - Implementar las acciones del Programa de Gestión para el Manejo y Disposición de Residuos Sólidos SC03-F13 - Implementar las acciones del Programa de Compras Públicas Sostenibles SC03-F20: Verificación de la ficha técnica de criterios ambientales y/o sostenibilidad
A81: =+A80+1 -> 74 | C81: Bodega 10-11 Bodegas 44 Bodega 48 | D81: Salida | E81: Generación de Residuos aprovechables | F81: Generación de residuos aprovechables generados por las actividades de eliminación de documentos y material divulgativo. | G81: Reducción de afectación al medio ambiente | H81: Anormal | I81: -4 | J81: 4 | K81: 1 | L81: 1 | M81: 1 | N81: =(I81)+J81+K81+L81+M81 -> 3 | O81: =IF(N81<=14,"NOSIGNIFICATIVO",IF(AND(N81>=15,N81<=20),"SIGNIFICATIVOS")) -> NOSIGNIFICATIVO | Q81: - Implementar las acciones del Programa de Gestión para el Manejo y Disposición de Residuos Sólidos SC03-F13 - Implementar las acciones del Programa de Compras Públicas Sostenibles SC03-F20: Verificación de la ficha técnica de criterios ambientales y/o sostenibilidad
A82: =+A81+1 -> 75 | B82: Área de limpieza y desinfección documental | C82: Bodega 10-11 | D82: Entrada | E82: Consumo de energía eléctrica | F82: Consumo de energía generado por la luminarias encendidas para realizar la actividad | G82: Agotamiento de los recursos naturales | H82: Normal | I82: -4 | J82: 4 | K82: 1 | L82: 1 | M82: 1 | N82: =(I82)+J82+K82+L82+M82 -> 3 | O82: =IF(N82<=14,"NOSIGNIFICATIVO",IF(AND(N82>=15,N82<=20),"SIGNIFICATIVOS")) -> NOSIGNIFICATIVO | Q82: - Implementar las acciones del Programa para el uso Eficiente y Racional para la Energía SC3-F14 - Implementar las acciones del Programa de Compras Públicas Sostenibles SC03-F20: Verificación de la ficha técnica de criterios ambientales y/o sostenibilidad
A83: =+A82+1 -> 76 | C83: Bodega 10-11 | D83: Entrada | E83: Consumo de energía eléctrica | F83: Consumo de energía generado por la luminarias encendidas para realizar la actividad | G83: Contaminación del aire | H83: Normal | I83: -4 | J83: 4 | K83: 1 | L83: 1 | M83: 1 | N83: =(I83)+J83+K83+L83+M83 -> 3 | O83: =IF(N83<=14,"NOSIGNIFICATIVO",IF(AND(N83>=15,N83<=20),"SIGNIFICATIVOS")) -> NOSIGNIFICATIVO | Q83: - Implementar las acciones del Programa para el uso Eficiente y Racional para la Energía SC3-F14 - Implementar las acciones del Programa de Compras Públicas Sostenibles SC03-F20: Verificación de la ficha técnica de criterios ambientales y/o sostenibilidad - Implementar las acciones del Programa de gestión de emisiones atmosféricas y adaptación al cambio climático - SC03-F40
A84: =+A83+1 -> 77 | C84: Bodega 10-11 | D84: Salida | E84: Generación de Residuos no aprovechables | F84: Generación de residuos no aprovechables generados por la utilización de elementos de protección personal (guantes, cofias, tapabocas. Etc.) para realizar la actividad | G84: Sobrepresión del relleno sanitario | H84: Normal | I84: -4 | J84: 1 | K84: 1 | L84: 2 | M84: 1 | N84: =(I84)+J84+K84+L84+M84 -> 1 | O84: =IF(N84<=14,"NOSIGNIFICATIVO",IF(AND(N84>=15,N84<=20),"SIGNIFICATIVOS")) -> NOSIGNIFICATIVO | Q84: - Implementar las acciones del Programa de Gestión para el Manejo y Disposición de Residuos Sólidos SC03-F13 - Implementar las acciones del Programa de Compras Públicas Sostenibles SC03-F20: Verificación de la ficha técnica de criterios ambientales y/o sostenibilidad
A85: =+A84+1 -> 78 | C85: Bodega 10-11 | D85: Salida | E85: Generación de residuos peligrosos o especiales | F85: Generación de residuos peligrosos por elementos contaminados (contaminación biológicos) | G85: Contaminación del suelo | H85: Normal | I85: 4 | J85: 2 | K85: 1 | L85: 2 | M85: 1 | N85: =(I85)+J85+K85+L85+M85 -> 10 | O85: =IF(N85<=14,"NOSIGNIFICATIVO",IF(AND(N85>=15,N85<=20),"SIGNIFICATIVOS")) -> NOSIGNIFICATIVO | Q85: - Implementar las acciones del Plan de Gestión Integral de Residuos Peligrosos SC03-F16 - Implementar las acciones del Programa de Compras Públicas Sostenibles SC03-F20: Verificación de la ficha técnica de criterios ambientales y/o sostenibilidad
A86: =+A85+1 -> 79 | C86: Bodega 10-11 | D86: Salida | E86: Generación de residuos peligrosos o especiales | F86: Ruptura de luminarias (mercurio, focos y halógenos) | G86: Contaminación del suelo | H86: Emergencia | I86: 4 | J86: 0 | K86: 1 | L86: 1 | M86: 1 | N86: =(I86)+J86+K86+L86+M86 -> 7 | O86: =IF(N86<=14,"NOSIGNIFICATIVO",IF(AND(N86>=15,N86<=20),"SIGNIFICATIVOS")) -> NOSIGNIFICATIVO | Q86: - Implementar las acciones del Plan de Gestión Integral de Residuos Peligrosos SC03-F16 - Implementar las acciones del Plan de preparación y respuesta ante una emergencia y/o contingencia ambiental SC03-F17 - Implementar las acciones del Programa de Compras Públicas Sostenibles SC03-F20: Verificación de la ficha técnica de criterios ambientales y/o sostenibilidad
A87: =+A86+1 -> 80 | B87: Área de biodeterioro de documentos | C87: Bodega 10-11 | D87: Entrada | E87: Consumo de energía eléctrica | F87: Consumo de energía generado por la luminarias encendidas para realizar la actividad | G87: Agotamiento de los recursos naturales | H87: Normal | I87: -4 | J87: 4 | K87: 1 | L87: 1 | M87: 1 | N87: =(I87)+J87+K87+L87+M87 -> 3 | O87: =IF(N87<=14,"NOSIGNIFICATIVO",IF(AND(N87>=15,N87<=20),"SIGNIFICATIVOS")) -> NOSIGNIFICATIVO | Q87: - Implementar las acciones del Programa para el uso Eficiente y Racional para la Energía SC3-F14 - Implementar las acciones del Programa de Compras Públicas Sostenibles SC03-F20: Verificación de la ficha técnica de criterios ambientales y/o sostenibilidad
A88: =+A87+1 -> 81 | C88: Bodega 10-11 | D88: Entrada | E88: Consumo de energía eléctrica | F88: Consumo de energía generado por la luminarias encendidas para realizar la actividad | G88: Contaminación del aire | H88: Normal | I88: -4 | J88: 4 | K88: 1 | L88: 1 | M88: 1 | N88: =(I88)+J88+K88+L88+M88 -> 3 | O88: =IF(N88<=14,"NOSIGNIFICATIVO",IF(AND(N88>=15,N88<=20),"SIGNIFICATIVOS")) -> NOSIGNIFICATIVO | Q88: - Implementar las acciones del Programa para el uso Eficiente y Racional para la Energía SC3-F14 - Implementar las acciones del Programa de Compras Públicas Sostenibles SC03-F20: Verificación de la ficha técnica de criterios ambientales y/o sostenibilidad - Implementar las acciones del Programa de gestión de emisiones atmosféricas y adaptación al cambio climático - SC03-F40
A89: =+A88+1 -> 82 | C89: Bodega 10-11 | D89: Salida | E89: Generación de residuos peligrosos o especiales | F89: Generación de residuos peligrosos por elementos contaminados (contaminación biológicos) | G89: Contaminación del suelo | H89: Normal | I89: 4 | J89: 2 | K89: 1 | L89: 2 | M89: 1 | N89: =(I89)+J89+K89+L89+M89 -> 10 | O89: =IF(N89<=14,"NOSIGNIFICATIVO",IF(AND(N89>=15,N89<=20),"SIGNIFICATIVOS")) -> NOSIGNIFICATIVO | Q89: - Implementar las acciones del Plan de Gestión Integral de Residuos Peligrosos SC03-F16 - Implementar las acciones del Programa de Compras Públicas Sostenibles SC03-F20: Verificación de la ficha técnica de criterios ambientales y/o sostenibilidad
A90: =+A89+1 -> 83 | C90: Bodega 10-11 | D90: Salida | E90: Generación de residuos peligrosos o especiales | F90: Ruptura de luminarias (mercurio, focos y halógenos) | G90: Contaminación del suelo | H90: Emergencia | I90: 4 | J90: 0 | K90: 1 | L90: 1 | M90: 1 | N90: =(I90)+J90+K90+L90+M90 -> 7 | O90: =IF(N90<=14,"NOSIGNIFICATIVO",IF(AND(N90>=15,N90<=20),"SIGNIFICATIVOS")) -> NOSIGNIFICATIVO | Q90: - Implementar las acciones del Plan de Gestión Integral de Residuos Peligrosos SC03-F16 - Implementar las acciones del Plan de preparación y respuesta ante una emergencia y/o contingencia ambiental SC03-F17 - Implementar las acciones del Programa de Compras Públicas Sostenibles SC03-F20: Verificación de la ficha técnica de criterios ambientales y/o sostenibilidad
A91: =+A90+1 -> 84 | B91: Cuarto de almacenamientos y conservación de pruebas. (Medios perecederos, magnéticos, discos óptimos y microfilm) | C91: Bodega 44 Bodega 48 | D91: Entrada | E91: Consumo de energía eléctrica | F91: Consumo de energía generado por la luminarias encendidas para realizar la actividad cuando se requiera | G91: Agotamiento de los recursos naturales | H91: Normal | I91: -4 | J91: 4 | K91: 1 | L91: 1 | M91: 1 | N91: =(I91)+J91+K91+L91+M91 -> 3 | O91: =IF(N91<=14,"NOSIGNIFICATIVO",IF(AND(N91>=15,N91<=20),"SIGNIFICATIVOS")) -> NOSIGNIFICATIVO | Q91: - Implementar las acciones del Programa para el uso Eficiente y Racional para la Energía SC3-F14 - Implementar las acciones del Programa de Compras Públicas Sostenibles SC03-F20: Verificación de la ficha técnica de criterios ambientales y/o sostenibilidad
A92: =+A91+1 -> 85 | C92: Bodega 44 Bodega 48 | D92: Entrada | E92: Consumo de energía eléctrica | F92: Consumo de energía generado por la luminarias encendidas para realizar la actividad cuando se requiera | G92: Contaminación del aire | H92: Normal | I92: -4 | J92: 4 | K92: 1 | L92: 1 | M92: 1 | N92: =(I92)+J92+K92+L92+M92 -> 3 | O92: =IF(N92<=14,"NOSIGNIFICATIVO",IF(AND(N92>=15,N92<=20),"SIGNIFICATIVOS")) -> NOSIGNIFICATIVO | Q92: - Implementar las acciones del Programa para el uso Eficiente y Racional para la Energía SC3-F14 - Implementar las acciones del Programa de Compras Públicas Sostenibles SC03-F20: Verificación de la ficha técnica de criterios ambientales y/o sostenibilidad - Implementar las acciones del Programa de gestión de emisiones atmosféricas y adaptación al cambio climático - SC03-F40
A93: =+A92+1 -> 86 | C93: Bodega 44 Bodega 48 | D93: Salida | E93: Generación de Residuos no aprovechables | F93: Generación de residuos no aprovechables generados por la utilización de elementos de protección personal (guantes, cofias, tapabocas. Etc.) para realizar la actividad | G93: Sobrepresión del relleno sanitario | H93: Normal | I93: -4 | J93: 1 | K93: 1 | L93: 2 | M93: 1 | N93: =(I93)+J93+K93+L93+M93 -> 1 | O93: =IF(N93<=14,"NOSIGNIFICATIVO",IF(AND(N93>=15,N93<=20),"SIGNIFICATIVOS")) -> NOSIGNIFICATIVO | Q93: - Implementar las acciones del Programa de Gestión para el Manejo y Disposición de Residuos Sólidos SC03-F13 - Implementar las acciones del Programa de Compras Públicas Sostenibles SC03-F20: Verificación de la ficha técnica de criterios ambientales y/o sostenibilidad
A94: =+A93+1 -> 87 | C94: Bodega 44 Bodega 48 | D94: Salida | E94: Generación de residuos peligrosos o especiales | F94: Ruptura de luminarias (mercurio, focos y halógenos) | G94: Contaminación del suelo | H94: Emergencia | I94: 4 | J94: 0 | K94: 1 | L94: 1 | M94: 1 | N94: =(I94)+J94+K94+L94+M94 -> 7 | O94: =IF(N94<=14,"NOSIGNIFICATIVO",IF(AND(N94>=15,N94<=20),"SIGNIFICATIVOS")) -> NOSIGNIFICATIVO | Q94: - Implementar las acciones del Plan de Gestión Integral de Residuos Peligrosos SC03-F16 - Implementar las acciones del Plan de preparación y respuesta ante una emergencia y/o contingencia ambiental SC03-F17 - Implementar las acciones del Programa de Compras Públicas Sostenibles SC03-F20: Verificación de la ficha técnica de criterios ambientales y/o sostenibilidad
A95: =+A94+1 -> 88 | B95: Archivo de gestión y Central | C95: Bodega 10-11 Bodegas 44 Bodega 48 | D95: Entrada | E95: Consumo de energía eléctrica | F95: Consumo de energía generado por la luminarias encendidas para realizar la actividad cuando se requiera | G95: Agotamiento de los recursos naturales | H95: Normal | I95: 4 | J95: 3 | K95: 1 | L95: 2 | M95: 1 | N95: =(I95)+J95+K95+L95+M95 -> 11 | O95: =IF(N95<=14,"NOSIGNIFICATIVO",IF(AND(N95>=15,N95<=20),"SIGNIFICATIVOS")) -> NOSIGNIFICATIVO | Q95: - Implementar las acciones del Programa para el uso Eficiente y Racional para la Energía SC3-F14 - Implementar las acciones del Programa de Compras Públicas Sostenibles SC03-F20: Verificación de la ficha técnica de criterios ambientales y/o sostenibilidad
A96: =+A95+1 -> 89 | C96: Bodega 10-11 Bodegas 44 Bodega 48 | D96: Entrada | E96: Consumo de energía eléctrica | F96: Consumo de energía generado por la luminarias encendidas para realizar la actividad cuando se requiera | G96: Contaminación del aire | H96: Normal | I96: -4 | J96: 4 | K96: 1 | L96: 1 | M96: 1 | N96: =(I96)+J96+K96+L96+M96 -> 3 | O96: =IF(N96<=14,"NOSIGNIFICATIVO",IF(AND(N96>=15,N96<=20),"SIGNIFICATIVOS")) -> NOSIGNIFICATIVO | Q96: - Implementar las acciones del Programa para el uso Eficiente y Racional para la Energía SC3-F14 - Implementar las acciones del Programa de Compras Públicas Sostenibles SC03-F20: Verificación de la ficha técnica de criterios ambientales y/o sostenibilidad - Implementar las acciones del Programa de gestión de emisiones atmosféricas y adaptación al cambio climático - SC03-F40
A97: =+A96+1 -> 90 | C97: Bodega 10-11 Bodegas 44 Bodega 48 | D97: Salida | E97: Generación de conciencia ambiental | F97: Se relaciona con el agua generada por los humidificadores que es utilizada para actividades de aseo de baños y limpieza de las bodegas. | G97: Preservación de Recursos Naturales | H97: Normal | I97: -4 | J97: 4 | K97: 1 | L97: 4 | M97: 1 | N97: =(I97)+J97+K97+L97+M97 -> 6 | O97: =IF(N97<=14,"NOSIGNIFICATIVO",IF(AND(N97>=15,N97<=20),"SIGNIFICATIVOS")) -> NOSIGNIFICATIVO | Q97: - Segregación adecuada de los residuos aprovechables, tomando conciencia de los aspectos generados por la inadecuada disposición final de los residuos
A98: =+A97+1 -> 91 | C98: Bodega 10-11 Bodegas 44 Bodega 48 | D98: Salida | E98: Generación de Residuos no aprovechables | F98: Generación de residuos no aprovechables generados por la utilización de elementos de protección personal (guantes, cofias, tapabocas. Etc.) para realizar la actividad | G98: Sobrepresión del relleno sanitario | H98: Normal | I98: -4 | J98: 1 | K98: 1 | L98: 2 | M98: 1 | N98: =(I98)+J98+K98+L98+M98 -> 1 | O98: =IF(N98<=14,"NOSIGNIFICATIVO",IF(AND(N98>=15,N98<=20),"SIGNIFICATIVOS")) -> NOSIGNIFICATIVO | Q98: - Implementar las acciones del Programa de Gestión para el Manejo y Disposición de Residuos Sólidos SC03-F13 - Implementar las acciones del Programa de Compras Públicas Sostenibles SC03-F20: Verificación de la ficha técnica de criterios ambientales y/o sostenibilidad
A99: =+A98+1 -> 92 | B99: Operaciones de vehículos para el movimiento de expedientes | C99: Bodega 10-11 Bodegas 44 Bodega 48 | D99: Entrada | E99: Consumo de combustible | F99: Consumo de combustible, lubricantes, aceites por el desplazamiento de vehículos para movimientos de expedientes y archivos a otras sedes. | G99: Disminución del recurso natural no renovable | H99: Normal | I99: 4 | J99: 3 | K99: 1 | L99: 2 | M99: 1 | N99: =(I99)+J99+K99+L99+M99 -> 11 | O99: =IF(N99<=14,"NOSIGNIFICATIVO",IF(AND(N99>=15,N99<=20),"SIGNIFICATIVOS")) -> NOSIGNIFICATIVO | Q99: - Implementar las acciones del Programa de gestión de emisiones atmosféricas y adaptación al cambio climático - SC03-F40 - Implementar las acciones del Programa de Compras Públicas Sostenibles SC03-F20: - Verificación de la ficha técnica de criterios ambientales y/o sostenibilidad
A100: =+A99+1 -> 93 | C100: Bodega 10-11 Bodegas 44 Bodega 48 | D100: Entrada | E100: Consumo de combustible | F100: Consumo de combustible, lubricantes, aceites por el desplazamiento de vehículos para movimientos de expedientes y archivos a otras sedes. | G100: Contaminación del aire | H100: Normal | I100: 4 | J100: 3 | K100: 1 | L100: 2 | M100: 1 | N100: =(I100)+J100+K100+L100+M100 -> 11 | O100: =IF(N100<=14,"NOSIGNIFICATIVO",IF(AND(N100>=15,N100<=20),"SIGNIFICATIVOS")) -> NOSIGNIFICATIVO
...

Sheet A.C.V. SB
B1: ANÁLISIS DE CICLO DE VIDA | D1: CÓDIGO DEL FORMATO | E1: ='APS-IMP SP'!R1 -> SC03-F01
D2: VERSIÓN DEL FORMATO | E2: ='APS-IMP SP'!R2 -> 13
D3: FECHA DE ACTUALIZACIÓN Y EVALUACIÓN | E3: =+'APS-IMP SP'!R3 -> 46162
A4: SEDE: Bodegas
A5: OBJETIVO: | B5: Realizar el análisis desde la perspectiva del ciclo de vida de los aspectos ambientales más significativos que tiene la Entidad identificados en la matriz de aspectos e impactos ambientales.
A6: ALCANCE: | B6: Este análisis es enfocado a todos los procesos y servicios que presta la Entidad.
A7: ASPECTOS AMBIENTALES: | B7: La Superintendencia de Industria y Comercio implementa el procedimiento SC03-P01, para la identificación de Aspectos e Impactos Ambientales derivados de las actividades de la Entidad desde la perspectiva del ciclo de vida de un producto o servicio y así poder establecer cuáles son significativos y cuáles de estos pueden convertirse en riesgos u oportunidades para la Entidad.
A8: DETERMINACIÓN DE LOS ASPECTOS E IMPACTOS AMBIENTALES PARA EL ACV. | B8: Con el fin de garantizar la implementación, se describen las etapas típicas del ciclo de vida de los productos (o servicios) en donde se describen el diseño y operación, producto generado, tratamiento al finalizar la vida y la disposición final, entre otros. Las etapas del ciclo de vida que sean aplicables variarán dependiendo de la actividad, producto o servicio. Para la elaboración del análisis de ciclo de vida de los productos y servicios, se tienen en cuenta los Aspectos Ambientales Significativos, sin embargo, por el cambio a la nueva sede no se tiene un periodo de tiempo comparables para su debida identificación.
A9: DESCRIPCIÓN
A10: La Superintendencia de Industria y Comercio realiza la actualización y/o evaluación de los aspectos derivados de 16 actividades identificadas en la sede principal y así poder establecer cuáles son significativos. Por lo anterior, el Sistema de Gestión Ambiental tomando en consideración, la información obtenida en la recopilación de datos de los programas y planes (inspecciones, indicadores, formatos, entre otros ) así como de la encuesta de identificación de aspectos se toma como retroalimentación y actualización de la Matriz de Identificación de Aspectos, Evaluación y Control de Impactos Ambientales SC03-F01 de la Entidad, el cual contribuye al cumplimiento y fortalecimiento el desempeño ambiental de la Entidad. De acuerdo a lo anterior se identifico que aspectos ambientales significativos: - Generación de Residuos no aprovechables - Consumo de energía eléctrica - Consumo de agua - Consumo de papel | E10: TOTAL
D11: ACTIVIDADES IDENTIFICADAS | E11: 16
D12: TOTAL DE ASPECTOS E IMPACTOS AMBIENTALES | E12: 101
D13: TOTAL DE ASPECTOS AMBIENTALES SIGNIFICATIVOS. | E13: 7
A14: CICLO DE VIDA
A15: Generación de Residuos no aprovechables
A16: Consumo de energía eléctrica
A17: Consumo de agua
A18: Consumo de papel
A19: Superintendencia de Industria y Comercio Sede Principal Bogotá D.C. Teléfonos: 601-5870000

Sheet Control de cambios
B1: CONTROL DE CAMBIOS | D1: CÓDIGO DEL FORMATO | E1: =+'APS-IMP SP'!R1 -> SC03-F01
D2: VERSIÓN DEL FORMATO | E2: =+'APS-IMP SP'!R2 -> 13
A3: FECHA DE ACTUALIZACIÓN (Año-mes-día) | B3: DESCRIPCIÓN DEL CAMBIO (Mencione los cambios realizados) | D3: PERSONA QUE REALIZÓ EL CAMBIO (Nombre y apellido- cargo)
A4: 45796 | B4: Se actualiza formato a la versión del formato al 11. Se elimina casillas donde se evaluaba la sede Alterna. Se realizó la actualización y/o evaluación de los aspectos derivados de 25 actividades identificadas en la Entidad. Así mismo se realizó la identificación y evaluación de 172 aspectos ambientales y sus respectivos impactos. Se descripción los controles operacionales para cada una de las sedes evaluadas. Se actualizo el ACV de la sede Principal y Bodegas. | D4: Ivonne Mariana Torres Prada Profesional Responsable del SGA
A5: 45944 | B5: Se actualiza y evalúa la matriz teniendo en cuenta el cambio de Sede Principal, Se elimina el aspecto ambiental Generación de residuos peligrosos o especiales en lo referente a "Ruptura de luminarias (mercurio, focos y halógenos)" y "Ruptura de luminarias áreas comunes que no están a cargo de la Entidad (mercurio, focos y halógenos)" de la sede principal. Se elimina la actividad de mantenimiento locativo En la evaluación de los aspectos e impactos ambientales, se califica con nivel 1 la variable EXTENSIÓN (EX) en todos los ítems, debido a que no es posible conocer el alcance de los impactos en la nueva Sede Principal hasta tanto no se cuente con periodos de tiempo comparables para su debida identificación. | D5: Sergio Hernán Corredor Jiménez Contratista de apoyo al SGA Mery Valentierra Profesional Universitario
A6: 46164 | B6: Se separa la identificación de aspectos, evaluación y control de impactos ambientales por cada sede, para poder evaluar de manera independiente, ya que hay diferentes actividades y aspectos en cada sede. Se definen las actividades operativas para cada una de las sedes Se eliminan las acciones de control para aquellos que se encuentran no significativos, dejando solo los controles operacionales. Se establece el ACV para cada uno de los aspectos significativos identificados en la sede Principal y Bodegas. | D6: Johann Alirio Peña Contratista de apoyo al SGA Mery Valentierra Profesional Universitario/Responsable SGA
A7: Superintendencia de Industria y Comercio Sede Principal Bogotá D.C. Teléfonos: 601-5870000
