Workbook
Name jorgito: #REF!
Name sandrita: #REF!
Name silvia: #REF!

Sheet REQUISITOS LEGALES
E1: MATRIZ DE IDENTIFICACIÓN, ACCESO Y EVALUACIÓN DE REQUISITOS LEGALES Y OTROS REQUISITOS | V1: CÓDIGO DEL FORMATO | W1: SC03-F02
V2: VERSIÓN DEL FORMATO | W2: 10
V3: FECHA DE ACTUALIZACIÓN | W3: 46171
B5: IDENTIFICACIÓN, REVISIÓN Y ACTUALIZACIÓN | L5: EVALUACIÓN
B6: No .de requisito | C6: Tema Ambiental | D6: Emitido por | E6: Jerarquía de la norma | F6: Número y año de la norma | G6: Título de la norma | H6: Aplicación Especifica | I6: Vigencia | J6: Observaciones Grupo de Trabajo Regulación | K6: Medio de verificación solicitado por la norma | L6: Cumplimiento Sede: PRINCIPAL Dirección: Calle 24 No. 7 - 43 | Q6: Cumplimiento Sede: Bodegas: Dirección: Transversal 93 # 51 - 98 Bodegas 10-11, 44 y 48 | V6: Acciones para abordar riesgos y oportunidades | W6: Responsable del Cumplimiento
L7: SI | M7: NO | N7: INFORMATIVO | O7: Como se cumple en la Entidad | P7: Documentos relacionados | Q7: SI | R7: NO | S7: INFORMATIVO | T7: Como se cumple en la Entidad | U7: Documentos relacionados
B8: 1 | C8: AGUA | D8: Presidencia de la República | E8: Decreto Ley | F8: 2811 de 1974 | G8: Código Nacional de Recursos Naturales Renovables y de Protección al Medio Ambiente | H8: Art. 133 Art .137 | I8: Vigente | J8: Sin observaciones | K8: No especifica | L8: X | O8: Programa de Gestión: Se cuenta con un programa de gestión que tiene como objeto, "Establecer e implementar buenas prácticas en el uso eficiente y racional del agua, contribuyendo en la conservación del recurso, promoviendo el consumo responsable del agua durante el desarrollo de las actividades al interior de la Entidad". El programa se encuentra identificado en el SIGI proceso Gestión Ambiental, bajo el código SC03-F15 y tiene como alcance las diferentes sedes de la Entidad. Campañas: Sensibilización-divulgación realizadas a través de los diferentes medios de comunicación que tiene la Entidad, dirigido a servidores públicos y contratistas de la SIC, en temas de uso eficiente y racional del agua, estas se pueden visualizar en los Informes de Gestión Ambiental. Anualmente se realizan diferentes campañas programadas en el respectivo cronograma. Sistemas o implementos de bajo consumo de agua: La sede cuenta baños que se encuentran en áreas comunes y baños de delegados con lavamanos con llaves con sensor led de agua, sanitarios y orinales se cuenta push con reductores de caudal; en los baños propios de la Entidad se cuenta con lavamanos con llaves tipo palanca que de acuerdo a ficha técnica son ultra ahorradores donde se ajusta la presión del agua de acuerdo a necesidad y sanitarios con botón en el tanque con reductor de caudal. Reporte de daños hidráulicos: Se realiza reporte y seguimiento de los daños reportados en las áreas de trabajo de la sede mediante los formatos SC03-F24 y SC03-F44. Mantenimiento locativo: El contratista del arriendo de la sede es el responsable de atender los daños hidráulicos que se puedan presentar, esto es verificado mediante la verificación de criterios ambientales. | P8: Programa de Gestión para el Uso Eficiente y Racional del Agua SC03-F15: https://sigi.sic.gov.co/SIGI/portal/document_tab.php?id_doc=802&version=6&opcion_regreso=1 Archivo de Gestión Ambiental - Instrumentos del Sistema de Gestión Ambiental - Informes de gestión ambiental Archivo de Gestión Ambiental - Programa de Compras Públicas Sostenibles - Ficha, declaración, verificación y soportes de criterios ambientales. Archivo de Gestión Ambiental - Programas para el Uso Eficiente y Racional del Agua - reporte de daños hidráulicos y eléctricos SC03-F24 - seguimiento al reporte de daños hidráulicos y eléctricos SC03-F44 | Q8: X | T8: Programa de Gestión: Se cuenta con un programa de gestión que tiene como objeto, "Establecer e implementar buenas prácticas en el uso eficiente y racional del agua, contribuyendo en la conservación del recurso, promoviendo el consumo responsable del agua durante el desarrollo de las actividades al interior de la Entidad". El programa se encuentra identificado en el SIGI proceso Gestión Ambiental, bajo el código SC03-F15 y tiene como alcance las diferentes sedes de la Entidad. Campañas: Sensibilización-divulgación realizadas a través de los diferentes medios de comunicación que tiene la Entidad, dirigido a servidores públicos y contratistas de la SIC, en temas de uso eficiente y racional del agua, estas se pueden visualizar en los Informes mensuales de Gestión Ambiental. Anualmente se realizan diferentes campañas programadas en el respectivo cronograma. Criterios ambientales El Sistema de Gestión Ambiental da cumplimiento mediante la inclusión del criterio ambiental en el proceso de contratación de arriendo, en la cual se le solicita al propietario la implementación de Sistemas o implementos de bajo consumo de agua y el arreglo de los daños hidráulicos. | U8: Programa de Gestión para el Uso Eficiente y Racional del Agua SC03-F15: https://sigi.sic.gov.co/SIGI/portal/document_tab.php?id_doc=802&version=6&opcion_regreso=1 Programa de Compras Públicas Sostenibles SC03-F20: https://sigi.sic.gov.co/SIGI/portal/document_tab.php?id_doc=955&version=6&opcion_regreso=1 Archivo de Gestión Ambiental - Instrumentos del Sistema de Gestión Ambiental - Informes de gestión ambiental Archivo de Gestión Ambiental - Programa de Compras Públicas Sostenibles - Ficha, declaración, verificación y soportes de criterios ambientales. | V8: Realizar campañas sobre el uso eficiente y racional del agua. Instalar avisos de baños sobre el correcto uso del agua. Verificar que siempre se cuente con el suministro de agua y que los servicios sanitarios se encuentren en buen estado y funcionando. Realizar los mantenimientos locativos en el menor tiempo posible para no desperdiciar del recurso. | W8: Grupo de Trabajo de Servicios Administrativos y Recursos Físicos. Profesionales del SGA
B9: =+B8+1 -> 2 | C9: AGUA | D9: Presidencia de la República | E9: Decreto | F9: 1337 de 1978 | G9: Por el cual se reglamentan los artículos 14 y 17 del Decreto - ley 2811 de 1974 | H9: Aplicación total | I9: Vigente | J9: Sin observaciones | K9: No especifica | L9: X | Q9: X
B10: =+B9+1 -> 3 | C10: AGUA | D10: Congreso de la República | E10: Ley | F10: 9 de 1979 | G10: Código Sanitario Nacional | H10: Art. 69 Art. 71 | I10: Vigente | J10: Sin observaciones | K10: No especifica | L10: X | Q10: X
B11: =+B10+1 -> 4 | C11: AGUA | D11: Congreso de la República | E11: Ley | F11: 373 de 1997 | G11: Por la cual se establece el programa para el uso eficiente y ahorro del agua. | H11: Art.12 | I11: Vigente | J11: Sin observaciones | K11: No especifica | L11: X | Q11: X
B12: =+B11+1 -> 5 | C12: AGUA | D12: Concejo de Bogotá D.C | E12: Acuerdo | F12: 79 de 2003 | G12: Por la cual se expide el Código de Policía de Bogotá, D.C. | H12: Art. 58 Núm. 1 Art. 59 Núm. 2,3,8,9,10 | I12: Vigente | J12: Sin observaciones | K12: No especifica | L12: X | Q12: X
B13: =+B12+1 -> 6 | C13: AGUA | D13: Presidencia de la República | E13: Decreto | F13: 3930 de 2010 | G13: Por el cual se reglamenta parcialmente el Título I de la Ley 9ª de 1979, así como el Capítulo II del Título VI -Parte III- Libro II del Decreto-ley 2811 de 1974 en cuanto a usos del agua y residuos líquidos y se dictan otras disposiciones. | H13: Art. 10, Art. 19 | I13: Vigente Compilado en el Decreto 1076 de 2015. | J13: Sin observaciones | K13: No especifica | N13: X | S13: X
B14: =+B13+1 -> 7 | C14: AGUA | D14: Congreso de la República | E14: Ley | F14: 1801 de 2016 | G14: Por la cual se expide el Código Nacional de Policía y Convivencia | H14: Art 100 | I14: Vigente | J14: Sin observaciones | K14: No especifica | L14: X | O14: La Entidad, en apoyo la preservación del agua NO REALIZA las siguientes actividades: 1. Utilizarla en actividades diferentes a la respectiva autorización ambiental. 2. Arrojar sustancias contaminantes, residuos o desechos a los cuerpos de agua. 3. Deteriorar, dañar o alterar los cuerpos de agua, zonas de ronda hídrica y zonas de manejo y preservación ambiental en cualquier forma. 4. Captar agua de las fuentes hídricas sin la autorización de la autoridad ambiental. 5. Lavar bienes muebles en el espacio público, vía pública, ríos, canales y quebradas. 6. Realizar cualquier actividad en contra de la normatividad sobre conservación y preservación de humedales, | P14: NA | Q14: X | T14: La Entidad, en apoyo la preservación del agua NO REALIZA las siguientes actividades: 1. Utilizarla en actividades diferentes a la respectiva autorización ambiental. 2. Arrojar sustancias contaminantes, residuos o desechos a los cuerpos de agua. 3. Deteriorar, dañar o alterar los cuerpos de agua, zonas de ronda hídrica y zonas de manejo y preservación ambiental en cualquier forma. 4. Captar agua de las fuentes hídricas sin la autorización de la autoridad ambiental. 5. Lavar bienes muebles en el espacio público, vía pública, ríos, canales y quebradas. 6. Realizar cualquier actividad en contra de la normatividad sobre conservación y preservación de humedales. | U14: NA
B15: =+B14+1 -> 8 | C15: AGUA | D15: Ministerio de Trabajo | E15: Resolución | F15: 312 de 2019 | G15: Por la cual se definen los Estándares Mínimos del Sistema de Gestión de la Seguridad y Salud en el Trabajo SG-SST | H15: Art .16 Servicios de higiene | I15: Vigente | J15: Sin observaciones | K15: Verificar mediante observación directa si se cumple lo exigido en el criterio, dejando soporte fílmico o fotográfico al respecto. | L15: X | O15: Reporte de suministro de agua: La Entidad cuenta con suministro permanente de agua potable en cada uno de los pisos arrendados, así mismo se cuenta con el formato SC03-F32 Reporte de suministro de agua, donde se registra diariamente si la entidad cuenta o no con suministro de agua, en el caso de que no haya se informa la razón por la cual se quitó el suministro. | P15: Archivo de Gestión Ambiental - Instrumentos del Sistema de Gestión Ambiental -Evidencias cumplimiento Resolución 312 de 2019 | Q15: X | T15: Reporte de suministro de agua: Para esta sede se cuenta con suministro permanente de agua potable en cada una de las bodegas arrendadas, así mismo se cuenta con el formato SC03-F32 Reporte de suministro de agua, donde se registra diariamente si la entidad cuenta o no con suministro de agua, en el caso de que no haya se informa la razón por la cual se quitó el suministro. | U15: Archivo de Gestión Ambiental - Instrumentos del Sistema de Gestión Ambiental - Resolución 312 de 2019 - Evidencias cumplimiento - Suministro de Agua
B16: =+B15+1 -> 9 | C16: LAVADO DE TANQUES | D16: Secretaría Distrital de Salud | E16: Resolución | F16: 2190 de 1991 | G16: Por la cual se reglamentan las condiciones para transporte de agua en carrotanque, lavado y desinfección de tanques de almacenamiento domiciliario y Empresas que realizan la actividad de lavado y desinfección de tanques domiciliarios. | H16: Cap. II | I16: Vigente | J16: Sin observaciones | K16: Los tanques de almacenamiento domiciliario deberán ser sometidos a lavado y desinfección mínimo 2 veces al año y en caso de detectar daños o infiltraciones se realizará el lavado y desinfección después de su reparación. | L16: X | O16: El Sistema de Gestión Ambiental da cumplimiento mediante la inclusión del criterio ambiental en el proceso de contratación de arriendo, en la cual se le solicita al propietario realiza como mínimo cada 6 meses el lavado y desinfección de los tanques de almacenamiento de agua. El edificio donde se encuentra la sede se suministra agua sin ruido, en cantidad y presión suficiente en los puntos de consumo. | P16: Archivo de Gestión Ambiental Digital - Programa de Compras Públicas Sostenibles - Ficha, declaración, verificación y soportes de criterios ambientales | Q16: X | T16: Se da cumplimiento mediante la inclusión del criterio ambiental en el proceso de contratación de arriendo, en la cual se le solicita al propietario realiza como mínimo cada 6 meses el lavado y desinfección de los tanques de almacenamiento de agua. El edificio donde se encuentra la sede se suministra agua sin ruido, en cantidad y presión suficiente en los puntos de consumo. | U16: Archivo de Gestión Ambiental - Programa de Compras Públicas Sostenibles - Ficha, declaración, verificación y soportes de criterios ambientales | V16: Solicitar los certificados de lavado de tanques en los tiempos establecidos | W16: Grupo de Trabajo de Servicios Administrativos y Recursos Físicos. Profesionales del SGA
B17: =+B16+1 -> 10 | C17: LAVADO DE TANQUES | D17: Concejo de Bogotá D.C | E17: Acuerdo | F17: 79 de 2003 | G17: Por la cual se expide el Código de Policía de Bogotá, D.C. | H17: Art. 59 Núm. 3 | I17: Vigente | J17: Sin observaciones | K17: No especifica | L17: X | Q17: X
B18: =+B17+1 -> 11 | C18: LAVADO DE TANQUES | D18: Presidencia de la República | E18: Decreto | F18: 1575 de 2007 | G18: Por el cual se establece el Sistema para la Protección y Control de la Calidad del Agua para Consumo Humano | H18: Art. 1 Art. 10 | I18: Vigente | J18: Sin observaciones | K18: No especifica | L18: X | Q18: X
B19: =+B18+1 -> 12 | C19: SANITARIOS | D19: Ministerio de Trabajo | E19: Resolución | F19: 312 de 2019 | G19: Por la cual se definen los Estándares Mínimos del Sistema de Gestión de la Seguridad y Salud en el Trabajo SG-SST | H19: Art. 16 Servicios de higiene | I19: Vigente | J19: Sin observaciones | K19: Verificar mediante observación directa si se cumple lo exigido en el criterio, dejando soporte fílmico o fotográfico al respecto. | L19: X | O19: La sede cuentan con servicios sanitarios tanto para damas como para caballeros en cada uno de las áreas arrendadas. | P19: Archivo de Gestión Ambiental - Instrumentos del Sistema de Gestión Ambiental -Evidencias cumplimiento Resolución 312 de 2019 | Q19: X | T19: La sede cuenta con servicios sanitarios tanto para damas como para caballeros en cada uno de las áreas arrendadas. | U19: Archivo de Gestión Ambiental - Instrumentos del Sistema de Gestión Ambiental - Resolución 312 de 2019 - Evidencias cumplimiento | V19: NA | W19: Grupo de Trabajo de Servicios Administrativos y Recursos Físicos. Profesionales del SGA
B20: =+B19+1 -> 13 | C20: VERTIMIENTOS | D20: Congreso de la República | E20: Ley | F20: 9 de 1979 | G20: Código Sanitario Nacional | H20: Art .10 Art. 14 | I20: Vigente | J20: Sin observaciones | K20: No especifica | L20: X | O20: Red hidráulica: La sede cuentan con redes hidráulicas las cuales están conectadas adecuadamente con la red de alcantarillado publico, los vertimientos que se generan son de carácter domésticos por el uso de los baños y cafeterías, ya que en la Entidad no se genera ningún tipo de actividad industrial. En la sede no se cuenta con ningún proceso que genere alguna de las siguientes actividades: - Disposición a la red de alcantarillado público de vísceras o tejidos animales, hueso, pelo, pieles o carnaza, entrañas, sangre, plumas, residuos sólidos. - Disposición de sustancias sólidas, líquidas o gaseosas que sean consideradas como peligrosas (diferente a aceite usado). - Vertimiento de aguas residuales a las calles, calzadas y canales o sistemas de alcantarillado para aguas lluvias. Se realiza el pago del servicio publico de acueducto de los espacios ocupados de la sede del por medio del contratista de acuerdo al recobro realizando por la administración del edificio. | P20: Verificación in situ | Q20: X | T20: Red hidráulica: La sede cuenta con redes hidráulicas las cuales están conectadas adecuadamente con la red de alcantarillado publico, los vertimientos que se generan son de carácter domésticos por el uso de los baños y cafeterías, ya que en la Entidad no se genera ningún tipo de actividad industrial. En la sede no se cuenta con ningún proceso que genere alguna de las siguientes actividades: - Disposición a la red de alcantarillado público de vísceras o tejidos animales, hueso, pelo, pieles o carnaza, entrañas, sangre, plumas, residuos sólidos. - Disposición de sustancias sólidas, líquidas o gaseosas que sean consideradas como peligrosas (diferente a aceite usado). - Vertimiento de aguas residuales a las calles, calzadas y canales o sistemas de alcantarillado para aguas lluvias. | U20: Verificación in situ | V20: NA | W20: Grupo de Trabajo de Servicios Administrativos y Recursos Físicos. Profesionales del SGA
B21: =+B20+1 -> 14 | C21: VERTIMIENTOS | D21: Secretaria Distrital del Medio Ambiente | E21: Resolución | F21: 3957 de 2009 | G21: "Por la cual se establece la norma técnica, para el control y manejo de los vertimientos realizados a la red de alcantarillado público en el Distrito Capital | H21: Art. 1 Art. 14 Capitulo VI | I21: Vigente | J21: Sin observaciones | K21: Permiso de vertimiento o Concepto técnico de la Secretaría Distrital de Ambiente | N21: X | S21: X
B22: =+B21+1 -> 15 | C22: VERTIMIENTOS | D22: Presidencia de la República | E22: Decreto | F22: 3930 de 2010 | G22: Por el cual se reglamenta parcialmente el Título I de la Ley 9ª de 1979, así como el Capítulo II del Título VI -Parte III- Libro II del Decreto-ley 2811 de 1974 en cuanto a usos del agua y residuos líquidos y se dictan otras disposiciones. | H22: Art. 1 Art. 2 Art .24 Art. 25 Art. 36 Art. 38 Art. 41 Art. 79 | I22: Vigente Compilado en el Decreto 1076 de 2015. | J22: Sin observaciones | K22: No especifica | L22: X | Q22: X
B23: =+B22+1 -> 16 | C23: VERTIMIENTOS | D23: Presidencia de la República | E23: Decreto | F23: 1076 de 2015 | G23: Por medio del cual se expide el Decreto Único Reglamentario del Sector ambiente y desarrollo sostenible | H23: Art. 2.2.3.3.2.2 Art. 2.2.3.3.4.3 Art. 2.2.3.3.4.4 Art. 2.2.3.3.5.1 Art. 2.2.3.3.5.7 Art. 2.2.9.7.2.4. Art. 2.2.9.7.2.5. | I23: Vigente | J23: Pregunta: Se incluyeron los artículos que están en rojo aplican para la entidad ? Sí aplican. Está bien, sin observaciones | K23: No especifica | L23: X | Q23: X
B24: =+B23+1 -> 17 | C24: VERTIMIENTOS | D24: Presidencia de la República | E24: Decreto | F24: 50 de 2018 | G24: Por el cual se modifica parcialmente el Decreto 1076 de 2015, Decreto único Reglamentario del Sector Ambiente y Desarrollo Sostenible en relación con los Consejos Ambientales Regionales de la Macrocuencas (CARMAC), el Ordenamiento del Recurso Hídrico y Vertimientos y se dictan otras disposiciones | H24: Art 4 Art.5 Art 12 | I24: Vigente | J24: Sin observaciones | K24: No especifica | L24: X | Q24: X
B25: =+B24+1 -> 18 | C25: ENERGÍA | D25: Ministerio de Trabajo y Seguridad Social | E25: Resolución | F25: 2400 de 1979 | G25: Por la cual se establecen algunas disposiciones sobre vivienda, higiene y seguridad en los establecimientos de trabajo. | H25: Art. 7 Capítulo III del Titulo III-Art 79-87 | I25: Vigente | J25: Sin observaciones | K25: No especifica | L25: X | O25: La sede cuenta con ventanales grandes en donde se puede aprovechar la luz natural, así mismo, cuenta con iluminación led con sensores con la cantidad adecuada en cada una de las áreas de trabajo. | P25: N/A | Q25: X | T25: La sede cuenta con ventanales en donde se puede aprovechar la luz natural, así mismo, cuenta con iluminación led y con la cantidad adecuada en cada una de las áreas de trabajo. | U25: N/A | V25: Expedir y/o actualizar la circular para el ahorro de energía Incluir en los procesos de contratación criterios ambientales de eficiencia energética. Realizar campañas de ahorro de energía en la Entidad. | W25: Grupo de Trabajo de Servicios Administrativos y Recursos Físicos. Profesionales del SGA
B26: =+B25+1 -> 19 | C26: ENERGÍA | D26: Congreso de la República | E26: Ley | F26: 697 de 2001 | G26: Mediante la cual se fomenta el uso racional y eficiente de la energía, se promueve la utilización de energías alternativas y se dictan otras disposiciones. | H26: Art 1 Art 2 Art 8 | I26: Vigente | J26: Sin observaciones | L26: X | O26: Programa de Gestión: Se cuenta con un programa de gestión que tiene como objeto, "Optimizar el ahorro y el uso eficiente de la energía a través de acciones, hábitos y estrategias que ayuden al fortalecimiento de la cultura ambiental en los funcionarios y contratistas, tendientes a reducir el consumo de energía en la Superintendencia de Industria y Comercio". El programa se encuentra identificado en el SIGI proceso Gestión Ambiental, bajo el código SC03-F14 y tiene como alcance las diferentes sedes de la Entidad. Circular con medidas de ahorro de energía: El Sistema de Gestión Ambiental con el propósito de hacer un uso más eficiente y racional de la energía eléctrica en la Entidad, imparte instrucciones y lineamientos a favor del medio ambiente y las buenas prácticas para el ahorro de energía, esto se hace a través de la expedición de una circular interna donde se establecen medidas de obligatorio cumplimiento. Campañas: Sensibilización-divulgación realizadas a través de los diferentes medios de comunicación que tiene la Entidad, dirigido a servidores públicos y contratistas de la SIC, en temas de uso eficiente y racional del energía. Criterios ambientales: El sistema de gestión ambiental incluye criterios ambientales a los contratos donde se adquiera y/o alquile equipos para la prestación del servicio y/o cumplimiento del objeto contractual estos deben contar con sistemas de bajo consumo energético y/o con requerimientos de eficiencia energética en el encendido, hibernación y apagado. Reporte de daños Eléctricos: Se realiza reporte y seguimiento de los daños reportados en las áreas de trabajo de la sede mediante los formatos SC03-F24 y SC03-F44. Mantenimiento locativo: El contratista del arriendo de la sede es el responsable de atender los daños eléctricos que se puedan presentar, esto es verificado mediante la verificación de criterios ambientales. | P26: Programa para el uso Eficiente y Racional para la Energía SC03-F14: https://sigi.sic.gov.co/SIGI/portal/document_tab.php?id_doc=801&version=5&opcion_regreso=1 CIRCULAR INTERNA N° 13 DEL 2025 https://intranet.sic.gov.co/sites/default/files/2025-09/circular_interna_no_013_del_29_de_agosto_de_2025.pdf Archivo de Gestión Ambiental - Instrumentos del Sistema de Gestión Ambiental - Informes de gestión ambiental Archivo de Gestión Ambiental - Programas para el Uso Eficiente y Racional del Energía - reporte de daños hidráulicos y eléctricos SC03-F24 - seguimiento al reporte de daños hidráulicos y eléctricos SC03-F44 | Q26: X | T26: Programa de Gestión: Se cuenta con un programa de gestión que tiene como objeto, "Optimizar el ahorro y el uso eficiente de la energía a través de acciones, hábitos y estrategias que ayuden al fortalecimiento de la cultura ambiental en los funcionarios y contratistas, tendientes a reducir el consumo de energía en la Superintendencia de Industria y Comercio". El programa se encuentra identificado en el SIGI proceso Gestión Ambiental, bajo el código SC03-F14 y tiene como alcance las diferentes sedes de la Entidad. Circular de medidas de ahorro de energía: El Sistema de Gestión Ambiental con el propósito de hacer un uso más eficiente y racional de la energía eléctrica en la Entidad, imparte instrucciones y lineamientos a favor del medio ambiente y las buenas prácticas para el ahorro de energía, esto se hace a través de la expedición de una circular interna donde se establecen medidas de obligatorio cumplimiento. Anualmente se expide la correspondiente Circular Interna para las medidas de ahorro de energía. Campañas: Sensibilización-divulgación realizadas a través de los diferentes medios de comunicación que tiene la Entidad, dirigido a servidores públicos y contratistas de la SIC, en temas de uso eficiente y racional del energía. Criterios ambientales El Sistema de Gestión Ambiental da cumplimiento mediante la inclusión del criterio ambiental en el proceso de contratación de arriendo, en la cual se le solicita al propietario la implementación de Sistemas o implementos de bajo consumo de energía y el arreglo de los daños eléctricos. | U26: Programa para el uso Eficiente y Racional para la Energía SC03-F14: https://sigi.sic.gov.co/SIGI/portal/document_tab.php?id_doc=801&version=5&opcion_regreso=1 Programa de Compras Públicas Sostenibles SC03-F20: https://sigi.sic.gov.co/SIGI/portal/document_tab.php?id_doc=955&version=6&opcion_regreso=1 CIRCULAR INTERNA N° 13 DEL 2025 https://intranet.sic.gov.co/sites/default/files/2025-09/circular_interna_no_013_del_29_de_agosto_de_2025.pdf Archivo de Gestión Ambiental - Programa de Compras Públicas Sostenibles - Ficha, declaración, verificación y soportes de criterios ambientales
B27: =+B26+1 -> 20 | C27: ENERGÍA | D27: Presidencia de la República | E27: Decreto | F27: 3683 de 2003 | G27: Por el cual se reglamenta la Ley 697 de 2001 y se crea una Comisión Intersectorial. | H27: Art. 1 Art. 3 Art. 11 Art. 22 | I27: Vigente Compilado en el Decreto 1073 de 2015. | J27: Sin observaciones | K27: No especifica | N27: X | S27: X
B28: =+B27+1 -> 21 | C28: ENERGÍA | D28: Presidencia de la República | E28: Decreto | F28: 2331 de 2007 | G28: Por el cual se establece una medida tendiente al uso racional y eficiente de energía eléctrica. | H28: Art. 1 (Adicionado por el art. 1, Decreto 895 de 2008). Art 2 (Adicionado por el art. 2, Decreto 895 de 2008). | I28: Vigente Compilado en el Decreto 1073 de 2015. | J28: Sin observaciones | K28: No especifica | L28: X | Q28: X
B29: =+B28+1 -> 22 | C29: ENERGÍA | D29: Presidencia de la República | E29: Decreto | F29: 895 de 2008 | G29: Por el cual se modifica y adiciona el Decreto 2331 de 2007 sobre uso racional y eficiente de energía eléctrica | H29: Art. 1 Art. 2 Art. 4 | I29: Vigente | J29: Sin observaciones | K29: No especifica | L29: X | Q29: X
B30: =+B29+1 -> 23 | C30: ENERGÍA | D30: Presidencia de la República | E30: Decreto | F30: 3450 de 2008 | G30: Por el cual se dictan medidas tendientes al uso racional y eficiente de la energía eléctrica. | H30: Art 1 Art. 2 Art. 4 | I30: Vigente Compilado en el Decreto 1073 de 2015. | J30: Sin observaciones | K30: No especifica | N30: X | S30: X
B31: =+B30+1 -> 24 | C31: ENERGÍA | D31: Presidencia de la República | E31: Decreto | F31: 1073 de 2015 | G31: Por la cual medio del cual se expide el Decreto Único Reglamentario del Sector Administrativo de Minas y Energía. | H31: Art. 2.2.3.6.2.1; Art 2.2.3.6.2.2. Art 2.2.3.6.3.2.2.1 ; Art 2.2.3.6.3.1 Art 2.2.3.6.3.2; Art 2.2.3.6.3.4 Art 2.2.3.6.3.5; Art 2.2.3.6.3.6 | I31: Vigente | J31: Sin observaciones | K31: No especifica | L31: X | Q31: X
B32: =+B31+1 -> 25 | C32: ENERGÍA | D32: Ministerio de Minas y Energía | E32: Resolución | F32: 40156 de 2022 | G32: Por la cual se adopta el Plan de Acción Indicativo 2022-2030 para el desarrollo del Programa de Uso Racional y Eficiente de la Energía, PROURE, que define objetivos y metas indicativas de eficiencia energética, acciones y medidas sectoriales y estrategias base para el cumplimiento de metas y se adoptan otras disposiciones. | H32: Aplicación Total | I32: Vigente | J32: Sin observaciones | K32: No especifica | N32: X | S32: X
B33: =+B32+1 -> 26 | C33: ENERGÍA | D33: Congreso de la República | E33: Ley | F33: 1715 de 2014 | G33: Por medio de la cual se regula la integración de las energías renovables no convencionales al sistema energético nacional. | H33: Art. 30 Capitulo VII - Art. 41. | I33: Vigente | J33: Sin observaciones | K33: En un término no superior a un (1) año, a partir de la entrada en vigencia de la presente Ley realizarán una auditoría energética de sus instalaciones, con una periodicidad de cada cuatro (4) años y establecerán objetivos de ahorro de energía a ser alcanzados a través de medidas de eficiencia energética y la implementación de Fuentes No Convencionales de Energía Renovable -FNCER-. Cada entidad deberá implementar en el siguiente año posterior a las auditorías energéticas, estrategias que permitan un ahorro en el consumo de energía de mínimo 15% respecto del consumo del año anterior, y a partir del segundo año, metas sostenibles definidas por la auditoría y a ser alcanzadas a más tardar en el año 2026. | L33: X | O33: Auditoria Energética: Se adjudico contrato 1703 de 2025 con el contratistas INGTECNOVA SAS BIC quien fue el encargado de realizar la auditoria energética del 27 de noviembre al 15 de diciembre de 2025. Acorde a la resolución 40412 del 2 de octubre de 2024, la cual reglamenta lo relacionado a auditoria energética de los edificios pertenecientes a las administraciones públicas, se determina el alcance y el ámbito de aplicación respecto del tipo de entidades estatales, por lo cual se indica el artículo 3 ámbito de aplicación parágrafo 3 lo siguiente: “Parágrafo 3. Las edificaciones en calidad de arrendamiento, comodato u otra figura jurídica similar en donde se desarrollen funciones propias de la Administración Pública, podrán realizar auditoria energética de que trata presente resolución e implementar únicamente MEDIDAS ASOCIADAS A BUENAS PRÁCTICAS OPERACIÓN” Por lo anterior, se están tomando las buenas practicas del informe entregado por el contratista para dar cumplimiento a lo establecido a la norma. | P33: Contrato 1703 de 2025 - INGTECNOVA SAS BIC Link SECOP II: https://community.secop.gov.co/Public/Tendering/OpportunityDetail/Index?noticeUID=CO1.NTC.9059683&isFromPublicArea=True&isModal=true&asPopupView=true | S33: X
B34: =+B33+1 -> 27 | C34: ENERGÍA | D34: Congreso de la República | E34: Ley | F34: 2294 de 2023 | G34: Por el cual se expide el plan nacional de desarrollo 2022- 2026 “Colombia potencia mundial de la vida. | H34: Art. 237 | I34: Vigente | J34: Sin observaciones | L34: X | S34: X
B35: =+B34+1 -> 28 | C35: ENERGÍA | D35: Unidad de Planeación Minero Energética | E35: Resolución | F35: 16 de 2024 | G35: Por la cual se adopta la metodología de la línea base de consumo y el ahorro estimado, la cual deberá ser atendida por las entidades en la elaboración e implementación de sus medidas para dar cumplimiento a lo establecido en el artículo 237 de la Ley 2294 de 2023. | H35: Aplicación Total | I35: Vigente | J35: Sin observaciones | K35: Implementación de las medidas de eficiencia energética. | L35: X | S35: X
B36: =+B35+1 -> 29 | C36: ENERGÍA | D36: Ministerio de Minas y Energía | E36: Resolución | F36: 40412 de 2024 | G36: Por la cual se reglamenta parcialmente el artículo 237 de la Ley 2294 de 2023 del Plan Nacional de Desarrollo 2022-2026 “Colombia Potencia Mundial de la Vida”, en lo relacionado con la auditoria energética de los edificios pertenecientes a las Administraciones Públicas. | H36: Art 3 | I36: Vigente | J36: Sin observaciones | L36: X | S36: X
B37: =+B36+1 -> 30 | C37: ENERGÍA | D37: Congreso de la República | E37: Ley | F37: 2407 de 2024 | G37: Por medio de la cual se adoptan medidas para promover el uso racional y eficiente de energía, se establecen lineamientos para los planes de eficiencia energética de las entidades públicas, se incentivan construcciones sostenibles y se dictan otras disposiciones. | H37: Art 1, 2, 3, 7, | I37: Vigente | J37: Sin observaciones | K37: Se da cumplimiento a cada Articulo de acuerdo a lo informado . | L37: X | O37: Art2: La SIC está determinada como comprador o consumidor teniendo en cuenta la siguiente definición, este término también se encuentra en el artículo 6 parágrafo 2 y artículo 7. Art 3, Se designo responsable del Sistema Ambiental como gestora en compañía de personal de mantenimiento locativo de la Entidad. Cada vigencia se establece una meta de reducción para el consumo de energía en la Entidad. Esta información se puede consulta el SIGI - Sistema Integral de Gestión Institucional. Art 7. El SGA cuenta con el Programa para el Uso Eficiente y Racional de la Energía. "Los Sistemas de Gestión de Energía SGE deben contar con los siguientes puntos, de los cuales la SIC ya tiene implementado": 1-Política: La Entidad cuenta con la política SIGI que integra la ambiental y allí se menciona el recurso natural de la Energía. En todo caso en las reuniones que tiene el ministerio toca hacer la consulta si es necesario una solo sobre el tema o si esta política integrada se puede manejar para dar cumplimiento 2- Objetivos: La Programa de energía tiene ya establecido un objetivo. 3- Meta: El programa cuenta con una meta de reducción de consumo de energía. 4- Plan de acción: Dentro del cronograma de actividades del SGA, se encuentran establecidas las actividades para el programa. 5- Indicadores: Se cuenta con un indicador en el SIGI donde trimestralmente se reporta. 6- Gestores: Como se indico se propone que se designe a la responsable del Sistema Ambiental como gestora en compañía de personal de mantenimiento locativo de la Entidad. | P37: Programa para el uso Eficiente y Racional para la Energía SC03-F14: https://sigi.sic.gov.co/SIGI/portal/document_tab.php?id_doc=801&version=5&opcion_regreso=1 Política. https://sedeelectronica.sic.gov.co/transparencia/normativa/normativa-de-la-entidad/politicas-lineamientos-y-manuales Objetivo, Meta, Indicadores https://sigi.sic.gov.co/SIGI/files/mod_documentos/anexos/2104/ANEXO%20NO.%202%20MATRIZ%20DE%20OBJETIVOS%2C%20METAS%20E%20INDICADORES%20DEL%20SGA%202025.pdf Cronograma de trabajo | Q37: X | T37: Art2: La SIC está determinada como comprador o consumidor teniendo en cuenta la siguiente definición, este término también se encuentra en el artículo 6 parágrafo 2 y artículo 7. Art 3, Se designo responsable del Sistema Ambiental como gestora en compañía de personal de mantenimiento locativo de la Entidad. Cada vigencia se establece una meta de reducción para el consumo de energía en la Entidad. Esta información se puede consulta el SIGI - Sistema Integral de Gestión Institucional. Art 7. El SGA cuenta con el Programa para el Uso Eficiente y Racional de la Energía. "Los Sistemas de Gestión de Energía SGE deben contar con los siguientes puntos, de los cuales la SIC ya tiene implementado": 1-Política: La Entidad cuenta con la política SIGI que integra la ambiental y allí se menciona el recurso natural de la Energía. En todo caso en las reuniones que tiene el ministerio toca hacer la consulta si es necesario una solo sobre el tema o si esta política integrada se puede manejar para dar cumplimiento 2- Objetivos: La Programa de energía tiene ya establecido un objetivo. 3- Meta: El programa cuenta con una meta de reducción de consumo de energía. 4- Plan de acción: Dentro del cronograma de actividades del SGA, se encuentran establecidas las actividades para el programa. 5- Indicadores: Se cuenta con un indicador en el SIGI donde trimestralmente se reporta. 6- Gestores: Como se indico se propone que se designe a la responsable del Sistema Ambiental como gestora en compañía de personal de mantenimiento locativo de la Entidad. | U37: Programa para el uso Eficiente y Racional para la Energía SC03-F14: https://sigi.sic.gov.co/SIGI/portal/document_tab.php?id_doc=801&version=5&opcion_regreso=1 Política. https://sedeelectronica.sic.gov.co/sites/default/files/normativa/POLIT2_%20%281%29.pdf Objetivo, Meta, Indicadores https://sigi.sic.gov.co/SIGI/files/mod_documentos/anexos/2104/ANEXO%20NO.%202%20MATRIZ%20DE%20OBJETIVOS%2C%20METAS%20E%20INDICADORES%20DEL%20SGA%202025.pdf Cronograma de trabajo
B38: =+B37+1 -> 31 | C38: FUENTES FIJAS | D38: Ministerio de Ambiente, Vivienda y Desarrollo Territorial | E38: Resolución | F38: 1309 de 2010 | G38: Modifica el protocolo para emisiones de fuentes fijas. En caso de contarse con plantas de emergencia con capacidad igual o superior a 1MW se debe generar mediciones conforme a la norma. | H38: Art 2. | I38: Vigente | J38: Sin observaciones | K38: No especifica | L38: X | O38: El edificio donde se encuentra la sede principal cuenta con una planta eléctrica de respaldo dedicada a atender las eventualidades que se presenten, su operación y mantenimiento está a cargo de la administración del edificio. Esto se revisa por medio de criterios ambientales | P38: Programa de Compras Públicas Sostenibles SC03-F20: https://sigi.sic.gov.co/SIGI/portal/document_tab.php?id_doc=955&version=6&opcion_regreso=1 Programa de gestión de emisiones atmosféricas y adaptación al cambio climático - SC03-F40 https://sigi.sic.gov.co/SIGI/portal/document_tab.php?id_doc=2426&version=3&opcion_regreso=1 Archivo de Gestión Ambiental - Programas de Compras Públicas Sostenibles - Ficha, declaración, verificación y soportes de criterios ambientales Archivo de Gestión Ambiental - Programa Emisiones Atmosféricas y Adaptación al Cambio Climático - Consumo de Combustible Planta Eléctrica SC03-F38 | S38: X | T38: Las bodegas cuentan con equipos UPS bifásicos de 6 KVA con autonomía de un minuto. No se cuenta con planta eléctrica | U38: NA | V38: Seguimiento a procesos de contratación con criterios ambientales. | W38: Profesionales del SGA Contratista tercerizado
B39: =+B38+1 -> 32 | C39: FUENTES MÓVILES | D39: Concejo de Bogotá D.C | E39: Acuerdo | F39: 79 de 2003 | G39: Por la cual se expide el Código de Policía de Bogotá, D.C. | H39: Art 56 Núm. 1 | I39: Vigente | J39: Sin observaciones | K39: No especifica | L39: X | O39: Inventario de vehículos: La Entidad dispone del inventario de vehículos mediante el formato SC03-F34 INVENTARIO DE VEHÍCULOS, los cuales para su operación deben contar con los respectivos Certificados de Revisión Tecnicomecánica y de emisiones contaminantes. Este requisito no se exige para los vehículos que entran en proceso de baja o ya no tienen operación. Así mismo, este certificado será exigible en los términos del Artículo 179 de la Ley 2294 del 19 de mayo de 2023 según el cual la primera revisión técnico-mecánica y de emisiones contaminantes del vehículo se hará al cumplir el quinto año, contado a partir de la fecha de expedición de la matrícula. Se verifica que la RTM se encuentren vigentes (1 año) Contrato de mantenimiento correctivo y preventivo: Los vehículos cuentan con el debido mantenimiento correctivo y preventivo, estos se realizan a través del contrato de servicio de mantenimiento mecánico preventivo y correctivo con suministro de repuestos y mano de obra para los vehículos de propiedad y a cargo de la Superintendencia de Industria y Comercio de cada vigencia. Rutas de la Entidad. Los vehículos que funcionan para las rutas de funcionarios de la Entidad, se da cumplimiento a través de la inclusión de criterios ambientales que se incluyen en el contrato de la respectiva vigencia. Rutas del consumidor. Los vehículos que funcionan para las rutas del consumidor de la Entidad, se da cumplimiento a través de la inclusión de criterios ambientales que se incluyen en el contrato de la respectiva vigencia. | P39: Programa de Compras Públicas Sostenibles SC03-F20: https://sigi.sic.gov.co/SIGI/portal/document_tab.php?id_doc=955&version=6&opcion_regreso=1 Programa de gestión de emisiones atmosféricas y adaptación al cambio climático - SC03-F40 https://sigi.sic.gov.co/SIGI/portal/document_tab.php?id_doc=2426&version=3&opcion_regreso=1 Revisión tecnicomecánica: -Formato SC03-F34 INVENTARIO DE VEHÍCULOS -Certificados de revisión tecnicomecánica cuando aplique a los vehículos en operación. Archivo de Gestión Ambiental - Programas de Compras Públicas Sostenibles - Ficha, declaración, verificación y soportes de criterios ambientales | S39: X | T39: Este ítem no aplica para esta sede, dado que en esta solo se realiza el manejo de archivo de la Entidad. | U39: NA | V39: Incluir criterios ambientales a los contratos que cuenten con parque automotor para el cumplimiento del objeto contractual. | W39: Grupo de Trabajo de Servicios Administrativos y Recursos Físicos. Grupo de trabajo de talento Humano Profesionales del SGA
B40: =+B39+1 -> 33 | C40: FUENTES MÓVILES | D40: Presidencia de la República | E40: Decreto | F40: 948 de 1995 | G40: Por el cual se reglamentan, parcialmente, la Ley 23 de 1973, los artículos 33, 73, 74, 75 y 76 del Decreto - Ley 2811 de 1974; los artículos 41, 42, 43, 44, 45, 48 y 49 de la Ley 9 de 1979; y la Ley 99 de 1993, en relación con la prevención y control de la contaminación atmosférica y la protección de la calidad del aire. | H40: Art. 1, Art. 14, Art. 18, Art. 26, Art. 36, Art. 37, Art. 38 (modificado por el Decreto 1552 de 2000, art 1º) Art. 39, Art. 40 (modificado por Decreto 1530 de 2002, art. 1), Art. 61, Art. 62, Art. 63, Art. 90, Art. 91 | I40: Vigente Compilado en el Decreto 1076 de 2015. | J40: Sin observaciones | K40: No especifica | N40: X | S40: X
B41: =+B40+1 -> 34 | C41: FUENTES MÓVILES | D41: Departamento Técnico Administrativo del Medio Ambiente DAMA | E41: Resolución | F41: 160 de 1996 | G41: ​Por la cual se reglamentan los niveles permisibles de emisión de contaminantes producidos por las fuentes móviles con motor a gasolina y diésel. | H41: Aplicación Total | I41: Vigente | J41: Sin observaciones | K41: No especifica | N41: X | S41: X
...

Sheet OTROS REQUISITOS
D1: MATRIZ DE IDENTIFICACIÓN, ACCESO Y EVALUACIÓN DE REQUISITOS LEGALES Y OTROS REQUISITOS | R1: =+'REQUISITOS LEGALES'!V1 -> CÓDIGO DEL FORMATO | S1: =+'REQUISITOS LEGALES'!W1 -> SC03-F02
R2: =+'REQUISITOS LEGALES'!V2 -> VERSIÓN DEL FORMATO | S2: ='REQUISITOS LEGALES'!$W$2 -> 10
R3: =+'REQUISITOS LEGALES'!V3 -> FECHA DE ACTUALIZACIÓN | S3: ='REQUISITOS LEGALES'!$W$3 -> 46171
B5: IDENTIFICACIÓN, REVISIÓN Y ACTUALIZACIÓN | J5: EVALUACIÓN
B6: No. de requisito | C6: Emitido por | D6: Jerarquía de la norma | E6: Número y año de la norma | F6: Título del requisito | G6: Aplicación Especifica | H6: Vigencia | I6: Observaciones Grupo de Trabajo Regulación | J6: Medio de verificación solicitado por la norma | K6: Cumplimiento Sede: PRINCIPAL Dirección: Calle 24 No. 7 - 43 | O6: Cumplimiento Sede: Bodegas: Dirección: Transversal 93 # 51 - 98 Bodegas 10-11, 44 y 48 | S6: Responsables del Cumplimiento
K7: SI | L7: NO | M7: Como se cumple en la Entidad | N7: Documentos relacionados | O7: SI | P7: NO | Q7: Como se cumple en la Entidad | R7: Documentos relacionados
B8: 1 | C8: Presidencia de la República | D8: Directiva Presidencial | E8: 04 de 2012 | F8: Eficiencia Administrativa y lineamientos de la política cero papel en la administración publica | G8: Aplicación Total | H8: Vigente | I8: Sin observaciones | J8: Aplicando las disposiciones establecidas en el documento | K8: X | M8: Circular Interna: La Entidad cuenta con la circular interna No. 15 de 2024 del 24 de junio de 2024 la cual tiene como asunto "Eficiencia administrativa y lineamientos de la política de cero papel". Circular Austeridad del gasto - Sostenibilidad Ambiental: La Entidad con el propósito de hacer un uso más eficiente y racional de la energía eléctrica en la Entidad, imparte instrucciones y lineamientos a favor del medio ambiente y las buenas prácticas para el ahorro de energía, esto se hace a través de la expedición de una circular interna donde se establecen medidas de obligatorio cumplimiento. Buenas practicas de energía y agua La Entidad toma las buenas practicas establecidas en las directivas presidenciales y circulares de manera que se cumplan todos los numerales. Las cuales se poder ver dentro de los programas para el uso Eficiente y Racional para la Energía y agua Criterios ambientales El Sistema de Gestión Ambiental da cumplimiento mediante la inclusión de criterios ambientales donde se requiere que la compra de equipos sean eficientes. Indicadores: El Sistema de Gestión Ambiental, cuenta con un indicador que mide el consumo y variación de la energía y agua en cada una de las sedes. Este indicador se encuentra ubicado para consulta en el SIGI proceso Gestión Ambiental. Teletrabajo: Se cuenta con la modalidad de teletrabajo para disminuir el consumo de energía y agua en la sede. | N8: Circular interna No. 15 de 2024: https://intranet.sic.gov.co/sites/default/files/2024-07/Circular%20interna%20No.015Cero%20Papel.pdf Programa para el uso Eficiente y Racional para la Energía: https://sigi.sic.gov.co/SIGI/portal/document_tab.php?id_doc=801&version=3&opcion_regreso=1 Circular Interna No. 13 de 2025: https://intranet.sic.gov.co/sites/default/files/2025-09/circular_interna_no_013_del_29_de_agosto_de_2025.pdf Indicadores del Sistema Gestión Ambiental - INTRASIC PROCESO GESTIÓN AMBIENTAL Programa para el uso Eficiente y Racional para la Energía SC03-F14: https://sigi.sic.gov.co/SIGI/portal/document_tab.php?id_doc=801&version=5&opcion_regreso=1 Programa de Gestión para el Uso Eficiente y Racional del Agua SC03-F15: https://sigi.sic.gov.co/SIGI/portal/document_tab.php?id_doc=802&version=6&opcion_regreso=1 Programa de Compras Públicas Sostenibles SC03-F20: https://sigi.sic.gov.co/SIGI/portal/document_tab.php?id_doc=955&version=6&opcion_regreso=1 Archivo de Gestión Ambiental - Instrumentos del Sistema de Gestión Ambiental -Informes de gestión ambiental. | O8: X | Q8: Criterios ambientales Se da cumplimiento mediante la inclusión de criterios ambiental en el proceso de contratación de arriendo, en la cual se le solicita al propietario dar cumplimiento a estas directrices. | R8: Programa de Compras Públicas Sostenibles SC03-F20: https://sigi.sic.gov.co/SIGI/portal/document_tab.php?id_doc=955&version=6&opcion_regreso=1 Archivo de Gestión Ambiental - Programas de Compras Públicas Sostenibles - Ficha, declaración, verificación y soportes de criterios ambientales | S8: Secretaria General Grupo de Trabajo de Servicios Administrativos y Recursos Físicos. Profesionales del SGA
B9: =+B8+1 -> 2 | C9: Superintendencia de Industria y Comercio | D9: Circular Interna | E9: 15 de 2024 | F9: Eficiencia Administrativa y Lineamientos de la Política de Cero Papel | G9: Aplicación Total | H9: Vigente | I9: Sin observaciones | J9: Aplicando las disposiciones establecidas en el documento | K9: X | O9: X
B10: =+B9+1 -> 3 | C10: ​Presidencia de la República | D10: Directiva Presidencial | E10: 08 de 2009 | F10: Ahorro de Energía | G10: Aplicación Total | H10: Vigente | I10: Sin observaciones | J10: Aplicando las disposiciones establecidas en el documento | K10: X | O10: X
B11: =+B10+1 -> 4 | C11: ​Presidencia de la República | D11: Directiva Presidencial | E11: 01 de 2024 | F11: Buenas prácticas para el ahorro de energía y agua | G11: Aplicación Total | H11: Vigente | I11: Sin observaciones | J11: Aplicando las disposiciones establecidas en el documento | K11: X | O11: X
B12: =+B11+1 -> 5 | C12: Presidencia de la República | D12: Directiva Presidencial | E12: 02 de 2015 | F12: Buenas Prácticas para el Ahorro de Energía y Agua | G12: Aplicación Total | H12: Vigente | I12: Sin observaciones | J12: Aplicando las disposiciones establecidas en el documento | K12: X | O12: X
B13: =+B12+1 -> 6 | C13: Presidencia de la República | D13: Directiva Presidencial | E13: 002 de 2023 | F13: Directrices de austeridad hacia un gasto público eficiente | G13: Aplicación Total | H13: Vigente | I13: Sin observaciones | J13: Aplicando las disposiciones establecidas en el documento | K13: X | O13: X
B14: =+B13+1 -> 7 | C14: Ministerio de Minas y Energía | D14: Circular | E14: 40021 de 2026 | F14: Buenas Prácticas para el uso eficiente de la Energía | G14: Aplicación Total | H14: Vigente | I14: Sin observaciones | J14: Aplicando las disposiciones establecidas en el documento | K14: X | O14: X
B15: =+B14+1 -> 8 | C15: Consejo de Bogotá D.C | D15: Acuerdo | E15: 946 de 2024 | F15: Por medio del cual se dictan lineamientos para promover buenas prácticas para el ahorro de energía eléctrica y agua en la Ciudad de Bogotá D.C. | G15: Art. 2 | H15: Vigente | I15: El acuerdo 946 de 2024 fue emitido por el Consejo de Bogotá D.C. - Se sugiere referenciar en la casilla E. RTA: Se incluye en la casilla C que se describe quien lo emitió Está bien, sin observaciones | J15: Aplicando las disposiciones establecidas en el documento | K15: X | M15: 1.La Entidad promueve la eficiencia en el uso equilibrado y armónico del agua y de la energía eléctrica. 2- 4- 6 Se realizan campañas para incentivar la transformación cultural en el ahorro del agua y uso eficiente de la energía eléctrica en la ciudad. 3. Se cuenta con el curso de inducción a los sistemas SST y SGA donde se muestras los programas de uso eficiente y racional de agua y energía 5. La sede principal no cuenta con mecanismos para el aprovechamiento de aguas lluvias en Bogotá. 7- 8. Se cuenta con indicadores que de consumo de energía eléctrica y agua los cuales se les realiza un análisis de acuerdo a su variación y/o reducción 9. La sede cuenta con luminarias led de bajo consumo con sensores 10. Se apoya a la Ciudad en la implementación de campañas de ahorro de energía y agua para los funcionarios y contratistas. | N15: Archivo de Gestión Ambiental - Instrumentos del Sistema de Gestión Ambiental - Informes de gestión ambiental | O15: X | Q15: 1.La Entidad promueve la eficiencia en el uso equilibrado y armónico del agua y de la energía eléctrica. 2- 4- 6 Se realizan campañas para incentivar la transformación cultural en el ahorro del agua y uso eficiente de la energía eléctrica en la ciudad. 3. Se cuenta con el curso de inducción a los sistemas SST y SGA donde se muestras los programas de uso eficiente y racional de agua y energía 5. La sede principal no cuenta con mecanismos para el aprovechamiento de aguas lluvias en Bogotá. 7- 8. Se cuenta con indicadores que de consumo de energía eléctrica y agua los cuales se les realiza un análisis de acuerdo a su variación y/o reducción 9. La sede cuenta con luminarias led de bajo consumo con sensores 10. Se apoya a la Ciudad en la implementación de campañas de ahorro de energía y agua para los funcionarios y contratistas. | R15: Archivo de Gestión Ambiental - Instrumentos del Sistema de Gestión Ambiental - Informes de gestión ambiental
B16: =+B15+1 -> 9 | C16: Ministerio de Hacienda y Crédito Público | D16: Decreto | E16: 199 de 2024 | F16: Por el cual se establece el Plan de Austeridad del Gasto 2024 para los órganos que hacen parte del Presupuesto General de la Nación | G16: Art. 14, 16, 22 | H16: Vigente | I16: Sin observaciones | J16: Seguimiento e informe: Las oficinas de control interno verificarán el cumplimiento de las disposiciones contenidas en el presente decreto y presentarán un informe trimestral. | K16: X | M16: La Oficina de Control Interno realiza el seguimiento y consolidación del informe de austeridad del gasto, en donde incluye los numerales que aplican al Sistema de Gestión Ambiental: - Parametrización del consumo de gasolina de cada uno de los vehículos. - Seguimiento del consumo de papel y tóner - Seguimiento del consumo de Energía - Sostenibilidad ambiental. | N16: Informes de austeridad del gasto Pagina de la SIC: https://sedeelectronica.sic.gov.co/nuestra-entidad/control-interno/informes-de-la-oficina/informes-de-austeridad | O16: NA | Q16: NA | R16: NA | S16: Grupo de Trabajo de Servicios Administrativos y Recursos Físicos. Profesionales del SGA Oficina de Control Interno Secretaría General
B17: =+B16+1 -> 10 | C17: Superintendencia de Industria y Comercio | D17: Circular | E17: 13 de 2025 | F17: Medidas de Austeridad del Gasto | G17: Aplicación Total | H17: Vigente | I17: Sin observaciones | K17: X | O17: NA
B18: =+B17+1 -> 11 | C18: ICONTEC | D18: Guía | E18: GTC-24 de 2009 3ra actualización | F18: Gestión Ambiental de Residuos Sólidos | G18: Guía Voluntaria e informativa | H18: Vigente | I18: Sin observaciones | J18: No especifica | K18: X | M18: La Entidad cuenta con el Programa de Gestión para el Manejo y Disposición de Residuos Sólidos Código - SC03-F13 y un Plan de Gestión Integral de Residuos Peligrosos -SC03-F16 en donde se encuentra documentado el manejo integral de todos los residuos que se generan en la Entidad. | N18: Programa de Gestión para el Manejo y Disposición de Residuos Sólidos SC03-F13: https://sigi.sic.gov.co/SIGI/portal/document_tab.php?id_doc=800&version=6&opcion_regreso=1 Plan de gestión integral de residuos peligrosos SC03-F16: https://sigi.sic.gov.co/SIGI/portal/document_tab.php?id_doc=803&version=4&opcion_regreso=1 | O18: X | Q18: La Entidad cuenta con el Programa de Gestión para el Manejo y Disposición de Residuos Sólidos Código - SC03-F13 y un Plan de Gestión Integral de Residuos Peligrosos -SC03-F16 en donde se encuentra documentado el manejo integral de todos los residuos que se generan en la Entidad. Criterios ambientales Se da cumplimiento mediante la inclusión de criterios ambiental en el proceso de contratación de arriendo, en la cual se le solicita al propietario dar cumplimiento a estas directrices. | R18: Programa de Gestión para el Manejo y Disposición de Residuos Sólidos SC03-F13: https://sigi.sic.gov.co/SIGI/portal/document_tab.php?id_doc=800&version=6&opcion_regreso=1 Plan de gestión integral de residuos peligrosos SC03-F16: https://sigi.sic.gov.co/SIGI/portal/document_tab.php?id_doc=803&version=4&opcion_regreso=1 Programa de Compras Públicas Sostenibles SC03-F20: https://sigi.sic.gov.co/SIGI/portal/document_tab.php?id_doc=955&version=6&opcion_regreso=1 Archivo de Gestión Ambiental - Programas de Compras Públicas Sostenibles - Ficha, declaración, verificación y soportes de criterios ambientales | S18: Grupo de Trabajo de Servicios Administrativos y Recursos Físicos. Profesionales del SGA
B19: =+B18+1 -> 12 | C19: ICONTEC | D19: NTC | E19: 5465 de 2006 | F19: Requisitos para el rotulado o etiquetado de productos de aseo y limpieza | G19: Aplicación Total | H19: Vigente | I19: Sin observaciones | J19: No especifica | K19: X | M19: Se cuenta con los planes de Gestión Integral de Residuos Peligrosos -SC03-F16 donde se tienen clasificados los residuos peligrosos teniendo en cuenta el Sistema Globalmente Armonizado. Se solicita al contratistas las fichas de datos de seguridad de los productos químicos, se verifican que cuenten con los numerales de la norma y se verifican que se encuentren actualizadas. | N19: Plan de gestión integral de residuos peligrosos SC03-F16: https://sigi.sic.gov.co/SIGI/portal/document_tab.php?id_doc=803&version=4&opcion_regreso=1 Archivo de Gestión Ambiental Digital - Planes de Gestión Integral de Residuos Peligrosos - Almacenamiento e Inventario de Productos Químicos SC03-F19 - Fichas técnicas y/o hojas de seguridad de los Residuos peligrosos - Registró de generación de residuos peligrosos SC03-F10 | O19: X | Q19: Se cuenta con los planes de Gestión Integral de Residuos Peligrosos -SC03-F16 donde se tienen clasificados los residuos peligrosos teniendo en cuenta el Sistema Globalmente Armonizado. Criterios ambientales Se da cumplimiento mediante la inclusión de criterios ambiental en el proceso de contratación de arriendo, en la cual se le solicita al propietario dar cumplimiento a estas directrices. | R19: Plan de gestión integral de residuos peligrosos - SC03-F16: https://sigi.sic.gov.co/SIGI/portal/document_tab.php?id_doc=803&version=4&opcion_regreso=1 Programa de Compras Públicas Sostenibles SC03-F20: https://sigi.sic.gov.co/SIGI/portal/document_tab.php?id_doc=955&version=6&opcion_regreso=1 Archivo de Gestión Ambiental Digital - Planes de Gestión Integral de Residuos Peligrosos - Almacenamiento e Inventario de Productos Químicos SC03-F19 - Fichas técnicas y/o hojas de seguridad de los Residuos peligrosos Archivo de Gestión Ambiental - Programas de Compras Públicas Sostenibles - Ficha, declaración, verificación y soportes de criterios ambientales | S19: Grupo de Trabajo de Servicios Administrativos y Recursos Físicos. Profesionales del SGA
B20: =+B19+1 -> 13 | C20: ICONTEC | D20: NTC | E20: 4435 de 2010 | F20: Transporte de mercancías: hojas de seguridad para materiales preparación | G20: Aplicación Total | H20: Vigente | I20: Sin observaciones | J20: No especifica | K20: X | O20: X
B21: =+B20+1 -> 14 | C21: ICONTEC | D21: NTC ISO | E21: 14001 de 2015 | F21: Sistemas de gestión ambiental — Requisitos con orientación para su uso | G21: Aplicación Total | H21: Vigente | I21: Sin observaciones | J21: No especifica | K21: X | M21: Certificación ISO 14001:2015: La Superintendencia de Industria y Comercio tiene implementado su Sistema de Gestión Ambiental, basándose en la norma NTC ISO 14001:2015, obteniendo su certificación inicial bajo esta versión en el año 2021. Bajo este entendido, a pesar de estar certificados por un ciclo de 3 años, la Entidad debe demostrar de forma periódica que el Sistema de Gestión Ambiental cumple con la norma ISO 14001:2015. Para el año 2024, la Entidad inicio un nuevo ciclo y renovó la certificación ambiental nuevamente por un ciclo de 3 años. A la fecha de la presente evaluación se registra el siguiente certificado No. SG-2024000766 Fecha Inicial de Certificación: Noviembre 03 del 2021 Fecha Restauración de la Certificación: Diciembre 06 del 2024 Certificado Válido Hasta: Noviembre 02 del 2027. | N21: Certificación ISO 14001:2015: certificado No. SG-2024000766 | O21: NA | Q21: NA | R21: NA | S21: Grupo de Trabajo de Servicios Administrativos y Recursos Físicos. Profesionales del SGA
B22: =+B21+1 -> 15 | C22: ICONTEC | D22: NTC ISO | E22: 14001 de 2015 Enmienda - 2024-02-22 | F22: Comunicado Conjunto IAF/ISO acerca de la incorporación de consideraciones sobre el Cambio Climático a las Normas de Sistemas de Gestión | G22: Aplicación Total | H22: Vigente | I22: Sin observaciones | J22: No especifica | K22: X | M22: El SGA ha actualizado toda su documentación, declarando la importancia de la incorporación del cambio climático en toda su documentación. Así mismo ha declarado en su política ambiental la importancia de este tema. | N22: Contexto Ambiental de La Entidad SC03-F25 https://sigi.sic.gov.co/SIGI/files/mod_documentos/anexos/2088/SC03-F25%20CONTEXTO%20AMBIENTAL%20DE%20LA%20ENTIDAD%202025-04-21.pdf Matriz DOFA del Contexto de la Organización del Sistema de Gestión Ambiental SC03-F30 https://sigi.sic.gov.co/SIGI/files/mod_documentos/anexos/2086/SC03-F30%20MATRIZ%20DOFA%20SGA%202025-04-21.pdf Política ambiental: https://sedeelectronica.sic.gov.co/sites/default/files/normativa/POLIT2_%20%281%29.pdf | O22: NA | Q22: NA | R22: NA | S22: Profesionales del SGA
B23: =+B22+1 -> 16 | C23: Ministerio de Ambiente Vivienda y Desarrollo Territorial | D23: Cartilla Unidad Técnica de Ozono | E23: 2006 | F23: El Mantenimiento de Sistemas de Refrigeración y Aire Acondicionado y la Certificación por Competencias Laborales | G23: Aplicación Total | H23: Vigente | I23: Sin observaciones | J23: No especifica | K23: X | M23: Se toma como referencia para solicitar dentro de los criterios ambientales la competencia laboral al personal que realiza el mantenimiento de los aires acondicionados en la sede. | N23: Archivo de Gestión Ambiental Programa de Compras Públicas Sostenibles - Ficha, declaración, verificación y soportes de criterios ambientales | O23: X | Q23: Se toma como referencia para solicitar dentro de los criterios ambientales la competencia laboral al personal que realiza el mantenimiento de los aires acondicionados en la sede. | R23: Programa de Compras Públicas Sostenibles SC03-F20: https://sigi.sic.gov.co/SIGI/portal/document_tab.php?id_doc=955&version=6&opcion_regreso=1 Archivo de Gestión Ambiental - Programas de Compras Públicas Sostenibles - Ficha, declaración, verificación y soportes de criterios ambientales | S23: Grupo de Trabajo de Servicios Administrativos y Recursos Físicos. Profesionales del SGA Contratistas externo
B24: =+B23+1 -> 17 | C24: Departamento Administrativo de la Función Pública | D24: NA | E24: NA | F24: Medición de desempeño institucional- Reconocimiento especial a las más de 4.900 entidades que diligenciaron oportunamente su información en el FURAG. Los datos suministrados serán vitales para la Medición del Desempeño Institucional y del Sistema de Control Interno. | G24: NA | H24: Vigente | I24: Sin observaciones | J24: No especifica | K24: X | M24: Se realiza reporte de acuerdo a lo solicitado por la Oficina Asesora de Planeación | N24: Informe FURAG | O24: NA | Q24: NA | R24: NA | S24: Grupo de Trabajo de Gestión documental y Archivo Grupo de Trabajo de Servicios Administrativos y Recursos Físicos. Profesionales del SGA
