{"text_format":"1","workbook":"xlsx","n_sheets":5,"sheets":["IMPRESIÓN","DE01-F12","TABLA DINÁMICA","Hoja1","LISTAS"],"not_rendered":{"charts":0,"images":1,"macros":1,"external_links":2,"defined_names":241,"comments":0,"pivot_tables":1},"unopened":[],"bounds":{"document_bytes":16777216,"sheet_cells":100000,"rows_first":2000,"rows_last":500,"rows_between":2000,"halvings":0,"cell_chars":16384,"cell_head_chars":4096},"cells_cut":0,"cells_raw":0,"read":"whole","date_system":"1900"}

{"sheet":"IMPRESIÓN","index":0,"n_rows":3006,"n_cols":15,"rows_kept":3006,"cut":false,"hidden":false,"merged":[[16,0,16,1],[16,2,16,14],[14,12,14,13],[10,7,10,8],[11,14,13,14],[12,5,12,6],[12,7,12,8],[13,5,13,6],[13,7,13,8],[11,0,13,2],[11,3,13,3],[11,4,13,4],[11,5,11,6],[11,7,11,8],[11,10,13,11],[11,12,13,13],[4,2,4,14],[2,3,2,14],[2,0,2,2],[4,0,4,1],[6,6,6,14],[6,1,6,4],[9,0,9,4],[9,5,9,9],[9,10,9,14],[10,10,10,11],[10,12,10,13],[10,0,10,2],[10,5,10,6]]}
[]
[]
[null,null,null,"SOLICITUD MODIFICACIÓN AL PLAN ANUAL DE ADQUISICIONES"]
[]
["Nombre del proyecto de inversión o Área de Funcionamiento",null,{"$f":"_xlfn.IFS('DE01-F12'!D3=\"Área de Funcionamiento\",'DE01-F12'!D5,'DE01-F12'!D3=\"Proyecto de inversión\",'DE01-F12'!D7,'DE01-F12'!D3=\"\",\"\")","v":""}]
[]
["Código Presupuestal",{"$f":"_xlfn.IFS('DE01-F12'!D3=\"Área de Funcionamiento\",\"NA\",'DE01-F12'!D3=\"Proyecto de inversión\",'DE01-F12'!C8,'DE01-F12'!C8=\"\",\"\")","v":""},null,null,null,"Objetivo General del Proyecto",{"$f":"_xlfn.IFS('DE01-F12'!D3=\"Área de Funcionamiento\",\"NA\",'DE01-F12'!D3=\"Proyecto de inversión\",'DE01-F12'!F8,'DE01-F12'!F8=\"\",\"\")","v":""}]
["VIGENCIA",{"$f":"'DE01-F12'!D2","v":2022},"N° MODIFICACIÓN",{"$f":"'DE01-F12'!F2","v":0}]
[]
["Elaborado por",null,null,null,null,"Revisado por",null,null,null,null,"Aprobado por"]
["Nombre",null,null,"Cargo","Firma","Nombre",null,"Cargo",null,"Firma","Nombre",null,"Cargo ",null,"Firma"]
[]
[]
[]
[null,null,null,null,null,null,null,null,null,null,null,null,"Fecha de publicación:"]
[]
["JUTIFICACIÓN DE LA(S) MODIFICACIÓN(ES) A SOLICITAR",null,{"$f":"IF('DE01-F12'!C10:K10=\"\",\"\",'DE01-F12'!C10:K10)","v":""}]
["Con base en las justificaciones expuestas, solicitamos las modificaciones de las líneas del Plan Anual de Adquisiciones que se muestran a continuación:"]
["Nro.","Códigos UNSPSC","Códigos CCP a nivel de uso presupuestal","Descripción Necesidad","Mes estimado de inicio de proceso de selección","Mes estimado de presentación de ofertas","Mes de registro del contrato","Duración estimada del contrato","Modalidad de selección ","Fuente de los recursos","Valor total estimado","Valor estimado en la vigencia actual","Vigencias futuras","Estado de solicitud de vigencias futuras","Cargo del responsable "]
[null,null,null,null,null,null,null,null,null,null,null,0]
[null,null,null,null,null,null,null,null,null,null,null,0]
[null,null,null,null,null,null,null,null,null,null,null,0]
[null,null,null,null,null,null,null,null,null,null,null,0]
[null,null,null,null,null,null,null,null,null,null,null,0]
[null,null,null,null,null,null,null,null,null,null,null,0]
[null,null,null,null,null,null,null,null,null,null,null,0]
[null,null,null,null,null,null,null,null,null,null,null,0]
[null,null,null,null,null,null,null,null,null,null,null,0]
[null,null,null,null,null,null,null,null,null,null,null,0]
[null,null,null,null,null,null,null,null,null,null,null,0]
[null,null,null,null,null,null,null,null,null,null,null,0]
[null,null,null,null,null,null,null,null,null,null,null,0]
[null,null,null,null,null,null,null,null,null,null,null,0]
[null,null,null,null,null,null,null,null,null,null,null,0]
[null,null,null,null,null,null,null,null,null,null,null,0]
[null,null,null,null,null,null,null,null,null,null,null,0]
[null,null,null,null,null,null,null,null,null,null,null,0]
[null,null,null,null,null,null,null,null,null,null,null,0]
[null,null,null,null,null,null,null,null,null,null,null,0]
[null,null,null,null,null,null,null,null,null,null,null,0]
[null,null,null,null,null,null,null,null,null,null,null,0]
[null,null,null,null,null,null,null,null,null,null,null,0]
[null,null,null,null,null,null,null,null,null,null,null,0]
[null,null,null,null,null,null,null,null,null,null,null,0]
[null,null,null,null,null,null,null,null,null,null,null,0]
[null,null,null,null,null,null,null,null,null,null,null,0]
[null,null,null,null,null,null,null,null,null,null,null,0]
[null,null,null,null,null,null,null,null,null,null,null,0]
[null,null,null,null,null,null,null,null,null,null,null,0]
[null,null,null,null,null,null,null,null,null,null,null,0]
[null,null,null,null,null,null,null,null,null,null,null,0]
[null,null,null,null,null,null,null,null,null,null,null,0]
[null,null,null,null,null,null,null,null,null,null,null,0]
[null,null,null,null,null,null,null,null,null,null,null,0]
[null,null,null,null,null,null,null,null,null,null,null,0]
[null,null,null,null,null,null,null,null,null,null,null,0]
[null,null,null,null,null,null,null,null,null,null,null,0]
[null,null,null,null,null,null,null,null,null,null,null,0]
[null,null,null,null,null,null,null,null,null,null,null,0]
[null,null,null,null,null,null,null,null,null,null,null,0]
[null,null,null,null,null,null,null,null,null,null,null,0]
[null,null,null,null,null,null,null,null,null,null,null,0]
[null,null,null,null,null,null,null,null,null,null,null,0]
[null,null,null,null,null,null,null,null,null,null,null,0]
[null,null,null,null,null,null,null,null,null,null,null,0]
[null,null,null,null,null,null,null,null,null,null,null,0]
[null,null,null,null,null,null,null,null,null,null,null,0]
[null,null,null,null,null,null,null,null,null,null,null,0]
[null,null,null,null,null,null,null,null,null,null,null,0]
[null,null,null,null,null,null,null,null,null,null,null,0]
[null,null,null,null,null,null,null,null,null,null,null,0]
[null,null,null,null,null,null,null,null,null,null,null,0]
[null,null,null,null,null,null,null,null,null,null,null,0]
[null,null,null,null,null,null,null,null,null,null,null,0]
[null,null,null,null,null,null,null,null,null,null,null,0]
[null,null,null,null,null,null,null,null,null,null,null,0]
[null,null,null,null,null,null,null,null,null,null,null,0]
[null,null,null,null,null,null,null,null,null,null,null,0]
[null,null,null,null,null,null,null,null,null,null,null,0]
[null,null,null,null,null,null,null,null,null,null,null,0]
[null,null,null,null,null,null,null,null,null,null,null,0]
[null,null,null,null,null,null,null,null,null,null,null,0]
[null,null,null,null,null,null,null,null,null,null,null,0]
[null,null,null,null,null,null,null,null,null,null,null,0]
[null,null,null,null,null,null,null,null,null,null,null,0]
[null,null,null,null,null,null,null,null,null,null,null,0]
[null,null,null,null,null,null,null,null,null,null,null,0]
[null,null,null,null,null,null,null,null,null,null,null,0]
[null,null,null,null,null,null,null,null,null,null,null,0]
[null,null,null,null,null,null,null,null,null,null,null,0]
[null,null,null,null,null,null,null,null,null,null,null,0]
[null,null,null,null,null,null,null,null,null,null,null,0]
[null,null,null,null,null,null,null,null,null,null,null,0]
[null,null,null,null,null,null,null,null,null,null,null,0]
[null,null,null,null,null,null,null,null,null,null,null,0]
[null,null,null,null,null,null,null,null,null,null,null,0]
[null,null,null,null,null,null,null,null,null,null,null,0]
[null,null,null,null,null,null,null,null,null,null,null,0]
[null,null,null,null,null,null,null,null,null,null,null,0]
[null,null,null,null,null,null,null,null,null,null,null,0]
[null,null,null,null,null,null,null,null,null,null,null,0]
[null,null,null,null,null,null,null,null,null,null,null,0]
[null,null,null,null,null,null,null,null,null,null,null,0]
[null,null,null,null,null,null,null,null,null,null,null,0]
[null,null,null,null,null,null,null,null,null,null,null,0]
[null,null,null,null,null,null,null,null,null,null,null,0]
[null,null,null,null,null,null,null,null,null,null,null,0]
[null,null,null,null,null,null,null,null,null,null,null,0]
[null,null,null,null,null,null,null,null,null,null,null,0]
[null,null,null,null,null,null,null,null,null,null,null,0]
[null,null,null,null,null,null,null,null,null,null,null,0]
[null,null,null,null,null,null,null,null,null,null,null,0]
[null,null,null,null,null,null,null,null,null,null,null,0]
[null,null,null,null,null,null,null,null,null,null,null,0]
[null,null,null,null,null,null,null,null,null,null,null,0]
[null,null,null,null,null,null,null,null,null,null,null,0]
[null,null,null,null,null,null,null,null,null,null,null,0]
[null,null,null,null,null,null,null,null,null,null,null,0]
[null,null,null,null,null,null,null,null,null,null,null,0]
[null,null,null,null,null,null,null,null,null,null,null,0]
[null,null,null,null,null,null,null,null,null,null,null,0]
[null,null,null,null,null,null,null,null,null,null,null,0]
[null,null,null,null,null,null,null,null,null,null,null,0]
[null,null,null,null,null,null,null,null,null,null,null,0]
[null,null,null,null,null,null,null,null,null,null,null,0]
[null,null,null,null,null,null,null,null,null,null,null,0]
[null,null,null,null,null,null,null,null,null,null,null,0]
[null,null,null,null,null,null,null,null,null,null,null,0]
[null,null,null,null,null,null,null,null,null,null,null,0]
[null,null,null,null,null,null,null,null,null,null,null,0]
[null,null,null,null,null,null,null,null,null,null,null,0]
[null,null,null,null,null,null,null,null,null,null,null,0]
[null,null,null,null,null,null,null,null,null,null,null,0]
[null,null,null,null,null,null,null,null,null,null,null,0]
[null,null,null,null,null,null,null,null,null,null,null,0]
[null,null,null,null,null,null,null,null,null,null,null,0]
[null,null,null,null,null,null,null,null,null,null,null,0]
[null,null,null,null,null,null,null,null,null,null,null,0]
[null,null,null,null,null,null,null,null,null,null,null,0]
[null,null,null,null,null,null,null,null,null,null,null,0]
[null,null,null,null,null,null,null,null,null,null,null,0]
[null,null,null,null,null,null,null,null,null,null,null,0]
[null,null,null,null,null,null,null,null,null,null,null,0]
[null,null,null,null,null,null,null,null,null,null,null,0]
[null,null,null,null,null,null,null,null,null,null,null,0]
[null,null,null,null,null,null,null,null,null,null,null,0]
[null,null,null,null,null,null,null,null,null,null,null,0]
[null,null,null,null,null,null,null,null,null,null,null,0]
[null,null,null,null,null,null,null,null,null,null,null,0]
[null,null,null,null,null,null,null,null,null,null,null,0]
[null,null,null,null,null,null,null,null,null,null,null,0]
[null,null,null,null,null,null,null,null,null,null,null,0]
[null,null,null,null,null,null,null,null,null,null,null,0]
[null,null,null,null,null,null,null,null,null,null,null,0]
[null,null,null,null,null,null,null,null,null,null,null,0]
[null,null,null,null,null,null,null,null,null,null,null,0]
[null,null,null,null,null,null,null,null,null,null,null,0]
[null,null,null,null,null,null,null,null,null,null,null,0]
[null,null,null,null,null,null,null,null,null,null,null,0]
[null,null,null,null,null,null,null,null,null,null,null,0]
[null,null,null,null,null,null,null,null,null,null,null,0]
[null,null,null,null,null,null,null,null,null,null,null,0]
[null,null,null,null,null,null,null,null,null,null,null,0]
[null,null,null,null,null,null,null,null,null,null,null,0]
[null,null,null,null,null,null,null,null,null,null,null,0]
[null,null,null,null,null,null,null,null,null,null,null,0]
[null,null,null,null,null,null,null,null,null,null,null,0]
[null,null,null,null,null,null,null,null,null,null,null,0]
[null,null,null,null,null,null,null,null,null,null,null,0]
[null,null,null,null,null,null,null,null,null,null,null,0]
[null,null,null,null,null,null,null,null,null,null,null,0]
[null,null,null,null,null,null,null,null,null,null,null,0]
[null,null,null,null,null,null,null,null,null,null,null,0]
[null,null,null,null,null,null,null,null,null,null,null,0]
[null,null,null,null,null,null,null,null,null,null,null,0]
[null,null,null,null,null,null,null,null,null,null,null,0]
[null,null,null,null,null,null,null,null,null,null,null,0]
[null,null,null,null,null,null,null,null,null,null,null,0]
[null,null,null,null,null,null,null,null,null,null,null,0]
[null,null,null,null,null,null,null,null,null,null,null,0]
[null,null,null,null,null,null,null,null,null,null,null,0]
[null,null,null,null,null,null,null,null,null,null,null,0]
[null,null,null,null,null,null,null,null,null,null,null,0]
[null,null,null,null,null,null,null,null,null,null,null,0]
[null,null,null,null,null,null,null,null,null,null,null,0]
[null,null,null,null,null,null,null,null,null,null,null,0]
[null,null,null,null,null,null,null,null,null,null,null,0]
[null,null,null,null,null,null,null,null,null,null,null,0]
[null,null,null,null,null,null,null,null,null,null,null,0]
[null,null,null,null,null,null,null,null,null,null,null,0]
[null,null,null,null,null,null,null,null,null,null,null,0]
[null,null,null,null,null,null,null,null,null,null,null,0]
[null,null,null,null,null,null,null,null,null,null,null,0]
[null,null,null,null,null,null,null,null,null,null,null,0]
[null,null,null,null,null,null,null,null,null,null,null,0]
[null,null,null,null,null,null,null,null,null,null,null,0]
[null,null,null,null,null,null,null,null,null,null,null,0]
[null,null,null,null,null,null,null,null,null,null,null,0]
[null,null,null,null,null,null,null,null,null,null,null,0]
[null,null,null,null,null,null,null,null,null,null,null,0]
[null,null,null,null,null,null,null,null,null,null,null,0]
[null,null,null,null,null,null,null,null,null,null,null,0]
[null,null,null,null,null,null,null,null,null,null,null,0]
[null,null,null,null,null,null,null,null,null,null,null,0]
[null,null,null,null,null,null,null,null,null,null,null,0]
[null,null,null,null,null,null,null,null,null,null,null,0]
[null,null,null,null,null,null,null,null,null,null,null,0]
[null,null,null,null,null,null,null,null,null,null,null,0]
[null,null,null,null,null,null,null,null,null,null,null,0]
[null,null,null,null,null,null,null,null,null,null,null,0]
[null,null,null,null,null,null,null,null,null,null,null,0]
[null,null,null,null,null,null,null,null,null,null,null,0]
[null,null,null,null,null,null,null,null,null,null,null,0]
[null,null,null,null,null,null,null,null,null,null,null,0]
[null,null,null,null,null,null,null,null,null,null,null,0]
[null,null,null,null,null,null,null,null,null,null,null,0]
[null,null,null,null,null,null,null,null,null,null,null,0]
[null,null,null,null,null,null,null,null,null,null,null,0]
[null,null,null,null,null,null,null,null,null,null,null,0]
[null,null,null,null,null,null,null,null,null,null,null,0]
[null,null,null,null,null,null,null,null,null,null,null,0]
[null,null,null,null,null,null,null,null,null,null,null,0]
[null,null,null,null,null,null,null,null,null,null,null,0]
[null,null,null,null,null,null,null,null,null,null,null,0]
[null,null,null,null,null,null,null,null,null,null,null,0]
[null,null,null,null,null,null,null,null,null,null,null,0]
[null,null,null,null,null,null,null,null,null,null,null,0]
[null,null,null,null,null,null,null,null,null,null,null,0]
[null,null,null,null,null,null,null,null,null,null,null,0]
[null,null,null,null,null,null,null,null,null,null,null,0]
[null,null,null,null,null,null,null,null,null,null,null,0]
[null,null,null,null,null,null,null,null,null,null,null,0]
[null,null,null,null,null,null,null,null,null,null,null,0]
[null,null,null,null,null,null,null,null,null,null,null,0]
[null,null,null,null,null,null,null,null,null,null,null,0]
[null,null,null,null,null,null,null,null,null,null,null,0]
[null,null,null,null,null,null,null,null,null,null,null,0]
[null,null,null,null,null,null,null,null,null,null,null,0]
[null,null,null,null,null,null,null,null,null,null,null,0]
[null,null,null,null,null,null,null,null,null,null,null,0]
[null,null,null,null,null,null,null,null,null,null,null,0]
[null,null,null,null,null,null,null,null,null,null,null,0]
[null,null,null,null,null,null,null,null,null,null,null,0]
[null,null,null,null,null,null,null,null,null,null,null,0]
[null,null,null,null,null,null,null,null,null,null,null,0]
[null,null,null,null,null,null,null,null,null,null,null,0]
[null,null,null,null,null,null,null,null,null,null,null,0]
[null,null,null,null,null,null,null,null,null,null,null,0]
[null,null,null,null,null,null,null,null,null,null,null,0]
[null,null,null,null,null,null,null,null,null,null,null,0]
[null,null,null,null,null,null,null,null,null,null,null,0]
[null,null,null,null,null,null,null,null,null,null,null,0]
[null,null,null,null,null,null,null,null,null,null,null,0]
[null,null,null,null,null,null,null,null,null,null,null,0]
[null,null,null,null,null,null,null,null,null,null,null,0]
[null,null,null,null,null,null,null,null,null,null,null,0]
[null,null,null,null,null,null,null,null,null,null,null,0]
[null,null,null,null,null,null,null,null,null,null,null,0]
[null,null,null,null,null,null,null,null,null,null,null,0]
[null,null,null,null,null,null,null,null,null,null,null,0]
[null,null,null,null,null,null,null,null,null,null,null,0]
[null,null,null,null,null,null,null,null,null,null,null,0]
[null,null,null,null,null,null,null,null,null,null,null,0]
[null,null,null,null,null,null,null,null,null,null,null,0]
[null,null,null,null,null,null,null,null,null,null,null,0]
[null,null,null,null,null,null,null,null,null,null,null,0]
[null,null,null,null,null,null,null,null,null,null,null,0]
[null,null,null,null,null,null,null,null,null,null,null,0]
[null,null,null,null,null,null,null,null,null,null,null,0]
[null,null,null,null,null,null,null,null,null,null,null,0]
[null,null,null,null,null,null,null,null,null,null,null,0]
[null,null,null,null,null,null,null,null,null,null,null,0]
[null,null,null,null,null,null,null,null,null,null,null,0]
[null,null,null,null,null,null,null,null,null,null,null,0]
[null,null,null,null,null,null,null,null,null,null,null,0]
[null,null,null,null,null,null,null,null,null,null,null,0]
[null,null,null,null,null,null,null,null,null,null,null,0]
[null,null,null,null,null,null,null,null,null,null,null,0]
[null,null,null,null,null,null,null,null,null,null,null,0]
[null,null,null,null,null,null,null,null,null,null,null,0]
[null,null,null,null,null,null,null,null,null,null,null,0]
[null,null,null,null,null,null,null,null,null,null,null,0]
[null,null,null,null,null,null,null,null,null,null,null,0]
[null,null,null,null,null,null,null,null,null,null,null,0]
[null,null,null,null,null,null,null,null,null,null,null,0]
[null,null,null,null,null,null,null,null,null,null,null,0]
[null,null,null,null,null,null,null,null,null,null,null,0]
[null,null,null,null,null,null,null,null,null,null,null,0]
[null,null,null,null,null,null,null,null,null,null,null,0]
[null,null,null,null,null,null,null,null,null,null,null,0]
[null,null,null,null,null,null,null,null,null,null,null,0]
[null,null,null,null,null,null,null,null,null,null,null,0]
[null,null,null,null,null,null,null,null,null,null,null,0]
[null,null,null,null,null,null,null,null,null,null,null,0]
[null,null,null,null,null,null,null,null,null,null,null,0]
[null,null,null,null,null,null,null,null,null,null,null,0]
[null,null,null,null,null,null,null,null,null,null,null,0]
[null,null,null,null,null,null,null,null,null,null,null,0]
[null,null,null,null,null,null,null,null,null,null,null,0]
[null,null,null,null,null,null,null,null,null,null,null,0]
[null,null,null,null,null,null,null,null,null,null,null,0]
[null,null,null,null,null,null,null,null,null,null,null,0]
[null,null,null,null,null,null,null,null,null,null,null,0]
[null,null,null,null,null,null,null,null,null,null,null,0]
[null,null,null,null,null,null,null,null,null,null,null,0]
[null,null,null,null,null,null,null,null,null,null,null,0]
[null,null,null,null,null,null,null,null,null,null,null,0]
[null,null,null,null,null,null,null,null,null,null,null,0]
[null,null,null,null,null,null,null,null,null,null,null,0]
[null,null,null,null,null,null,null,null,null,null,null,0]
[null,null,null,null,null,null,null,null,null,null,null,0]
[null,null,null,null,null,null,null,null,null,null,null,0]
[null,null,null,null,null,null,null,null,null,null,null,0]
[null,null,null,null,null,null,null,null,null,null,null,0]
[null,null,null,null,null,null,null,null,null,null,null,0]
[null,null,null,null,null,null,null,null,null,null,null,0]
[null,null,null,null,null,null,null,null,null,null,null,0]
[null,null,null,null,null,null,null,null,null,null,null,0]
[null,null,null,null,null,null,null,null,null,null,null,0]
[null,null,null,null,null,null,null,null,null,null,null,0]
[null,null,null,null,null,null,null,null,null,null,null,0]
[null,null,null,null,null,null,null,null,null,null,null,0]
[null,null,null,null,null,null,null,null,null,null,null,0]
[null,null,null,null,null,null,null,null,null,null,null,0]
[null,null,null,null,null,null,null,null,null,null,null,0]
[null,null,null,null,null,null,null,null,null,null,null,0]
[null,null,null,null,null,null,null,null,null,null,null,0]
[null,null,null,null,null,null,null,null,null,null,null,0]
[null,null,null,null,null,null,null,null,null,null,null,0]
[null,null,null,null,null,null,null,null,null,null,null,0]
[null,null,null,null,null,null,null,null,null,null,null,0]
[null,null,null,null,null,null,null,null,null,null,null,0]
[null,null,null,null,null,null,null,null,null,null,null,0]
[null,null,null,null,null,null,null,null,null,null,null,0]
[null,null,null,null,null,null,null,null,null,null,null,0]
[null,null,null,null,null,null,null,null,null,null,null,0]
[null,null,null,null,null,null,null,null,null,null,null,0]
[null,null,null,null,null,null,null,null,null,null,null,0]
[null,null,null,null,null,null,null,null,null,null,null,0]
[null,null,null,null,null,null,null,null,null,null,null,0]
[null,null,null,null,null,null,null,null,null,null,null,0]
[null,null,null,null,null,null,null,null,null,null,null,0]
[null,null,null,null,null,null,null,null,null,null,null,0]
[null,null,null,null,null,null,null,null,null,null,null,0]
[null,null,null,null,null,null,null,null,null,null,null,0]
[null,null,null,null,null,null,null,null,null,null,null,0]
[null,null,null,null,null,null,null,null,null,null,null,0]
[null,null,null,null,null,null,null,null,null,null,null,0]
[null,null,null,null,null,null,null,null,null,null,null,0]
[null,null,null,null,null,null,null,null,null,null,null,0]
[null,null,null,null,null,null,null,null,null,null,null,0]
[null,null,null,null,null,null,null,null,null,null,null,0]
[null,null,null,null,null,null,null,null,null,null,null,0]
[null,null,null,null,null,null,null,null,null,null,null,0]
[null,null,null,null,null,null,null,null,null,null,null,0]
[null,null,null,null,null,null,null,null,null,null,null,0]
[null,null,null,null,null,null,null,null,null,null,null,0]
[null,null,null,null,null,null,null,null,null,null,null,0]
[null,null,null,null,null,null,null,null,null,null,null,0]
[null,null,null,null,null,null,null,null,null,null,null,0]
[null,null,null,null,null,null,null,null,null,null,null,0]
[null,null,null,null,null,null,null,null,null,null,null,0]
[null,null,null,null,null,null,null,null,null,null,null,0]
[null,null,null,null,null,null,null,null,null,null,null,0]
[null,null,null,null,null,null,null,null,null,null,null,0]
[null,null,null,null,null,null,null,null,null,null,null,0]
[null,null,null,null,null,null,null,null,null,null,null,0]
[null,null,null,null,null,null,null,null,null,null,null,0]
[null,null,null,null,null,null,null,null,null,null,null,0]
[null,null,null,null,null,null,null,null,null,null,null,0]
[null,null,null,null,null,null,null,null,null,null,null,0]
[null,null,null,null,null,null,null,null,null,null,null,0]
[null,null,null,null,null,null,null,null,null,null,null,0]
[null,null,null,null,null,null,null,null,null,null,null,0]
[null,null,null,null,null,null,null,null,null,null,null,0]
[null,null,null,null,null,null,null,null,null,null,null,0]
[null,null,null,null,null,null,null,null,null,null,null,0]
[null,null,null,null,null,null,null,null,null,null,null,0]
[null,null,null,null,null,null,null,null,null,null,null,0]
[null,null,null,null,null,null,null,null,null,null,null,0]
[null,null,null,null,null,null,null,null,null,null,null,0]
[null,null,null,null,null,null,null,null,null,null,null,0]
[null,null,null,null,null,null,null,null,null,null,null,0]
[null,null,null,null,null,null,null,null,null,null,null,0]
[null,null,null,null,null,null,null,null,null,null,null,0]
[null,null,null,null,null,null,null,null,null,null,null,0]
[null,null,null,null,null,null,null,null,null,null,null,0]
[null,null,null,null,null,null,null,null,null,null,null,0]
[null,null,null,null,null,null,null,null,null,null,null,0]
[null,null,null,null,null,null,null,null,null,null,null,0]
[null,null,null,null,null,null,null,null,null,null,null,0]
[null,null,null,null,null,null,null,null,null,null,null,0]
[null,null,null,null,null,null,null,null,null,null,null,0]
[null,null,null,null,null,null,null,null,null,null,null,0]
[null,null,null,null,null,null,null,null,null,null,null,0]
[null,null,null,null,null,null,null,null,null,null,null,0]
[null,null,null,null,null,null,null,null,null,null,null,0]
[null,null,null,null,null,null,null,null,null,null,null,0]
[null,null,null,null,null,null,null,null,null,null,null,0]
[null,null,null,null,null,null,null,null,null,null,null,0]
[null,null,null,null,null,null,null,null,null,null,null,0]
[null,null,null,null,null,null,null,null,null,null,null,0]
[null,null,null,null,null,null,null,null,null,null,null,0]
[null,null,null,null,null,null,null,null,null,null,null,0]
[null,null,null,null,null,null,null,null,null,null,null,0]
[null,null,null,null,null,null,null,null,null,null,null,0]
[null,null,null,null,null,null,null,null,null,null,null,0]
[null,null,null,null,null,null,null,null,null,null,null,0]
[null,null,null,null,null,null,null,null,null,null,null,0]
[null,null,null,null,null,null,null,null,null,null,null,0]
[null,null,null,null,null,null,null,null,null,null,null,0]
[null,null,null,null,null,null,null,null,null,null,null,0]
[null,null,null,null,null,null,null,null,null,null,null,0]
[null,null,null,null,null,null,null,null,null,null,null,0]
[null,null,null,null,null,null,null,null,null,null,null,0]
[null,null,null,null,null,null,null,null,null,null,null,0]
[null,null,null,null,null,null,null,null,null,null,null,0]
[null,null,null,null,null,null,null,null,null,null,null,0]
[null,null,null,null,null,null,null,null,null,null,null,0]
[null,null,null,null,null,null,null,null,null,null,null,0]
[null,null,null,null,null,null,null,null,null,null,null,0]
[null,null,null,null,null,null,null,null,null,null,null,0]
[null,null,null,null,null,null,null,null,null,null,null,0]
[null,null,null,null,null,null,null,null,null,null,null,0]
[null,null,null,null,null,null,null,null,null,null,null,0]
[null,null,null,null,null,null,null,null,null,null,null,0]
[null,null,null,null,null,null,null,null,null,null,null,0]
[null,null,null,null,null,null,null,null,null,null,null,0]
[null,null,null,null,null,null,null,null,null,null,null,0]
[null,null,null,null,null,null,null,null,null,null,null,0]
[null,null,null,null,null,null,null,null,null,null,null,0]
[null,null,null,null,null,null,null,null,null,null,null,0]
[null,null,null,null,null,null,null,null,null,null,null,0]
[null,null,null,null,null,null,null,null,null,null,null,0]
[null,null,null,null,null,null,null,null,null,null,null,0]
[null,null,null,null,null,null,null,null,null,null,null,0]
[null,null,null,null,null,null,null,null,null,null,null,0]
[null,null,null,null,null,null,null,null,null,null,null,0]
[null,null,null,null,null,null,null,null,null,null,null,0]
[null,null,null,null,null,null,null,null,null,null,null,0]
[null,null,null,null,null,null,null,null,null,null,null,0]
[null,null,null,null,null,null,null,null,null,null,null,0]
[null,null,null,null,null,null,null,null,null,null,null,0]
[null,null,null,null,null,null,null,null,null,null,null,0]
[null,null,null,null,null,null,null,null,null,null,null,0]
[null,null,null,null,null,null,null,null,null,null,null,0]
[null,null,null,null,null,null,null,null,null,null,null,0]
[null,null,null,null,null,null,null,null,null,null,null,0]
[null,null,null,null,null,null,null,null,null,null,null,0]
[null,null,null,null,null,null,null,null,null,null,null,0]
[null,null,null,null,null,null,null,null,null,null,null,0]
[null,null,null,null,null,null,null,null,null,null,null,0]
[null,null,null,null,null,null,null,null,null,null,null,0]
[null,null,null,null,null,null,null,null,null,null,null,0]
[null,null,null,null,null,null,null,null,null,null,null,0]
[null,null,null,null,null,null,null,null,null,null,null,0]
[null,null,null,null,null,null,null,null,null,null,null,0]
[null,null,null,null,null,null,null,null,null,null,null,0]
[null,null,null,null,null,null,null,null,null,null,null,0]
[null,null,null,null,null,null,null,null,null,null,null,0]
[null,null,null,null,null,null,null,null,null,null,null,0]
[null,null,null,null,null,null,null,null,null,null,null,0]
[null,null,null,null,null,null,null,null,null,null,null,0]
[null,null,null,null,null,null,null,null,null,null,null,0]
[null,null,null,null,null,null,null,null,null,null,null,0]
[null,null,null,null,null,null,null,null,null,null,null,0]
[null,null,null,null,null,null,null,null,null,null,null,0]
[null,null,null,null,null,null,null,null,null,null,null,0]
[null,null,null,null,null,null,null,null,null,null,null,0]
[null,null,null,null,null,null,null,null,null,null,null,0]
[null,null,null,null,null,null,null,null,null,null,null,0]
[null,null,null,null,null,null,null,null,null,null,null,0]
[null,null,null,null,null,null,null,null,null,null,null,0]
[null,null,null,null,null,null,null,null,null,null,null,0]
[null,null,null,null,null,null,null,null,null,null,null,0]
[null,null,null,null,null,null,null,null,null,null,null,0]
[null,null,null,null,null,null,null,null,null,null,null,0]
[null,null,null,null,null,null,null,null,null,null,null,0]
[null,null,null,null,null,null,null,null,null,null,null,0]
[null,null,null,null,null,null,null,null,null,null,null,0]
[null,null,null,null,null,null,null,null,null,null,null,0]
[null,null,null,null,null,null,null,null,null,null,null,0]
[null,null,null,null,null,null,null,null,null,null,null,0]
[null,null,null,null,null,null,null,null,null,null,null,0]
[null,null,null,null,null,null,null,null,null,null,null,0]
[null,null,null,null,null,null,null,null,null,null,null,0]
[null,null,null,null,null,null,null,null,null,null,null,0]
[null,null,null,null,null,null,null,null,null,null,null,0]
[null,null,null,null,null,null,null,null,null,null,null,0]
[null,null,null,null,null,null,null,null,null,null,null,0]
[null,null,null,null,null,null,null,null,null,null,null,0]
[null,null,null,null,null,null,null,null,null,null,null,0]
[null,null,null,null,null,null,null,null,null,null,null,0]
[null,null,null,null,null,null,null,null,null,null,null,0]
[null,null,null,null,null,null,null,null,null,null,null,0]
[null,null,null,null,null,null,null,null,null,null,null,0]
[null,null,null,null,null,null,null,null,null,null,null,0]
[null,null,null,null,null,null,null,null,null,null,null,0]
[null,null,null,null,null,null,null,null,null,null,null,0]
[null,null,null,null,null,null,null,null,null,null,null,0]
[null,null,null,null,null,null,null,null,null,null,null,0]
[null,null,null,null,null,null,null,null,null,null,null,0]
[null,null,null,null,null,null,null,null,null,null,null,0]
[null,null,null,null,null,null,null,null,null,null,null,0]
[null,null,null,null,null,null,null,null,null,null,null,0]
[null,null,null,null,null,null,null,null,null,null,null,0]
[null,null,null,null,null,null,null,null,null,null,null,0]
[null,null,null,null,null,null,null,null,null,null,null,0]
[null,null,null,null,null,null,null,null,null,null,null,0]
[null,null,null,null,null,null,null,null,null,null,null,0]
[null,null,null,null,null,null,null,null,null,null,null,0]
[null,null,null,null,null,null,null,null,null,null,null,0]
[null,null,null,null,null,null,null,null,null,null,null,0]
[null,null,null,null,null,null,null,null,null,null,null,0]
[null,null,null,null,null,null,null,null,null,null,null,0]
[null,null,null,null,null,null,null,null,null,null,null,0]
[null,null,null,null,null,null,null,null,null,null,null,0]
[null,null,null,null,null,null,null,null,null,null,null,0]
[null,null,null,null,null,null,null,null,null,null,null,0]
[null,null,null,null,null,null,null,null,null,null,null,0]
[null,null,null,null,null,null,null,null,null,null,null,0]
[null,null,null,null,null,null,null,null,null,null,null,0]
[null,null,null,null,null,null,null,null,null,null,null,0]
[null,null,null,null,null,null,null,null,null,null,null,0]
[null,null,null,null,null,null,null,null,null,null,null,0]
[null,null,null,null,null,null,null,null,null,null,null,0]
[null,null,null,null,null,null,null,null,null,null,null,0]
[null,null,null,null,null,null,null,null,null,null,null,0]
[null,null,null,null,null,null,null,null,null,null,null,0]
[null,null,null,null,null,null,null,null,null,null,null,0]
[null,null,null,null,null,null,null,null,null,null,null,0]
[null,null,null,null,null,null,null,null,null,null,null,0]
[null,null,null,null,null,null,null,null,null,null,null,0]
[null,null,null,null,null,null,null,null,null,null,null,0]
[null,null,null,null,null,null,null,null,null,null,null,0]
[null,null,null,null,null,null,null,null,null,null,null,0]
[null,null,null,null,null,null,null,null,null,null,null,0]
[null,null,null,null,null,null,null,null,null,null,null,0]
[null,null,null,null,null,null,null,null,null,null,null,0]
[null,null,null,null,null,null,null,null,null,null,null,0]
[null,null,null,null,null,null,null,null,null,null,null,0]
[null,null,null,null,null,null,null,null,null,null,null,0]
[null,null,null,null,null,null,null,null,null,null,null,0]
[null,null,null,null,null,null,null,null,null,null,null,0]
[null,null,null,null,null,null,null,null,null,null,null,0]
[null,null,null,null,null,null,null,null,null,null,null,0]
[null,null,null,null,null,null,null,null,null,null,null,0]
[null,null,null,null,null,null,null,null,null,null,null,0]
[null,null,null,null,null,null,null,null,null,null,null,0]
[null,null,null,null,null,null,null,null,null,null,null,0]
[null,null,null,null,null,null,null,null,null,null,null,0]
[null,null,null,null,null,null,null,null,null,null,null,0]
[null,null,null,null,null,null,null,null,null,null,null,0]
[null,null,null,null,null,null,null,null,null,null,null,0]
[null,null,null,null,null,null,null,null,null,null,null,0]
[null,null,null,null,null,null,null,null,null,null,null,0]
[null,null,null,null,null,null,null,null,null,null,null,0]
[null,null,null,null,null,null,null,null,null,null,null,0]
[null,null,null,null,null,null,null,null,null,null,null,0]
[null,null,null,null,null,null,null,null,null,null,null,0]
[null,null,null,null,null,null,null,null,null,null,null,0]
[null,null,null,null,null,null,null,null,null,null,null,0]
[null,null,null,null,null,null,null,null,null,null,null,0]
[null,null,null,null,null,null,null,null,null,null,null,0]
[null,null,null,null,null,null,null,null,null,null,null,0]
[null,null,null,null,null,null,null,null,null,null,null,0]
[null,null,null,null,null,null,null,null,null,null,null,0]
[null,null,null,null,null,null,null,null,null,null,null,0]
[null,null,null,null,null,null,null,null,null,null,null,0]
[null,null,null,null,null,null,null,null,null,null,null,0]
[null,null,null,null,null,null,null,null,null,null,null,0]
[null,null,null,null,null,null,null,null,null,null,null,0]
[null,null,null,null,null,null,null,null,null,null,null,0]
[null,null,null,null,null,null,null,null,null,null,null,0]
[null,null,null,null,null,null,null,null,null,null,null,0]
[null,null,null,null,null,null,null,null,null,null,null,0]
[null,null,null,null,null,null,null,null,null,null,null,0]
[null,null,null,null,null,null,null,null,null,null,null,0]
[null,null,null,null,null,null,null,null,null,null,null,0]
[null,null,null,null,null,null,null,null,null,null,null,0]
[null,null,null,null,null,null,null,null,null,null,null,0]
[null,null,null,null,null,null,null,null,null,null,null,0]
[null,null,null,null,null,null,null,null,null,null,null,0]
[null,null,null,null,null,null,null,null,null,null,null,0]
[null,null,null,null,null,null,null,null,null,null,null,0]
[null,null,null,null,null,null,null,null,null,null,null,0]
[null,null,null,null,null,null,null,null,null,null,null,0]
[null,null,null,null,null,null,null,null,null,null,null,0]
[null,null,null,null,null,null,null,null,null,null,null,0]
[null,null,null,null,null,null,null,null,null,null,null,0]
[null,null,null,null,null,null,null,null,null,null,null,0]
[null,null,null,null,null,null,null,null,null,null,null,0]
[null,null,null,null,null,null,null,null,null,null,null,0]
[null,null,null,null,null,null,null,null,null,null,null,0]
[null,null,null,null,null,null,null,null,null,null,null,0]
[null,null,null,null,null,null,null,null,null,null,null,0]
[null,null,null,null,null,null,null,null,null,null,null,0]
[null,null,null,null,null,null,null,null,null,null,null,0]
[null,null,null,null,null,null,null,null,null,null,null,0]
[null,null,null,null,null,null,null,null,null,null,null,0]
[null,null,null,null,null,null,null,null,null,null,null,0]
[null,null,null,null,null,null,null,null,null,null,null,0]
[null,null,null,null,null,null,null,null,null,null,null,0]
[null,null,null,null,null,null,null,null,null,null,null,0]
[null,null,null,null,null,null,null,null,null,null,null,0]
[null,null,null,null,null,null,null,null,null,null,null,0]
[null,null,null,null,null,null,null,null,null,null,null,0]
[null,null,null,null,null,null,null,null,null,null,null,0]
[null,null,null,null,null,null,null,null,null,null,null,0]
[null,null,null,null,null,null,null,null,null,null,null,0]
[null,null,null,null,null,null,null,null,null,null,null,0]
[null,null,null,null,null,null,null,null,null,null,null,0]
[null,null,null,null,null,null,null,null,null,null,null,0]
[null,null,null,null,null,null,null,null,null,null,null,0]
[null,null,null,null,null,null,null,null,null,null,null,0]
[null,null,null,null,null,null,null,null,null,null,null,0]
[null,null,null,null,null,null,null,null,null,null,null,0]
[null,null,null,null,null,null,null,null,null,null,null,0]
[null,null,null,null,null,null,null,null,null,null,null,0]
[null,null,null,null,null,null,null,null,null,null,null,0]
[null,null,null,null,null,null,null,null,null,null,null,0]
[null,null,null,null,null,null,null,null,null,null,null,0]
[null,null,null,null,null,null,null,null,null,null,null,0]
[null,null,null,null,null,null,null,null,null,null,null,0]
[null,null,null,null,null,null,null,null,null,null,null,0]
[null,null,null,null,null,null,null,null,null,null,null,0]
[null,null,null,null,null,null,null,null,null,null,null,0]
[null,null,null,null,null,null,null,null,null,null,null,0]
[null,null,null,null,null,null,null,null,null,null,null,0]
[null,null,null,null,null,null,null,null,null,null,null,0]
[null,null,null,null,null,null,null,null,null,null,null,0]
[null,null,null,null,null,null,null,null,null,null,null,0]
[null,null,null,null,null,null,null,null,null,null,null,0]
[null,null,null,null,null,null,null,null,null,null,null,0]
[null,null,null,null,null,null,null,null,null,null,null,0]
[null,null,null,null,null,null,null,null,null,null,null,0]
[null,null,null,null,null,null,null,null,null,null,null,0]
[null,null,null,null,null,null,null,null,null,null,null,0]
[null,null,null,null,null,null,null,null,null,null,null,0]
[null,null,null,null,null,null,null,null,null,null,null,0]
[null,null,null,null,null,null,null,null,null,null,null,0]
[null,null,null,null,null,null,null,null,null,null,null,0]
[null,null,null,null,null,null,null,null,null,null,null,0]
[null,null,null,null,null,null,null,null,null,null,null,0]
[null,null,null,null,null,null,null,null,null,null,null,0]
[null,null,null,null,null,null,null,null,null,null,null,0]
[null,null,null,null,null,null,null,null,null,null,null,0]
[null,null,null,null,null,null,null,null,null,null,null,0]
[null,null,null,null,null,null,null,null,null,null,null,0]
[null,null,null,null,null,null,null,null,null,null,null,0]
[null,null,null,null,null,null,null,null,null,null,null,0]
[null,null,null,null,null,null,null,null,null,null,null,0]
[null,null,null,null,null,null,null,null,null,null,null,0]
[null,null,null,null,null,null,null,null,null,null,null,0]
[null,null,null,null,null,null,null,null,null,null,null,0]
[null,null,null,null,null,null,null,null,null,null,null,0]
[null,null,null,null,null,null,null,null,null,null,null,0]
[null,null,null,null,null,null,null,null,null,null,null,0]
[null,null,null,null,null,null,null,null,null,null,null,0]
[null,null,null,null,null,null,null,null,null,null,null,0]
[null,null,null,null,null,null,null,null,null,null,null,0]
[null,null,null,null,null,null,null,null,null,null,null,0]
[null,null,null,null,null,null,null,null,null,null,null,0]
[null,null,null,null,null,null,null,null,null,null,null,0]
[null,null,null,null,null,null,null,null,null,null,null,0]
[null,null,null,null,null,null,null,null,null,null,null,0]
[null,null,null,null,null,null,null,null,null,null,null,0]
[null,null,null,null,null,null,null,null,null,null,null,0]
[null,null,null,null,null,null,null,null,null,null,null,0]
[null,null,null,null,null,null,null,null,null,null,null,0]
[null,null,null,null,null,null,null,null,null,null,null,0]
[null,null,null,null,null,null,null,null,null,null,null,0]
[null,null,null,null,null,null,null,null,null,null,null,0]
[null,null,null,null,null,null,null,null,null,null,null,0]
[null,null,null,null,null,null,null,null,null,null,null,0]
[null,null,null,null,null,null,null,null,null,null,null,0]
[null,null,null,null,null,null,null,null,null,null,null,0]
[null,null,null,null,null,null,null,null,null,null,null,0]
[null,null,null,null,null,null,null,null,null,null,null,0]
[null,null,null,null,null,null,null,null,null,null,null,0]
[null,null,null,null,null,null,null,null,null,null,null,0]
[null,null,null,null,null,null,null,null,null,null,null,0]
[null,null,null,null,null,null,null,null,null,null,null,0]
[null,null,null,null,null,null,null,null,null,null,null,0]
[null,null,null,null,null,null,null,null,null,null,null,0]
[null,null,null,null,null,null,null,null,null,null,null,0]
[null,null,null,null,null,null,null,null,null,null,null,0]
[null,null,null,null,null,null,null,null,null,null,null,0]
[null,null,null,null,null,null,null,null,null,null,null,0]
[null,null,null,null,null,null,null,null,null,null,null,0]
[null,null,null,null,null,null,null,null,null,null,null,0]
[null,null,null,null,null,null,null,null,null,null,null,0]
[null,null,null,null,null,null,null,null,null,null,null,0]
[null,null,null,null,null,null,null,null,null,null,null,0]
[null,null,null,null,null,null,null,null,null,null,null,0]
[null,null,null,null,null,null,null,null,null,null,null,0]
[null,null,null,null,null,null,null,null,null,null,null,0]
[null,null,null,null,null,null,null,null,null,null,null,0]
[null,null,null,null,null,null,null,null,null,null,null,0]
[null,null,null,null,null,null,null,null,null,null,null,0]
[null,null,null,null,null,null,null,null,null,null,null,0]
[null,null,null,null,null,null,null,null,null,null,null,0]
[null,null,null,null,null,null,null,null,null,null,null,0]
[null,null,null,null,null,null,null,null,null,null,null,0]
[null,null,null,null,null,null,null,null,null,null,null,0]
[null,null,null,null,null,null,null,null,null,null,null,0]
[null,null,null,null,null,null,null,null,null,null,null,0]
[null,null,null,null,null,null,null,null,null,null,null,0]
[null,null,null,null,null,null,null,null,null,null,null,0]
[null,null,null,null,null,null,null,null,null,null,null,0]
[null,null,null,null,null,null,null,null,null,null,null,0]
[null,null,null,null,null,null,null,null,null,null,null,0]
[null,null,null,null,null,null,null,null,null,null,null,0]
[null,null,null,null,null,null,null,null,null,null,null,0]
[null,null,null,null,null,null,null,null,null,null,null,0]
[null,null,null,null,null,null,null,null,null,null,null,0]
[null,null,null,null,null,null,null,null,null,null,null,0]
[null,null,null,null,null,null,null,null,null,null,null,0]
[null,null,null,null,null,null,null,null,null,null,null,0]
[null,null,null,null,null,null,null,null,null,null,null,0]
[null,null,null,null,null,null,null,null,null,null,null,0]
[null,null,null,null,null,null,null,null,null,null,null,0]
[null,null,null,null,null,null,null,null,null,null,null,0]
[null,null,null,null,null,null,null,null,null,null,null,0]
[null,null,null,null,null,null,null,null,null,null,null,0]
[null,null,null,null,null,null,null,null,null,null,null,0]
[null,null,null,null,null,null,null,null,null,null,null,0]
[null,null,null,null,null,null,null,null,null,null,null,0]
[null,null,null,null,null,null,null,null,null,null,null,0]
[null,null,null,null,null,null,null,null,null,null,null,0]
[null,null,null,null,null,null,null,null,null,null,null,0]
[null,null,null,null,null,null,null,null,null,null,null,0]
[null,null,null,null,null,null,null,null,null,null,null,0]
[null,null,null,null,null,null,null,null,null,null,null,0]
[null,null,null,null,null,null,null,null,null,null,null,0]
[null,null,null,null,null,null,null,null,null,null,null,0]
[null,null,null,null,null,null,null,null,null,null,null,0]
[null,null,null,null,null,null,null,null,null,null,null,0]
[null,null,null,null,null,null,null,null,null,null,null,0]
[null,null,null,null,null,null,null,null,null,null,null,0]
[null,null,null,null,null,null,null,null,null,null,null,0]
[null,null,null,null,null,null,null,null,null,null,null,0]
[null,null,null,null,null,null,null,null,null,null,null,0]
[null,null,null,null,null,null,null,null,null,null,null,0]
[null,null,null,null,null,null,null,null,null,null,null,0]
[null,null,null,null,null,null,null,null,null,null,null,0]
[null,null,null,null,null,null,null,null,null,null,null,0]
[null,null,null,null,null,null,null,null,null,null,null,0]
[null,null,null,null,null,null,null,null,null,null,null,0]
[null,null,null,null,null,null,null,null,null,null,null,0]
[null,null,null,null,null,null,null,null,null,null,null,0]
[null,null,null,null,null,null,null,null,null,null,null,0]
[null,null,null,null,null,null,null,null,null,null,null,0]
[null,null,null,null,null,null,null,null,null,null,null,0]
[null,null,null,null,null,null,null,null,null,null,null,0]
[null,null,null,null,null,null,null,null,null,null,null,0]
[null,null,null,null,null,null,null,null,null,null,null,0]
[null,null,null,null,null,null,null,null,null,null,null,0]
[null,null,null,null,null,null,null,null,null,null,null,0]
[null,null,null,null,null,null,null,null,null,null,null,0]
[null,null,null,null,null,null,null,null,null,null,null,0]
[null,null,null,null,null,null,null,null,null,null,null,0]
[null,null,null,null,null,null,null,null,null,null,null,0]
[null,null,null,null,null,null,null,null,null,null,null,0]
[null,null,null,null,null,null,null,null,null,null,null,0]
[null,null,null,null,null,null,null,null,null,null,null,0]
[null,null,null,null,null,null,null,null,null,null,null,0]
[null,null,null,null,null,null,null,null,null,null,null,0]
[null,null,null,null,null,null,null,null,null,null,null,0]
[null,null,null,null,null,null,null,null,null,null,null,0]
[null,null,null,null,null,null,null,null,null,null,null,0]
[null,null,null,null,null,null,null,null,null,null,null,0]
[null,null,null,null,null,null,null,null,null,null,null,0]
[null,null,null,null,null,null,null,null,null,null,null,0]
[null,null,null,null,null,null,null,null,null,null,null,0]
[null,null,null,null,null,null,null,null,null,null,null,0]
[null,null,null,null,null,null,null,null,null,null,null,0]
[null,null,null,null,null,null,null,null,null,null,null,0]
[null,null,null,null,null,null,null,null,null,null,null,0]
[null,null,null,null,null,null,null,null,null,null,null,0]
[null,null,null,null,null,null,null,null,null,null,null,0]
[null,null,null,null,null,null,null,null,null,null,null,0]
[null,null,null,null,null,null,null,null,null,null,null,0]
[null,null,null,null,null,null,null,null,null,null,null,0]
[null,null,null,null,null,null,null,null,null,null,null,0]
[null,null,null,null,null,null,null,null,null,null,null,0]
[null,null,null,null,null,null,null,null,null,null,null,0]
[null,null,null,null,null,null,null,null,null,null,null,0]
[null,null,null,null,null,null,null,null,null,null,null,0]
[null,null,null,null,null,null,null,null,null,null,null,0]
[null,null,null,null,null,null,null,null,null,null,null,0]
[null,null,null,null,null,null,null,null,null,null,null,0]
[null,null,null,null,null,null,null,null,null,null,null,0]
[null,null,null,null,null,null,null,null,null,null,null,0]
[null,null,null,null,null,null,null,null,null,null,null,0]
[null,null,null,null,null,null,null,null,null,null,null,0]
[null,null,null,null,null,null,null,null,null,null,null,0]
[null,null,null,null,null,null,null,null,null,null,null,0]
[null,null,null,null,null,null,null,null,null,null,null,0]
[null,null,null,null,null,null,null,null,null,null,null,0]
[null,null,null,null,null,null,null,null,null,null,null,0]
[null,null,null,null,null,null,null,null,null,null,null,0]
[null,null,null,null,null,null,null,null,null,null,null,0]
[null,null,null,null,null,null,null,null,null,null,null,0]
[null,null,null,null,null,null,null,null,null,null,null,0]
[null,null,null,null,null,null,null,null,null,null,null,0]
[null,null,null,null,null,null,null,null,null,null,null,0]
[null,null,null,null,null,null,null,null,null,null,null,0]
[null,null,null,null,null,null,null,null,null,null,null,0]
[null,null,null,null,null,null,null,null,null,null,null,0]
[null,null,null,null,null,null,null,null,null,null,null,0]
[null,null,null,null,null,null,null,null,null,null,null,0]
[null,null,null,null,null,null,null,null,null,null,null,0]
[null,null,null,null,null,null,null,null,null,null,null,0]
[null,null,null,null,null,null,null,null,null,null,null,0]
[null,null,null,null,null,null,null,null,null,null,null,0]
[null,null,null,null,null,null,null,null,null,null,null,0]
[null,null,null,null,null,null,null,null,null,null,null,0]
[null,null,null,null,null,null,null,null,null,null,null,0]
[null,null,null,null,null,null,null,null,null,null,null,0]
[null,null,null,null,null,null,null,null,null,null,null,0]
[null,null,null,null,null,null,null,null,null,null,null,0]
[null,null,null,null,null,null,null,null,null,null,null,0]
[null,null,null,null,null,null,null,null,null,null,null,0]
[null,null,null,null,null,null,null,null,null,null,null,0]
[null,null,null,null,null,null,null,null,null,null,null,0]
[null,null,null,null,null,null,null,null,null,null,null,0]
[null,null,null,null,null,null,null,null,null,null,null,0]
[null,null,null,null,null,null,null,null,null,null,null,0]
[null,null,null,null,null,null,null,null,null,null,null,0]
[null,null,null,null,null,null,null,null,null,null,null,0]
[null,null,null,null,null,null,null,null,null,null,null,0]
[null,null,null,null,null,null,null,null,null,null,null,0]
[null,null,null,null,null,null,null,null,null,null,null,0]
[null,null,null,null,null,null,null,null,null,null,null,0]
[null,null,null,null,null,null,null,null,null,null,null,0]
[null,null,null,null,null,null,null,null,null,null,null,0]
[null,null,null,null,null,null,null,null,null,null,null,0]
[null,null,null,null,null,null,null,null,null,null,null,0]
[null,null,null,null,null,null,null,null,null,null,null,0]
[null,null,null,null,null,null,null,null,null,null,null,0]
[null,null,null,null,null,null,null,null,null,null,null,0]
[null,null,null,null,null,null,null,null,null,null,null,0]
[null,null,null,null,null,null,null,null,null,null,null,0]
[null,null,null,null,null,null,null,null,null,null,null,0]
[null,null,null,null,null,null,null,null,null,null,null,0]
[null,null,null,null,null,null,null,null,null,null,null,0]
[null,null,null,null,null,null,null,null,null,null,null,0]
[null,null,null,null,null,null,null,null,null,null,null,0]
[null,null,null,null,null,null,null,null,null,null,null,0]
[null,null,null,null,null,null,null,null,null,null,null,0]
[null,null,null,null,null,null,null,null,null,null,null,0]
[null,null,null,null,null,null,null,null,null,null,null,0]
[null,null,null,null,null,null,null,null,null,null,null,0]
[null,null,null,null,null,null,null,null,null,null,null,0]
[null,null,null,null,null,null,null,null,null,null,null,0]
[null,null,null,null,null,null,null,null,null,null,null,0]
[null,null,null,null,null,null,null,null,null,null,null,0]
[null,null,null,null,null,null,null,null,null,null,null,0]
[null,null,null,null,null,null,null,null,null,null,null,0]
[null,null,null,null,null,null,null,null,null,null,null,0]
[null,null,null,null,null,null,null,null,null,null,null,0]
[null,null,null,null,null,null,null,null,null,null,null,0]
[null,null,null,null,null,null,null,null,null,null,null,0]
[null,null,null,null,null,null,null,null,null,null,null,0]
[null,null,null,null,null,null,null,null,null,null,null,0]
[null,null,null,null,null,null,null,null,null,null,null,0]
[null,null,null,null,null,null,null,null,null,null,null,0]
[null,null,null,null,null,null,null,null,null,null,null,0]
[null,null,null,null,null,null,null,null,null,null,null,0]
[null,null,null,null,null,null,null,null,null,null,null,0]
[null,null,null,null,null,null,null,null,null,null,null,0]
[null,null,null,null,null,null,null,null,null,null,null,0]
[null,null,null,null,null,null,null,null,null,null,null,0]
[null,null,null,null,null,null,null,null,null,null,null,0]
[null,null,null,null,null,null,null,null,null,null,null,0]
[null,null,null,null,null,null,null,null,null,null,null,0]
[null,null,null,null,null,null,null,null,null,null,null,0]
[null,null,null,null,null,null,null,null,null,null,null,0]
[null,null,null,null,null,null,null,null,null,null,null,0]
[null,null,null,null,null,null,null,null,null,null,null,0]
[null,null,null,null,null,null,null,null,null,null,null,0]
[null,null,null,null,null,null,null,null,null,null,null,0]
[null,null,null,null,null,null,null,null,null,null,null,0]
[null,null,null,null,null,null,null,null,null,null,null,0]
[null,null,null,null,null,null,null,null,null,null,null,0]
[null,null,null,null,null,null,null,null,null,null,null,0]
[null,null,null,null,null,null,null,null,null,null,null,0]
[null,null,null,null,null,null,null,null,null,null,null,0]
[null,null,null,null,null,null,null,null,null,null,null,0]
[null,null,null,null,null,null,null,null,null,null,null,0]
[null,null,null,null,null,null,null,null,null,null,null,0]
[null,null,null,null,null,null,null,null,null,null,null,0]
[null,null,null,null,null,null,null,null,null,null,null,0]
[null,null,null,null,null,null,null,null,null,null,null,0]
[null,null,null,null,null,null,null,null,null,null,null,0]
[null,null,null,null,null,null,null,null,null,null,null,0]
[null,null,null,null,null,null,null,null,null,null,null,0]
[null,null,null,null,null,null,null,null,null,null,null,0]
[null,null,null,null,null,null,null,null,null,null,null,0]
[null,null,null,null,null,null,null,null,null,null,null,0]
[null,null,null,null,null,null,null,null,null,null,null,0]
[null,null,null,null,null,null,null,null,null,null,null,0]
[null,null,null,null,null,null,null,null,null,null,null,0]
[null,null,null,null,null,null,null,null,null,null,null,0]
[null,null,null,null,null,null,null,null,null,null,null,0]
[null,null,null,null,null,null,null,null,null,null,null,0]
[null,null,null,null,null,null,null,null,null,null,null,0]
[null,null,null,null,null,null,null,null,null,null,null,0]
[null,null,null,null,null,null,null,null,null,null,null,0]
[null,null,null,null,null,null,null,null,null,null,null,0]
[null,null,null,null,null,null,null,null,null,null,null,0]
[null,null,null,null,null,null,null,null,null,null,null,0]
[null,null,null,null,null,null,null,null,null,null,null,0]
[null,null,null,null,null,null,null,null,null,null,null,0]
[null,null,null,null,null,null,null,null,null,null,null,0]
[null,null,null,null,null,null,null,null,null,null,null,0]
[null,null,null,null,null,null,null,null,null,null,null,0]
[null,null,null,null,null,null,null,null,null,null,null,0]
[null,null,null,null,null,null,null,null,null,null,null,0]
[null,null,null,null,null,null,null,null,null,null,null,0]
[null,null,null,null,null,null,null,null,null,null,null,0]
[null,null,null,null,null,null,null,null,null,null,null,0]
[null,null,null,null,null,null,null,null,null,null,null,0]
[null,null,null,null,null,null,null,null,null,null,null,0]
[null,null,null,null,null,null,null,null,null,null,null,0]
[null,null,null,null,null,null,null,null,null,null,null,0]
[null,null,null,null,null,null,null,null,null,null,null,0]
[null,null,null,null,null,null,null,null,null,null,null,0]
[null,null,null,null,null,null,null,null,null,null,null,0]
[null,null,null,null,null,null,null,null,null,null,null,0]
[null,null,null,null,null,null,null,null,null,null,null,0]
[null,null,null,null,null,null,null,null,null,null,null,0]
[null,null,null,null,null,null,null,null,null,null,null,0]
[null,null,null,null,null,null,null,null,null,null,null,0]
[null,null,null,null,null,null,null,null,null,null,null,0]
[null,null,null,null,null,null,null,null,null,null,null,0]
[null,null,null,null,null,null,null,null,null,null,null,0]
[null,null,null,null,null,null,null,null,null,null,null,0]
[null,null,null,null,null,null,null,null,null,null,null,0]
[null,null,null,null,null,null,null,null,null,null,null,0]
[null,null,null,null,null,null,null,null,null,null,null,0]
[null,null,null,null,null,null,null,null,null,null,null,0]
[null,null,null,null,null,null,null,null,null,null,null,0]
[null,null,null,null,null,null,null,null,null,null,null,0]
[null,null,null,null,null,null,null,null,null,null,null,0]
[null,null,null,null,null,null,null,null,null,null,null,0]
[null,null,null,null,null,null,null,null,null,null,null,0]
[null,null,null,null,null,null,null,null,null,null,null,0]
[null,null,null,null,null,null,null,null,null,null,null,0]
[null,null,null,null,null,null,null,null,null,null,null,0]
[null,null,null,null,null,null,null,null,null,null,null,0]
[null,null,null,null,null,null,null,null,null,null,null,0]
[null,null,null,null,null,null,null,null,null,null,null,0]
[null,null,null,null,null,null,null,null,null,null,null,0]
[null,null,null,null,null,null,null,null,null,null,null,0]
[null,null,null,null,null,null,null,null,null,null,null,0]
[null,null,null,null,null,null,null,null,null,null,null,0]
[null,null,null,null,null,null,null,null,null,null,null,0]
[null,null,null,null,null,null,null,null,null,null,null,0]
[null,null,null,null,null,null,null,null,null,null,null,0]
[null,null,null,null,null,null,null,null,null,null,null,0]
[null,null,null,null,null,null,null,null,null,null,null,0]
[null,null,null,null,null,null,null,null,null,null,null,0]
[null,null,null,null,null,null,null,null,null,null,null,0]
[null,null,null,null,null,null,null,null,null,null,null,0]
[null,null,null,null,null,null,null,null,null,null,null,0]
[null,null,null,null,null,null,null,null,null,null,null,0]
[null,null,null,null,null,null,null,null,null,null,null,0]
[null,null,null,null,null,null,null,null,null,null,null,0]
[null,null,null,null,null,null,null,null,null,null,null,0]
[null,null,null,null,null,null,null,null,null,null,null,0]
[null,null,null,null,null,null,null,null,null,null,null,0]
[null,null,null,null,null,null,null,null,null,null,null,0]
[null,null,null,null,null,null,null,null,null,null,null,0]
[null,null,null,null,null,null,null,null,null,null,null,0]
[null,null,null,null,null,null,null,null,null,null,null,0]
[null,null,null,null,null,null,null,null,null,null,null,0]
[null,null,null,null,null,null,null,null,null,null,null,0]
[null,null,null,null,null,null,null,null,null,null,null,0]
[null,null,null,null,null,null,null,null,null,null,null,0]
[null,null,null,null,null,null,null,null,null,null,null,0]
[null,null,null,null,null,null,null,null,null,null,null,0]
[null,null,null,null,null,null,null,null,null,null,null,0]
[null,null,null,null,null,null,null,null,null,null,null,0]
[null,null,null,null,null,null,null,null,null,null,null,0]
[null,null,null,null,null,null,null,null,null,null,null,0]
[null,null,null,null,null,null,null,null,null,null,null,0]
[null,null,null,null,null,null,null,null,null,null,null,0]
[null,null,null,null,null,null,null,null,null,null,null,0]
[null,null,null,null,null,null,null,null,null,null,null,0]
[null,null,null,null,null,null,null,null,null,null,null,0]
[null,null,null,null,null,null,null,null,null,null,null,0]
[null,null,null,null,null,null,null,null,null,null,null,0]
[null,null,null,null,null,null,null,null,null,null,null,0]
[null,null,null,null,null,null,null,null,null,null,null,0]
[null,null,null,null,null,null,null,null,null,null,null,0]
[null,null,null,null,null,null,null,null,null,null,null,0]
[null,null,null,null,null,null,null,null,null,null,null,0]
[null,null,null,null,null,null,null,null,null,null,null,0]
[null,null,null,null,null,null,null,null,null,null,null,0]
[null,null,null,null,null,null,null,null,null,null,null,0]
[null,null,null,null,null,null,null,null,null,null,null,0]
[null,null,null,null,null,null,null,null,null,null,null,0]
[null,null,null,null,null,null,null,null,null,null,null,0]
[null,null,null,null,null,null,null,null,null,null,null,0]
[null,null,null,null,null,null,null,null,null,null,null,0]
[null,null,null,null,null,null,null,null,null,null,null,0]
[null,null,null,null,null,null,null,null,null,null,null,0]
[null,null,null,null,null,null,null,null,null,null,null,0]
[null,null,null,null,null,null,null,null,null,null,null,0]
[null,null,null,null,null,null,null,null,null,null,null,0]
[null,null,null,null,null,null,null,null,null,null,null,0]
[null,null,null,null,null,null,null,null,null,null,null,0]
[null,null,null,null,null,null,null,null,null,null,null,0]
[null,null,null,null,null,null,null,null,null,null,null,0]
[null,null,null,null,null,null,null,null,null,null,null,0]
[null,null,null,null,null,null,null,null,null,null,null,0]
[null,null,null,null,null,null,null,null,null,null,null,0]
[null,null,null,null,null,null,null,null,null,null,null,0]
[null,null,null,null,null,null,null,null,null,null,null,0]
[null,null,null,null,null,null,null,null,null,null,null,0]
[null,null,null,null,null,null,null,null,null,null,null,0]
[null,null,null,null,null,null,null,null,null,null,null,0]
[null,null,null,null,null,null,null,null,null,null,null,0]
[null,null,null,null,null,null,null,null,null,null,null,0]
[null,null,null,null,null,null,null,null,null,null,null,0]
[null,null,null,null,null,null,null,null,null,null,null,0]
[null,null,null,null,null,null,null,null,null,null,null,0]
[null,null,null,null,null,null,null,null,null,null,null,0]
[null,null,null,null,null,null,null,null,null,null,null,0]
[null,null,null,null,null,null,null,null,null,null,null,0]
[null,null,null,null,null,null,null,null,null,null,null,0]
[null,null,null,null,null,null,null,null,null,null,null,0]
[null,null,null,null,null,null,null,null,null,null,null,0]
[null,null,null,null,null,null,null,null,null,null,null,0]
[null,null,null,null,null,null,null,null,null,null,null,0]
[null,null,null,null,null,null,null,null,null,null,null,0]
[null,null,null,null,null,null,null,null,null,null,null,0]
[null,null,null,null,null,null,null,null,null,null,null,0]
[null,null,null,null,null,null,null,null,null,null,null,0]
[null,null,null,null,null,null,null,null,null,null,null,0]
[null,null,null,null,null,null,null,null,null,null,null,0]
[null,null,null,null,null,null,null,null,null,null,null,0]
[null,null,null,null,null,null,null,null,null,null,null,0]
[null,null,null,null,null,null,null,null,null,null,null,0]
[null,null,null,null,null,null,null,null,null,null,null,0]
[null,null,null,null,null,null,null,null,null,null,null,0]
[null,null,null,null,null,null,null,null,null,null,null,0]
[null,null,null,null,null,null,null,null,null,null,null,0]
[null,null,null,null,null,null,null,null,null,null,null,0]
[null,null,null,null,null,null,null,null,null,null,null,0]
[null,null,null,null,null,null,null,null,null,null,null,0]
[null,null,null,null,null,null,null,null,null,null,null,0]
[null,null,null,null,null,null,null,null,null,null,null,0]
[null,null,null,null,null,null,null,null,null,null,null,0]
[null,null,null,null,null,null,null,null,null,null,null,0]
[null,null,null,null,null,null,null,null,null,null,null,0]
[null,null,null,null,null,null,null,null,null,null,null,0]
[null,null,null,null,null,null,null,null,null,null,null,0]
[null,null,null,null,null,null,null,null,null,null,null,0]
[null,null,null,null,null,null,null,null,null,null,null,0]
[null,null,null,null,null,null,null,null,null,null,null,0]
[null,null,null,null,null,null,null,null,null,null,null,0]
[null,null,null,null,null,null,null,null,null,null,null,0]
[null,null,null,null,null,null,null,null,null,null,null,0]
[null,null,null,null,null,null,null,null,null,null,null,0]
[null,null,null,null,null,null,null,null,null,null,null,0]
[null,null,null,null,null,null,null,null,null,null,null,0]
[null,null,null,null,null,null,null,null,null,null,null,0]
[null,null,null,null,null,null,null,null,null,null,null,0]
[null,null,null,null,null,null,null,null,null,null,null,0]
[null,null,null,null,null,null,null,null,null,null,null,0]
[null,null,null,null,null,null,null,null,null,null,null,0]
[null,null,null,null,null,null,null,null,null,null,null,0]
[null,null,null,null,null,null,null,null,null,null,null,0]
[null,null,null,null,null,null,null,null,null,null,null,0]
[null,null,null,null,null,null,null,null,null,null,null,0]
[null,null,null,null,null,null,null,null,null,null,null,0]
[null,null,null,null,null,null,null,null,null,null,null,0]
[null,null,null,null,null,null,null,null,null,null,null,0]
[null,null,null,null,null,null,null,null,null,null,null,0]
[null,null,null,null,null,null,null,null,null,null,null,0]
[null,null,null,null,null,null,null,null,null,null,null,0]
[null,null,null,null,null,null,null,null,null,null,null,0]
[null,null,null,null,null,null,null,null,null,null,null,0]
[null,null,null,null,null,null,null,null,null,null,null,0]
[null,null,null,null,null,null,null,null,null,null,null,0]
[null,null,null,null,null,null,null,null,null,null,null,0]
[null,null,null,null,null,null,null,null,null,null,null,0]
[null,null,null,null,null,null,null,null,null,null,null,0]
[null,null,null,null,null,null,null,null,null,null,null,0]
[null,null,null,null,null,null,null,null,null,null,null,0]
[null,null,null,null,null,null,null,null,null,null,null,0]
[null,null,null,null,null,null,null,null,null,null,null,0]
[null,null,null,null,null,null,null,null,null,null,null,0]
[null,null,null,null,null,null,null,null,null,null,null,0]
[null,null,null,null,null,null,null,null,null,null,null,0]
[null,null,null,null,null,null,null,null,null,null,null,0]
[null,null,null,null,null,null,null,null,null,null,null,0]
[null,null,null,null,null,null,null,null,null,null,null,0]
[null,null,null,null,null,null,null,null,null,null,null,0]
[null,null,null,null,null,null,null,null,null,null,null,0]
[null,null,null,null,null,null,null,null,null,null,null,0]
[null,null,null,null,null,null,null,null,null,null,null,0]
[null,null,null,null,null,null,null,null,null,null,null,0]
[null,null,null,null,null,null,null,null,null,null,null,0]
[null,null,null,null,null,null,null,null,null,null,null,0]
[null,null,null,null,null,null,null,null,null,null,null,0]
[null,null,null,null,null,null,null,null,null,null,null,0]
[null,null,null,null,null,null,null,null,null,null,null,0]
[null,null,null,null,null,null,null,null,null,null,null,0]
[null,null,null,null,null,null,null,null,null,null,null,0]
[null,null,null,null,null,null,null,null,null,null,null,0]
[null,null,null,null,null,null,null,null,null,null,null,0]
[null,null,null,null,null,null,null,null,null,null,null,0]
[null,null,null,null,null,null,null,null,null,null,null,0]
[null,null,null,null,null,null,null,null,null,null,null,0]
[null,null,null,null,null,null,null,null,null,null,null,0]
[null,null,null,null,null,null,null,null,null,null,null,0]
[null,null,null,null,null,null,null,null,null,null,null,0]
[null,null,null,null,null,null,null,null,null,null,null,0]
[null,null,null,null,null,null,null,null,null,null,null,0]
[null,null,null,null,null,null,null,null,null,null,null,0]
[null,null,null,null,null,null,null,null,null,null,null,0]
[null,null,null,null,null,null,null,null,null,null,null,0]
[null,null,null,null,null,null,null,null,null,null,null,0]
[null,null,null,null,null,null,null,null,null,null,null,0]
[null,null,null,null,null,null,null,null,null,null,null,0]
[null,null,null,null,null,null,null,null,null,null,null,0]
[null,null,null,null,null,null,null,null,null,null,null,0]
[null,null,null,null,null,null,null,null,null,null,null,0]
[null,null,null,null,null,null,null,null,null,null,null,0]
[null,null,null,null,null,null,null,null,null,null,null,0]
[null,null,null,null,null,null,null,null,null,null,null,0]
[null,null,null,null,null,null,null,null,null,null,null,0]
[null,null,null,null,null,null,null,null,null,null,null,0]
[null,null,null,null,null,null,null,null,null,null,null,0]
[null,null,null,null,null,null,null,null,null,null,null,0]
[null,null,null,null,null,null,null,null,null,null,null,0]
[null,null,null,null,null,null,null,null,null,null,null,0]
[null,null,null,null,null,null,null,null,null,null,null,0]
[null,null,null,null,null,null,null,null,null,null,null,0]
[null,null,null,null,null,null,null,null,null,null,null,0]
[null,null,null,null,null,null,null,null,null,null,null,0]
[null,null,null,null,null,null,null,null,null,null,null,0]
[null,null,null,null,null,null,null,null,null,null,null,0]
[null,null,null,null,null,null,null,null,null,null,null,0]
[null,null,null,null,null,null,null,null,null,null,null,0]
[null,null,null,null,null,null,null,null,null,null,null,0]
[null,null,null,null,null,null,null,null,null,null,null,0]
[null,null,null,null,null,null,null,null,null,null,null,0]
[null,null,null,null,null,null,null,null,null,null,null,0]
[null,null,null,null,null,null,null,null,null,null,null,0]
[null,null,null,null,null,null,null,null,null,null,null,0]
[null,null,null,null,null,null,null,null,null,null,null,0]
[null,null,null,null,null,null,null,null,null,null,null,0]
[null,null,null,null,null,null,null,null,null,null,null,0]
[null,null,null,null,null,null,null,null,null,null,null,0]
[null,null,null,null,null,null,null,null,null,null,null,0]
[null,null,null,null,null,null,null,null,null,null,null,0]
[null,null,null,null,null,null,null,null,null,null,null,0]
[null,null,null,null,null,null,null,null,null,null,null,0]
[null,null,null,null,null,null,null,null,null,null,null,0]
[null,null,null,null,null,null,null,null,null,null,null,0]
[null,null,null,null,null,null,null,null,null,null,null,0]
[null,null,null,null,null,null,null,null,null,null,null,0]
[null,null,null,null,null,null,null,null,null,null,null,0]
[null,null,null,null,null,null,null,null,null,null,null,0]
[null,null,null,null,null,null,null,null,null,null,null,0]
[null,null,null,null,null,null,null,null,null,null,null,0]
[null,null,null,null,null,null,null,null,null,null,null,0]
[null,null,null,null,null,null,null,null,null,null,null,0]
[null,null,null,null,null,null,null,null,null,null,null,0]
[null,null,null,null,null,null,null,null,null,null,null,0]
[null,null,null,null,null,null,null,null,null,null,null,0]
[null,null,null,null,null,null,null,null,null,null,null,0]
[null,null,null,null,null,null,null,null,null,null,null,0]
[null,null,null,null,null,null,null,null,null,null,null,0]
[null,null,null,null,null,null,null,null,null,null,null,0]
[null,null,null,null,null,null,null,null,null,null,null,0]
[null,null,null,null,null,null,null,null,null,null,null,0]
[null,null,null,null,null,null,null,null,null,null,null,0]
[null,null,null,null,null,null,null,null,null,null,null,0]
[null,null,null,null,null,null,null,null,null,null,null,0]
[null,null,null,null,null,null,null,null,null,null,null,0]
[null,null,null,null,null,null,null,null,null,null,null,0]
[null,null,null,null,null,null,null,null,null,null,null,0]
[null,null,null,null,null,null,null,null,null,null,null,0]
[null,null,null,null,null,null,null,null,null,null,null,0]
[null,null,null,null,null,null,null,null,null,null,null,0]
[null,null,null,null,null,null,null,null,null,null,null,0]
[null,null,null,null,null,null,null,null,null,null,null,0]
[null,null,null,null,null,null,null,null,null,null,null,0]
[null,null,null,null,null,null,null,null,null,null,null,0]
[null,null,null,null,null,null,null,null,null,null,null,0]
[null,null,null,null,null,null,null,null,null,null,null,0]
[null,null,null,null,null,null,null,null,null,null,null,0]
[null,null,null,null,null,null,null,null,null,null,null,0]
[null,null,null,null,null,null,null,null,null,null,null,0]
[null,null,null,null,null,null,null,null,null,null,null,0]
[null,null,null,null,null,null,null,null,null,null,null,0]
[null,null,null,null,null,null,null,null,null,null,null,0]
[null,null,null,null,null,null,null,null,null,null,null,0]
[null,null,null,null,null,null,null,null,null,null,null,0]
[null,null,null,null,null,null,null,null,null,null,null,0]
[null,null,null,null,null,null,null,null,null,null,null,0]
[null,null,null,null,null,null,null,null,null,null,null,0]
[null,null,null,null,null,null,null,null,null,null,null,0]
[null,null,null,null,null,null,null,null,null,null,null,0]
[null,null,null,null,null,null,null,null,null,null,null,0]
[null,null,null,null,null,null,null,null,null,null,null,0]
[null,null,null,null,null,null,null,null,null,null,null,0]
[null,null,null,null,null,null,null,null,null,null,null,0]
[null,null,null,null,null,null,null,null,null,null,null,0]
[null,null,null,null,null,null,null,null,null,null,null,0]
[null,null,null,null,null,null,null,null,null,null,null,0]
[null,null,null,null,null,null,null,null,null,null,null,0]
[null,null,null,null,null,null,null,null,null,null,null,0]
[null,null,null,null,null,null,null,null,null,null,null,0]
[null,null,null,null,null,null,null,null,null,null,null,0]
[null,null,null,null,null,null,null,null,null,null,null,0]
[null,null,null,null,null,null,null,null,null,null,null,0]
[null,null,null,null,null,null,null,null,null,null,null,0]
[null,null,null,null,null,null,null,null,null,null,null,0]
[null,null,null,null,null,null,null,null,null,null,null,0]
[null,null,null,null,null,null,null,null,null,null,null,0]
[null,null,null,null,null,null,null,null,null,null,null,0]
[null,null,null,null,null,null,null,null,null,null,null,0]
[null,null,null,null,null,null,null,null,null,null,null,0]
[null,null,null,null,null,null,null,null,null,null,null,0]
[null,null,null,null,null,null,null,null,null,null,null,0]
[null,null,null,null,null,null,null,null,null,null,null,0]
[null,null,null,null,null,null,null,null,null,null,null,0]
[null,null,null,null,null,null,null,null,null,null,null,0]
[null,null,null,null,null,null,null,null,null,null,null,0]
[null,null,null,null,null,null,null,null,null,null,null,0]
[null,null,null,null,null,null,null,null,null,null,null,0]
[null,null,null,null,null,null,null,null,null,null,null,0]
[null,null,null,null,null,null,null,null,null,null,null,0]
[null,null,null,null,null,null,null,null,null,null,null,0]
[null,null,null,null,null,null,null,null,null,null,null,0]
[null,null,null,null,null,null,null,null,null,null,null,0]
[null,null,null,null,null,null,null,null,null,null,null,0]
[null,null,null,null,null,null,null,null,null,null,null,0]
[null,null,null,null,null,null,null,null,null,null,null,0]
[null,null,null,null,null,null,null,null,null,null,null,0]
[null,null,null,null,null,null,null,null,null,null,null,0]
[null,null,null,null,null,null,null,null,null,null,null,0]
[null,null,null,null,null,null,null,null,null,null,null,0]
[null,null,null,null,null,null,null,null,null,null,null,0]
[null,null,null,null,null,null,null,null,null,null,null,0]
[null,null,null,null,null,null,null,null,null,null,null,0]
[null,null,null,null,null,null,null,null,null,null,null,0]
[null,null,null,null,null,null,null,null,null,null,null,0]
[null,null,null,null,null,null,null,null,null,null,null,0]
[null,null,null,null,null,null,null,null,null,null,null,0]
[null,null,null,null,null,null,null,null,null,null,null,0]
[null,null,null,null,null,null,null,null,null,null,null,0]
[null,null,null,null,null,null,null,null,null,null,null,0]
[null,null,null,null,null,null,null,null,null,null,null,0]
[null,null,null,null,null,null,null,null,null,null,null,0]
[null,null,null,null,null,null,null,null,null,null,null,0]
[null,null,null,null,null,null,null,null,null,null,null,0]
[null,null,null,null,null,null,null,null,null,null,null,0]
[null,null,null,null,null,null,null,null,null,null,null,0]
[null,null,null,null,null,null,null,null,null,null,null,0]
[null,null,null,null,null,null,null,null,null,null,null,0]
[null,null,null,null,null,null,null,null,null,null,null,0]
[null,null,null,null,null,null,null,null,null,null,null,0]
[null,null,null,null,null,null,null,null,null,null,null,0]
[null,null,null,null,null,null,null,null,null,null,null,0]
[null,null,null,null,null,null,null,null,null,null,null,0]
[null,null,null,null,null,null,null,null,null,null,null,0]
[null,null,null,null,null,null,null,null,null,null,null,0]
[null,null,null,null,null,null,null,null,null,null,null,0]
[null,null,null,null,null,null,null,null,null,null,null,0]
[null,null,null,null,null,null,null,null,null,null,null,0]
[null,null,null,null,null,null,null,null,null,null,null,0]
[null,null,null,null,null,null,null,null,null,null,null,0]
[null,null,null,null,null,null,null,null,null,null,null,0]
[null,null,null,null,null,null,null,null,null,null,null,0]
[null,null,null,null,null,null,null,null,null,null,null,0]
[null,null,null,null,null,null,null,null,null,null,null,0]
[null,null,null,null,null,null,null,null,null,null,null,0]
[null,null,null,null,null,null,null,null,null,null,null,0]
[null,null,null,null,null,null,null,null,null,null,null,0]
[null,null,null,null,null,null,null,null,null,null,null,0]
[null,null,null,null,null,null,null,null,null,null,null,0]
[null,null,null,null,null,null,null,null,null,null,null,0]
[null,null,null,null,null,null,null,null,null,null,null,0]
[null,null,null,null,null,null,null,null,null,null,null,0]
[null,null,null,null,null,null,null,null,null,null,null,0]
[null,null,null,null,null,null,null,null,null,null,null,0]
[null,null,null,null,null,null,null,null,null,null,null,0]
[null,null,null,null,null,null,null,null,null,null,null,0]
[null,null,null,null,null,null,null,null,null,null,null,0]
[null,null,null,null,null,null,null,null,null,null,null,0]
[null,null,null,null,null,null,null,null,null,null,null,0]
[null,null,null,null,null,null,null,null,null,null,null,0]
[null,null,null,null,null,null,null,null,null,null,null,0]
[null,null,null,null,null,null,null,null,null,null,null,0]
[null,null,null,null,null,null,null,null,null,null,null,0]
[null,null,null,null,null,null,null,null,null,null,null,0]
[null,null,null,null,null,null,null,null,null,null,null,0]
[null,null,null,null,null,null,null,null,null,null,null,0]
[null,null,null,null,null,null,null,null,null,null,null,0]
[null,null,null,null,null,null,null,null,null,null,null,0]
[null,null,null,null,null,null,null,null,null,null,null,0]
[null,null,null,null,null,null,null,null,null,null,null,0]
[null,null,null,null,null,null,null,null,null,null,null,0]
[null,null,null,null,null,null,null,null,null,null,null,0]
[null,null,null,null,null,null,null,null,null,null,null,0]
[null,null,null,null,null,null,null,null,null,null,null,0]
[null,null,null,null,null,null,null,null,null,null,null,0]
[null,null,null,null,null,null,null,null,null,null,null,0]
[null,null,null,null,null,null,null,null,null,null,null,0]
[null,null,null,null,null,null,null,null,null,null,null,0]
[null,null,null,null,null,null,null,null,null,null,null,0]
[null,null,null,null,null,null,null,null,null,null,null,0]
[null,null,null,null,null,null,null,null,null,null,null,0]
[null,null,null,null,null,null,null,null,null,null,null,0]
[null,null,null,null,null,null,null,null,null,null,null,0]
[null,null,null,null,null,null,null,null,null,null,null,0]
[null,null,null,null,null,null,null,null,null,null,null,0]
[null,null,null,null,null,null,null,null,null,null,null,0]
[null,null,null,null,null,null,null,null,null,null,null,0]
[null,null,null,null,null,null,null,null,null,null,null,0]
[null,null,null,null,null,null,null,null,null,null,null,0]
[null,null,null,null,null,null,null,null,null,null,null,0]
[null,null,null,null,null,null,null,null,null,null,null,0]
[null,null,null,null,null,null,null,null,null,null,null,0]
[null,null,null,null,null,null,null,null,null,null,null,0]
[null,null,null,null,null,null,null,null,null,null,null,0]
[null,null,null,null,null,null,null,null,null,null,null,0]
[null,null,null,null,null,null,null,null,null,null,null,0]
[null,null,null,null,null,null,null,null,null,null,null,0]
[null,null,null,null,null,null,null,null,null,null,null,0]
[null,null,null,null,null,null,null,null,null,null,null,0]
[null,null,null,null,null,null,null,null,null,null,null,0]
[null,null,null,null,null,null,null,null,null,null,null,0]
[null,null,null,null,null,null,null,null,null,null,null,0]
[null,null,null,null,null,null,null,null,null,null,null,0]
[null,null,null,null,null,null,null,null,null,null,null,0]
[null,null,null,null,null,null,null,null,null,null,null,0]
[null,null,null,null,null,null,null,null,null,null,null,0]
[null,null,null,null,null,null,null,null,null,null,null,0]
[null,null,null,null,null,null,null,null,null,null,null,0]
[null,null,null,null,null,null,null,null,null,null,null,0]
[null,null,null,null,null,null,null,null,null,null,null,0]
[null,null,null,null,null,null,null,null,null,null,null,0]
[null,null,null,null,null,null,null,null,null,null,null,0]
[null,null,null,null,null,null,null,null,null,null,null,0]
[null,null,null,null,null,null,null,null,null,null,null,0]
[null,null,null,null,null,null,null,null,null,null,null,0]
[null,null,null,null,null,null,null,null,null,null,null,0]
[null,null,null,null,null,null,null,null,null,null,null,0]
[null,null,null,null,null,null,null,null,null,null,null,0]
[null,null,null,null,null,null,null,null,null,null,null,0]
[null,null,null,null,null,null,null,null,null,null,null,0]
[null,null,null,null,null,null,null,null,null,null,null,0]
[null,null,null,null,null,null,null,null,null,null,null,0]
[null,null,null,null,null,null,null,null,null,null,null,0]
[null,null,null,null,null,null,null,null,null,null,null,0]
[null,null,null,null,null,null,null,null,null,null,null,0]
[null,null,null,null,null,null,null,null,null,null,null,0]
[null,null,null,null,null,null,null,null,null,null,null,0]
[null,null,null,null,null,null,null,null,null,null,null,0]
[null,null,null,null,null,null,null,null,null,null,null,0]
[null,null,null,null,null,null,null,null,null,null,null,0]
[null,null,null,null,null,null,null,null,null,null,null,0]
[null,null,null,null,null,null,null,null,null,null,null,0]
[null,null,null,null,null,null,null,null,null,null,null,0]
[null,null,null,null,null,null,null,null,null,null,null,0]
[null,null,null,null,null,null,null,null,null,null,null,0]
[null,null,null,null,null,null,null,null,null,null,null,0]
[null,null,null,null,null,null,null,null,null,null,null,0]
[null,null,null,null,null,null,null,null,null,null,null,0]
[null,null,null,null,null,null,null,null,null,null,null,0]
[null,null,null,null,null,null,null,null,null,null,null,0]
[null,null,null,null,null,null,null,null,null,null,null,0]
[null,null,null,null,null,null,null,null,null,null,null,0]
[null,null,null,null,null,null,null,null,null,null,null,0]
[null,null,null,null,null,null,null,null,null,null,null,0]
[null,null,null,null,null,null,null,null,null,null,null,0]
[null,null,null,null,null,null,null,null,null,null,null,0]
[null,null,null,null,null,null,null,null,null,null,null,0]
[null,null,null,null,null,null,null,null,null,null,null,0]
[null,null,null,null,null,null,null,null,null,null,null,0]
[null,null,null,null,null,null,null,null,null,null,null,0]
[null,null,null,null,null,null,null,null,null,null,null,0]
[null,null,null,null,null,null,null,null,null,null,null,0]
[null,null,null,null,null,null,null,null,null,null,null,0]
[null,null,null,null,null,null,null,null,null,null,null,0]
[null,null,null,null,null,null,null,null,null,null,null,0]
[null,null,null,null,null,null,null,null,null,null,null,0]
[null,null,null,null,null,null,null,null,null,null,null,0]
[null,null,null,null,null,null,null,null,null,null,null,0]
[null,null,null,null,null,null,null,null,null,null,null,0]
[null,null,null,null,null,null,null,null,null,null,null,0]
[null,null,null,null,null,null,null,null,null,null,null,0]
[null,null,null,null,null,null,null,null,null,null,null,0]
[null,null,null,null,null,null,null,null,null,null,null,0]
[null,null,null,null,null,null,null,null,null,null,null,0]
[null,null,null,null,null,null,null,null,null,null,null,0]
[null,null,null,null,null,null,null,null,null,null,null,0]
[null,null,null,null,null,null,null,null,null,null,null,0]
[null,null,null,null,null,null,null,null,null,null,null,0]
[null,null,null,null,null,null,null,null,null,null,null,0]
[null,null,null,null,null,null,null,null,null,null,null,0]
[null,null,null,null,null,null,null,null,null,null,null,0]
[null,null,null,null,null,null,null,null,null,null,null,0]
[null,null,null,null,null,null,null,null,null,null,null,0]
[null,null,null,null,null,null,null,null,null,null,null,0]
[null,null,null,null,null,null,null,null,null,null,null,0]
[null,null,null,null,null,null,null,null,null,null,null,0]
[null,null,null,null,null,null,null,null,null,null,null,0]
[null,null,null,null,null,null,null,null,null,null,null,0]
[null,null,null,null,null,null,null,null,null,null,null,0]
[null,null,null,null,null,null,null,null,null,null,null,0]
[null,null,null,null,null,null,null,null,null,null,null,0]
[null,null,null,null,null,null,null,null,null,null,null,0]
[null,null,null,null,null,null,null,null,null,null,null,0]
[null,null,null,null,null,null,null,null,null,null,null,0]
[null,null,null,null,null,null,null,null,null,null,null,0]
[null,null,null,null,null,null,null,null,null,null,null,0]
[null,null,null,null,null,null,null,null,null,null,null,0]
[null,null,null,null,null,null,null,null,null,null,null,0]
[null,null,null,null,null,null,null,null,null,null,null,0]
[null,null,null,null,null,null,null,null,null,null,null,0]
[null,null,null,null,null,null,null,null,null,null,null,0]
[null,null,null,null,null,null,null,null,null,null,null,0]
[null,null,null,null,null,null,null,null,null,null,null,0]
[null,null,null,null,null,null,null,null,null,null,null,0]
[null,null,null,null,null,null,null,null,null,null,null,0]
[null,null,null,null,null,null,null,null,null,null,null,0]
[null,null,null,null,null,null,null,null,null,null,null,0]
[null,null,null,null,null,null,null,null,null,null,null,0]
[null,null,null,null,null,null,null,null,null,null,null,0]
[null,null,null,null,null,null,null,null,null,null,null,0]
[null,null,null,null,null,null,null,null,null,null,null,0]
[null,null,null,null,null,null,null,null,null,null,null,0]
[null,null,null,null,null,null,null,null,null,null,null,0]
[null,null,null,null,null,null,null,null,null,null,null,0]
[null,null,null,null,null,null,null,null,null,null,null,0]
[null,null,null,null,null,null,null,null,null,null,null,0]
[null,null,null,null,null,null,null,null,null,null,null,0]
[null,null,null,null,null,null,null,null,null,null,null,0]
[null,null,null,null,null,null,null,null,null,null,null,0]
[null,null,null,null,null,null,null,null,null,null,null,0]
[null,null,null,null,null,null,null,null,null,null,null,0]
[null,null,null,null,null,null,null,null,null,null,null,0]
[null,null,null,null,null,null,null,null,null,null,null,0]
[null,null,null,null,null,null,null,null,null,null,null,0]
[null,null,null,null,null,null,null,null,null,null,null,0]
[null,null,null,null,null,null,null,null,null,null,null,0]
[null,null,null,null,null,null,null,null,null,null,null,0]
[null,null,null,null,null,null,null,null,null,null,null,0]
[null,null,null,null,null,null,null,null,null,null,null,0]
[null,null,null,null,null,null,null,null,null,null,null,0]
[null,null,null,null,null,null,null,null,null,null,null,0]
[null,null,null,null,null,null,null,null,null,null,null,0]
[null,null,null,null,null,null,null,null,null,null,null,0]
[null,null,null,null,null,null,null,null,null,null,null,0]
[null,null,null,null,null,null,null,null,null,null,null,0]
[null,null,null,null,null,null,null,null,null,null,null,0]
[null,null,null,null,null,null,null,null,null,null,null,0]
[null,null,null,null,null,null,null,null,null,null,null,0]
[null,null,null,null,null,null,null,null,null,null,null,0]
[null,null,null,null,null,null,null,null,null,null,null,0]
[null,null,null,null,null,null,null,null,null,null,null,0]
[null,null,null,null,null,null,null,null,null,null,null,0]
[null,null,null,null,null,null,null,null,null,null,null,0]
[null,null,null,null,null,null,null,null,null,null,null,0]
[null,null,null,null,null,null,null,null,null,null,null,0]
[null,null,null,null,null,null,null,null,null,null,null,0]
[null,null,null,null,null,null,null,null,null,null,null,0]
[null,null,null,null,null,null,null,null,null,null,null,0]
[null,null,null,null,null,null,null,null,null,null,null,0]
[null,null,null,null,null,null,null,null,null,null,null,0]
[null,null,null,null,null,null,null,null,null,null,null,0]
[null,null,null,null,null,null,null,null,null,null,null,0]
[null,null,null,null,null,null,null,null,null,null,null,0]
[null,null,null,null,null,null,null,null,null,null,null,0]
[null,null,null,null,null,null,null,null,null,null,null,0]
[null,null,null,null,null,null,null,null,null,null,null,0]
[null,null,null,null,null,null,null,null,null,null,null,0]
[null,null,null,null,null,null,null,null,null,null,null,0]
[null,null,null,null,null,null,null,null,null,null,null,0]
[null,null,null,null,null,null,null,null,null,null,null,0]
[null,null,null,null,null,null,null,null,null,null,null,0]
[null,null,null,null,null,null,null,null,null,null,null,0]
[null,null,null,null,null,null,null,null,null,null,null,0]
[null,null,null,null,null,null,null,null,null,null,null,0]
[null,null,null,null,null,null,null,null,null,null,null,0]
[null,null,null,null,null,null,null,null,null,null,null,0]
[null,null,null,null,null,null,null,null,null,null,null,0]
[null,null,null,null,null,null,null,null,null,null,null,0]
[null,null,null,null,null,null,null,null,null,null,null,0]
[null,null,null,null,null,null,null,null,null,null,null,0]
[null,null,null,null,null,null,null,null,null,null,null,0]
[null,null,null,null,null,null,null,null,null,null,null,0]
[null,null,null,null,null,null,null,null,null,null,null,0]
[null,null,null,null,null,null,null,null,null,null,null,0]
[null,null,null,null,null,null,null,null,null,null,null,0]
[null,null,null,null,null,null,null,null,null,null,null,0]
[null,null,null,null,null,null,null,null,null,null,null,0]
[null,null,null,null,null,null,null,null,null,null,null,0]
[null,null,null,null,null,null,null,null,null,null,null,0]
[null,null,null,null,null,null,null,null,null,null,null,0]
[null,null,null,null,null,null,null,null,null,null,null,0]
[null,null,null,null,null,null,null,null,null,null,null,0]
[null,null,null,null,null,null,null,null,null,null,null,0]
[null,null,null,null,null,null,null,null,null,null,null,0]
[null,null,null,null,null,null,null,null,null,null,null,0]
[null,null,null,null,null,null,null,null,null,null,null,0]
[null,null,null,null,null,null,null,null,null,null,null,0]
[null,null,null,null,null,null,null,null,null,null,null,0]
[null,null,null,null,null,null,null,null,null,null,null,0]
[null,null,null,null,null,null,null,null,null,null,null,0]
[null,null,null,null,null,null,null,null,null,null,null,0]
[null,null,null,null,null,null,null,null,null,null,null,0]
[null,null,null,null,null,null,null,null,null,null,null,0]
[null,null,null,null,null,null,null,null,null,null,null,0]
[null,null,null,null,null,null,null,null,null,null,null,0]
[null,null,null,null,null,null,null,null,null,null,null,0]
[null,null,null,null,null,null,null,null,null,null,null,0]
[null,null,null,null,null,null,null,null,null,null,null,0]
[null,null,null,null,null,null,null,null,null,null,null,0]
[null,null,null,null,null,null,null,null,null,null,null,0]
[null,null,null,null,null,null,null,null,null,null,null,0]
[null,null,null,null,null,null,null,null,null,null,null,0]
[null,null,null,null,null,null,null,null,null,null,null,0]
[null,null,null,null,null,null,null,null,null,null,null,0]
[null,null,null,null,null,null,null,null,null,null,null,0]
[null,null,null,null,null,null,null,null,null,null,null,0]
[null,null,null,null,null,null,null,null,null,null,null,0]
[null,null,null,null,null,null,null,null,null,null,null,0]
[null,null,null,null,null,null,null,null,null,null,null,0]
[null,null,null,null,null,null,null,null,null,null,null,0]
[null,null,null,null,null,null,null,null,null,null,null,0]
[null,null,null,null,null,null,null,null,null,null,null,0]
[null,null,null,null,null,null,null,null,null,null,null,0]
[null,null,null,null,null,null,null,null,null,null,null,0]
[null,null,null,null,null,null,null,null,null,null,null,0]
[null,null,null,null,null,null,null,null,null,null,null,0]
[null,null,null,null,null,null,null,null,null,null,null,0]
[null,null,null,null,null,null,null,null,null,null,null,0]
[null,null,null,null,null,null,null,null,null,null,null,0]
[null,null,null,null,null,null,null,null,null,null,null,0]
[null,null,null,null,null,null,null,null,null,null,null,0]
[null,null,null,null,null,null,null,null,null,null,null,0]
[null,null,null,null,null,null,null,null,null,null,null,0]
[null,null,null,null,null,null,null,null,null,null,null,0]
[null,null,null,null,null,null,null,null,null,null,null,0]
[null,null,null,null,null,null,null,null,null,null,null,0]
[null,null,null,null,null,null,null,null,null,null,null,0]
[null,null,null,null,null,null,null,null,null,null,null,0]
[null,null,null,null,null,null,null,null,null,null,null,0]
[null,null,null,null,null,null,null,null,null,null,null,0]
[null,null,null,null,null,null,null,null,null,null,null,0]
[null,null,null,null,null,null,null,null,null,null,null,0]
[null,null,null,null,null,null,null,null,null,null,null,0]
[null,null,null,null,null,null,null,null,null,null,null,0]
[null,null,null,null,null,null,null,null,null,null,null,0]
[null,null,null,null,null,null,null,null,null,null,null,0]
[null,null,null,null,null,null,null,null,null,null,null,0]
[null,null,null,null,null,null,null,null,null,null,null,0]
[null,null,null,null,null,null,null,null,null,null,null,0]
[null,null,null,null,null,null,null,null,null,null,null,0]
[null,null,null,null,null,null,null,null,null,null,null,0]
[null,null,null,null,null,null,null,null,null,null,null,0]
[null,null,null,null,null,null,null,null,null,null,null,0]
[null,null,null,null,null,null,null,null,null,null,null,0]
[null,null,null,null,null,null,null,null,null,null,null,0]
[null,null,null,null,null,null,null,null,null,null,null,0]
[null,null,null,null,null,null,null,null,null,null,null,0]
[null,null,null,null,null,null,null,null,null,null,null,0]
[null,null,null,null,null,null,null,null,null,null,null,0]
[null,null,null,null,null,null,null,null,null,null,null,0]
[null,null,null,null,null,null,null,null,null,null,null,0]
[null,null,null,null,null,null,null,null,null,null,null,0]
[null,null,null,null,null,null,null,null,null,null,null,0]
[null,null,null,null,null,null,null,null,null,null,null,0]
[null,null,null,null,null,null,null,null,null,null,null,0]
[null,null,null,null,null,null,null,null,null,null,null,0]
[null,null,null,null,null,null,null,null,null,null,null,0]
[null,null,null,null,null,null,null,null,null,null,null,0]
[null,null,null,null,null,null,null,null,null,null,null,0]
[null,null,null,null,null,null,null,null,null,null,null,0]
[null,null,null,null,null,null,null,null,null,null,null,0]
[null,null,null,null,null,null,null,null,null,null,null,0]
[null,null,null,null,null,null,null,null,null,null,null,0]
[null,null,null,null,null,null,null,null,null,null,null,0]
[null,null,null,null,null,null,null,null,null,null,null,0]
[null,null,null,null,null,null,null,null,null,null,null,0]
[null,null,null,null,null,null,null,null,null,null,null,0]
[null,null,null,null,null,null,null,null,null,null,null,0]
[null,null,null,null,null,null,null,null,null,null,null,0]
[null,null,null,null,null,null,null,null,null,null,null,0]
[null,null,null,null,null,null,null,null,null,null,null,0]
[null,null,null,null,null,null,null,null,null,null,null,0]
[null,null,null,null,null,null,null,null,null,null,null,0]
[null,null,null,null,null,null,null,null,null,null,null,0]
[null,null,null,null,null,null,null,null,null,null,null,0]
[null,null,null,null,null,null,null,null,null,null,null,0]
[null,null,null,null,null,null,null,null,null,null,null,0]
[null,null,null,null,null,null,null,null,null,null,null,0]
[null,null,null,null,null,null,null,null,null,null,null,0]
[null,null,null,null,null,null,null,null,null,null,null,0]
[null,null,null,null,null,null,null,null,null,null,null,0]
[null,null,null,null,null,null,null,null,null,null,null,0]
[null,null,null,null,null,null,null,null,null,null,null,0]
[null,null,null,null,null,null,null,null,null,null,null,0]
[null,null,null,null,null,null,null,null,null,null,null,0]
[null,null,null,null,null,null,null,null,null,null,null,0]
[null,null,null,null,null,null,null,null,null,null,null,0]
[null,null,null,null,null,null,null,null,null,null,null,0]
[null,null,null,null,null,null,null,null,null,null,null,0]
[null,null,null,null,null,null,null,null,null,null,null,0]
[null,null,null,null,null,null,null,null,null,null,null,0]
[null,null,null,null,null,null,null,null,null,null,null,0]
[null,null,null,null,null,null,null,null,null,null,null,0]
[null,null,null,null,null,null,null,null,null,null,null,0]
[null,null,null,null,null,null,null,null,null,null,null,0]
[null,null,null,null,null,null,null,null,null,null,null,0]
[null,null,null,null,null,null,null,null,null,null,null,0]
[null,null,null,null,null,null,null,null,null,null,null,0]
[null,null,null,null,null,null,null,null,null,null,null,0]
[null,null,null,null,null,null,null,null,null,null,null,0]
[null,null,null,null,null,null,null,null,null,null,null,0]
[null,null,null,null,null,null,null,null,null,null,null,0]
[null,null,null,null,null,null,null,null,null,null,null,0]
[null,null,null,null,null,null,null,null,null,null,null,0]
[null,null,null,null,null,null,null,null,null,null,null,0]
[null,null,null,null,null,null,null,null,null,null,null,0]
[null,null,null,null,null,null,null,null,null,null,null,0]
[null,null,null,null,null,null,null,null,null,null,null,0]
[null,null,null,null,null,null,null,null,null,null,null,0]
[null,null,null,null,null,null,null,null,null,null,null,0]
[null,null,null,null,null,null,null,null,null,null,null,0]
[null,null,null,null,null,null,null,null,null,null,null,0]
[null,null,null,null,null,null,null,null,null,null,null,0]
[null,null,null,null,null,null,null,null,null,null,null,0]
[null,null,null,null,null,null,null,null,null,null,null,0]
[null,null,null,null,null,null,null,null,null,null,null,0]
[null,null,null,null,null,null,null,null,null,null,null,0]
[null,null,null,null,null,null,null,null,null,null,null,0]
[null,null,null,null,null,null,null,null,null,null,null,0]
[null,null,null,null,null,null,null,null,null,null,null,0]
[null,null,null,null,null,null,null,null,null,null,null,0]
[null,null,null,null,null,null,null,null,null,null,null,0]
[null,null,null,null,null,null,null,null,null,null,null,0]
[null,null,null,null,null,null,null,null,null,null,null,0]
[null,null,null,null,null,null,null,null,null,null,null,0]
[null,null,null,null,null,null,null,null,null,null,null,0]
[null,null,null,null,null,null,null,null,null,null,null,0]
[null,null,null,null,null,null,null,null,null,null,null,0]
[null,null,null,null,null,null,null,null,null,null,null,0]
[null,null,null,null,null,null,null,null,null,null,null,0]
[null,null,null,null,null,null,null,null,null,null,null,0]
[null,null,null,null,null,null,null,null,null,null,null,0]
[null,null,null,null,null,null,null,null,null,null,null,0]
[null,null,null,null,null,null,null,null,null,null,null,0]
[null,null,null,null,null,null,null,null,null,null,null,0]
[null,null,null,null,null,null,null,null,null,null,null,0]
[null,null,null,null,null,null,null,null,null,null,null,0]
[null,null,null,null,null,null,null,null,null,null,null,0]
[null,null,null,null,null,null,null,null,null,null,null,0]
[null,null,null,null,null,null,null,null,null,null,null,0]
[null,null,null,null,null,null,null,null,null,null,null,0]
[null,null,null,null,null,null,null,null,null,null,null,0]
[null,null,null,null,null,null,null,null,null,null,null,0]
[null,null,null,null,null,null,null,null,null,null,null,0]
[null,null,null,null,null,null,null,null,null,null,null,0]
[null,null,null,null,null,null,null,null,null,null,null,0]
[null,null,null,null,null,null,null,null,null,null,null,0]
[null,null,null,null,null,null,null,null,null,null,null,0]
[null,null,null,null,null,null,null,null,null,null,null,0]
[null,null,null,null,null,null,null,null,null,null,null,0]
[null,null,null,null,null,null,null,null,null,null,null,0]
[null,null,null,null,null,null,null,null,null,null,null,0]
[null,null,null,null,null,null,null,null,null,null,null,0]
[null,null,null,null,null,null,null,null,null,null,null,0]
[null,null,null,null,null,null,null,null,null,null,null,0]
[null,null,null,null,null,null,null,null,null,null,null,0]
[null,null,null,null,null,null,null,null,null,null,null,0]
[null,null,null,null,null,null,null,null,null,null,null,0]
[null,null,null,null,null,null,null,null,null,null,null,0]
[null,null,null,null,null,null,null,null,null,null,null,0]
[null,null,null,null,null,null,null,null,null,null,null,0]
[null,null,null,null,null,null,null,null,null,null,null,0]
[null,null,null,null,null,null,null,null,null,null,null,0]
[null,null,null,null,null,null,null,null,null,null,null,0]
[null,null,null,null,null,null,null,null,null,null,null,0]
[null,null,null,null,null,null,null,null,null,null,null,0]
[null,null,null,null,null,null,null,null,null,null,null,0]
[null,null,null,null,null,null,null,null,null,null,null,0]
[null,null,null,null,null,null,null,null,null,null,null,0]
[null,null,null,null,null,null,null,null,null,null,null,0]
[null,null,null,null,null,null,null,null,null,null,null,0]
[null,null,null,null,null,null,null,null,null,null,null,0]
[null,null,null,null,null,null,null,null,null,null,null,0]
[null,null,null,null,null,null,null,null,null,null,null,0]
[null,null,null,null,null,null,null,null,null,null,null,0]
[null,null,null,null,null,null,null,null,null,null,null,0]
[null,null,null,null,null,null,null,null,null,null,null,0]
[null,null,null,null,null,null,null,null,null,null,null,0]
[null,null,null,null,null,null,null,null,null,null,null,0]
[null,null,null,null,null,null,null,null,null,null,null,0]
[null,null,null,null,null,null,null,null,null,null,null,0]
[null,null,null,null,null,null,null,null,null,null,null,0]
[null,null,null,null,null,null,null,null,null,null,null,0]
[null,null,null,null,null,null,null,null,null,null,null,0]
[null,null,null,null,null,null,null,null,null,null,null,0]
[null,null,null,null,null,null,null,null,null,null,null,0]
[null,null,null,null,null,null,null,null,null,null,null,0]
[null,null,null,null,null,null,null,null,null,null,null,0]
[null,null,null,null,null,null,null,null,null,null,null,0]
[null,null,null,null,null,null,null,null,null,null,null,0]
[null,null,null,null,null,null,null,null,null,null,null,0]
[null,null,null,null,null,null,null,null,null,null,null,0]
[null,null,null,null,null,null,null,null,null,null,null,0]
[null,null,null,null,null,null,null,null,null,null,null,0]
[null,null,null,null,null,null,null,null,null,null,null,0]
[null,null,null,null,null,null,null,null,null,null,null,0]
[null,null,null,null,null,null,null,null,null,null,null,0]
[null,null,null,null,null,null,null,null,null,null,null,0]
[null,null,null,null,null,null,null,null,null,null,null,0]
[null,null,null,null,null,null,null,null,null,null,null,0]
[null,null,null,null,null,null,null,null,null,null,null,0]
[null,null,null,null,null,null,null,null,null,null,null,0]
[null,null,null,null,null,null,null,null,null,null,null,0]
[null,null,null,null,null,null,null,null,null,null,null,0]
[null,null,null,null,null,null,null,null,null,null,null,0]
[null,null,null,null,null,null,null,null,null,null,null,0]
[null,null,null,null,null,null,null,null,null,null,null,0]
[null,null,null,null,null,null,null,null,null,null,null,0]
[null,null,null,null,null,null,null,null,null,null,null,0]
[null,null,null,null,null,null,null,null,null,null,null,0]
[null,null,null,null,null,null,null,null,null,null,null,0]
[null,null,null,null,null,null,null,null,null,null,null,0]
[null,null,null,null,null,null,null,null,null,null,null,0]
[null,null,null,null,null,null,null,null,null,null,null,0]
[null,null,null,null,null,null,null,null,null,null,null,0]
[null,null,null,null,null,null,null,null,null,null,null,0]
[null,null,null,null,null,null,null,null,null,null,null,0]
[null,null,null,null,null,null,null,null,null,null,null,0]
[null,null,null,null,null,null,null,null,null,null,null,0]
[null,null,null,null,null,null,null,null,null,null,null,0]
[null,null,null,null,null,null,null,null,null,null,null,0]
[null,null,null,null,null,null,null,null,null,null,null,0]
[null,null,null,null,null,null,null,null,null,null,null,0]
[null,null,null,null,null,null,null,null,null,null,null,0]
[null,null,null,null,null,null,null,null,null,null,null,0]
[null,null,null,null,null,null,null,null,null,null,null,0]
[null,null,null,null,null,null,null,null,null,null,null,0]
[null,null,null,null,null,null,null,null,null,null,null,0]
[null,null,null,null,null,null,null,null,null,null,null,0]
[null,null,null,null,null,null,null,null,null,null,null,0]
[null,null,null,null,null,null,null,null,null,null,null,0]
[null,null,null,null,null,null,null,null,null,null,null,0]
[null,null,null,null,null,null,null,null,null,null,null,0]
[null,null,null,null,null,null,null,null,null,null,null,0]
[null,null,null,null,null,null,null,null,null,null,null,0]
[null,null,null,null,null,null,null,null,null,null,null,0]
[null,null,null,null,null,null,null,null,null,null,null,0]
[null,null,null,null,null,null,null,null,null,null,null,0]
[null,null,null,null,null,null,null,null,null,null,null,0]
[null,null,null,null,null,null,null,null,null,null,null,0]
[null,null,null,null,null,null,null,null,null,null,null,0]
[null,null,null,null,null,null,null,null,null,null,null,0]
[null,null,null,null,null,null,null,null,null,null,null,0]
[null,null,null,null,null,null,null,null,null,null,null,0]
[null,null,null,null,null,null,null,null,null,null,null,0]
[null,null,null,null,null,null,null,null,null,null,null,0]
[null,null,null,null,null,null,null,null,null,null,null,0]
[null,null,null,null,null,null,null,null,null,null,null,0]
[null,null,null,null,null,null,null,null,null,null,null,0]
[null,null,null,null,null,null,null,null,null,null,null,0]
[null,null,null,null,null,null,null,null,null,null,null,0]
[null,null,null,null,null,null,null,null,null,null,null,0]
[null,null,null,null,null,null,null,null,null,null,null,0]
[null,null,null,null,null,null,null,null,null,null,null,0]
[null,null,null,null,null,null,null,null,null,null,null,0]
[null,null,null,null,null,null,null,null,null,null,null,0]
[null,null,null,null,null,null,null,null,null,null,null,0]
[null,null,null,null,null,null,null,null,null,null,null,0]
[null,null,null,null,null,null,null,null,null,null,null,0]
[null,null,null,null,null,null,null,null,null,null,null,0]
[null,null,null,null,null,null,null,null,null,null,null,0]
[null,null,null,null,null,null,null,null,null,null,null,0]
[null,null,null,null,null,null,null,null,null,null,null,0]
[null,null,null,null,null,null,null,null,null,null,null,0]
[null,null,null,null,null,null,null,null,null,null,null,0]
[null,null,null,null,null,null,null,null,null,null,null,0]
[null,null,null,null,null,null,null,null,null,null,null,0]
[null,null,null,null,null,null,null,null,null,null,null,0]
[null,null,null,null,null,null,null,null,null,null,null,0]
[null,null,null,null,null,null,null,null,null,null,null,0]
[null,null,null,null,null,null,null,null,null,null,null,0]
[null,null,null,null,null,null,null,null,null,null,null,0]
[null,null,null,null,null,null,null,null,null,null,null,0]
[null,null,null,null,null,null,null,null,null,null,null,0]
[null,null,null,null,null,null,null,null,null,null,null,0]
[null,null,null,null,null,null,null,null,null,null,null,0]
[null,null,null,null,null,null,null,null,null,null,null,0]
[null,null,null,null,null,null,null,null,null,null,null,0]
[null,null,null,null,null,null,null,null,null,null,null,0]
[null,null,null,null,null,null,null,null,null,null,null,0]
[null,null,null,null,null,null,null,null,null,null,null,0]
[null,null,null,null,null,null,null,null,null,null,null,0]
[null,null,null,null,null,null,null,null,null,null,null,0]
[null,null,null,null,null,null,null,null,null,null,null,0]
[null,null,null,null,null,null,null,null,null,null,null,0]
[null,null,null,null,null,null,null,null,null,null,null,0]
[null,null,null,null,null,null,null,null,null,null,null,0]
[null,null,null,null,null,null,null,null,null,null,null,0]
[null,null,null,null,null,null,null,null,null,null,null,0]
[null,null,null,null,null,null,null,null,null,null,null,0]
[null,null,null,null,null,null,null,null,null,null,null,0]
[null,null,null,null,null,null,null,null,null,null,null,0]
[null,null,null,null,null,null,null,null,null,null,null,0]
[null,null,null,null,null,null,null,null,null,null,null,0]
[null,null,null,null,null,null,null,null,null,null,null,0]
[null,null,null,null,null,null,null,null,null,null,null,0]
[null,null,null,null,null,null,null,null,null,null,null,0]
[null,null,null,null,null,null,null,null,null,null,null,0]
[null,null,null,null,null,null,null,null,null,null,null,0]
[null,null,null,null,null,null,null,null,null,null,null,0]
[null,null,null,null,null,null,null,null,null,null,null,0]
[null,null,null,null,null,null,null,null,null,null,null,0]
[null,null,null,null,null,null,null,null,null,null,null,0]
[null,null,null,null,null,null,null,null,null,null,null,0]
[null,null,null,null,null,null,null,null,null,null,null,0]
[null,null,null,null,null,null,null,null,null,null,null,0]
[null,null,null,null,null,null,null,null,null,null,null,0]
[null,null,null,null,null,null,null,null,null,null,null,0]
[null,null,null,null,null,null,null,null,null,null,null,0]
[null,null,null,null,null,null,null,null,null,null,null,0]
[null,null,null,null,null,null,null,null,null,null,null,0]
[null,null,null,null,null,null,null,null,null,null,null,0]
[null,null,null,null,null,null,null,null,null,null,null,0]
[null,null,null,null,null,null,null,null,null,null,null,0]
[null,null,null,null,null,null,null,null,null,null,null,0]
[null,null,null,null,null,null,null,null,null,null,null,0]
[null,null,null,null,null,null,null,null,null,null,null,0]
[null,null,null,null,null,null,null,null,null,null,null,0]
[null,null,null,null,null,null,null,null,null,null,null,0]
[null,null,null,null,null,null,null,null,null,null,null,0]
[null,null,null,null,null,null,null,null,null,null,null,0]
[null,null,null,null,null,null,null,null,null,null,null,0]
[null,null,null,null,null,null,null,null,null,null,null,0]
[null,null,null,null,null,null,null,null,null,null,null,0]
[null,null,null,null,null,null,null,null,null,null,null,0]
[null,null,null,null,null,null,null,null,null,null,null,0]
[null,null,null,null,null,null,null,null,null,null,null,0]
[null,null,null,null,null,null,null,null,null,null,null,0]
[null,null,null,null,null,null,null,null,null,null,null,0]
[null,null,null,null,null,null,null,null,null,null,null,0]
[null,null,null,null,null,null,null,null,null,null,null,0]
[null,null,null,null,null,null,null,null,null,null,null,0]
[null,null,null,null,null,null,null,null,null,null,null,0]
[null,null,null,null,null,null,null,null,null,null,null,0]
[null,null,null,null,null,null,null,null,null,null,null,0]
[null,null,null,null,null,null,null,null,null,null,null,0]
[null,null,null,null,null,null,null,null,null,null,null,0]
[null,null,null,null,null,null,null,null,null,null,null,0]
[null,null,null,null,null,null,null,null,null,null,null,0]
[null,null,null,null,null,null,null,null,null,null,null,0]
[null,null,null,null,null,null,null,null,null,null,null,0]
[null,null,null,null,null,null,null,null,null,null,null,0]
[null,null,null,null,null,null,null,null,null,null,null,0]
[null,null,null,null,null,null,null,null,null,null,null,0]
[null,null,null,null,null,null,null,null,null,null,null,0]
[null,null,null,null,null,null,null,null,null,null,null,0]
[null,null,null,null,null,null,null,null,null,null,null,0]
[null,null,null,null,null,null,null,null,null,null,null,0]
[null,null,null,null,null,null,null,null,null,null,null,0]
[null,null,null,null,null,null,null,null,null,null,null,0]
[null,null,null,null,null,null,null,null,null,null,null,0]
[null,null,null,null,null,null,null,null,null,null,null,0]
[null,null,null,null,null,null,null,null,null,null,null,0]
[null,null,null,null,null,null,null,null,null,null,null,0]
[null,null,null,null,null,null,null,null,null,null,null,0]
[null,null,null,null,null,null,null,null,null,null,null,0]
[null,null,null,null,null,null,null,null,null,null,null,0]
[null,null,null,null,null,null,null,null,null,null,null,0]
[null,null,null,null,null,null,null,null,null,null,null,0]
[null,null,null,null,null,null,null,null,null,null,null,0]
[null,null,null,null,null,null,null,null,null,null,null,0]
[null,null,null,null,null,null,null,null,null,null,null,0]
[null,null,null,null,null,null,null,null,null,null,null,0]
[null,null,null,null,null,null,null,null,null,null,null,0]
[null,null,null,null,null,null,null,null,null,null,null,0]
[null,null,null,null,null,null,null,null,null,null,null,0]
[null,null,null,null,null,null,null,null,null,null,null,0]
[null,null,null,null,null,null,null,null,null,null,null,0]
[null,null,null,null,null,null,null,null,null,null,null,0]
[null,null,null,null,null,null,null,null,null,null,null,0]
[null,null,null,null,null,null,null,null,null,null,null,0]
[null,null,null,null,null,null,null,null,null,null,null,0]
[null,null,null,null,null,null,null,null,null,null,null,0]
[null,null,null,null,null,null,null,null,null,null,null,0]
[null,null,null,null,null,null,null,null,null,null,null,0]
[null,null,null,null,null,null,null,null,null,null,null,0]
[null,null,null,null,null,null,null,null,null,null,null,0]
[null,null,null,null,null,null,null,null,null,null,null,0]
[null,null,null,null,null,null,null,null,null,null,null,0]
[null,null,null,null,null,null,null,null,null,null,null,0]
[null,null,null,null,null,null,null,null,null,null,null,0]
[null,null,null,null,null,null,null,null,null,null,null,0]
[null,null,null,null,null,null,null,null,null,null,null,0]
[null,null,null,null,null,null,null,null,null,null,null,0]
[null,null,null,null,null,null,null,null,null,null,null,0]
[null,null,null,null,null,null,null,null,null,null,null,0]
[null,null,null,null,null,null,null,null,null,null,null,0]
[null,null,null,null,null,null,null,null,null,null,null,0]
[null,null,null,null,null,null,null,null,null,null,null,0]
[null,null,null,null,null,null,null,null,null,null,null,0]
[null,null,null,null,null,null,null,null,null,null,null,0]
[null,null,null,null,null,null,null,null,null,null,null,0]
[null,null,null,null,null,null,null,null,null,null,null,0]
[null,null,null,null,null,null,null,null,null,null,null,0]
[null,null,null,null,null,null,null,null,null,null,null,0]
[null,null,null,null,null,null,null,null,null,null,null,0]
[null,null,null,null,null,null,null,null,null,null,null,0]
[null,null,null,null,null,null,null,null,null,null,null,0]
[null,null,null,null,null,null,null,null,null,null,null,0]
[null,null,null,null,null,null,null,null,null,null,null,0]
[null,null,null,null,null,null,null,null,null,null,null,0]
[null,null,null,null,null,null,null,null,null,null,null,0]
[null,null,null,null,null,null,null,null,null,null,null,0]
[null,null,null,null,null,null,null,null,null,null,null,0]
[null,null,null,null,null,null,null,null,null,null,null,0]
[null,null,null,null,null,null,null,null,null,null,null,0]
[null,null,null,null,null,null,null,null,null,null,null,0]
[null,null,null,null,null,null,null,null,null,null,null,0]
[null,null,null,null,null,null,null,null,null,null,null,0]
[null,null,null,null,null,null,null,null,null,null,null,0]
[null,null,null,null,null,null,null,null,null,null,null,0]
[null,null,null,null,null,null,null,null,null,null,null,0]
[null,null,null,null,null,null,null,null,null,null,null,0]
[null,null,null,null,null,null,null,null,null,null,null,0]
[null,null,null,null,null,null,null,null,null,null,null,0]
[null,null,null,null,null,null,null,null,null,null,null,0]
[null,null,null,null,null,null,null,null,null,null,null,0]
[null,null,null,null,null,null,null,null,null,null,null,0]
[null,null,null,null,null,null,null,null,null,null,null,0]
[null,null,null,null,null,null,null,null,null,null,null,0]
[null,null,null,null,null,null,null,null,null,null,null,0]
[null,null,null,null,null,null,null,null,null,null,null,0]
[null,null,null,null,null,null,null,null,null,null,null,0]
[null,null,null,null,null,null,null,null,null,null,null,0]
[null,null,null,null,null,null,null,null,null,null,null,0]
[null,null,null,null,null,null,null,null,null,null,null,0]
[null,null,null,null,null,null,null,null,null,null,null,0]
[null,null,null,null,null,null,null,null,null,null,null,0]
[null,null,null,null,null,null,null,null,null,null,null,0]
[null,null,null,null,null,null,null,null,null,null,null,0]
[null,null,null,null,null,null,null,null,null,null,null,0]
[null,null,null,null,null,null,null,null,null,null,null,0]
[null,null,null,null,null,null,null,null,null,null,null,0]
[null,null,null,null,null,null,null,null,null,null,null,0]
[null,null,null,null,null,null,null,null,null,null,null,0]
[null,null,null,null,null,null,null,null,null,null,null,0]
[null,null,null,null,null,null,null,null,null,null,null,0]
[null,null,null,null,null,null,null,null,null,null,null,0]
[null,null,null,null,null,null,null,null,null,null,null,0]
[null,null,null,null,null,null,null,null,null,null,null,0]
[null,null,null,null,null,null,null,null,null,null,null,0]
[null,null,null,null,null,null,null,null,null,null,null,0]
[null,null,null,null,null,null,null,null,null,null,null,0]
[null,null,null,null,null,null,null,null,null,null,null,0]
[null,null,null,null,null,null,null,null,null,null,null,0]
[null,null,null,null,null,null,null,null,null,null,null,0]
[null,null,null,null,null,null,null,null,null,null,null,0]
[null,null,null,null,null,null,null,null,null,null,null,0]
[null,null,null,null,null,null,null,null,null,null,null,0]
[null,null,null,null,null,null,null,null,null,null,null,0]
[null,null,null,null,null,null,null,null,null,null,null,0]
[null,null,null,null,null,null,null,null,null,null,null,0]
[null,null,null,null,null,null,null,null,null,null,null,0]
[null,null,null,null,null,null,null,null,null,null,null,0]
[null,null,null,null,null,null,null,null,null,null,null,0]
[null,null,null,null,null,null,null,null,null,null,null,0]
[null,null,null,null,null,null,null,null,null,null,null,0]
[null,null,null,null,null,null,null,null,null,null,null,0]
[null,null,null,null,null,null,null,null,null,null,null,0]
[null,null,null,null,null,null,null,null,null,null,null,0]
[null,null,null,null,null,null,null,null,null,null,null,0]
[null,null,null,null,null,null,null,null,null,null,null,0]
[null,null,null,null,null,null,null,null,null,null,null,0]
[null,null,null,null,null,null,null,null,null,null,null,0]
[null,null,null,null,null,null,null,null,null,null,null,0]
[null,null,null,null,null,null,null,null,null,null,null,0]
[null,null,null,null,null,null,null,null,null,null,null,0]
[null,null,null,null,null,null,null,null,null,null,null,0]
[null,null,null,null,null,null,null,null,null,null,null,0]
[null,null,null,null,null,null,null,null,null,null,null,0]
[null,null,null,null,null,null,null,null,null,null,null,0]
[null,null,null,null,null,null,null,null,null,null,null,0]
[null,null,null,null,null,null,null,null,null,null,null,0]
[null,null,null,null,null,null,null,null,null,null,null,0]
[null,null,null,null,null,null,null,null,null,null,null,0]
[null,null,null,null,null,null,null,null,null,null,null,0]
[null,null,null,null,null,null,null,null,null,null,null,0]
[null,null,null,null,null,null,null,null,null,null,null,0]
[null,null,null,null,null,null,null,null,null,null,null,0]
[null,null,null,null,null,null,null,null,null,null,null,0]
[null,null,null,null,null,null,null,null,null,null,null,0]
[null,null,null,null,null,null,null,null,null,null,null,0]
[null,null,null,null,null,null,null,null,null,null,null,0]
[null,null,null,null,null,null,null,null,null,null,null,0]
[null,null,null,null,null,null,null,null,null,null,null,0]
[null,null,null,null,null,null,null,null,null,null,null,0]
[null,null,null,null,null,null,null,null,null,null,null,0]
[null,null,null,null,null,null,null,null,null,null,null,0]
[null,null,null,null,null,null,null,null,null,null,null,0]
[null,null,null,null,null,null,null,null,null,null,null,0]
[null,null,null,null,null,null,null,null,null,null,null,0]
[null,null,null,null,null,null,null,null,null,null,null,0]
[null,null,null,null,null,null,null,null,null,null,null,0]
[null,null,null,null,null,null,null,null,null,null,null,0]
[null,null,null,null,null,null,null,null,null,null,null,0]
[null,null,null,null,null,null,null,null,null,null,null,0]
[null,null,null,null,null,null,null,null,null,null,null,0]
[null,null,null,null,null,null,null,null,null,null,null,0]
[null,null,null,null,null,null,null,null,null,null,null,0]
[null,null,null,null,null,null,null,null,null,null,null,0]
[null,null,null,null,null,null,null,null,null,null,null,0]
[null,null,null,null,null,null,null,null,null,null,null,0]
[null,null,null,null,null,null,null,null,null,null,null,0]
[null,null,null,null,null,null,null,null,null,null,null,0]
[null,null,null,null,null,null,null,null,null,null,null,0]
[null,null,null,null,null,null,null,null,null,null,null,0]
[null,null,null,null,null,null,null,null,null,null,null,0]
[null,null,null,null,null,null,null,null,null,null,null,0]
[null,null,null,null,null,null,null,null,null,null,null,0]
[null,null,null,null,null,null,null,null,null,null,null,0]
[null,null,null,null,null,null,null,null,null,null,null,0]
[null,null,null,null,null,null,null,null,null,null,null,0]
[null,null,null,null,null,null,null,null,null,null,null,0]
[null,null,null,null,null,null,null,null,null,null,null,0]
[null,null,null,null,null,null,null,null,null,null,null,0]
[null,null,null,null,null,null,null,null,null,null,null,0]
[null,null,null,null,null,null,null,null,null,null,null,0]
[null,null,null,null,null,null,null,null,null,null,null,0]
[null,null,null,null,null,null,null,null,null,null,null,0]
[null,null,null,null,null,null,null,null,null,null,null,0]
[null,null,null,null,null,null,null,null,null,null,null,0]
[null,null,null,null,null,null,null,null,null,null,null,0]
[null,null,null,null,null,null,null,null,null,null,null,0]
[null,null,null,null,null,null,null,null,null,null,null,0]
[null,null,null,null,null,null,null,null,null,null,null,0]
[null,null,null,null,null,null,null,null,null,null,null,0]
[null,null,null,null,null,null,null,null,null,null,null,0]
[null,null,null,null,null,null,null,null,null,null,null,0]
[null,null,null,null,null,null,null,null,null,null,null,0]
[null,null,null,null,null,null,null,null,null,null,null,0]
[null,null,null,null,null,null,null,null,null,null,null,0]
[null,null,null,null,null,null,null,null,null,null,null,0]
[null,null,null,null,null,null,null,null,null,null,null,0]
[null,null,null,null,null,null,null,null,null,null,null,0]
[null,null,null,null,null,null,null,null,null,null,null,0]
[null,null,null,null,null,null,null,null,null,null,null,0]
[null,null,null,null,null,null,null,null,null,null,null,0]
[null,null,null,null,null,null,null,null,null,null,null,0]
[null,null,null,null,null,null,null,null,null,null,null,0]
[null,null,null,null,null,null,null,null,null,null,null,0]
[null,null,null,null,null,null,null,null,null,null,null,0]
[null,null,null,null,null,null,null,null,null,null,null,0]
[null,null,null,null,null,null,null,null,null,null,null,0]
[null,null,null,null,null,null,null,null,null,null,null,0]
[null,null,null,null,null,null,null,null,null,null,null,0]
[null,null,null,null,null,null,null,null,null,null,null,0]
[null,null,null,null,null,null,null,null,null,null,null,0]
[null,null,null,null,null,null,null,null,null,null,null,0]
[null,null,null,null,null,null,null,null,null,null,null,0]
[null,null,null,null,null,null,null,null,null,null,null,0]
[null,null,null,null,null,null,null,null,null,null,null,0]
[null,null,null,null,null,null,null,null,null,null,null,0]
[null,null,null,null,null,null,null,null,null,null,null,0]
[null,null,null,null,null,null,null,null,null,null,null,0]
[null,null,null,null,null,null,null,null,null,null,null,0]
[null,null,null,null,null,null,null,null,null,null,null,0]
[null,null,null,null,null,null,null,null,null,null,null,0]
[null,null,null,null,null,null,null,null,null,null,null,0]
[null,null,null,null,null,null,null,null,null,null,null,0]
[null,null,null,null,null,null,null,null,null,null,null,0]
[null,null,null,null,null,null,null,null,null,null,null,0]
[null,null,null,null,null,null,null,null,null,null,null,0]
[null,null,null,null,null,null,null,null,null,null,null,0]
[null,null,null,null,null,null,null,null,null,null,null,0]
[null,null,null,null,null,null,null,null,null,null,null,0]
[null,null,null,null,null,null,null,null,null,null,null,0]
[null,null,null,null,null,null,null,null,null,null,null,0]
[null,null,null,null,null,null,null,null,null,null,null,0]
[null,null,null,null,null,null,null,null,null,null,null,0]
[null,null,null,null,null,null,null,null,null,null,null,0]
[null,null,null,null,null,null,null,null,null,null,null,0]
[null,null,null,null,null,null,null,null,null,null,null,0]
[null,null,null,null,null,null,null,null,null,null,null,0]
[null,null,null,null,null,null,null,null,null,null,null,0]
[null,null,null,null,null,null,null,null,null,null,null,0]
[null,null,null,null,null,null,null,null,null,null,null,0]
[null,null,null,null,null,null,null,null,null,null,null,0]
[null,null,null,null,null,null,null,null,null,null,null,0]
[null,null,null,null,null,null,null,null,null,null,null,0]
[null,null,null,null,null,null,null,null,null,null,null,0]
[null,null,null,null,null,null,null,null,null,null,null,0]
[null,null,null,null,null,null,null,null,null,null,null,0]
[null,null,null,null,null,null,null,null,null,null,null,0]
[null,null,null,null,null,null,null,null,null,null,null,0]
[null,null,null,null,null,null,null,null,null,null,null,0]
[null,null,null,null,null,null,null,null,null,null,null,0]
[null,null,null,null,null,null,null,null,null,null,null,0]
[null,null,null,null,null,null,null,null,null,null,null,0]
[null,null,null,null,null,null,null,null,null,null,null,0]
[null,null,null,null,null,null,null,null,null,null,null,0]
[null,null,null,null,null,null,null,null,null,null,null,0]
[null,null,null,null,null,null,null,null,null,null,null,0]
[null,null,null,null,null,null,null,null,null,null,null,0]
[null,null,null,null,null,null,null,null,null,null,null,0]
[null,null,null,null,null,null,null,null,null,null,null,0]
[null,null,null,null,null,null,null,null,null,null,null,0]
[null,null,null,null,null,null,null,null,null,null,null,0]
[null,null,null,null,null,null,null,null,null,null,null,0]
[null,null,null,null,null,null,null,null,null,null,null,0]
[null,null,null,null,null,null,null,null,null,null,null,0]
[null,null,null,null,null,null,null,null,null,null,null,0]
[null,null,null,null,null,null,null,null,null,null,null,0]
[null,null,null,null,null,null,null,null,null,null,null,0]
[null,null,null,null,null,null,null,null,null,null,null,0]
[null,null,null,null,null,null,null,null,null,null,null,0]
[null,null,null,null,null,null,null,null,null,null,null,0]
[null,null,null,null,null,null,null,null,null,null,null,0]
[null,null,null,null,null,null,null,null,null,null,null,0]
[null,null,null,null,null,null,null,null,null,null,null,0]
[null,null,null,null,null,null,null,null,null,null,null,0]
[null,null,null,null,null,null,null,null,null,null,null,0]
[null,null,null,null,null,null,null,null,null,null,null,0]
[null,null,null,null,null,null,null,null,null,null,null,0]
[null,null,null,null,null,null,null,null,null,null,null,0]
[null,null,null,null,null,null,null,null,null,null,null,0]
[null,null,null,null,null,null,null,null,null,null,null,0]
[null,null,null,null,null,null,null,null,null,null,null,0]
[null,null,null,null,null,null,null,null,null,null,null,0]
[null,null,null,null,null,null,null,null,null,null,null,0]
[null,null,null,null,null,null,null,null,null,null,null,0]
[null,null,null,null,null,null,null,null,null,null,null,0]
[null,null,null,null,null,null,null,null,null,null,null,0]
[null,null,null,null,null,null,null,null,null,null,null,0]
[null,null,null,null,null,null,null,null,null,null,null,0]
[null,null,null,null,null,null,null,null,null,null,null,0]
[null,null,null,null,null,null,null,null,null,null,null,0]
[null,null,null,null,null,null,null,null,null,null,null,0]
[null,null,null,null,null,null,null,null,null,null,null,0]
[null,null,null,null,null,null,null,null,null,null,null,0]
[null,null,null,null,null,null,null,null,null,null,null,0]
[null,null,null,null,null,null,null,null,null,null,null,0]
[null,null,null,null,null,null,null,null,null,null,null,0]
[null,null,null,null,null,null,null,null,null,null,null,0]
[null,null,null,null,null,null,null,null,null,null,null,0]
[null,null,null,null,null,null,null,null,null,null,null,0]
[null,null,null,null,null,null,null,null,null,null,null,0]
[null,null,null,null,null,null,null,null,null,null,null,0]
[null,null,null,null,null,null,null,null,null,null,null,0]
[null,null,null,null,null,null,null,null,null,null,null,0]
[null,null,null,null,null,null,null,null,null,null,null,0]
[null,null,null,null,null,null,null,null,null,null,null,0]
[null,null,null,null,null,null,null,null,null,null,null,0]
[null,null,null,null,null,null,null,null,null,null,null,0]
[null,null,null,null,null,null,null,null,null,null,null,0]
[null,null,null,null,null,null,null,null,null,null,null,0]
[null,null,null,null,null,null,null,null,null,null,null,0]
[null,null,null,null,null,null,null,null,null,null,null,0]
[null,null,null,null,null,null,null,null,null,null,null,0]
[null,null,null,null,null,null,null,null,null,null,null,0]
[null,null,null,null,null,null,null,null,null,null,null,0]
[null,null,null,null,null,null,null,null,null,null,null,0]
[null,null,null,null,null,null,null,null,null,null,null,0]
[null,null,null,null,null,null,null,null,null,null,null,0]
[null,null,null,null,null,null,null,null,null,null,null,0]
[null,null,null,null,null,null,null,null,null,null,null,0]
[null,null,null,null,null,null,null,null,null,null,null,0]
[null,null,null,null,null,null,null,null,null,null,null,0]
[null,null,null,null,null,null,null,null,null,null,null,0]
[null,null,null,null,null,null,null,null,null,null,null,0]
[null,null,null,null,null,null,null,null,null,null,null,0]
[null,null,null,null,null,null,null,null,null,null,null,0]
[null,null,null,null,null,null,null,null,null,null,null,0]
[null,null,null,null,null,null,null,null,null,null,null,0]
[null,null,null,null,null,null,null,null,null,null,null,0]
[null,null,null,null,null,null,null,null,null,null,null,0]
[null,null,null,null,null,null,null,null,null,null,null,0]
[null,null,null,null,null,null,null,null,null,null,null,0]
[null,null,null,null,null,null,null,null,null,null,null,0]
[null,null,null,null,null,null,null,null,null,null,null,0]
[null,null,null,null,null,null,null,null,null,null,null,0]
[null,null,null,null,null,null,null,null,null,null,null,0]
[null,null,null,null,null,null,null,null,null,null,null,0]
[null,null,null,null,null,null,null,null,null,null,null,0]
[null,null,null,null,null,null,null,null,null,null,null,0]
[null,null,null,null,null,null,null,null,null,null,null,0]
[null,null,null,null,null,null,null,null,null,null,null,0]
[null,null,null,null,null,null,null,null,null,null,null,0]
[null,null,null,null,null,null,null,null,null,null,null,0]
[null,null,null,null,null,null,null,null,null,null,null,0]
[null,null,null,null,null,null,null,null,null,null,null,0]
[null,null,null,null,null,null,null,null,null,null,null,0]
[null,null,null,null,null,null,null,null,null,null,null,0]
[null,null,null,null,null,null,null,null,null,null,null,0]
[null,null,null,null,null,null,null,null,null,null,null,0]
[null,null,null,null,null,null,null,null,null,null,null,0]
[null,null,null,null,null,null,null,null,null,null,null,0]
[null,null,null,null,null,null,null,null,null,null,null,0]
[null,null,null,null,null,null,null,null,null,null,null,0]
[null,null,null,null,null,null,null,null,null,null,null,0]
[null,null,null,null,null,null,null,null,null,null,null,0]
[null,null,null,null,null,null,null,null,null,null,null,0]
[null,null,null,null,null,null,null,null,null,null,null,0]
[null,null,null,null,null,null,null,null,null,null,null,0]
[null,null,null,null,null,null,null,null,null,null,null,0]
[null,null,null,null,null,null,null,null,null,null,null,0]
[null,null,null,null,null,null,null,null,null,null,null,0]
[null,null,null,null,null,null,null,null,null,null,null,0]
[null,null,null,null,null,null,null,null,null,null,null,0]
[null,null,null,null,null,null,null,null,null,null,null,0]
[null,null,null,null,null,null,null,null,null,null,null,0]
[null,null,null,null,null,null,null,null,null,null,null,0]
[null,null,null,null,null,null,null,null,null,null,null,0]
[null,null,null,null,null,null,null,null,null,null,null,0]
[null,null,null,null,null,null,null,null,null,null,null,0]
[null,null,null,null,null,null,null,null,null,null,null,0]
[null,null,null,null,null,null,null,null,null,null,null,0]
[null,null,null,null,null,null,null,null,null,null,null,0]
[null,null,null,null,null,null,null,null,null,null,null,0]
[null,null,null,null,null,null,null,null,null,null,null,0]
[null,null,null,null,null,null,null,null,null,null,null,0]
[null,null,null,null,null,null,null,null,null,null,null,0]
[null,null,null,null,null,null,null,null,null,null,null,0]
[null,null,null,null,null,null,null,null,null,null,null,0]
[null,null,null,null,null,null,null,null,null,null,null,0]
[null,null,null,null,null,null,null,null,null,null,null,0]
[null,null,null,null,null,null,null,null,null,null,null,0]
[null,null,null,null,null,null,null,null,null,null,null,0]
[null,null,null,null,null,null,null,null,null,null,null,0]
[null,null,null,null,null,null,null,null,null,null,null,0]
[null,null,null,null,null,null,null,null,null,null,null,0]
[null,null,null,null,null,null,null,null,null,null,null,0]
[null,null,null,null,null,null,null,null,null,null,null,0]
[null,null,null,null,null,null,null,null,null,null,null,0]
[null,null,null,null,null,null,null,null,null,null,null,0]
[null,null,null,null,null,null,null,null,null,null,null,0]
[null,null,null,null,null,null,null,null,null,null,null,0]
[null,null,null,null,null,null,null,null,null,null,null,0]
[null,null,null,null,null,null,null,null,null,null,null,0]
[null,null,null,null,null,null,null,null,null,null,null,0]
[null,null,null,null,null,null,null,null,null,null,null,0]
[null,null,null,null,null,null,null,null,null,null,null,0]
[null,null,null,null,null,null,null,null,null,null,null,0]
[null,null,null,null,null,null,null,null,null,null,null,0]
[null,null,null,null,null,null,null,null,null,null,null,0]
[null,null,null,null,null,null,null,null,null,null,null,0]
[null,null,null,null,null,null,null,null,null,null,null,0]
[null,null,null,null,null,null,null,null,null,null,null,0]
[null,null,null,null,null,null,null,null,null,null,null,0]
[null,null,null,null,null,null,null,null,null,null,null,0]
[null,null,null,null,null,null,null,null,null,null,null,0]
[null,null,null,null,null,null,null,null,null,null,null,0]
[null,null,null,null,null,null,null,null,null,null,null,0]
[null,null,null,null,null,null,null,null,null,null,null,0]
[null,null,null,null,null,null,null,null,null,null,null,0]
[null,null,null,null,null,null,null,null,null,null,null,0]
[null,null,null,null,null,null,null,null,null,null,null,0]
[null,null,null,null,null,null,null,null,null,null,null,0]
[null,null,null,null,null,null,null,null,null,null,null,0]
[null,null,null,null,null,null,null,null,null,null,null,0]
[null,null,null,null,null,null,null,null,null,null,null,0]
[null,null,null,null,null,null,null,null,null,null,null,0]
[null,null,null,null,null,null,null,null,null,null,null,0]
[null,null,null,null,null,null,null,null,null,null,null,0]
[null,null,null,null,null,null,null,null,null,null,null,0]
[null,null,null,null,null,null,null,null,null,null,null,0]
[null,null,null,null,null,null,null,null,null,null,null,0]
[null,null,null,null,null,null,null,null,null,null,null,0]
[null,null,null,null,null,null,null,null,null,null,null,0]
[null,null,null,null,null,null,null,null,null,null,null,0]
[null,null,null,null,null,null,null,null,null,null,null,0]
[null,null,null,null,null,null,null,null,null,null,null,0]
[null,null,null,null,null,null,null,null,null,null,null,0]
[null,null,null,null,null,null,null,null,null,null,null,0]
[null,null,null,null,null,null,null,null,null,null,null,0]
[null,null,null,null,null,null,null,null,null,null,null,0]
[null,null,null,null,null,null,null,null,null,null,null,0]
[null,null,null,null,null,null,null,null,null,null,null,0]
[null,null,null,null,null,null,null,null,null,null,null,0]
[null,null,null,null,null,null,null,null,null,null,null,0]
[null,null,null,null,null,null,null,null,null,null,null,0]
[null,null,null,null,null,null,null,null,null,null,null,0]
[null,null,null,null,null,null,null,null,null,null,null,0]
[null,null,null,null,null,null,null,null,null,null,null,0]
[null,null,null,null,null,null,null,null,null,null,null,0]
[null,null,null,null,null,null,null,null,null,null,null,0]
[null,null,null,null,null,null,null,null,null,null,null,0]
[null,null,null,null,null,null,null,null,null,null,null,0]
[null,null,null,null,null,null,null,null,null,null,null,0]
[null,null,null,null,null,null,null,null,null,null,null,0]
[null,null,null,null,null,null,null,null,null,null,null,0]
[null,null,null,null,null,null,null,null,null,null,null,0]
[null,null,null,null,null,null,null,null,null,null,null,0]
[null,null,null,null,null,null,null,null,null,null,null,0]
[null,null,null,null,null,null,null,null,null,null,null,0]
[null,null,null,null,null,null,null,null,null,null,null,0]
[null,null,null,null,null,null,null,null,null,null,null,0]
[null,null,null,null,null,null,null,null,null,null,null,0]
[null,null,null,null,null,null,null,null,null,null,null,0]
[null,null,null,null,null,null,null,null,null,null,null,0]
[null,null,null,null,null,null,null,null,null,null,null,0]
[null,null,null,null,null,null,null,null,null,null,null,0]
[null,null,null,null,null,null,null,null,null,null,null,0]
[null,null,null,null,null,null,null,null,null,null,null,0]
[null,null,null,null,null,null,null,null,null,null,null,0]
[null,null,null,null,null,null,null,null,null,null,null,0]
[null,null,null,null,null,null,null,null,null,null,null,0]
[null,null,null,null,null,null,null,null,null,null,null,0]
[null,null,null,null,null,null,null,null,null,null,null,0]
[null,null,null,null,null,null,null,null,null,null,null,0]
[null,null,null,null,null,null,null,null,null,null,null,0]
[null,null,null,null,null,null,null,null,null,null,null,0]
[null,null,null,null,null,null,null,null,null,null,null,0]
[null,null,null,null,null,null,null,null,null,null,null,0]
[null,null,null,null,null,null,null,null,null,null,null,0]
[null,null,null,null,null,null,null,null,null,null,null,0]
[null,null,null,null,null,null,null,null,null,null,null,0]
[null,null,null,null,null,null,null,null,null,null,null,0]
[null,null,null,null,null,null,null,null,null,null,null,0]
[null,null,null,null,null,null,null,null,null,null,null,0]
[null,null,null,null,null,null,null,null,null,null,null,0]
[null,null,null,null,null,null,null,null,null,null,null,0]
[null,null,null,null,null,null,null,null,null,null,null,0]
[null,null,null,null,null,null,null,null,null,null,null,0]
[null,null,null,null,null,null,null,null,null,null,null,0]
[null,null,null,null,null,null,null,null,null,null,null,0]
[null,null,null,null,null,null,null,null,null,null,null,0]
[null,null,null,null,null,null,null,null,null,null,null,0]
[null,null,null,null,null,null,null,null,null,null,null,0]
[null,null,null,null,null,null,null,null,null,null,null,0]
[null,null,null,null,null,null,null,null,null,null,null,0]
[null,null,null,null,null,null,null,null,null,null,null,0]
[null,null,null,null,null,null,null,null,null,null,null,0]
[null,null,null,null,null,null,null,null,null,null,null,0]
[null,null,null,null,null,null,null,null,null,null,null,0]
[null,null,null,null,null,null,null,null,null,null,null,0]
[null,null,null,null,null,null,null,null,null,null,null,0]
[null,null,null,null,null,null,null,null,null,null,null,0]
[null,null,null,null,null,null,null,null,null,null,null,0]
[null,null,null,null,null,null,null,null,null,null,null,0]
[null,null,null,null,null,null,null,null,null,null,null,0]
[null,null,null,null,null,null,null,null,null,null,null,0]
[null,null,null,null,null,null,null,null,null,null,null,0]
[null,null,null,null,null,null,null,null,null,null,null,0]
[null,null,null,null,null,null,null,null,null,null,null,0]
[null,null,null,null,null,null,null,null,null,null,null,0]
[null,null,null,null,null,null,null,null,null,null,null,0]
[null,null,null,null,null,null,null,null,null,null,null,0]
[null,null,null,null,null,null,null,null,null,null,null,0]
[null,null,null,null,null,null,null,null,null,null,null,0]
[null,null,null,null,null,null,null,null,null,null,null,0]
[null,null,null,null,null,null,null,null,null,null,null,0]
[null,null,null,null,null,null,null,null,null,null,null,0]
[null,null,null,null,null,null,null,null,null,null,null,0]
[null,null,null,null,null,null,null,null,null,null,null,0]
[null,null,null,null,null,null,null,null,null,null,null,0]
[null,null,null,null,null,null,null,null,null,null,null,0]
[null,null,null,null,null,null,null,null,null,null,null,0]
[null,null,null,null,null,null,null,null,null,null,null,0]
[null,null,null,null,null,null,null,null,null,null,null,0]
[null,null,null,null,null,null,null,null,null,null,null,0]
[null,null,null,null,null,null,null,null,null,null,null,0]
[null,null,null,null,null,null,null,null,null,null,null,0]
[null,null,null,null,null,null,null,null,null,null,null,0]
[null,null,null,null,null,null,null,null,null,null,null,0]
[null,null,null,null,null,null,null,null,null,null,null,0]
[null,null,null,null,null,null,null,null,null,null,null,0]
[null,null,null,null,null,null,null,null,null,null,null,0]
[null,null,null,null,null,null,null,null,null,null,null,0]
[null,null,null,null,null,null,null,null,null,null,null,0]
[null,null,null,null,null,null,null,null,null,null,null,0]
[null,null,null,null,null,null,null,null,null,null,null,0]
[null,null,null,null,null,null,null,null,null,null,null,0]
[null,null,null,null,null,null,null,null,null,null,null,0]
[null,null,null,null,null,null,null,null,null,null,null,0]
[null,null,null,null,null,null,null,null,null,null,null,0]
[null,null,null,null,null,null,null,null,null,null,null,0]
[null,null,null,null,null,null,null,null,null,null,null,0]
[null,null,null,null,null,null,null,null,null,null,null,0]
[null,null,null,null,null,null,null,null,null,null,null,0]
[null,null,null,null,null,null,null,null,null,null,null,0]
[null,null,null,null,null,null,null,null,null,null,null,0]
[null,null,null,null,null,null,null,null,null,null,null,0]
[null,null,null,null,null,null,null,null,null,null,null,0]
[null,null,null,null,null,null,null,null,null,null,null,0]
[null,null,null,null,null,null,null,null,null,null,null,0]
[null,null,null,null,null,null,null,null,null,null,null,0]
[null,null,null,null,null,null,null,null,null,null,null,0]
[null,null,null,null,null,null,null,null,null,null,null,0]
[null,null,null,null,null,null,null,null,null,null,null,0]
[null,null,null,null,null,null,null,null,null,null,null,0]
[null,null,null,null,null,null,null,null,null,null,null,0]
[null,null,null,null,null,null,null,null,null,null,null,0]
[null,null,null,null,null,null,null,null,null,null,null,0]
[null,null,null,null,null,null,null,null,null,null,null,0]
[null,null,null,null,null,null,null,null,null,null,null,0]
[null,null,null,null,null,null,null,null,null,null,null,0]
[null,null,null,null,null,null,null,null,null,null,null,0]
[null,null,null,null,null,null,null,null,null,null,null,0]
[null,null,null,null,null,null,null,null,null,null,null,0]
[null,null,null,null,null,null,null,null,null,null,null,0]
[null,null,null,null,null,null,null,null,null,null,null,0]
[null,null,null,null,null,null,null,null,null,null,null,0]
[null,null,null,null,null,null,null,null,null,null,null,0]
[null,null,null,null,null,null,null,null,null,null,null,0]
[null,null,null,null,null,null,null,null,null,null,null,0]
[null,null,null,null,null,null,null,null,null,null,null,0]
[null,null,null,null,null,null,null,null,null,null,null,0]
[null,null,null,null,null,null,null,null,null,null,null,0]
[null,null,null,null,null,null,null,null,null,null,null,0]
[null,null,null,null,null,null,null,null,null,null,null,0]
[null,null,null,null,null,null,null,null,null,null,null,0]
[null,null,null,null,null,null,null,null,null,null,null,0]
[null,null,null,null,null,null,null,null,null,null,null,0]
[null,null,null,null,null,null,null,null,null,null,null,0]
[null,null,null,null,null,null,null,null,null,null,null,0]
[null,null,null,null,null,null,null,null,null,null,null,0]
[null,null,null,null,null,null,null,null,null,null,null,0]
[null,null,null,null,null,null,null,null,null,null,null,0]
[null,null,null,null,null,null,null,null,null,null,null,0]
[null,null,null,null,null,null,null,null,null,null,null,0]
[null,null,null,null,null,null,null,null,null,null,null,0]
[null,null,null,null,null,null,null,null,null,null,null,0]
[null,null,null,null,null,null,null,null,null,null,null,0]
[null,null,null,null,null,null,null,null,null,null,null,0]
[null,null,null,null,null,null,null,null,null,null,null,0]
[null,null,null,null,null,null,null,null,null,null,null,0]
[null,null,null,null,null,null,null,null,null,null,null,0]
[null,null,null,null,null,null,null,null,null,null,null,0]
[null,null,null,null,null,null,null,null,null,null,null,0]
[null,null,null,null,null,null,null,null,null,null,null,0]
[null,null,null,null,null,null,null,null,null,null,null,0]
[null,null,null,null,null,null,null,null,null,null,null,0]
[null,null,null,null,null,null,null,null,null,null,null,0]
[null,null,null,null,null,null,null,null,null,null,null,0]
[null,null,null,null,null,null,null,null,null,null,null,0]
[null,null,null,null,null,null,null,null,null,null,null,0]
[null,null,null,null,null,null,null,null,null,null,null,0]
[null,null,null,null,null,null,null,null,null,null,null,0]
[null,null,null,null,null,null,null,null,null,null,null,0]
[null,null,null,null,null,null,null,null,null,null,null,0]
[null,null,null,null,null,null,null,null,null,null,null,0]
[null,null,null,null,null,null,null,null,null,null,null,0]
[null,null,null,null,null,null,null,null,null,null,null,0]
[null,null,null,null,null,null,null,null,null,null,null,0]
[null,null,null,null,null,null,null,null,null,null,null,0]
[null,null,null,null,null,null,null,null,null,null,null,0]
[null,null,null,null,null,null,null,null,null,null,null,0]
[null,null,null,null,null,null,null,null,null,null,null,0]
[null,null,null,null,null,null,null,null,null,null,null,0]
[null,null,null,null,null,null,null,null,null,null,null,0]
[null,null,null,null,null,null,null,null,null,null,null,0]
[null,null,null,null,null,null,null,null,null,null,null,0]
[null,null,null,null,null,null,null,null,null,null,null,0]
[null,null,null,null,null,null,null,null,null,null,null,0]
[null,null,null,null,null,null,null,null,null,null,null,0]
[null,null,null,null,null,null,null,null,null,null,null,0]
[null,null,null,null,null,null,null,null,null,null,null,0]
[null,null,null,null,null,null,null,null,null,null,null,0]
[null,null,null,null,null,null,null,null,null,null,null,0]
[null,null,null,null,null,null,null,null,null,null,null,0]
[null,null,null,null,null,null,null,null,null,null,null,0]
[null,null,null,null,null,null,null,null,null,null,null,0]
[null,null,null,null,null,null,null,null,null,null,null,0]
[null,null,null,null,null,null,null,null,null,null,null,0]
[null,null,null,null,null,null,null,null,null,null,null,0]
[null,null,null,null,null,null,null,null,null,null,null,0]
[null,null,null,null,null,null,null,null,null,null,null,0]
[null,null,null,null,null,null,null,null,null,null,null,0]
[null,null,null,null,null,null,null,null,null,null,null,0]
[null,null,null,null,null,null,null,null,null,null,null,0]
[null,null,null,null,null,null,null,null,null,null,null,0]
[null,null,null,null,null,null,null,null,null,null,null,0]
[null,null,null,null,null,null,null,null,null,null,null,0]
[null,null,null,null,null,null,null,null,null,null,null,0]
[null,null,null,null,null,null,null,null,null,null,null,0]
[null,null,null,null,null,null,null,null,null,null,null,0]
[null,null,null,null,null,null,null,null,null,null,null,0]
[null,null,null,null,null,null,null,null,null,null,null,0]
[null,null,null,null,null,null,null,null,null,null,null,0]
[null,null,null,null,null,null,null,null,null,null,null,0]
[null,null,null,null,null,null,null,null,null,null,null,0]
[null,null,null,null,null,null,null,null,null,null,null,0]
[null,null,null,null,null,null,null,null,null,null,null,0]
[null,null,null,null,null,null,null,null,null,null,null,0]
[null,null,null,null,null,null,null,null,null,null,null,0]
[null,null,null,null,null,null,null,null,null,null,null,0]
[null,null,null,null,null,null,null,null,null,null,null,0]
[null,null,null,null,null,null,null,null,null,null,null,0]
[null,null,null,null,null,null,null,null,null,null,null,0]
[null,null,null,null,null,null,null,null,null,null,null,0]
[null,null,null,null,null,null,null,null,null,null,null,0]
[null,null,null,null,null,null,null,null,null,null,null,0]
[null,null,null,null,null,null,null,null,null,null,null,0]
[null,null,null,null,null,null,null,null,null,null,null,0]
[null,null,null,null,null,null,null,null,null,null,null,0]
[null,null,null,null,null,null,null,null,null,null,null,0]
[null,null,null,null,null,null,null,null,null,null,null,0]
[null,null,null,null,null,null,null,null,null,null,null,0]
[null,null,null,null,null,null,null,null,null,null,null,0]
[null,null,null,null,null,null,null,null,null,null,null,0]
[null,null,null,null,null,null,null,null,null,null,null,0]
[null,null,null,null,null,null,null,null,null,null,null,0]
[null,null,null,null,null,null,null,null,null,null,null,0]
[null,null,null,null,null,null,null,null,null,null,null,0]
[null,null,null,null,null,null,null,null,null,null,null,0]
[null,null,null,null,null,null,null,null,null,null,null,0]
[null,null,null,null,null,null,null,null,null,null,null,0]
[null,null,null,null,null,null,null,null,null,null,null,0]
[null,null,null,null,null,null,null,null,null,null,null,0]
[null,null,null,null,null,null,null,null,null,null,null,0]
[null,null,null,null,null,null,null,null,null,null,null,0]
[null,null,null,null,null,null,null,null,null,null,null,0]
[null,null,null,null,null,null,null,null,null,null,null,0]
[null,null,null,null,null,null,null,null,null,null,null,0]
[null,null,null,null,null,null,null,null,null,null,null,0]
[null,null,null,null,null,null,null,null,null,null,null,0]
[null,null,null,null,null,null,null,null,null,null,null,0]
[null,null,null,null,null,null,null,null,null,null,null,0]
[null,null,null,null,null,null,null,null,null,null,null,0]
[null,null,null,null,null,null,null,null,null,null,null,0]
[null,null,null,null,null,null,null,null,null,null,null,0]
[null,null,null,null,null,null,null,null,null,null,null,0]
[null,null,null,null,null,null,null,null,null,null,null,0]
[null,null,null,null,null,null,null,null,null,null,null,0]
[null,null,null,null,null,null,null,null,null,null,null,0]
[null,null,null,null,null,null,null,null,null,null,null,0]
[null,null,null,null,null,null,null,null,null,null,null,0]
[null,null,null,null,null,null,null,null,null,null,null,0]
[null,null,null,null,null,null,null,null,null,null,null,0]
[null,null,null,null,null,null,null,null,null,null,null,0]
[null,null,null,null,null,null,null,null,null,null,null,0]
[null,null,null,null,null,null,null,null,null,null,null,0]
[null,null,null,null,null,null,null,null,null,null,null,0]
[null,null,null,null,null,null,null,null,null,null,null,0]
[null,null,null,null,null,null,null,null,null,null,null,0]
[null,null,null,null,null,null,null,null,null,null,null,0]
[null,null,null,null,null,null,null,null,null,null,null,0]
[null,null,null,null,null,null,null,null,null,null,null,0]
[null,null,null,null,null,null,null,null,null,null,null,0]
[null,null,null,null,null,null,null,null,null,null,null,0]
[null,null,null,null,null,null,null,null,null,null,null,0]
[null,null,null,null,null,null,null,null,null,null,null,0]
[null,null,null,null,null,null,null,null,null,null,null,0]
[null,null,null,null,null,null,null,null,null,null,null,0]
[null,null,null,null,null,null,null,null,null,null,null,0]
[null,null,null,null,null,null,null,null,null,null,null,0]
[null,null,null,null,null,null,null,null,null,null,null,0]
[null,null,null,null,null,null,null,null,null,null,null,0]
[null,null,null,null,null,null,null,null,null,null,null,0]
[null,null,null,null,null,null,null,null,null,null,null,0]
[null,null,null,null,null,null,null,null,null,null,null,0]
[null,null,null,null,null,null,null,null,null,null,null,0]
[null,null,null,null,null,null,null,null,null,null,null,0]
[null,null,null,null,null,null,null,null,null,null,null,0]
[null,null,null,null,null,null,null,null,null,null,null,0]
[null,null,null,null,null,null,null,null,null,null,null,0]
[null,null,null,null,null,null,null,null,null,null,null,0]
[null,null,null,null,null,null,null,null,null,null,null,0]
[null,null,null,null,null,null,null,null,null,null,null,0]
[null,null,null,null,null,null,null,null,null,null,null,0]
[null,null,null,null,null,null,null,null,null,null,null,0]
[null,null,null,null,null,null,null,null,null,null,null,0]
[null,null,null,null,null,null,null,null,null,null,null,0]
[null,null,null,null,null,null,null,null,null,null,null,0]
[null,null,null,null,null,null,null,null,null,null,null,0]
[null,null,null,null,null,null,null,null,null,null,null,0]
[null,null,null,null,null,null,null,null,null,null,null,0]
[null,null,null,null,null,null,null,null,null,null,null,0]
[null,null,null,null,null,null,null,null,null,null,null,0]
[null,null,null,null,null,null,null,null,null,null,null,0]
[null,null,null,null,null,null,null,null,null,null,null,0]
[null,null,null,null,null,null,null,null,null,null,null,0]
[null,null,null,null,null,null,null,null,null,null,null,0]
[null,null,null,null,null,null,null,null,null,null,null,0]
[null,null,null,null,null,null,null,null,null,null,null,0]
[null,null,null,null,null,null,null,null,null,null,null,0]
[null,null,null,null,null,null,null,null,null,null,null,0]
[null,null,null,null,null,null,null,null,null,null,null,0]
[null,null,null,null,null,null,null,null,null,null,null,0]
[null,null,null,null,null,null,null,null,null,null,null,0]
[null,null,null,null,null,null,null,null,null,null,null,0]
[null,null,null,null,null,null,null,null,null,null,null,0]
[null,null,null,null,null,null,null,null,null,null,null,0]
[null,null,null,null,null,null,null,null,null,null,null,0]
[null,null,null,null,null,null,null,null,null,null,null,0]
[null,null,null,null,null,null,null,null,null,null,null,0]
[null,null,null,null,null,null,null,null,null,null,null,0]
[null,null,null,null,null,null,null,null,null,null,null,0]
[null,null,null,null,null,null,null,null,null,null,null,0]
[null,null,null,null,null,null,null,null,null,null,null,0]
[null,null,null,null,null,null,null,null,null,null,null,0]
[null,null,null,null,null,null,null,null,null,null,null,0]
[null,null,null,null,null,null,null,null,null,null,null,0]
[null,null,null,null,null,null,null,null,null,null,null,0]
[null,null,null,null,null,null,null,null,null,null,null,0]
[null,null,null,null,null,null,null,null,null,null,null,0]
[null,null,null,null,null,null,null,null,null,null,null,0]
[null,null,null,null,null,null,null,null,null,null,null,0]
[null,null,null,null,null,null,null,null,null,null,null,0]
[null,null,null,null,null,null,null,null,null,null,null,0]
[null,null,null,null,null,null,null,null,null,null,null,0]
[null,null,null,null,null,null,null,null,null,null,null,0]
[null,null,null,null,null,null,null,null,null,null,null,0]
[null,null,null,null,null,null,null,null,null,null,null,0]
[null,null,null,null,null,null,null,null,null,null,null,0]
[null,null,null,null,null,null,null,null,null,null,null,0]
[null,null,null,null,null,null,null,null,null,null,null,0]
[null,null,null,null,null,null,null,null,null,null,null,0]
[null,null,null,null,null,null,null,null,null,null,null,0]
[null,null,null,null,null,null,null,null,null,null,null,0]
[null,null,null,null,null,null,null,null,null,null,null,0]
[null,null,null,null,null,null,null,null,null,null,null,0]
[null,null,null,null,null,null,null,null,null,null,null,0]
[null,null,null,null,null,null,null,null,null,null,null,0]
[null,null,null,null,null,null,null,null,null,null,null,0]
[null,null,null,null,null,null,null,null,null,null,null,0]
[null,null,null,null,null,null,null,null,null,null,null,0]
[null,null,null,null,null,null,null,null,null,null,null,0]
[null,null,null,null,null,null,null,null,null,null,null,0]
[null,null,null,null,null,null,null,null,null,null,null,0]
[null,null,null,null,null,null,null,null,null,null,null,0]
[null,null,null,null,null,null,null,null,null,null,null,0]
[null,null,null,null,null,null,null,null,null,null,null,0]
[null,null,null,null,null,null,null,null,null,null,null,0]
[null,null,null,null,null,null,null,null,null,null,null,0]
[null,null,null,null,null,null,null,null,null,null,null,0]
[null,null,null,null,null,null,null,null,null,null,null,0]
[null,null,null,null,null,null,null,null,null,null,null,0]
[null,null,null,null,null,null,null,null,null,null,null,0]
[null,null,null,null,null,null,null,null,null,null,null,0]
[null,null,null,null,null,null,null,null,null,null,null,0]
[null,null,null,null,null,null,null,null,null,null,null,0]
[null,null,null,null,null,null,null,null,null,null,null,0]
[null,null,null,null,null,null,null,null,null,null,null,0]
[null,null,null,null,null,null,null,null,null,null,null,0]
[null,null,null,null,null,null,null,null,null,null,null,0]
[null,null,null,null,null,null,null,null,null,null,null,0]
[null,null,null,null,null,null,null,null,null,null,null,0]
[null,null,null,null,null,null,null,null,null,null,null,0]
[null,null,null,null,null,null,null,null,null,null,null,0]
[null,null,null,null,null,null,null,null,null,null,null,0]
[null,null,null,null,null,null,null,null,null,null,null,0]
[null,null,null,null,null,null,null,null,null,null,null,0]
[null,null,null,null,null,null,null,null,null,null,null,0]
[null,null,null,null,null,null,null,null,null,null,null,0]
[null,null,null,null,null,null,null,null,null,null,null,0]
[null,null,null,null,null,null,null,null,null,null,null,0]
[null,null,null,null,null,null,null,null,null,null,null,0]
[null,null,null,null,null,null,null,null,null,null,null,0]
[null,null,null,null,null,null,null,null,null,null,null,0]
[null,null,null,null,null,null,null,null,null,null,null,0]
[null,null,null,null,null,null,null,null,null,null,null,0]
[null,null,null,null,null,null,null,null,null,null,null,0]
[null,null,null,null,null,null,null,null,null,null,null,0]
[null,null,null,null,null,null,null,null,null,null,null,0]
[null,null,null,null,null,null,null,null,null,null,null,0]
[null,null,null,null,null,null,null,null,null,null,null,0]
[null,null,null,null,null,null,null,null,null,null,null,0]
[null,null,null,null,null,null,null,null,null,null,null,0]
[null,null,null,null,null,null,null,null,null,null,null,0]
[null,null,null,null,null,null,null,null,null,null,null,0]
[null,null,null,null,null,null,null,null,null,null,null,0]
[null,null,null,null,null,null,null,null,null,null,null,0]
[null,null,null,null,null,null,null,null,null,null,null,0]
[null,null,null,null,null,null,null,null,null,null,null,0]
[null,null,null,null,null,null,null,null,null,null,null,0]
[null,null,null,null,null,null,null,null,null,null,null,0]
[null,null,null,null,null,null,null,null,null,null,null,0]
[null,null,null,null,null,null,null,null,null,null,null,0]
[null,null,null,null,null,null,null,null,null,null,null,0]
[null,null,null,null,null,null,null,null,null,null,null,0]
[null,null,null,null,null,null,null,null,null,null,null,0]
[null,null,null,null,null,null,null,null,null,null,null,0]
[null,null,null,null,null,null,null,null,null,null,null,0]
[null,null,null,null,null,null,null,null,null,null,null,0]
[null,null,null,null,null,null,null,null,null,null,null,0]
[null,null,null,null,null,null,null,null,null,null,null,0]
[null,null,null,null,null,null,null,null,null,null,null,0]
[null,null,null,null,null,null,null,null,null,null,null,0]
[null,null,null,null,null,null,null,null,null,null,null,0]
[null,null,null,null,null,null,null,null,null,null,null,0]
[null,null,null,null,null,null,null,null,null,null,null,0]
[null,null,null,null,null,null,null,null,null,null,null,0]
[null,null,null,null,null,null,null,null,null,null,null,0]
[null,null,null,null,null,null,null,null,null,null,null,0]
[null,null,null,null,null,null,null,null,null,null,null,0]
[null,null,null,null,null,null,null,null,null,null,null,0]
[null,null,null,null,null,null,null,null,null,null,null,0]
[null,null,null,null,null,null,null,null,null,null,null,0]
[null,null,null,null,null,null,null,null,null,null,null,0]
[null,null,null,null,null,null,null,null,null,null,null,0]
[null,null,null,null,null,null,null,null,null,null,null,0]
[null,null,null,null,null,null,null,null,null,null,null,0]
[null,null,null,null,null,null,null,null,null,null,null,0]
[null,null,null,null,null,null,null,null,null,null,null,0]
[null,null,null,null,null,null,null,null,null,null,null,0]
[null,null,null,null,null,null,null,null,null,null,null,0]
[null,null,null,null,null,null,null,null,null,null,null,0]
[null,null,null,null,null,null,null,null,null,null,null,0]
[null,null,null,null,null,null,null,null,null,null,null,0]
[null,null,null,null,null,null,null,null,null,null,null,0]
[null,null,null,null,null,null,null,null,null,null,null,0]
[null,null,null,null,null,null,null,null,null,null,null,0]
[null,null,null,null,null,null,null,null,null,null,null,0]
[null,null,null,null,null,null,null,null,null,null,null,0]
[null,null,null,null,null,null,null,null,null,null,null,0]
[null,null,null,null,null,null,null,null,null,null,null,0]
[null,null,null,null,null,null,null,null,null,null,null,0]
[null,null,null,null,null,null,null,null,null,null,null,0]
[null,null,null,null,null,null,null,null,null,null,null,0]
[null,null,null,null,null,null,null,null,null,null,null,0]
[null,null,null,null,null,null,null,null,null,null,null,0]
[null,null,null,null,null,null,null,null,null,null,null,0]
[null,null,null,null,null,null,null,null,null,null,null,0]
[null,null,null,null,null,null,null,null,null,null,null,0]
[null,null,null,null,null,null,null,null,null,null,null,0]
[null,null,null,null,null,null,null,null,null,null,null,0]
[null,null,null,null,null,null,null,null,null,null,null,0]
[null,null,null,null,null,null,null,null,null,null,null,0]
[null,null,null,null,null,null,null,null,null,null,null,0]
[null,null,null,null,null,null,null,null,null,null,null,0]
[null,null,null,null,null,null,null,null,null,null,null,0]
[null,null,null,null,null,null,null,null,null,null,null,0]
[null,null,null,null,null,null,null,null,null,null,null,0]
[null,null,null,null,null,null,null,null,null,null,null,0]
[null,null,null,null,null,null,null,null,null,null,null,0]
[null,null,null,null,null,null,null,null,null,null,null,0]
[null,null,null,null,null,null,null,null,null,null,null,0]
[null,null,null,null,null,null,null,null,null,null,null,0]
[null,null,null,null,null,null,null,null,null,null,null,0]
[null,null,null,null,null,null,null,null,null,null,null,0]
[null,null,null,null,null,null,null,null,null,null,null,0]
[null,null,null,null,null,null,null,null,null,null,null,0]
[null,null,null,null,null,null,null,null,null,null,null,0]
[null,null,null,null,null,null,null,null,null,null,null,0]
[null,null,null,null,null,null,null,null,null,null,null,0]
[null,null,null,null,null,null,null,null,null,null,null,0]
[null,null,null,null,null,null,null,null,null,null,null,0]
[null,null,null,null,null,null,null,null,null,null,null,0]
[null,null,null,null,null,null,null,null,null,null,null,0]
[null,null,null,null,null,null,null,null,null,null,null,0]
[null,null,null,null,null,null,null,null,null,null,null,0]
[null,null,null,null,null,null,null,null,null,null,null,0]
[null,null,null,null,null,null,null,null,null,null,null,0]
[null,null,null,null,null,null,null,null,null,null,null,0]
[null,null,null,null,null,null,null,null,null,null,null,0]
[null,null,null,null,null,null,null,null,null,null,null,0]
[null,null,null,null,null,null,null,null,null,null,null,0]
[null,null,null,null,null,null,null,null,null,null,null,0]
[null,null,null,null,null,null,null,null,null,null,null,0]
[null,null,null,null,null,null,null,null,null,null,null,0]
[null,null,null,null,null,null,null,null,null,null,null,0]
[null,null,null,null,null,null,null,null,null,null,null,0]
[null,null,null,null,null,null,null,null,null,null,null,0]
[null,null,null,null,null,null,null,null,null,null,null,0]
[null,null,null,null,null,null,null,null,null,null,null,0]
[null,null,null,null,null,null,null,null,null,null,null,0]
[null,null,null,null,null,null,null,null,null,null,null,0]
[null,null,null,null,null,null,null,null,null,null,null,0]
[null,null,null,null,null,null,null,null,null,null,null,0]
[null,null,null,null,null,null,null,null,null,null,null,0]
[null,null,null,null,null,null,null,null,null,null,null,0]
[null,null,null,null,null,null,null,null,null,null,null,0]
[null,null,null,null,null,null,null,null,null,null,null,0]
[null,null,null,null,null,null,null,null,null,null,null,0]
[null,null,null,null,null,null,null,null,null,null,null,0]
[null,null,null,null,null,null,null,null,null,null,null,0]
[null,null,null,null,null,null,null,null,null,null,null,0]
[null,null,null,null,null,null,null,null,null,null,null,0]
[null,null,null,null,null,null,null,null,null,null,null,0]
[null,null,null,null,null,null,null,null,null,null,null,0]
[null,null,null,null,null,null,null,null,null,null,null,0]
[null,null,null,null,null,null,null,null,null,null,null,0]
[null,null,null,null,null,null,null,null,null,null,null,0]
[null,null,null,null,null,null,null,null,null,null,null,0]
[null,null,null,null,null,null,null,null,null,null,null,0]
[null,null,null,null,null,null,null,null,null,null,null,0]
[null,null,null,null,null,null,null,null,null,null,null,0]
[null,null,null,null,null,null,null,null,null,null,null,0]
[null,null,null,null,null,null,null,null,null,null,null,0]
[null,null,null,null,null,null,null,null,null,null,null,0]
[null,null,null,null,null,null,null,null,null,null,null,0]
[null,null,null,null,null,null,null,null,null,null,null,0]
[null,null,null,null,null,null,null,null,null,null,null,0]
[null,null,null,null,null,null,null,null,null,null,null,0]
[null,null,null,null,null,null,null,null,null,null,null,0]
[null,null,null,null,null,null,null,null,null,null,null,0]
[null,null,null,null,null,null,null,null,null,null,null,0]
[null,null,null,null,null,null,null,null,null,null,null,0]
[null,null,null,null,null,null,null,null,null,null,null,0]
[null,null,null,null,null,null,null,null,null,null,null,0]
[null,null,null,null,null,null,null,null,null,null,null,0]
[null,null,null,null,null,null,null,null,null,null,null,0]
[null,null,null,null,null,null,null,null,null,null,null,0]
[null,null,null,null,null,null,null,null,null,null,null,0]
[null,null,null,null,null,null,null,null,null,null,null,0]
[null,null,null,null,null,null,null,null,null,null,null,0]
[null,null,null,null,null,null,null,null,null,null,null,0]
[null,null,null,null,null,null,null,null,null,null,null,0]
[null,null,null,null,null,null,null,null,null,null,null,0]
[null,null,null,null,null,null,null,null,null,null,null,0]
[null,null,null,null,null,null,null,null,null,null,null,0]
[null,null,null,null,null,null,null,null,null,null,null,0]
[null,null,null,null,null,null,null,null,null,null,null,0]
[null,null,null,null,null,null,null,null,null,null,null,0]
[null,null,null,null,null,null,null,null,null,null,null,0]
[null,null,null,null,null,null,null,null,null,null,null,0]
[null,null,null,null,null,null,null,null,null,null,null,0]
[null,null,null,null,null,null,null,null,null,null,null,0]
[null,null,null,null,null,null,null,null,null,null,null,0]
[null,null,null,null,null,null,null,null,null,null,null,0]
[null,null,null,null,null,null,null,null,null,null,null,0]
[null,null,null,null,null,null,null,null,null,null,null,0]
[null,null,null,null,null,null,null,null,null,null,null,0]
[null,null,null,null,null,null,null,null,null,null,null,0]
[null,null,null,null,null,null,null,null,null,null,null,0]
[null,null,null,null,null,null,null,null,null,null,null,0]
[null,null,null,null,null,null,null,null,null,null,null,0]
[null,null,null,null,null,null,null,null,null,null,null,0]
[null,null,null,null,null,null,null,null,null,null,null,0]
[null,null,null,null,null,null,null,null,null,null,null,0]
[null,null,null,null,null,null,null,null,null,null,null,0]
[null,null,null,null,null,null,null,null,null,null,null,0]
[null,null,null,null,null,null,null,null,null,null,null,0]
[null,null,null,null,null,null,null,null,null,null,null,0]
[null,null,null,null,null,null,null,null,null,null,null,0]
[null,null,null,null,null,null,null,null,null,null,null,0]
[null,null,null,null,null,null,null,null,null,null,null,0]
[null,null,null,null,null,null,null,null,null,null,null,0]
[null,null,null,null,null,null,null,null,null,null,null,0]
[null,null,null,null,null,null,null,null,null,null,null,0]
[null,null,null,null,null,null,null,null,null,null,null,0]
[null,null,null,null,null,null,null,null,null,null,null,0]
[null,null,null,null,null,null,null,null,null,null,null,0]
[null,null,null,null,null,null,null,null,null,null,null,0]
[null,null,null,null,null,null,null,null,null,null,null,0]
[null,null,null,null,null,null,null,null,null,null,null,0]
[null,null,null,null,null,null,null,null,null,null,null,0]
[null,null,null,null,null,null,null,null,null,null,null,0]
[null,null,null,null,null,null,null,null,null,null,null,0]
[null,null,null,null,null,null,null,null,null,null,null,0]
[null,null,null,null,null,null,null,null,null,null,null,0]
[null,null,null,null,null,null,null,null,null,null,null,0]
[null,null,null,null,null,null,null,null,null,null,null,0]
[null,null,null,null,null,null,null,null,null,null,null,0]
[null,null,null,null,null,null,null,null,null,null,null,0]
[null,null,null,null,null,null,null,null,null,null,null,0]
[null,null,null,null,null,null,null,null,null,null,null,0]
[null,null,null,null,null,null,null,null,null,null,null,0]
[null,null,null,null,null,null,null,null,null,null,null,0]
[null,null,null,null,null,null,null,null,null,null,null,0]
[null,null,null,null,null,null,null,null,null,null,null,0]
[null,null,null,null,null,null,null,null,null,null,null,0]
[null,null,null,null,null,null,null,null,null,null,null,0]
[null,null,null,null,null,null,null,null,null,null,null,0]
[null,null,null,null,null,null,null,null,null,null,null,0]
[null,null,null,null,null,null,null,null,null,null,null,0]
[null,null,null,null,null,null,null,null,null,null,null,0]
[null,null,null,null,null,null,null,null,null,null,null,0]
[null,null,null,null,null,null,null,null,null,null,null,0]
[null,null,null,null,null,null,null,null,null,null,null,0]
[null,null,null,null,null,null,null,null,null,null,null,0]
[null,null,null,null,null,null,null,null,null,null,null,0]
[null,null,null,null,null,null,null,null,null,null,null,0]
[null,null,null,null,null,null,null,null,null,null,null,0]
[null,null,null,null,null,null,null,null,null,null,null,0]
[null,null,null,null,null,null,null,null,null,null,null,0]
[null,null,null,null,null,null,null,null,null,null,null,0]
[null,null,null,null,null,null,null,null,null,null,null,0]
[null,null,null,null,null,null,null,null,null,null,null,0]
[null,null,null,null,null,null,null,null,null,null,null,0]
[null,null,null,null,null,null,null,null,null,null,null,0]
[null,null,null,null,null,null,null,null,null,null,null,0]
[null,null,null,null,null,null,null,null,null,null,null,0]
[null,null,null,null,null,null,null,null,null,null,null,0]
[null,null,null,null,null,null,null,null,null,null,null,0]
[null,null,null,null,null,null,null,null,null,null,null,0]
[null,null,null,null,null,null,null,null,null,null,null,0]
[null,null,null,null,null,null,null,null,null,null,null,0]
[null,null,null,null,null,null,null,null,null,null,null,0]
[null,null,null,null,null,null,null,null,null,null,null,0]
[null,null,null,null,null,null,null,null,null,null,null,0]
[null,null,null,null,null,null,null,null,null,null,null,0]
[null,null,null,null,null,null,null,null,null,null,null,0]
[null,null,null,null,null,null,null,null,null,null,null,0]
[null,null,null,null,null,null,null,null,null,null,null,0]
[null,null,null,null,null,null,null,null,null,null,null,0]
[null,null,null,null,null,null,null,null,null,null,null,0]
[null,null,null,null,null,null,null,null,null,null,null,0]
[null,null,null,null,null,null,null,null,null,null,null,0]
[null,null,null,null,null,null,null,null,null,null,null,0]
[null,null,null,null,null,null,null,null,null,null,null,0]
[null,null,null,null,null,null,null,null,null,null,null,0]
[null,null,null,null,null,null,null,null,null,null,null,0]
[null,null,null,null,null,null,null,null,null,null,null,0]
[null,null,null,null,null,null,null,null,null,null,null,0]
[null,null,null,null,null,null,null,null,null,null,null,0]
[null,null,null,null,null,null,null,null,null,null,null,0]
[null,null,null,null,null,null,null,null,null,null,null,0]
[null,null,null,null,null,null,null,null,null,null,null,0]
[null,null,null,null,null,null,null,null,null,null,null,0]
[null,null,null,null,null,null,null,null,null,null,null,0]
[null,null,null,null,null,null,null,null,null,null,null,0]
[null,null,null,null,null,null,null,null,null,null,null,0]
[null,null,null,null,null,null,null,null,null,null,null,0]
[null,null,null,null,null,null,null,null,null,null,null,0]
[null,null,null,null,null,null,null,null,null,null,null,0]
[null,null,null,null,null,null,null,null,null,null,null,0]
[null,null,null,null,null,null,null,null,null,null,null,0]
[null,null,null,null,null,null,null,null,null,null,null,0]
[null,null,null,null,null,null,null,null,null,null,null,0]
[null,null,null,null,null,null,null,null,null,null,null,0]
[null,null,null,null,null,null,null,null,null,null,null,0]
[null,null,null,null,null,null,null,null,null,null,null,0]
[null,null,null,null,null,null,null,null,null,null,null,0]
[null,null,null,null,null,null,null,null,null,null,null,0]
[null,null,null,null,null,null,null,null,null,null,null,0]
[null,null,null,null,null,null,null,null,null,null,null,0]
[null,null,null,null,null,null,null,null,null,null,null,0]
[null,null,null,null,null,null,null,null,null,null,null,0]
[null,null,null,null,null,null,null,null,null,null,null,0]
[null,null,null,null,null,null,null,null,null,null,null,0]
[null,null,null,null,null,null,null,null,null,null,null,0]
[null,null,null,null,null,null,null,null,null,null,null,0]
[null,null,null,null,null,null,null,null,null,null,null,0]
[null,null,null,null,null,null,null,null,null,null,null,0]
[null,null,null,null,null,null,null,null,null,null,null,0]
[null,null,null,null,null,null,null,null,null,null,null,0]
[null,null,null,null,null,null,null,null,null,null,null,0]
[null,null,null,null,null,null,null,null,null,null,null,0]
[null,null,null,null,null,null,null,null,null,null,null,0]
[null,null,null,null,null,null,null,null,null,null,null,0]
[null,null,null,null,null,null,null,null,null,null,null,0]
[null,null,null,null,null,null,null,null,null,null,null,0]
[null,null,null,null,null,null,null,null,null,null,null,0]
[null,null,null,null,null,null,null,null,null,null,null,0]
[null,null,null,null,null,null,null,null,null,null,null,0]
[null,null,null,null,null,null,null,null,null,null,null,0]
[null,null,null,null,null,null,null,null,null,null,null,0]
[null,null,null,null,null,null,null,null,null,null,null,0]
[null,null,null,null,null,null,null,null,null,null,null,0]
[null,null,null,null,null,null,null,null,null,null,null,0]
[null,null,null,null,null,null,null,null,null,null,null,0]
[null,null,null,null,null,null,null,null,null,null,null,0]
[null,null,null,null,null,null,null,null,null,null,null,0]
[null,null,null,null,null,null,null,null,null,null,null,0]
[null,null,null,null,null,null,null,null,null,null,null,0]
[null,null,null,null,null,null,null,null,null,null,null,0]
[null,null,null,null,null,null,null,null,null,null,null,0]
[null,null,null,null,null,null,null,null,null,null,null,0]
[null,null,null,null,null,null,null,null,null,null,null,0]
[null,null,null,null,null,null,null,null,null,null,null,0]
[null,null,null,null,null,null,null,null,null,null,null,0]
[null,null,null,null,null,null,null,null,null,null,null,0]
[null,null,null,null,null,null,null,null,null,null,null,0]
[null,null,null,null,null,null,null,null,null,null,null,0]
[null,null,null,null,null,null,null,null,null,null,null,0]
[null,null,null,null,null,null,null,null,null,null,null,0]
[null,null,null,null,null,null,null,null,null,null,null,0]
[null,null,null,null,null,null,null,null,null,null,null,0]
[null,null,null,null,null,null,null,null,null,null,null,0]
[null,null,null,null,null,null,null,null,null,null,null,0]
[null,null,null,null,null,null,null,null,null,null,null,0]
[null,null,null,null,null,null,null,null,null,null,null,0]
[null,null,null,null,null,null,null,null,null,null,null,0]
[null,null,null,null,null,null,null,null,null,null,null,0]
[null,null,null,null,null,null,null,null,null,null,null,0]
[null,null,null,null,null,null,null,null,null,null,null,0]
[null,null,null,null,null,null,null,null,null,null,null,0]
[null,null,null,null,null,null,null,null,null,null,null,0]
[null,null,null,null,null,null,null,null,null,null,null,0]
[null,null,null,null,null,null,null,null,null,null,null,0]
[null,null,null,null,null,null,null,null,null,null,null,0]
[null,null,null,null,null,null,null,null,null,null,null,0]
[null,null,null,null,null,null,null,null,null,null,null,0]
[null,null,null,null,null,null,null,null,null,null,null,0]
[null,null,null,null,null,null,null,null,null,null,null,0]
[null,null,null,null,null,null,null,null,null,null,null,0]
[null,null,null,null,null,null,null,null,null,null,null,0]
[null,null,null,null,null,null,null,null,null,null,null,0]
[null,null,null,null,null,null,null,null,null,null,null,0]
[null,null,null,null,null,null,null,null,null,null,null,0]
[null,null,null,null,null,null,null,null,null,null,null,0]
[null,null,null,null,null,null,null,null,null,null,null,0]
[null,null,null,null,null,null,null,null,null,null,null,0]
[null,null,null,null,null,null,null,null,null,null,null,0]

{"sheet":"DE01-F12","index":1,"n_rows":3000,"n_cols":53,"rows_kept":1125,"cut":true,"hidden":false,"merged":[[12,51,12,52],[11,48,11,49],[7,0,7,1],[7,3,7,4],[11,26,11,27],[11,28,11,29],[11,46,11,47],[11,34,11,35],[11,36,11,37],[11,38,11,39],[11,40,11,41],[11,42,11,43],[9,0,9,1],[9,2,9,10],[11,14,11,16],[11,0,11,10],[11,44,11,45],[11,30,11,31],[4,0,4,2],[11,32,11,33],[7,5,7,10],[2,0,2,2],[0,0,0,10],[4,3,4,10],[6,3,6,10],[6,0,6,2],[1,7,2,10],[2,3,2,6],[1,0,1,2]],"bounds":{"rows_first":500,"rows_last":125,"rows_between":500,"halvings":2}}
["                                                                                                                                                                                         SOLICITUD MODIFICACIÓN AL PLAN ANUAL DE ADQUISICIONES"]
["VIGENCIA",null,null,2022,"N° MODIFICACIÓN",null,null,"IMPORTANTE: Este formato debe ser diligenciado en EXCEL, contemplando las instrucciones que se habilitan al ubicar el cursor en las celdas de color azul."]
["Seleccione el Tipo de formulación que desea realizar"]
[]
["Seleccione nombre de Área de Funcionamiento"]
[]
["Seleccione el nombre del Proyecto de Inversión "]
["Código Presupuestal",null,{"$f":"+IF(ISBLANK(D7),\"\",IF(D7=\"SELECCIONE PROYECTO\",\" \",IF(D7=\"NA\",\"NA \",VLOOKUP(D7,LISTAS!$B$44:$E$53,4,0))))","v":""},"Objetivo General del Proyecto",null,{"$f":"+IF(ISBLANK(D7),\"\",IF(D7=\"SELECCIONE PROYECTO\",\" \",IF(D7=\"NA\",\"NA \",VLOOKUP(D7,LISTAS!$B$44:$E$53,2,0))))","v":""}]
[]
["JUTIFICACIÓN DE LA(S) MODIFICACIÓN(ES) A SOLICITAR"]
[]
["A partir de la fila 14, diligencie completamente las líneas que desea modificar incluyendo los espacios que cambian y los que permanecen inalterados, tomando como base la última versión de su PAA.\nPor favor no inserte ni eliminé filas",null,null,null,null,null,null,null,null,null,null,null,null,null,"Modificaciones presupuestales",null,null,null,null,null,null,null,null,null,null,null,"Enero",null,"Febrero",null,"Marzo",null,"Abril",null,"Mayo",null,"Junio",null,"Julio",null,"Agosto",null,"Septiembre",null,"Octubre",null,"Noviembre",null,"Diciembre"]
["Nro.","Objetivo especifico del proyecto de inversión","Producto del proyecto de inversión","Producto asociado a plan de acción","Actividad del proyecto de inversión","Códigos UNSPSC","Códigos CCP a nivel de uso presupuestal","Descripción Necesidad","Mes estimado de inicio de proceso de selección","Mes estimado de presentación de ofertas","Mes de registro del contrato","Duración estimada del contrato","Modalidad de selección ","Fuente de los recursos","Vr. Vigente","Adiciones","Reducciones","Valor total estimado","Valor estimado en la vigencia actual","Vigencias futuras","Estado de solicitud de vigencias futuras","Nombre del responsable","Cargo del responsable ","Teléfono del responsable ","Correo electrónico del responsable","Modificaciones Contractuales de Tipo Presupuestal","Compromisos ","Obligaciones","Compromisos ","Obligaciones","Compromisos ","Obligaciones","Compromisos ","Obligaciones","Compromisos ","Obligaciones","Compromisos ","Obligaciones","Compromisos ","Obligaciones","Compromisos ","Obligaciones","Compromisos ","Obligaciones","Compromisos ","Obligaciones","Compromisos ","Obligaciones","Compromisos ","Obligaciones",null,"Validadores totales"]
[null,null,null,null,null,null,null,null,null,null,null,null,null,null,null,null,null,null,{"$f":"O14+P14-Q14","v":0},null,null,null,null,5870000,null,null,null,null,null,null,null,null,null,null,null,null,null,null,null,null,null,null,null,null,null,null,null,null,null,null,null,{"$f":"IF(S14-AA14-AC14-AE14-AG14-AI14-AK14-AM14-AO14-AQ14-AS14-AU14-AW14=0,\"OK\",\"Compromisos diferentes al valor estimado en la vigencia actual\")","v":"OK"},{"$f":"IF(S14-AB14-AD14-AF14-AH14-AJ14-AL14-AN14-AP14-AR14-AT14-AV14-AX14=0,\"OK\",\"Obligaciones diferentes al valor estimado en la vigencia actual\")","v":"OK"}]
[null,null,null,null,null,null,null,null,null,null,null,null,null,null,null,null,null,null,0,null,null,null,null,5870000,null,null,null,null,null,null,null,null,null,null,null,null,null,null,null,null,null,null,null,null,null,null,null,null,null,null,null,"OK","OK"]
[null,null,null,null,null,null,null,null,null,null,null,null,null,null,null,null,null,null,0,null,null,null,null,5870000,null,null,null,null,null,null,null,null,null,null,null,null,null,null,null,null,null,null,null,null,null,null,null,null,null,null,null,"OK","OK"]
[null,null,null,null,null,null,null,null,null,null,null,null,null,null,null,null,null,null,{"$f":"O17+P17-Q17","v":0},null,null,null,null,5870000,null,null,null,null,null,null,null,null,null,null,null,null,null,null,null,null,null,null,null,null,null,null,null,null,null,null,null,"OK","OK"]
[null,null,null,null,null,null,null,null,null,null,null,null,null,null,null,null,null,null,0,null,null,null,null,5870000,null,null,null,null,null,null,null,null,null,null,null,null,null,null,null,null,null,null,null,null,null,null,null,null,null,null,null,"OK","OK"]
[null,null,null,null,null,null,null,null,null,null,null,null,null,null,null,null,null,null,0,null,null,null,null,5870000,null,null,null,null,null,null,null,null,null,null,null,null,null,null,null,null,null,null,null,null,null,null,null,null,null,null,null,"OK","OK"]
[null,null,null,null,null,null,null,null,null,null,null,null,null,null,null,null,null,null,0,null,null,null,null,5870000,null,null,null,null,null,null,null,null,null,null,null,null,null,null,null,null,null,null,null,null,null,null,null,null,null,null,null,"OK","OK"]
[null,null,null,null,null,null,null,null,null,null,null,null,null,null,null,null,null,null,0,null,null,null,null,5870000,null,null,null,null,null,null,null,null,null,null,null,null,null,null,null,null,null,null,null,null,null,null,null,null,null,null,null,"OK","OK"]
[null,null,null,null,null,null,null,null,null,null,null,null,null,null,null,null,null,null,0,null,null,null,null,5870000,null,null,null,null,null,null,null,null,null,null,null,null,null,null,null,null,null,null,null,null,null,null,null,null,null,null,null,"OK","OK"]
[null,null,null,null,null,null,null,null,null,null,null,null,null,null,null,null,null,null,0,null,null,null,null,5870000,null,null,null,null,null,null,null,null,null,null,null,null,null,null,null,null,null,null,null,null,null,null,null,null,null,null,null,"OK","OK"]
[null,null,null,null,null,null,null,null,null,null,null,null,null,null,null,null,null,null,0,null,null,null,null,5870000,null,null,null,null,null,null,null,null,null,null,null,null,null,null,null,null,null,null,null,null,null,null,null,null,null,null,null,"OK","OK"]
[null,null,null,null,null,null,null,null,null,null,null,null,null,null,null,null,null,null,0,null,null,null,null,5870000,null,null,null,null,null,null,null,null,null,null,null,null,null,null,null,null,null,null,null,null,null,null,null,null,null,null,null,"OK","OK"]
[null,null,null,null,null,null,null,null,null,null,null,null,null,null,null,null,null,null,0,null,null,null,null,5870000,null,null,null,null,null,null,null,null,null,null,null,null,null,null,null,null,null,null,null,null,null,null,null,null,null,null,null,"OK","OK"]
[null,null,null,null,null,null,null,null,null,null,null,null,null,null,null,null,null,null,0,null,null,null,null,5870000,null,null,null,null,null,null,null,null,null,null,null,null,null,null,null,null,null,null,null,null,null,null,null,null,null,null,null,"OK","OK"]
[null,null,null,null,null,null,null,null,null,null,null,null,null,null,null,null,null,null,0,null,null,null,null,5870000,null,null,null,null,null,null,null,null,null,null,null,null,null,null,null,null,null,null,null,null,null,null,null,null,null,null,null,"OK","OK"]
[null,null,null,null,null,null,null,null,null,null,null,null,null,null,null,null,null,null,0,null,null,null,null,5870000,null,null,null,null,null,null,null,null,null,null,null,null,null,null,null,null,null,null,null,null,null,null,null,null,null,null,null,"OK","OK"]
[null,null,null,null,null,null,null,null,null,null,null,null,null,null,null,null,null,null,0,null,null,null,null,5870000,null,null,null,null,null,null,null,null,null,null,null,null,null,null,null,null,null,null,null,null,null,null,null,null,null,null,null,"OK","OK"]
[null,null,null,null,null,null,null,null,null,null,null,null,null,null,null,null,null,null,0,null,null,null,null,5870000,null,null,null,null,null,null,null,null,null,null,null,null,null,null,null,null,null,null,null,null,null,null,null,null,null,null,null,"OK","OK"]
[null,null,null,null,null,null,null,null,null,null,null,null,null,null,null,null,null,null,0,null,null,null,null,5870000,null,null,null,null,null,null,null,null,null,null,null,null,null,null,null,null,null,null,null,null,null,null,null,null,null,null,null,"OK","OK"]
[null,null,null,null,null,null,null,null,null,null,null,null,null,null,null,null,null,null,0,null,null,null,null,5870000,null,null,null,null,null,null,null,null,null,null,null,null,null,null,null,null,null,null,null,null,null,null,null,null,null,null,null,"OK","OK"]
[null,null,null,null,null,null,null,null,null,null,null,null,null,null,null,null,null,null,0,null,null,null,null,5870000,null,null,null,null,null,null,null,null,null,null,null,null,null,null,null,null,null,null,null,null,null,null,null,null,null,null,null,"OK","OK"]
[null,null,null,null,null,null,null,null,null,null,null,null,null,null,null,null,null,null,0,null,null,null,null,5870000,null,null,null,null,null,null,null,null,null,null,null,null,null,null,null,null,null,null,null,null,null,null,null,null,null,null,null,"OK","OK"]
[null,null,null,null,null,null,null,null,null,null,null,null,null,null,null,null,null,null,0,null,null,null,null,5870000,null,null,null,null,null,null,null,null,null,null,null,null,null,null,null,null,null,null,null,null,null,null,null,null,null,null,null,"OK","OK"]
[null,null,null,null,null,null,null,null,null,null,null,null,null,null,null,null,null,null,0,null,null,null,null,5870000,null,null,null,null,null,null,null,null,null,null,null,null,null,null,null,null,null,null,null,null,null,null,null,null,null,null,null,"OK","OK"]
[null,null,null,null,null,null,null,null,null,null,null,null,null,null,null,null,null,null,0,null,null,null,null,5870000,null,null,null,null,null,null,null,null,null,null,null,null,null,null,null,null,null,null,null,null,null,null,null,null,null,null,null,"OK","OK"]
[null,null,null,null,null,null,null,null,null,null,null,null,null,null,null,null,null,null,0,null,null,null,null,5870000,null,null,null,null,null,null,null,null,null,null,null,null,null,null,null,null,null,null,null,null,null,null,null,null,null,null,null,"OK","OK"]
[null,null,null,null,null,null,null,null,null,null,null,null,null,null,null,null,null,null,0,null,null,null,null,5870000,null,null,null,null,null,null,null,null,null,null,null,null,null,null,null,null,null,null,null,null,null,null,null,null,null,null,null,"OK","OK"]
[null,null,null,null,null,null,null,null,null,null,null,null,null,null,null,null,null,null,0,null,null,null,null,5870000,null,null,null,null,null,null,null,null,null,null,null,null,null,null,null,null,null,null,null,null,null,null,null,null,null,null,null,"OK","OK"]
[null,null,null,null,null,null,null,null,null,null,null,null,null,null,null,null,null,null,0,null,null,null,null,5870000,null,null,null,null,null,null,null,null,null,null,null,null,null,null,null,null,null,null,null,null,null,null,null,null,null,null,null,"OK","OK"]
[null,null,null,null,null,null,null,null,null,null,null,null,null,null,null,null,null,null,0,null,null,null,null,5870000,null,null,null,null,null,null,null,null,null,null,null,null,null,null,null,null,null,null,null,null,null,null,null,null,null,null,null,"OK","OK"]
[null,null,null,null,null,null,null,null,null,null,null,null,null,null,null,null,null,null,0,null,null,null,null,5870000,null,null,null,null,null,null,null,null,null,null,null,null,null,null,null,null,null,null,null,null,null,null,null,null,null,null,null,"OK","OK"]
[null,null,null,null,null,null,null,null,null,null,null,null,null,null,null,null,null,null,0,null,null,null,null,5870000,null,null,null,null,null,null,null,null,null,null,null,null,null,null,null,null,null,null,null,null,null,null,null,null,null,null,null,"OK","OK"]
[null,null,null,null,null,null,null,null,null,null,null,null,null,null,null,null,null,null,0,null,null,null,null,5870000,null,null,null,null,null,null,null,null,null,null,null,null,null,null,null,null,null,null,null,null,null,null,null,null,null,null,null,"OK","OK"]
[null,null,null,null,null,null,null,null,null,null,null,null,null,null,null,null,null,null,0,null,null,null,null,5870000,null,null,null,null,null,null,null,null,null,null,null,null,null,null,null,null,null,null,null,null,null,null,null,null,null,null,null,"OK","OK"]
[null,null,null,null,null,null,null,null,null,null,null,null,null,null,null,null,null,null,0,null,null,null,null,5870000,null,null,null,null,null,null,null,null,null,null,null,null,null,null,null,null,null,null,null,null,null,null,null,null,null,null,null,"OK","OK"]
[null,null,null,null,null,null,null,null,null,null,null,null,null,null,null,null,null,null,0,null,null,null,null,5870000,null,null,null,null,null,null,null,null,null,null,null,null,null,null,null,null,null,null,null,null,null,null,null,null,null,null,null,"OK","OK"]
[null,null,null,null,null,null,null,null,null,null,null,null,null,null,null,null,null,null,0,null,null,null,null,5870000,null,null,null,null,null,null,null,null,null,null,null,null,null,null,null,null,null,null,null,null,null,null,null,null,null,null,null,"OK","OK"]
[null,null,null,null,null,null,null,null,null,null,null,null,null,null,null,null,null,null,0,null,null,null,null,5870000,null,null,null,null,null,null,null,null,null,null,null,null,null,null,null,null,null,null,null,null,null,null,null,null,null,null,null,"OK","OK"]
[null,null,null,null,null,null,null,null,null,null,null,null,null,null,null,null,null,null,0,null,null,null,null,5870000,null,null,null,null,null,null,null,null,null,null,null,null,null,null,null,null,null,null,null,null,null,null,null,null,null,null,null,"OK","OK"]
[null,null,null,null,null,null,null,null,null,null,null,null,null,null,null,null,null,null,0,null,null,null,null,5870000,null,null,null,null,null,null,null,null,null,null,null,null,null,null,null,null,null,null,null,null,null,null,null,null,null,null,null,"OK","OK"]
[null,null,null,null,null,null,null,null,null,null,null,null,null,null,null,null,null,null,0,null,null,null,null,5870000,null,null,null,null,null,null,null,null,null,null,null,null,null,null,null,null,null,null,null,null,null,null,null,null,null,null,null,"OK","OK"]
[null,null,null,null,null,null,null,null,null,null,null,null,null,null,null,null,null,null,0,null,null,null,null,5870000,null,null,null,null,null,null,null,null,null,null,null,null,null,null,null,null,null,null,null,null,null,null,null,null,null,null,null,"OK","OK"]
[null,null,null,null,null,null,null,null,null,null,null,null,null,null,null,null,null,null,0,null,null,null,null,5870000,null,null,null,null,null,null,null,null,null,null,null,null,null,null,null,null,null,null,null,null,null,null,null,null,null,null,null,"OK","OK"]
[null,null,null,null,null,null,null,null,null,null,null,null,null,null,null,null,null,null,0,null,null,null,null,5870000,null,null,null,null,null,null,null,null,null,null,null,null,null,null,null,null,null,null,null,null,null,null,null,null,null,null,null,"OK","OK"]
[null,null,null,null,null,null,null,null,null,null,null,null,null,null,null,null,null,null,0,null,null,null,null,5870000,null,null,null,null,null,null,null,null,null,null,null,null,null,null,null,null,null,null,null,null,null,null,null,null,null,null,null,"OK","OK"]
[null,null,null,null,null,null,null,null,null,null,null,null,null,null,null,null,null,null,0,null,null,null,null,5870000,null,null,null,null,null,null,null,null,null,null,null,null,null,null,null,null,null,null,null,null,null,null,null,null,null,null,null,"OK","OK"]
[null,null,null,null,null,null,null,null,null,null,null,null,null,null,null,null,null,null,0,null,null,null,null,5870000,null,null,null,null,null,null,null,null,null,null,null,null,null,null,null,null,null,null,null,null,null,null,null,null,null,null,null,"OK","OK"]
[null,null,null,null,null,null,null,null,null,null,null,null,null,null,null,null,null,null,0,null,null,null,null,5870000,null,null,null,null,null,null,null,null,null,null,null,null,null,null,null,null,null,null,null,null,null,null,null,null,null,null,null,"OK","OK"]
[null,null,null,null,null,null,null,null,null,null,null,null,null,null,null,null,null,null,0,null,null,null,null,5870000,null,null,null,null,null,null,null,null,null,null,null,null,null,null,null,null,null,null,null,null,null,null,null,null,null,null,null,"OK","OK"]
[null,null,null,null,null,null,null,null,null,null,null,null,null,null,null,null,null,null,0,null,null,null,null,5870000,null,null,null,null,null,null,null,null,null,null,null,null,null,null,null,null,null,null,null,null,null,null,null,null,null,null,null,"OK","OK"]
[null,null,null,null,null,null,null,null,null,null,null,null,null,null,null,null,null,null,0,null,null,null,null,5870000,null,null,null,null,null,null,null,null,null,null,null,null,null,null,null,null,null,null,null,null,null,null,null,null,null,null,null,"OK","OK"]
[null,null,null,null,null,null,null,null,null,null,null,null,null,null,null,null,null,null,0,null,null,null,null,5870000,null,null,null,null,null,null,null,null,null,null,null,null,null,null,null,null,null,null,null,null,null,null,null,null,null,null,null,"OK","OK"]
[null,null,null,null,null,null,null,null,null,null,null,null,null,null,null,null,null,null,0,null,null,null,null,5870000,null,null,null,null,null,null,null,null,null,null,null,null,null,null,null,null,null,null,null,null,null,null,null,null,null,null,null,"OK","OK"]
[null,null,null,null,null,null,null,null,null,null,null,null,null,null,null,null,null,null,0,null,null,null,null,5870000,null,null,null,null,null,null,null,null,null,null,null,null,null,null,null,null,null,null,null,null,null,null,null,null,null,null,null,"OK","OK"]
[null,null,null,null,null,null,null,null,null,null,null,null,null,null,null,null,null,null,0,null,null,null,null,5870000,null,null,null,null,null,null,null,null,null,null,null,null,null,null,null,null,null,null,null,null,null,null,null,null,null,null,null,"OK","OK"]
[null,null,null,null,null,null,null,null,null,null,null,null,null,null,null,null,null,null,0,null,null,null,null,5870000,null,null,null,null,null,null,null,null,null,null,null,null,null,null,null,null,null,null,null,null,null,null,null,null,null,null,null,"OK","OK"]
[null,null,null,null,null,null,null,null,null,null,null,null,null,null,null,null,null,null,0,null,null,null,null,5870000,null,null,null,null,null,null,null,null,null,null,null,null,null,null,null,null,null,null,null,null,null,null,null,null,null,null,null,"OK","OK"]
[null,null,null,null,null,null,null,null,null,null,null,null,null,null,null,null,null,null,0,null,null,null,null,5870000,null,null,null,null,null,null,null,null,null,null,null,null,null,null,null,null,null,null,null,null,null,null,null,null,null,null,null,"OK","OK"]
[null,null,null,null,null,null,null,null,null,null,null,null,null,null,null,null,null,null,0,null,null,null,null,5870000,null,null,null,null,null,null,null,null,null,null,null,null,null,null,null,null,null,null,null,null,null,null,null,null,null,null,null,"OK","OK"]
[null,null,null,null,null,null,null,null,null,null,null,null,null,null,null,null,null,null,0,null,null,null,null,5870000,null,null,null,null,null,null,null,null,null,null,null,null,null,null,null,null,null,null,null,null,null,null,null,null,null,null,null,"OK","OK"]
[null,null,null,null,null,null,null,null,null,null,null,null,null,null,null,null,null,null,0,null,null,null,null,5870000,null,null,null,null,null,null,null,null,null,null,null,null,null,null,null,null,null,null,null,null,null,null,null,null,null,null,null,"OK","OK"]
[null,null,null,null,null,null,null,null,null,null,null,null,null,null,null,null,null,null,0,null,null,null,null,5870000,null,null,null,null,null,null,null,null,null,null,null,null,null,null,null,null,null,null,null,null,null,null,null,null,null,null,null,"OK","OK"]
[null,null,null,null,null,null,null,null,null,null,null,null,null,null,null,null,null,null,0,null,null,null,null,5870000,null,null,null,null,null,null,null,null,null,null,null,null,null,null,null,null,null,null,null,null,null,null,null,null,null,null,null,"OK","OK"]
[null,null,null,null,null,null,null,null,null,null,null,null,null,null,null,null,null,null,0,null,null,null,null,5870000,null,null,null,null,null,null,null,null,null,null,null,null,null,null,null,null,null,null,null,null,null,null,null,null,null,null,null,"OK","OK"]
[null,null,null,null,null,null,null,null,null,null,null,null,null,null,null,null,null,null,0,null,null,null,null,5870000,null,null,null,null,null,null,null,null,null,null,null,null,null,null,null,null,null,null,null,null,null,null,null,null,null,null,null,{"$f":"IF(S78-AA78-AC78-AE78-AG78-AI78-AK78-AM78-AO78-AQ78-AS78-AU78-AW78=0,\"OK\",\"Compromisos diferentes al valor estimado en la vigencia actual\")","v":"OK"},{"$f":"IF(S78-AB78-AD78-AF78-AH78-AJ78-AL78-AN78-AP78-AR78-AT78-AV78-AX78=0,\"OK\",\"Obligaciones diferentes al valor estimado en la vigencia actual\")","v":"OK"}]
[null,null,null,null,null,null,null,null,null,null,null,null,null,null,null,null,null,null,{"$f":"O79+P79-Q79","v":0},null,null,null,null,5870000,null,null,null,null,null,null,null,null,null,null,null,null,null,null,null,null,null,null,null,null,null,null,null,null,null,null,null,"OK","OK"]
[null,null,null,null,null,null,null,null,null,null,null,null,null,null,null,null,null,null,0,null,null,null,null,5870000,null,null,null,null,null,null,null,null,null,null,null,null,null,null,null,null,null,null,null,null,null,null,null,null,null,null,null,"OK","OK"]
[null,null,null,null,null,null,null,null,null,null,null,null,null,null,null,null,null,null,0,null,null,null,null,5870000,null,null,null,null,null,null,null,null,null,null,null,null,null,null,null,null,null,null,null,null,null,null,null,null,null,null,null,"OK","OK"]
[null,null,null,null,null,null,null,null,null,null,null,null,null,null,null,null,null,null,0,null,null,null,null,5870000,null,null,null,null,null,null,null,null,null,null,null,null,null,null,null,null,null,null,null,null,null,null,null,null,null,null,null,"OK","OK"]
[null,null,null,null,null,null,null,null,null,null,null,null,null,null,null,null,null,null,0,null,null,null,null,5870000,null,null,null,null,null,null,null,null,null,null,null,null,null,null,null,null,null,null,null,null,null,null,null,null,null,null,null,"OK","OK"]
[null,null,null,null,null,null,null,null,null,null,null,null,null,null,null,null,null,null,0,null,null,null,null,5870000,null,null,null,null,null,null,null,null,null,null,null,null,null,null,null,null,null,null,null,null,null,null,null,null,null,null,null,"OK","OK"]
[null,null,null,null,null,null,null,null,null,null,null,null,null,null,null,null,null,null,0,null,null,null,null,5870000,null,null,null,null,null,null,null,null,null,null,null,null,null,null,null,null,null,null,null,null,null,null,null,null,null,null,null,"OK","OK"]
[null,null,null,null,null,null,null,null,null,null,null,null,null,null,null,null,null,null,0,null,null,null,null,5870000,null,null,null,null,null,null,null,null,null,null,null,null,null,null,null,null,null,null,null,null,null,null,null,null,null,null,null,"OK","OK"]
[null,null,null,null,null,null,null,null,null,null,null,null,null,null,null,null,null,null,0,null,null,null,null,5870000,null,null,null,null,null,null,null,null,null,null,null,null,null,null,null,null,null,null,null,null,null,null,null,null,null,null,null,"OK","OK"]
[null,null,null,null,null,null,null,null,null,null,null,null,null,null,null,null,null,null,0,null,null,null,null,5870000,null,null,null,null,null,null,null,null,null,null,null,null,null,null,null,null,null,null,null,null,null,null,null,null,null,null,null,"OK","OK"]
[null,null,null,null,null,null,null,null,null,null,null,null,null,null,null,null,null,null,0,null,null,null,null,5870000,null,null,null,null,null,null,null,null,null,null,null,null,null,null,null,null,null,null,null,null,null,null,null,null,null,null,null,"OK","OK"]
[null,null,null,null,null,null,null,null,null,null,null,null,null,null,null,null,null,null,0,null,null,null,null,5870000,null,null,null,null,null,null,null,null,null,null,null,null,null,null,null,null,null,null,null,null,null,null,null,null,null,null,null,"OK","OK"]
[null,null,null,null,null,null,null,null,null,null,null,null,null,null,null,null,null,null,0,null,null,null,null,5870000,null,null,null,null,null,null,null,null,null,null,null,null,null,null,null,null,null,null,null,null,null,null,null,null,null,null,null,"OK","OK"]
[null,null,null,null,null,null,null,null,null,null,null,null,null,null,null,null,null,null,0,null,null,null,null,5870000,null,null,null,null,null,null,null,null,null,null,null,null,null,null,null,null,null,null,null,null,null,null,null,null,null,null,null,"OK","OK"]
[null,null,null,null,null,null,null,null,null,null,null,null,null,null,null,null,null,null,0,null,null,null,null,5870000,null,null,null,null,null,null,null,null,null,null,null,null,null,null,null,null,null,null,null,null,null,null,null,null,null,null,null,"OK","OK"]
[null,null,null,null,null,null,null,null,null,null,null,null,null,null,null,null,null,null,0,null,null,null,null,5870000,null,null,null,null,null,null,null,null,null,null,null,null,null,null,null,null,null,null,null,null,null,null,null,null,null,null,null,"OK","OK"]
[null,null,null,null,null,null,null,null,null,null,null,null,null,null,null,null,null,null,0,null,null,null,null,5870000,null,null,null,null,null,null,null,null,null,null,null,null,null,null,null,null,null,null,null,null,null,null,null,null,null,null,null,"OK","OK"]
[null,null,null,null,null,null,null,null,null,null,null,null,null,null,null,null,null,null,0,null,null,null,null,5870000,null,null,null,null,null,null,null,null,null,null,null,null,null,null,null,null,null,null,null,null,null,null,null,null,null,null,null,"OK","OK"]
[null,null,null,null,null,null,null,null,null,null,null,null,null,null,null,null,null,null,0,null,null,null,null,5870000,null,null,null,null,null,null,null,null,null,null,null,null,null,null,null,null,null,null,null,null,null,null,null,null,null,null,null,"OK","OK"]
[null,null,null,null,null,null,null,null,null,null,null,null,null,null,null,null,null,null,0,null,null,null,null,5870000,null,null,null,null,null,null,null,null,null,null,null,null,null,null,null,null,null,null,null,null,null,null,null,null,null,null,null,"OK","OK"]
[null,null,null,null,null,null,null,null,null,null,null,null,null,null,null,null,null,null,0,null,null,null,null,5870000,null,null,null,null,null,null,null,null,null,null,null,null,null,null,null,null,null,null,null,null,null,null,null,null,null,null,null,"OK","OK"]
[null,null,null,null,null,null,null,null,null,null,null,null,null,null,null,null,null,null,0,null,null,null,null,5870000,null,null,null,null,null,null,null,null,null,null,null,null,null,null,null,null,null,null,null,null,null,null,null,null,null,null,null,"OK","OK"]
[null,null,null,null,null,null,null,null,null,null,null,null,null,null,null,null,null,null,0,null,null,null,null,5870000,null,null,null,null,null,null,null,null,null,null,null,null,null,null,null,null,null,null,null,null,null,null,null,null,null,null,null,"OK","OK"]
[null,null,null,null,null,null,null,null,null,null,null,null,null,null,null,null,null,null,0,null,null,null,null,5870000,null,null,null,null,null,null,null,null,null,null,null,null,null,null,null,null,null,null,null,null,null,null,null,null,null,null,null,"OK","OK"]
[null,null,null,null,null,null,null,null,null,null,null,null,null,null,null,null,null,null,0,null,null,null,null,5870000,null,null,null,null,null,null,null,null,null,null,null,null,null,null,null,null,null,null,null,null,null,null,null,null,null,null,null,"OK","OK"]
[null,null,null,null,null,null,null,null,null,null,null,null,null,null,null,null,null,null,0,null,null,null,null,5870000,null,null,null,null,null,null,null,null,null,null,null,null,null,null,null,null,null,null,null,null,null,null,null,null,null,null,null,"OK","OK"]
[null,null,null,null,null,null,null,null,null,null,null,null,null,null,null,null,null,null,0,null,null,null,null,5870000,null,null,null,null,null,null,null,null,null,null,null,null,null,null,null,null,null,null,null,null,null,null,null,null,null,null,null,"OK","OK"]
[null,null,null,null,null,null,null,null,null,null,null,null,null,null,null,null,null,null,0,null,null,null,null,5870000,null,null,null,null,null,null,null,null,null,null,null,null,null,null,null,null,null,null,null,null,null,null,null,null,null,null,null,"OK","OK"]
[null,null,null,null,null,null,null,null,null,null,null,null,null,null,null,null,null,null,0,null,null,null,null,5870000,null,null,null,null,null,null,null,null,null,null,null,null,null,null,null,null,null,null,null,null,null,null,null,null,null,null,null,"OK","OK"]
[null,null,null,null,null,null,null,null,null,null,null,null,null,null,null,null,null,null,0,null,null,null,null,5870000,null,null,null,null,null,null,null,null,null,null,null,null,null,null,null,null,null,null,null,null,null,null,null,null,null,null,null,"OK","OK"]
[null,null,null,null,null,null,null,null,null,null,null,null,null,null,null,null,null,null,0,null,null,null,null,5870000,null,null,null,null,null,null,null,null,null,null,null,null,null,null,null,null,null,null,null,null,null,null,null,null,null,null,null,"OK","OK"]
[null,null,null,null,null,null,null,null,null,null,null,null,null,null,null,null,null,null,0,null,null,null,null,5870000,null,null,null,null,null,null,null,null,null,null,null,null,null,null,null,null,null,null,null,null,null,null,null,null,null,null,null,"OK","OK"]
[null,null,null,null,null,null,null,null,null,null,null,null,null,null,null,null,null,null,0,null,null,null,null,5870000,null,null,null,null,null,null,null,null,null,null,null,null,null,null,null,null,null,null,null,null,null,null,null,null,null,null,null,"OK","OK"]
[null,null,null,null,null,null,null,null,null,null,null,null,null,null,null,null,null,null,0,null,null,null,null,5870000,null,null,null,null,null,null,null,null,null,null,null,null,null,null,null,null,null,null,null,null,null,null,null,null,null,null,null,"OK","OK"]
[null,null,null,null,null,null,null,null,null,null,null,null,null,null,null,null,null,null,0,null,null,null,null,5870000,null,null,null,null,null,null,null,null,null,null,null,null,null,null,null,null,null,null,null,null,null,null,null,null,null,null,null,"OK","OK"]
[null,null,null,null,null,null,null,null,null,null,null,null,null,null,null,null,null,null,0,null,null,null,null,5870000,null,null,null,null,null,null,null,null,null,null,null,null,null,null,null,null,null,null,null,null,null,null,null,null,null,null,null,"OK","OK"]
[null,null,null,null,null,null,null,null,null,null,null,null,null,null,null,null,null,null,0,null,null,null,null,5870000,null,null,null,null,null,null,null,null,null,null,null,null,null,null,null,null,null,null,null,null,null,null,null,null,null,null,null,"OK","OK"]
[null,null,null,null,null,null,null,null,null,null,null,null,null,null,null,null,null,null,0,null,null,null,null,5870000,null,null,null,null,null,null,null,null,null,null,null,null,null,null,null,null,null,null,null,null,null,null,null,null,null,null,null,"OK","OK"]
[null,null,null,null,null,null,null,null,null,null,null,null,null,null,null,null,null,null,0,null,null,null,null,5870000,null,null,null,null,null,null,null,null,null,null,null,null,null,null,null,null,null,null,null,null,null,null,null,null,null,null,null,"OK","OK"]
[null,null,null,null,null,null,null,null,null,null,null,null,null,null,null,null,null,null,0,null,null,null,null,5870000,null,null,null,null,null,null,null,null,null,null,null,null,null,null,null,null,null,null,null,null,null,null,null,null,null,null,null,"OK","OK"]
[null,null,null,null,null,null,null,null,null,null,null,null,null,null,null,null,null,null,0,null,null,null,null,5870000,null,null,null,null,null,null,null,null,null,null,null,null,null,null,null,null,null,null,null,null,null,null,null,null,null,null,null,"OK","OK"]
[null,null,null,null,null,null,null,null,null,null,null,null,null,null,null,null,null,null,0,null,null,null,null,5870000,null,null,null,null,null,null,null,null,null,null,null,null,null,null,null,null,null,null,null,null,null,null,null,null,null,null,null,"OK","OK"]
[null,null,null,null,null,null,null,null,null,null,null,null,null,null,null,null,null,null,0,null,null,null,null,5870000,null,null,null,null,null,null,null,null,null,null,null,null,null,null,null,null,null,null,null,null,null,null,null,null,null,null,null,"OK","OK"]
[null,null,null,null,null,null,null,null,null,null,null,null,null,null,null,null,null,null,0,null,null,null,null,5870000,null,null,null,null,null,null,null,null,null,null,null,null,null,null,null,null,null,null,null,null,null,null,null,null,null,null,null,"OK","OK"]
[null,null,null,null,null,null,null,null,null,null,null,null,null,null,null,null,null,null,0,null,null,null,null,5870000,null,null,null,null,null,null,null,null,null,null,null,null,null,null,null,null,null,null,null,null,null,null,null,null,null,null,null,"OK","OK"]
[null,null,null,null,null,null,null,null,null,null,null,null,null,null,null,null,null,null,0,null,null,null,null,5870000,null,null,null,null,null,null,null,null,null,null,null,null,null,null,null,null,null,null,null,null,null,null,null,null,null,null,null,"OK","OK"]
[null,null,null,null,null,null,null,null,null,null,null,null,null,null,null,null,null,null,0,null,null,null,null,5870000,null,null,null,null,null,null,null,null,null,null,null,null,null,null,null,null,null,null,null,null,null,null,null,null,null,null,null,"OK","OK"]
[null,null,null,null,null,null,null,null,null,null,null,null,null,null,null,null,null,null,0,null,null,null,null,5870000,null,null,null,null,null,null,null,null,null,null,null,null,null,null,null,null,null,null,null,null,null,null,null,null,null,null,null,"OK","OK"]
[null,null,null,null,null,null,null,null,null,null,null,null,null,null,null,null,null,null,0,null,null,null,null,5870000,null,null,null,null,null,null,null,null,null,null,null,null,null,null,null,null,null,null,null,null,null,null,null,null,null,null,null,"OK","OK"]
[null,null,null,null,null,null,null,null,null,null,null,null,null,null,null,null,null,null,0,null,null,null,null,5870000,null,null,null,null,null,null,null,null,null,null,null,null,null,null,null,null,null,null,null,null,null,null,null,null,null,null,null,"OK","OK"]
[null,null,null,null,null,null,null,null,null,null,null,null,null,null,null,null,null,null,0,null,null,null,null,5870000,null,null,null,null,null,null,null,null,null,null,null,null,null,null,null,null,null,null,null,null,null,null,null,null,null,null,null,"OK","OK"]
[null,null,null,null,null,null,null,null,null,null,null,null,null,null,null,null,null,null,0,null,null,null,null,5870000,null,null,null,null,null,null,null,null,null,null,null,null,null,null,null,null,null,null,null,null,null,null,null,null,null,null,null,"OK","OK"]
[null,null,null,null,null,null,null,null,null,null,null,null,null,null,null,null,null,null,0,null,null,null,null,5870000,null,null,null,null,null,null,null,null,null,null,null,null,null,null,null,null,null,null,null,null,null,null,null,null,null,null,null,"OK","OK"]
[null,null,null,null,null,null,null,null,null,null,null,null,null,null,null,null,null,null,0,null,null,null,null,5870000,null,null,null,null,null,null,null,null,null,null,null,null,null,null,null,null,null,null,null,null,null,null,null,null,null,null,null,"OK","OK"]
[null,null,null,null,null,null,null,null,null,null,null,null,null,null,null,null,null,null,0,null,null,null,null,5870000,null,null,null,null,null,null,null,null,null,null,null,null,null,null,null,null,null,null,null,null,null,null,null,null,null,null,null,"OK","OK"]
[null,null,null,null,null,null,null,null,null,null,null,null,null,null,null,null,null,null,0,null,null,null,null,5870000,null,null,null,null,null,null,null,null,null,null,null,null,null,null,null,null,null,null,null,null,null,null,null,null,null,null,null,"OK","OK"]
[null,null,null,null,null,null,null,null,null,null,null,null,null,null,null,null,null,null,0,null,null,null,null,5870000,null,null,null,null,null,null,null,null,null,null,null,null,null,null,null,null,null,null,null,null,null,null,null,null,null,null,null,"OK","OK"]
[null,null,null,null,null,null,null,null,null,null,null,null,null,null,null,null,null,null,0,null,null,null,null,5870000,null,null,null,null,null,null,null,null,null,null,null,null,null,null,null,null,null,null,null,null,null,null,null,null,null,null,null,"OK","OK"]
[null,null,null,null,null,null,null,null,null,null,null,null,null,null,null,null,null,null,0,null,null,null,null,5870000,null,null,null,null,null,null,null,null,null,null,null,null,null,null,null,null,null,null,null,null,null,null,null,null,null,null,null,"OK","OK"]
[null,null,null,null,null,null,null,null,null,null,null,null,null,null,null,null,null,null,0,null,null,null,null,5870000,null,null,null,null,null,null,null,null,null,null,null,null,null,null,null,null,null,null,null,null,null,null,null,null,null,null,null,"OK","OK"]
[null,null,null,null,null,null,null,null,null,null,null,null,null,null,null,null,null,null,0,null,null,null,null,5870000,null,null,null,null,null,null,null,null,null,null,null,null,null,null,null,null,null,null,null,null,null,null,null,null,null,null,null,"OK","OK"]
[null,null,null,null,null,null,null,null,null,null,null,null,null,null,null,null,null,null,0,null,null,null,null,5870000,null,null,null,null,null,null,null,null,null,null,null,null,null,null,null,null,null,null,null,null,null,null,null,null,null,null,null,"OK","OK"]
[null,null,null,null,null,null,null,null,null,null,null,null,null,null,null,null,null,null,0,null,null,null,null,5870000,null,null,null,null,null,null,null,null,null,null,null,null,null,null,null,null,null,null,null,null,null,null,null,null,null,null,null,"OK","OK"]
[null,null,null,null,null,null,null,null,null,null,null,null,null,null,null,null,null,null,0,null,null,null,null,5870000,null,null,null,null,null,null,null,null,null,null,null,null,null,null,null,null,null,null,null,null,null,null,null,null,null,null,null,{"$f":"IF(S142-AA142-AC142-AE142-AG142-AI142-AK142-AM142-AO142-AQ142-AS142-AU142-AW142=0,\"OK\",\"Compromisos diferentes al valor estimado en la vigencia actual\")","v":"OK"},{"$f":"IF(S142-AB142-AD142-AF142-AH142-AJ142-AL142-AN142-AP142-AR142-AT142-AV142-AX142=0,\"OK\",\"Obligaciones diferentes al valor estimado en la vigencia actual\")","v":"OK"}]
[null,null,null,null,null,null,null,null,null,null,null,null,null,null,null,null,null,null,{"$f":"O143+P143-Q143","v":0},null,null,null,null,5870000,null,null,null,null,null,null,null,null,null,null,null,null,null,null,null,null,null,null,null,null,null,null,null,null,null,null,null,"OK","OK"]
[null,null,null,null,null,null,null,null,null,null,null,null,null,null,null,null,null,null,0,null,null,null,null,5870000,null,null,null,null,null,null,null,null,null,null,null,null,null,null,null,null,null,null,null,null,null,null,null,null,null,null,null,"OK","OK"]
[null,null,null,null,null,null,null,null,null,null,null,null,null,null,null,null,null,null,0,null,null,null,null,5870000,null,null,null,null,null,null,null,null,null,null,null,null,null,null,null,null,null,null,null,null,null,null,null,null,null,null,null,"OK","OK"]
[null,null,null,null,null,null,null,null,null,null,null,null,null,null,null,null,null,null,0,null,null,null,null,5870000,null,null,null,null,null,null,null,null,null,null,null,null,null,null,null,null,null,null,null,null,null,null,null,null,null,null,null,"OK","OK"]
[null,null,null,null,null,null,null,null,null,null,null,null,null,null,null,null,null,null,0,null,null,null,null,5870000,null,null,null,null,null,null,null,null,null,null,null,null,null,null,null,null,null,null,null,null,null,null,null,null,null,null,null,"OK","OK"]
[null,null,null,null,null,null,null,null,null,null,null,null,null,null,null,null,null,null,0,null,null,null,null,5870000,null,null,null,null,null,null,null,null,null,null,null,null,null,null,null,null,null,null,null,null,null,null,null,null,null,null,null,"OK","OK"]
[null,null,null,null,null,null,null,null,null,null,null,null,null,null,null,null,null,null,0,null,null,null,null,5870000,null,null,null,null,null,null,null,null,null,null,null,null,null,null,null,null,null,null,null,null,null,null,null,null,null,null,null,"OK","OK"]
[null,null,null,null,null,null,null,null,null,null,null,null,null,null,null,null,null,null,0,null,null,null,null,5870000,null,null,null,null,null,null,null,null,null,null,null,null,null,null,null,null,null,null,null,null,null,null,null,null,null,null,null,"OK","OK"]
[null,null,null,null,null,null,null,null,null,null,null,null,null,null,null,null,null,null,0,null,null,null,null,5870000,null,null,null,null,null,null,null,null,null,null,null,null,null,null,null,null,null,null,null,null,null,null,null,null,null,null,null,"OK","OK"]
[null,null,null,null,null,null,null,null,null,null,null,null,null,null,null,null,null,null,0,null,null,null,null,5870000,null,null,null,null,null,null,null,null,null,null,null,null,null,null,null,null,null,null,null,null,null,null,null,null,null,null,null,"OK","OK"]
[null,null,null,null,null,null,null,null,null,null,null,null,null,null,null,null,null,null,0,null,null,null,null,5870000,null,null,null,null,null,null,null,null,null,null,null,null,null,null,null,null,null,null,null,null,null,null,null,null,null,null,null,"OK","OK"]
[null,null,null,null,null,null,null,null,null,null,null,null,null,null,null,null,null,null,0,null,null,null,null,5870000,null,null,null,null,null,null,null,null,null,null,null,null,null,null,null,null,null,null,null,null,null,null,null,null,null,null,null,"OK","OK"]
[null,null,null,null,null,null,null,null,null,null,null,null,null,null,null,null,null,null,0,null,null,null,null,5870000,null,null,null,null,null,null,null,null,null,null,null,null,null,null,null,null,null,null,null,null,null,null,null,null,null,null,null,"OK","OK"]
[null,null,null,null,null,null,null,null,null,null,null,null,null,null,null,null,null,null,0,null,null,null,null,5870000,null,null,null,null,null,null,null,null,null,null,null,null,null,null,null,null,null,null,null,null,null,null,null,null,null,null,null,"OK","OK"]
[null,null,null,null,null,null,null,null,null,null,null,null,null,null,null,null,null,null,0,null,null,null,null,5870000,null,null,null,null,null,null,null,null,null,null,null,null,null,null,null,null,null,null,null,null,null,null,null,null,null,null,null,"OK","OK"]
[null,null,null,null,null,null,null,null,null,null,null,null,null,null,null,null,null,null,0,null,null,null,null,5870000,null,null,null,null,null,null,null,null,null,null,null,null,null,null,null,null,null,null,null,null,null,null,null,null,null,null,null,"OK","OK"]
[null,null,null,null,null,null,null,null,null,null,null,null,null,null,null,null,null,null,0,null,null,null,null,5870000,null,null,null,null,null,null,null,null,null,null,null,null,null,null,null,null,null,null,null,null,null,null,null,null,null,null,null,"OK","OK"]
[null,null,null,null,null,null,null,null,null,null,null,null,null,null,null,null,null,null,0,null,null,null,null,5870000,null,null,null,null,null,null,null,null,null,null,null,null,null,null,null,null,null,null,null,null,null,null,null,null,null,null,null,"OK","OK"]
[null,null,null,null,null,null,null,null,null,null,null,null,null,null,null,null,null,null,0,null,null,null,null,5870000,null,null,null,null,null,null,null,null,null,null,null,null,null,null,null,null,null,null,null,null,null,null,null,null,null,null,null,"OK","OK"]
[null,null,null,null,null,null,null,null,null,null,null,null,null,null,null,null,null,null,0,null,null,null,null,5870000,null,null,null,null,null,null,null,null,null,null,null,null,null,null,null,null,null,null,null,null,null,null,null,null,null,null,null,"OK","OK"]
[null,null,null,null,null,null,null,null,null,null,null,null,null,null,null,null,null,null,0,null,null,null,null,5870000,null,null,null,null,null,null,null,null,null,null,null,null,null,null,null,null,null,null,null,null,null,null,null,null,null,null,null,"OK","OK"]
[null,null,null,null,null,null,null,null,null,null,null,null,null,null,null,null,null,null,0,null,null,null,null,5870000,null,null,null,null,null,null,null,null,null,null,null,null,null,null,null,null,null,null,null,null,null,null,null,null,null,null,null,"OK","OK"]
[null,null,null,null,null,null,null,null,null,null,null,null,null,null,null,null,null,null,0,null,null,null,null,5870000,null,null,null,null,null,null,null,null,null,null,null,null,null,null,null,null,null,null,null,null,null,null,null,null,null,null,null,"OK","OK"]
[null,null,null,null,null,null,null,null,null,null,null,null,null,null,null,null,null,null,0,null,null,null,null,5870000,null,null,null,null,null,null,null,null,null,null,null,null,null,null,null,null,null,null,null,null,null,null,null,null,null,null,null,"OK","OK"]
[null,null,null,null,null,null,null,null,null,null,null,null,null,null,null,null,null,null,0,null,null,null,null,5870000,null,null,null,null,null,null,null,null,null,null,null,null,null,null,null,null,null,null,null,null,null,null,null,null,null,null,null,"OK","OK"]
[null,null,null,null,null,null,null,null,null,null,null,null,null,null,null,null,null,null,0,null,null,null,null,5870000,null,null,null,null,null,null,null,null,null,null,null,null,null,null,null,null,null,null,null,null,null,null,null,null,null,null,null,"OK","OK"]
[null,null,null,null,null,null,null,null,null,null,null,null,null,null,null,null,null,null,0,null,null,null,null,5870000,null,null,null,null,null,null,null,null,null,null,null,null,null,null,null,null,null,null,null,null,null,null,null,null,null,null,null,"OK","OK"]
[null,null,null,null,null,null,null,null,null,null,null,null,null,null,null,null,null,null,0,null,null,null,null,5870000,null,null,null,null,null,null,null,null,null,null,null,null,null,null,null,null,null,null,null,null,null,null,null,null,null,null,null,"OK","OK"]
[null,null,null,null,null,null,null,null,null,null,null,null,null,null,null,null,null,null,0,null,null,null,null,5870000,null,null,null,null,null,null,null,null,null,null,null,null,null,null,null,null,null,null,null,null,null,null,null,null,null,null,null,"OK","OK"]
[null,null,null,null,null,null,null,null,null,null,null,null,null,null,null,null,null,null,0,null,null,null,null,5870000,null,null,null,null,null,null,null,null,null,null,null,null,null,null,null,null,null,null,null,null,null,null,null,null,null,null,null,"OK","OK"]
[null,null,null,null,null,null,null,null,null,null,null,null,null,null,null,null,null,null,0,null,null,null,null,5870000,null,null,null,null,null,null,null,null,null,null,null,null,null,null,null,null,null,null,null,null,null,null,null,null,null,null,null,"OK","OK"]
[null,null,null,null,null,null,null,null,null,null,null,null,null,null,null,null,null,null,0,null,null,null,null,5870000,null,null,null,null,null,null,null,null,null,null,null,null,null,null,null,null,null,null,null,null,null,null,null,null,null,null,null,"OK","OK"]
[null,null,null,null,null,null,null,null,null,null,null,null,null,null,null,null,null,null,0,null,null,null,null,5870000,null,null,null,null,null,null,null,null,null,null,null,null,null,null,null,null,null,null,null,null,null,null,null,null,null,null,null,"OK","OK"]
[null,null,null,null,null,null,null,null,null,null,null,null,null,null,null,null,null,null,0,null,null,null,null,5870000,null,null,null,null,null,null,null,null,null,null,null,null,null,null,null,null,null,null,null,null,null,null,null,null,null,null,null,"OK","OK"]
[null,null,null,null,null,null,null,null,null,null,null,null,null,null,null,null,null,null,0,null,null,null,null,5870000,null,null,null,null,null,null,null,null,null,null,null,null,null,null,null,null,null,null,null,null,null,null,null,null,null,null,null,"OK","OK"]
[null,null,null,null,null,null,null,null,null,null,null,null,null,null,null,null,null,null,0,null,null,null,null,5870000,null,null,null,null,null,null,null,null,null,null,null,null,null,null,null,null,null,null,null,null,null,null,null,null,null,null,null,"OK","OK"]
[null,null,null,null,null,null,null,null,null,null,null,null,null,null,null,null,null,null,0,null,null,null,null,5870000,null,null,null,null,null,null,null,null,null,null,null,null,null,null,null,null,null,null,null,null,null,null,null,null,null,null,null,"OK","OK"]
[null,null,null,null,null,null,null,null,null,null,null,null,null,null,null,null,null,null,0,null,null,null,null,5870000,null,null,null,null,null,null,null,null,null,null,null,null,null,null,null,null,null,null,null,null,null,null,null,null,null,null,null,"OK","OK"]
[null,null,null,null,null,null,null,null,null,null,null,null,null,null,null,null,null,null,0,null,null,null,null,5870000,null,null,null,null,null,null,null,null,null,null,null,null,null,null,null,null,null,null,null,null,null,null,null,null,null,null,null,"OK","OK"]
[null,null,null,null,null,null,null,null,null,null,null,null,null,null,null,null,null,null,0,null,null,null,null,5870000,null,null,null,null,null,null,null,null,null,null,null,null,null,null,null,null,null,null,null,null,null,null,null,null,null,null,null,"OK","OK"]
[null,null,null,null,null,null,null,null,null,null,null,null,null,null,null,null,null,null,0,null,null,null,null,5870000,null,null,null,null,null,null,null,null,null,null,null,null,null,null,null,null,null,null,null,null,null,null,null,null,null,null,null,"OK","OK"]
[null,null,null,null,null,null,null,null,null,null,null,null,null,null,null,null,null,null,0,null,null,null,null,5870000,null,null,null,null,null,null,null,null,null,null,null,null,null,null,null,null,null,null,null,null,null,null,null,null,null,null,null,"OK","OK"]
[null,null,null,null,null,null,null,null,null,null,null,null,null,null,null,null,null,null,0,null,null,null,null,5870000,null,null,null,null,null,null,null,null,null,null,null,null,null,null,null,null,null,null,null,null,null,null,null,null,null,null,null,"OK","OK"]
[null,null,null,null,null,null,null,null,null,null,null,null,null,null,null,null,null,null,0,null,null,null,null,5870000,null,null,null,null,null,null,null,null,null,null,null,null,null,null,null,null,null,null,null,null,null,null,null,null,null,null,null,"OK","OK"]
[null,null,null,null,null,null,null,null,null,null,null,null,null,null,null,null,null,null,0,null,null,null,null,5870000,null,null,null,null,null,null,null,null,null,null,null,null,null,null,null,null,null,null,null,null,null,null,null,null,null,null,null,"OK","OK"]
[null,null,null,null,null,null,null,null,null,null,null,null,null,null,null,null,null,null,0,null,null,null,null,5870000,null,null,null,null,null,null,null,null,null,null,null,null,null,null,null,null,null,null,null,null,null,null,null,null,null,null,null,"OK","OK"]
[null,null,null,null,null,null,null,null,null,null,null,null,null,null,null,null,null,null,0,null,null,null,null,5870000,null,null,null,null,null,null,null,null,null,null,null,null,null,null,null,null,null,null,null,null,null,null,null,null,null,null,null,"OK","OK"]
[null,null,null,null,null,null,null,null,null,null,null,null,null,null,null,null,null,null,0,null,null,null,null,5870000,null,null,null,null,null,null,null,null,null,null,null,null,null,null,null,null,null,null,null,null,null,null,null,null,null,null,null,"OK","OK"]
[null,null,null,null,null,null,null,null,null,null,null,null,null,null,null,null,null,null,0,null,null,null,null,5870000,null,null,null,null,null,null,null,null,null,null,null,null,null,null,null,null,null,null,null,null,null,null,null,null,null,null,null,"OK","OK"]
[null,null,null,null,null,null,null,null,null,null,null,null,null,null,null,null,null,null,0,null,null,null,null,5870000,null,null,null,null,null,null,null,null,null,null,null,null,null,null,null,null,null,null,null,null,null,null,null,null,null,null,null,"OK","OK"]
[null,null,null,null,null,null,null,null,null,null,null,null,null,null,null,null,null,null,0,null,null,null,null,5870000,null,null,null,null,null,null,null,null,null,null,null,null,null,null,null,null,null,null,null,null,null,null,null,null,null,null,null,"OK","OK"]
[null,null,null,null,null,null,null,null,null,null,null,null,null,null,null,null,null,null,0,null,null,null,null,5870000,null,null,null,null,null,null,null,null,null,null,null,null,null,null,null,null,null,null,null,null,null,null,null,null,null,null,null,"OK","OK"]
[null,null,null,null,null,null,null,null,null,null,null,null,null,null,null,null,null,null,0,null,null,null,null,5870000,null,null,null,null,null,null,null,null,null,null,null,null,null,null,null,null,null,null,null,null,null,null,null,null,null,null,null,"OK","OK"]
[null,null,null,null,null,null,null,null,null,null,null,null,null,null,null,null,null,null,0,null,null,null,null,5870000,null,null,null,null,null,null,null,null,null,null,null,null,null,null,null,null,null,null,null,null,null,null,null,null,null,null,null,"OK","OK"]
[null,null,null,null,null,null,null,null,null,null,null,null,null,null,null,null,null,null,0,null,null,null,null,5870000,null,null,null,null,null,null,null,null,null,null,null,null,null,null,null,null,null,null,null,null,null,null,null,null,null,null,null,"OK","OK"]
[null,null,null,null,null,null,null,null,null,null,null,null,null,null,null,null,null,null,0,null,null,null,null,5870000,null,null,null,null,null,null,null,null,null,null,null,null,null,null,null,null,null,null,null,null,null,null,null,null,null,null,null,"OK","OK"]
[null,null,null,null,null,null,null,null,null,null,null,null,null,null,null,null,null,null,0,null,null,null,null,5870000,null,null,null,null,null,null,null,null,null,null,null,null,null,null,null,null,null,null,null,null,null,null,null,null,null,null,null,"OK","OK"]
[null,null,null,null,null,null,null,null,null,null,null,null,null,null,null,null,null,null,0,null,null,null,null,5870000,null,null,null,null,null,null,null,null,null,null,null,null,null,null,null,null,null,null,null,null,null,null,null,null,null,null,null,"OK","OK"]
[null,null,null,null,null,null,null,null,null,null,null,null,null,null,null,null,null,null,0,null,null,null,null,5870000,null,null,null,null,null,null,null,null,null,null,null,null,null,null,null,null,null,null,null,null,null,null,null,null,null,null,null,"OK","OK"]
[null,null,null,null,null,null,null,null,null,null,null,null,null,null,null,null,null,null,0,null,null,null,null,5870000,null,null,null,null,null,null,null,null,null,null,null,null,null,null,null,null,null,null,null,null,null,null,null,null,null,null,null,"OK","OK"]
[null,null,null,null,null,null,null,null,null,null,null,null,null,null,null,null,null,null,0,null,null,null,null,5870000,null,null,null,null,null,null,null,null,null,null,null,null,null,null,null,null,null,null,null,null,null,null,null,null,null,null,null,"OK","OK"]
[null,null,null,null,null,null,null,null,null,null,null,null,null,null,null,null,null,null,0,null,null,null,null,5870000,null,null,null,null,null,null,null,null,null,null,null,null,null,null,null,null,null,null,null,null,null,null,null,null,null,null,null,"OK","OK"]
[null,null,null,null,null,null,null,null,null,null,null,null,null,null,null,null,null,null,0,null,null,null,null,5870000,null,null,null,null,null,null,null,null,null,null,null,null,null,null,null,null,null,null,null,null,null,null,null,null,null,null,null,"OK","OK"]
[null,null,null,null,null,null,null,null,null,null,null,null,null,null,null,null,null,null,0,null,null,null,null,5870000,null,null,null,null,null,null,null,null,null,null,null,null,null,null,null,null,null,null,null,null,null,null,null,null,null,null,null,{"$f":"IF(S206-AA206-AC206-AE206-AG206-AI206-AK206-AM206-AO206-AQ206-AS206-AU206-AW206=0,\"OK\",\"Compromisos diferentes al valor estimado en la vigencia actual\")","v":"OK"},{"$f":"IF(S206-AB206-AD206-AF206-AH206-AJ206-AL206-AN206-AP206-AR206-AT206-AV206-AX206=0,\"OK\",\"Obligaciones diferentes al valor estimado en la vigencia actual\")","v":"OK"}]
[null,null,null,null,null,null,null,null,null,null,null,null,null,null,null,null,null,null,{"$f":"O207+P207-Q207","v":0},null,null,null,null,5870000,null,null,null,null,null,null,null,null,null,null,null,null,null,null,null,null,null,null,null,null,null,null,null,null,null,null,null,"OK","OK"]
[null,null,null,null,null,null,null,null,null,null,null,null,null,null,null,null,null,null,0,null,null,null,null,5870000,null,null,null,null,null,null,null,null,null,null,null,null,null,null,null,null,null,null,null,null,null,null,null,null,null,null,null,"OK","OK"]
[null,null,null,null,null,null,null,null,null,null,null,null,null,null,null,null,null,null,0,null,null,null,null,5870000,null,null,null,null,null,null,null,null,null,null,null,null,null,null,null,null,null,null,null,null,null,null,null,null,null,null,null,"OK","OK"]
[null,null,null,null,null,null,null,null,null,null,null,null,null,null,null,null,null,null,0,null,null,null,null,5870000,null,null,null,null,null,null,null,null,null,null,null,null,null,null,null,null,null,null,null,null,null,null,null,null,null,null,null,"OK","OK"]
[null,null,null,null,null,null,null,null,null,null,null,null,null,null,null,null,null,null,0,null,null,null,null,5870000,null,null,null,null,null,null,null,null,null,null,null,null,null,null,null,null,null,null,null,null,null,null,null,null,null,null,null,"OK","OK"]
[null,null,null,null,null,null,null,null,null,null,null,null,null,null,null,null,null,null,0,null,null,null,null,5870000,null,null,null,null,null,null,null,null,null,null,null,null,null,null,null,null,null,null,null,null,null,null,null,null,null,null,null,"OK","OK"]
[null,null,null,null,null,null,null,null,null,null,null,null,null,null,null,null,null,null,0,null,null,null,null,5870000,null,null,null,null,null,null,null,null,null,null,null,null,null,null,null,null,null,null,null,null,null,null,null,null,null,null,null,"OK","OK"]
[null,null,null,null,null,null,null,null,null,null,null,null,null,null,null,null,null,null,0,null,null,null,null,5870000,null,null,null,null,null,null,null,null,null,null,null,null,null,null,null,null,null,null,null,null,null,null,null,null,null,null,null,"OK","OK"]
[null,null,null,null,null,null,null,null,null,null,null,null,null,null,null,null,null,null,0,null,null,null,null,5870000,null,null,null,null,null,null,null,null,null,null,null,null,null,null,null,null,null,null,null,null,null,null,null,null,null,null,null,"OK","OK"]
[null,null,null,null,null,null,null,null,null,null,null,null,null,null,null,null,null,null,0,null,null,null,null,5870000,null,null,null,null,null,null,null,null,null,null,null,null,null,null,null,null,null,null,null,null,null,null,null,null,null,null,null,"OK","OK"]
[null,null,null,null,null,null,null,null,null,null,null,null,null,null,null,null,null,null,0,null,null,null,null,5870000,null,null,null,null,null,null,null,null,null,null,null,null,null,null,null,null,null,null,null,null,null,null,null,null,null,null,null,"OK","OK"]
[null,null,null,null,null,null,null,null,null,null,null,null,null,null,null,null,null,null,0,null,null,null,null,5870000,null,null,null,null,null,null,null,null,null,null,null,null,null,null,null,null,null,null,null,null,null,null,null,null,null,null,null,"OK","OK"]
[null,null,null,null,null,null,null,null,null,null,null,null,null,null,null,null,null,null,0,null,null,null,null,5870000,null,null,null,null,null,null,null,null,null,null,null,null,null,null,null,null,null,null,null,null,null,null,null,null,null,null,null,"OK","OK"]
[null,null,null,null,null,null,null,null,null,null,null,null,null,null,null,null,null,null,0,null,null,null,null,5870000,null,null,null,null,null,null,null,null,null,null,null,null,null,null,null,null,null,null,null,null,null,null,null,null,null,null,null,"OK","OK"]
[null,null,null,null,null,null,null,null,null,null,null,null,null,null,null,null,null,null,0,null,null,null,null,5870000,null,null,null,null,null,null,null,null,null,null,null,null,null,null,null,null,null,null,null,null,null,null,null,null,null,null,null,"OK","OK"]
[null,null,null,null,null,null,null,null,null,null,null,null,null,null,null,null,null,null,0,null,null,null,null,5870000,null,null,null,null,null,null,null,null,null,null,null,null,null,null,null,null,null,null,null,null,null,null,null,null,null,null,null,"OK","OK"]
[null,null,null,null,null,null,null,null,null,null,null,null,null,null,null,null,null,null,0,null,null,null,null,5870000,null,null,null,null,null,null,null,null,null,null,null,null,null,null,null,null,null,null,null,null,null,null,null,null,null,null,null,"OK","OK"]
[null,null,null,null,null,null,null,null,null,null,null,null,null,null,null,null,null,null,0,null,null,null,null,5870000,null,null,null,null,null,null,null,null,null,null,null,null,null,null,null,null,null,null,null,null,null,null,null,null,null,null,null,"OK","OK"]
[null,null,null,null,null,null,null,null,null,null,null,null,null,null,null,null,null,null,0,null,null,null,null,5870000,null,null,null,null,null,null,null,null,null,null,null,null,null,null,null,null,null,null,null,null,null,null,null,null,null,null,null,"OK","OK"]
[null,null,null,null,null,null,null,null,null,null,null,null,null,null,null,null,null,null,0,null,null,null,null,5870000,null,null,null,null,null,null,null,null,null,null,null,null,null,null,null,null,null,null,null,null,null,null,null,null,null,null,null,"OK","OK"]
[null,null,null,null,null,null,null,null,null,null,null,null,null,null,null,null,null,null,0,null,null,null,null,5870000,null,null,null,null,null,null,null,null,null,null,null,null,null,null,null,null,null,null,null,null,null,null,null,null,null,null,null,"OK","OK"]
[null,null,null,null,null,null,null,null,null,null,null,null,null,null,null,null,null,null,0,null,null,null,null,5870000,null,null,null,null,null,null,null,null,null,null,null,null,null,null,null,null,null,null,null,null,null,null,null,null,null,null,null,"OK","OK"]
[null,null,null,null,null,null,null,null,null,null,null,null,null,null,null,null,null,null,0,null,null,null,null,5870000,null,null,null,null,null,null,null,null,null,null,null,null,null,null,null,null,null,null,null,null,null,null,null,null,null,null,null,"OK","OK"]
[null,null,null,null,null,null,null,null,null,null,null,null,null,null,null,null,null,null,0,null,null,null,null,5870000,null,null,null,null,null,null,null,null,null,null,null,null,null,null,null,null,null,null,null,null,null,null,null,null,null,null,null,"OK","OK"]
[null,null,null,null,null,null,null,null,null,null,null,null,null,null,null,null,null,null,0,null,null,null,null,5870000,null,null,null,null,null,null,null,null,null,null,null,null,null,null,null,null,null,null,null,null,null,null,null,null,null,null,null,"OK","OK"]
[null,null,null,null,null,null,null,null,null,null,null,null,null,null,null,null,null,null,0,null,null,null,null,5870000,null,null,null,null,null,null,null,null,null,null,null,null,null,null,null,null,null,null,null,null,null,null,null,null,null,null,null,"OK","OK"]
[null,null,null,null,null,null,null,null,null,null,null,null,null,null,null,null,null,null,0,null,null,null,null,5870000,null,null,null,null,null,null,null,null,null,null,null,null,null,null,null,null,null,null,null,null,null,null,null,null,null,null,null,"OK","OK"]
[null,null,null,null,null,null,null,null,null,null,null,null,null,null,null,null,null,null,0,null,null,null,null,5870000,null,null,null,null,null,null,null,null,null,null,null,null,null,null,null,null,null,null,null,null,null,null,null,null,null,null,null,"OK","OK"]
[null,null,null,null,null,null,null,null,null,null,null,null,null,null,null,null,null,null,0,null,null,null,null,5870000,null,null,null,null,null,null,null,null,null,null,null,null,null,null,null,null,null,null,null,null,null,null,null,null,null,null,null,"OK","OK"]
[null,null,null,null,null,null,null,null,null,null,null,null,null,null,null,null,null,null,0,null,null,null,null,5870000,null,null,null,null,null,null,null,null,null,null,null,null,null,null,null,null,null,null,null,null,null,null,null,null,null,null,null,"OK","OK"]
[null,null,null,null,null,null,null,null,null,null,null,null,null,null,null,null,null,null,0,null,null,null,null,5870000,null,null,null,null,null,null,null,null,null,null,null,null,null,null,null,null,null,null,null,null,null,null,null,null,null,null,null,"OK","OK"]
[null,null,null,null,null,null,null,null,null,null,null,null,null,null,null,null,null,null,0,null,null,null,null,5870000,null,null,null,null,null,null,null,null,null,null,null,null,null,null,null,null,null,null,null,null,null,null,null,null,null,null,null,"OK","OK"]
[null,null,null,null,null,null,null,null,null,null,null,null,null,null,null,null,null,null,0,null,null,null,null,5870000,null,null,null,null,null,null,null,null,null,null,null,null,null,null,null,null,null,null,null,null,null,null,null,null,null,null,null,"OK","OK"]
[null,null,null,null,null,null,null,null,null,null,null,null,null,null,null,null,null,null,0,null,null,null,null,5870000,null,null,null,null,null,null,null,null,null,null,null,null,null,null,null,null,null,null,null,null,null,null,null,null,null,null,null,"OK","OK"]
[null,null,null,null,null,null,null,null,null,null,null,null,null,null,null,null,null,null,0,null,null,null,null,5870000,null,null,null,null,null,null,null,null,null,null,null,null,null,null,null,null,null,null,null,null,null,null,null,null,null,null,null,"OK","OK"]
[null,null,null,null,null,null,null,null,null,null,null,null,null,null,null,null,null,null,0,null,null,null,null,5870000,null,null,null,null,null,null,null,null,null,null,null,null,null,null,null,null,null,null,null,null,null,null,null,null,null,null,null,"OK","OK"]
[null,null,null,null,null,null,null,null,null,null,null,null,null,null,null,null,null,null,0,null,null,null,null,5870000,null,null,null,null,null,null,null,null,null,null,null,null,null,null,null,null,null,null,null,null,null,null,null,null,null,null,null,"OK","OK"]
[null,null,null,null,null,null,null,null,null,null,null,null,null,null,null,null,null,null,0,null,null,null,null,5870000,null,null,null,null,null,null,null,null,null,null,null,null,null,null,null,null,null,null,null,null,null,null,null,null,null,null,null,"OK","OK"]
[null,null,null,null,null,null,null,null,null,null,null,null,null,null,null,null,null,null,0,null,null,null,null,5870000,null,null,null,null,null,null,null,null,null,null,null,null,null,null,null,null,null,null,null,null,null,null,null,null,null,null,null,"OK","OK"]
[null,null,null,null,null,null,null,null,null,null,null,null,null,null,null,null,null,null,0,null,null,null,null,5870000,null,null,null,null,null,null,null,null,null,null,null,null,null,null,null,null,null,null,null,null,null,null,null,null,null,null,null,"OK","OK"]
[null,null,null,null,null,null,null,null,null,null,null,null,null,null,null,null,null,null,0,null,null,null,null,5870000,null,null,null,null,null,null,null,null,null,null,null,null,null,null,null,null,null,null,null,null,null,null,null,null,null,null,null,"OK","OK"]
[null,null,null,null,null,null,null,null,null,null,null,null,null,null,null,null,null,null,0,null,null,null,null,5870000,null,null,null,null,null,null,null,null,null,null,null,null,null,null,null,null,null,null,null,null,null,null,null,null,null,null,null,"OK","OK"]
[null,null,null,null,null,null,null,null,null,null,null,null,null,null,null,null,null,null,0,null,null,null,null,5870000,null,null,null,null,null,null,null,null,null,null,null,null,null,null,null,null,null,null,null,null,null,null,null,null,null,null,null,"OK","OK"]
[null,null,null,null,null,null,null,null,null,null,null,null,null,null,null,null,null,null,0,null,null,null,null,5870000,null,null,null,null,null,null,null,null,null,null,null,null,null,null,null,null,null,null,null,null,null,null,null,null,null,null,null,"OK","OK"]
[null,null,null,null,null,null,null,null,null,null,null,null,null,null,null,null,null,null,0,null,null,null,null,5870000,null,null,null,null,null,null,null,null,null,null,null,null,null,null,null,null,null,null,null,null,null,null,null,null,null,null,null,"OK","OK"]
[null,null,null,null,null,null,null,null,null,null,null,null,null,null,null,null,null,null,0,null,null,null,null,5870000,null,null,null,null,null,null,null,null,null,null,null,null,null,null,null,null,null,null,null,null,null,null,null,null,null,null,null,"OK","OK"]
[null,null,null,null,null,null,null,null,null,null,null,null,null,null,null,null,null,null,0,null,null,null,null,5870000,null,null,null,null,null,null,null,null,null,null,null,null,null,null,null,null,null,null,null,null,null,null,null,null,null,null,null,"OK","OK"]
[null,null,null,null,null,null,null,null,null,null,null,null,null,null,null,null,null,null,0,null,null,null,null,5870000,null,null,null,null,null,null,null,null,null,null,null,null,null,null,null,null,null,null,null,null,null,null,null,null,null,null,null,"OK","OK"]
[null,null,null,null,null,null,null,null,null,null,null,null,null,null,null,null,null,null,0,null,null,null,null,5870000,null,null,null,null,null,null,null,null,null,null,null,null,null,null,null,null,null,null,null,null,null,null,null,null,null,null,null,"OK","OK"]
[null,null,null,null,null,null,null,null,null,null,null,null,null,null,null,null,null,null,0,null,null,null,null,5870000,null,null,null,null,null,null,null,null,null,null,null,null,null,null,null,null,null,null,null,null,null,null,null,null,null,null,null,"OK","OK"]
[null,null,null,null,null,null,null,null,null,null,null,null,null,null,null,null,null,null,0,null,null,null,null,5870000,null,null,null,null,null,null,null,null,null,null,null,null,null,null,null,null,null,null,null,null,null,null,null,null,null,null,null,"OK","OK"]
[null,null,null,null,null,null,null,null,null,null,null,null,null,null,null,null,null,null,0,null,null,null,null,5870000,null,null,null,null,null,null,null,null,null,null,null,null,null,null,null,null,null,null,null,null,null,null,null,null,null,null,null,"OK","OK"]
[null,null,null,null,null,null,null,null,null,null,null,null,null,null,null,null,null,null,0,null,null,null,null,5870000,null,null,null,null,null,null,null,null,null,null,null,null,null,null,null,null,null,null,null,null,null,null,null,null,null,null,null,"OK","OK"]
[null,null,null,null,null,null,null,null,null,null,null,null,null,null,null,null,null,null,0,null,null,null,null,5870000,null,null,null,null,null,null,null,null,null,null,null,null,null,null,null,null,null,null,null,null,null,null,null,null,null,null,null,"OK","OK"]
[null,null,null,null,null,null,null,null,null,null,null,null,null,null,null,null,null,null,0,null,null,null,null,5870000,null,null,null,null,null,null,null,null,null,null,null,null,null,null,null,null,null,null,null,null,null,null,null,null,null,null,null,"OK","OK"]
[null,null,null,null,null,null,null,null,null,null,null,null,null,null,null,null,null,null,0,null,null,null,null,5870000,null,null,null,null,null,null,null,null,null,null,null,null,null,null,null,null,null,null,null,null,null,null,null,null,null,null,null,"OK","OK"]
[null,null,null,null,null,null,null,null,null,null,null,null,null,null,null,null,null,null,0,null,null,null,null,5870000,null,null,null,null,null,null,null,null,null,null,null,null,null,null,null,null,null,null,null,null,null,null,null,null,null,null,null,"OK","OK"]
[null,null,null,null,null,null,null,null,null,null,null,null,null,null,null,null,null,null,0,null,null,null,null,5870000,null,null,null,null,null,null,null,null,null,null,null,null,null,null,null,null,null,null,null,null,null,null,null,null,null,null,null,"OK","OK"]
[null,null,null,null,null,null,null,null,null,null,null,null,null,null,null,null,null,null,0,null,null,null,null,5870000,null,null,null,null,null,null,null,null,null,null,null,null,null,null,null,null,null,null,null,null,null,null,null,null,null,null,null,"OK","OK"]
[null,null,null,null,null,null,null,null,null,null,null,null,null,null,null,null,null,null,0,null,null,null,null,5870000,null,null,null,null,null,null,null,null,null,null,null,null,null,null,null,null,null,null,null,null,null,null,null,null,null,null,null,"OK","OK"]
[null,null,null,null,null,null,null,null,null,null,null,null,null,null,null,null,null,null,0,null,null,null,null,5870000,null,null,null,null,null,null,null,null,null,null,null,null,null,null,null,null,null,null,null,null,null,null,null,null,null,null,null,"OK","OK"]
[null,null,null,null,null,null,null,null,null,null,null,null,null,null,null,null,null,null,0,null,null,null,null,5870000,null,null,null,null,null,null,null,null,null,null,null,null,null,null,null,null,null,null,null,null,null,null,null,null,null,null,null,"OK","OK"]
[null,null,null,null,null,null,null,null,null,null,null,null,null,null,null,null,null,null,0,null,null,null,null,5870000,null,null,null,null,null,null,null,null,null,null,null,null,null,null,null,null,null,null,null,null,null,null,null,null,null,null,null,"OK","OK"]
[null,null,null,null,null,null,null,null,null,null,null,null,null,null,null,null,null,null,0,null,null,null,null,5870000,null,null,null,null,null,null,null,null,null,null,null,null,null,null,null,null,null,null,null,null,null,null,null,null,null,null,null,{"$f":"IF(S270-AA270-AC270-AE270-AG270-AI270-AK270-AM270-AO270-AQ270-AS270-AU270-AW270=0,\"OK\",\"Compromisos diferentes al valor estimado en la vigencia actual\")","v":"OK"},{"$f":"IF(S270-AB270-AD270-AF270-AH270-AJ270-AL270-AN270-AP270-AR270-AT270-AV270-AX270=0,\"OK\",\"Obligaciones diferentes al valor estimado en la vigencia actual\")","v":"OK"}]
[null,null,null,null,null,null,null,null,null,null,null,null,null,null,null,null,null,null,{"$f":"O271+P271-Q271","v":0},null,null,null,null,5870000,null,null,null,null,null,null,null,null,null,null,null,null,null,null,null,null,null,null,null,null,null,null,null,null,null,null,null,"OK","OK"]
[null,null,null,null,null,null,null,null,null,null,null,null,null,null,null,null,null,null,0,null,null,null,null,5870000,null,null,null,null,null,null,null,null,null,null,null,null,null,null,null,null,null,null,null,null,null,null,null,null,null,null,null,"OK","OK"]
[null,null,null,null,null,null,null,null,null,null,null,null,null,null,null,null,null,null,0,null,null,null,null,5870000,null,null,null,null,null,null,null,null,null,null,null,null,null,null,null,null,null,null,null,null,null,null,null,null,null,null,null,"OK","OK"]
[null,null,null,null,null,null,null,null,null,null,null,null,null,null,null,null,null,null,0,null,null,null,null,5870000,null,null,null,null,null,null,null,null,null,null,null,null,null,null,null,null,null,null,null,null,null,null,null,null,null,null,null,"OK","OK"]
[null,null,null,null,null,null,null,null,null,null,null,null,null,null,null,null,null,null,0,null,null,null,null,5870000,null,null,null,null,null,null,null,null,null,null,null,null,null,null,null,null,null,null,null,null,null,null,null,null,null,null,null,"OK","OK"]
[null,null,null,null,null,null,null,null,null,null,null,null,null,null,null,null,null,null,0,null,null,null,null,5870000,null,null,null,null,null,null,null,null,null,null,null,null,null,null,null,null,null,null,null,null,null,null,null,null,null,null,null,"OK","OK"]
[null,null,null,null,null,null,null,null,null,null,null,null,null,null,null,null,null,null,0,null,null,null,null,5870000,null,null,null,null,null,null,null,null,null,null,null,null,null,null,null,null,null,null,null,null,null,null,null,null,null,null,null,"OK","OK"]
[null,null,null,null,null,null,null,null,null,null,null,null,null,null,null,null,null,null,0,null,null,null,null,5870000,null,null,null,null,null,null,null,null,null,null,null,null,null,null,null,null,null,null,null,null,null,null,null,null,null,null,null,"OK","OK"]
[null,null,null,null,null,null,null,null,null,null,null,null,null,null,null,null,null,null,0,null,null,null,null,5870000,null,null,null,null,null,null,null,null,null,null,null,null,null,null,null,null,null,null,null,null,null,null,null,null,null,null,null,"OK","OK"]
[null,null,null,null,null,null,null,null,null,null,null,null,null,null,null,null,null,null,0,null,null,null,null,5870000,null,null,null,null,null,null,null,null,null,null,null,null,null,null,null,null,null,null,null,null,null,null,null,null,null,null,null,"OK","OK"]
[null,null,null,null,null,null,null,null,null,null,null,null,null,null,null,null,null,null,0,null,null,null,null,5870000,null,null,null,null,null,null,null,null,null,null,null,null,null,null,null,null,null,null,null,null,null,null,null,null,null,null,null,"OK","OK"]
[null,null,null,null,null,null,null,null,null,null,null,null,null,null,null,null,null,null,0,null,null,null,null,5870000,null,null,null,null,null,null,null,null,null,null,null,null,null,null,null,null,null,null,null,null,null,null,null,null,null,null,null,"OK","OK"]
[null,null,null,null,null,null,null,null,null,null,null,null,null,null,null,null,null,null,0,null,null,null,null,5870000,null,null,null,null,null,null,null,null,null,null,null,null,null,null,null,null,null,null,null,null,null,null,null,null,null,null,null,"OK","OK"]
[null,null,null,null,null,null,null,null,null,null,null,null,null,null,null,null,null,null,0,null,null,null,null,5870000,null,null,null,null,null,null,null,null,null,null,null,null,null,null,null,null,null,null,null,null,null,null,null,null,null,null,null,"OK","OK"]
[null,null,null,null,null,null,null,null,null,null,null,null,null,null,null,null,null,null,0,null,null,null,null,5870000,null,null,null,null,null,null,null,null,null,null,null,null,null,null,null,null,null,null,null,null,null,null,null,null,null,null,null,"OK","OK"]
[null,null,null,null,null,null,null,null,null,null,null,null,null,null,null,null,null,null,0,null,null,null,null,5870000,null,null,null,null,null,null,null,null,null,null,null,null,null,null,null,null,null,null,null,null,null,null,null,null,null,null,null,"OK","OK"]
[null,null,null,null,null,null,null,null,null,null,null,null,null,null,null,null,null,null,0,null,null,null,null,5870000,null,null,null,null,null,null,null,null,null,null,null,null,null,null,null,null,null,null,null,null,null,null,null,null,null,null,null,"OK","OK"]
[null,null,null,null,null,null,null,null,null,null,null,null,null,null,null,null,null,null,0,null,null,null,null,5870000,null,null,null,null,null,null,null,null,null,null,null,null,null,null,null,null,null,null,null,null,null,null,null,null,null,null,null,"OK","OK"]
[null,null,null,null,null,null,null,null,null,null,null,null,null,null,null,null,null,null,0,null,null,null,null,5870000,null,null,null,null,null,null,null,null,null,null,null,null,null,null,null,null,null,null,null,null,null,null,null,null,null,null,null,"OK","OK"]
[null,null,null,null,null,null,null,null,null,null,null,null,null,null,null,null,null,null,0,null,null,null,null,5870000,null,null,null,null,null,null,null,null,null,null,null,null,null,null,null,null,null,null,null,null,null,null,null,null,null,null,null,"OK","OK"]
[null,null,null,null,null,null,null,null,null,null,null,null,null,null,null,null,null,null,0,null,null,null,null,5870000,null,null,null,null,null,null,null,null,null,null,null,null,null,null,null,null,null,null,null,null,null,null,null,null,null,null,null,"OK","OK"]
[null,null,null,null,null,null,null,null,null,null,null,null,null,null,null,null,null,null,0,null,null,null,null,5870000,null,null,null,null,null,null,null,null,null,null,null,null,null,null,null,null,null,null,null,null,null,null,null,null,null,null,null,"OK","OK"]
[null,null,null,null,null,null,null,null,null,null,null,null,null,null,null,null,null,null,0,null,null,null,null,5870000,null,null,null,null,null,null,null,null,null,null,null,null,null,null,null,null,null,null,null,null,null,null,null,null,null,null,null,"OK","OK"]
[null,null,null,null,null,null,null,null,null,null,null,null,null,null,null,null,null,null,0,null,null,null,null,5870000,null,null,null,null,null,null,null,null,null,null,null,null,null,null,null,null,null,null,null,null,null,null,null,null,null,null,null,"OK","OK"]
[null,null,null,null,null,null,null,null,null,null,null,null,null,null,null,null,null,null,0,null,null,null,null,5870000,null,null,null,null,null,null,null,null,null,null,null,null,null,null,null,null,null,null,null,null,null,null,null,null,null,null,null,"OK","OK"]
[null,null,null,null,null,null,null,null,null,null,null,null,null,null,null,null,null,null,0,null,null,null,null,5870000,null,null,null,null,null,null,null,null,null,null,null,null,null,null,null,null,null,null,null,null,null,null,null,null,null,null,null,"OK","OK"]
[null,null,null,null,null,null,null,null,null,null,null,null,null,null,null,null,null,null,0,null,null,null,null,5870000,null,null,null,null,null,null,null,null,null,null,null,null,null,null,null,null,null,null,null,null,null,null,null,null,null,null,null,"OK","OK"]
[null,null,null,null,null,null,null,null,null,null,null,null,null,null,null,null,null,null,0,null,null,null,null,5870000,null,null,null,null,null,null,null,null,null,null,null,null,null,null,null,null,null,null,null,null,null,null,null,null,null,null,null,"OK","OK"]
[null,null,null,null,null,null,null,null,null,null,null,null,null,null,null,null,null,null,0,null,null,null,null,5870000,null,null,null,null,null,null,null,null,null,null,null,null,null,null,null,null,null,null,null,null,null,null,null,null,null,null,null,"OK","OK"]
[null,null,null,null,null,null,null,null,null,null,null,null,null,null,null,null,null,null,0,null,null,null,null,5870000,null,null,null,null,null,null,null,null,null,null,null,null,null,null,null,null,null,null,null,null,null,null,null,null,null,null,null,"OK","OK"]
[null,null,null,null,null,null,null,null,null,null,null,null,null,null,null,null,null,null,0,null,null,null,null,5870000,null,null,null,null,null,null,null,null,null,null,null,null,null,null,null,null,null,null,null,null,null,null,null,null,null,null,null,"OK","OK"]
[null,null,null,null,null,null,null,null,null,null,null,null,null,null,null,null,null,null,0,null,null,null,null,5870000,null,null,null,null,null,null,null,null,null,null,null,null,null,null,null,null,null,null,null,null,null,null,null,null,null,null,null,"OK","OK"]
[null,null,null,null,null,null,null,null,null,null,null,null,null,null,null,null,null,null,0,null,null,null,null,5870000,null,null,null,null,null,null,null,null,null,null,null,null,null,null,null,null,null,null,null,null,null,null,null,null,null,null,null,"OK","OK"]
[null,null,null,null,null,null,null,null,null,null,null,null,null,null,null,null,null,null,0,null,null,null,null,5870000,null,null,null,null,null,null,null,null,null,null,null,null,null,null,null,null,null,null,null,null,null,null,null,null,null,null,null,"OK","OK"]
[null,null,null,null,null,null,null,null,null,null,null,null,null,null,null,null,null,null,0,null,null,null,null,5870000,null,null,null,null,null,null,null,null,null,null,null,null,null,null,null,null,null,null,null,null,null,null,null,null,null,null,null,"OK","OK"]
[null,null,null,null,null,null,null,null,null,null,null,null,null,null,null,null,null,null,0,null,null,null,null,5870000,null,null,null,null,null,null,null,null,null,null,null,null,null,null,null,null,null,null,null,null,null,null,null,null,null,null,null,"OK","OK"]
[null,null,null,null,null,null,null,null,null,null,null,null,null,null,null,null,null,null,0,null,null,null,null,5870000,null,null,null,null,null,null,null,null,null,null,null,null,null,null,null,null,null,null,null,null,null,null,null,null,null,null,null,"OK","OK"]
[null,null,null,null,null,null,null,null,null,null,null,null,null,null,null,null,null,null,0,null,null,null,null,5870000,null,null,null,null,null,null,null,null,null,null,null,null,null,null,null,null,null,null,null,null,null,null,null,null,null,null,null,"OK","OK"]
[null,null,null,null,null,null,null,null,null,null,null,null,null,null,null,null,null,null,0,null,null,null,null,5870000,null,null,null,null,null,null,null,null,null,null,null,null,null,null,null,null,null,null,null,null,null,null,null,null,null,null,null,"OK","OK"]
[null,null,null,null,null,null,null,null,null,null,null,null,null,null,null,null,null,null,0,null,null,null,null,5870000,null,null,null,null,null,null,null,null,null,null,null,null,null,null,null,null,null,null,null,null,null,null,null,null,null,null,null,"OK","OK"]
[null,null,null,null,null,null,null,null,null,null,null,null,null,null,null,null,null,null,0,null,null,null,null,5870000,null,null,null,null,null,null,null,null,null,null,null,null,null,null,null,null,null,null,null,null,null,null,null,null,null,null,null,"OK","OK"]
[null,null,null,null,null,null,null,null,null,null,null,null,null,null,null,null,null,null,0,null,null,null,null,5870000,null,null,null,null,null,null,null,null,null,null,null,null,null,null,null,null,null,null,null,null,null,null,null,null,null,null,null,"OK","OK"]
[null,null,null,null,null,null,null,null,null,null,null,null,null,null,null,null,null,null,0,null,null,null,null,5870000,null,null,null,null,null,null,null,null,null,null,null,null,null,null,null,null,null,null,null,null,null,null,null,null,null,null,null,"OK","OK"]
[null,null,null,null,null,null,null,null,null,null,null,null,null,null,null,null,null,null,0,null,null,null,null,5870000,null,null,null,null,null,null,null,null,null,null,null,null,null,null,null,null,null,null,null,null,null,null,null,null,null,null,null,"OK","OK"]
[null,null,null,null,null,null,null,null,null,null,null,null,null,null,null,null,null,null,0,null,null,null,null,5870000,null,null,null,null,null,null,null,null,null,null,null,null,null,null,null,null,null,null,null,null,null,null,null,null,null,null,null,"OK","OK"]
[null,null,null,null,null,null,null,null,null,null,null,null,null,null,null,null,null,null,0,null,null,null,null,5870000,null,null,null,null,null,null,null,null,null,null,null,null,null,null,null,null,null,null,null,null,null,null,null,null,null,null,null,"OK","OK"]
[null,null,null,null,null,null,null,null,null,null,null,null,null,null,null,null,null,null,0,null,null,null,null,5870000,null,null,null,null,null,null,null,null,null,null,null,null,null,null,null,null,null,null,null,null,null,null,null,null,null,null,null,"OK","OK"]
[null,null,null,null,null,null,null,null,null,null,null,null,null,null,null,null,null,null,0,null,null,null,null,5870000,null,null,null,null,null,null,null,null,null,null,null,null,null,null,null,null,null,null,null,null,null,null,null,null,null,null,null,"OK","OK"]
[null,null,null,null,null,null,null,null,null,null,null,null,null,null,null,null,null,null,0,null,null,null,null,5870000,null,null,null,null,null,null,null,null,null,null,null,null,null,null,null,null,null,null,null,null,null,null,null,null,null,null,null,"OK","OK"]
[null,null,null,null,null,null,null,null,null,null,null,null,null,null,null,null,null,null,0,null,null,null,null,5870000,null,null,null,null,null,null,null,null,null,null,null,null,null,null,null,null,null,null,null,null,null,null,null,null,null,null,null,"OK","OK"]
[null,null,null,null,null,null,null,null,null,null,null,null,null,null,null,null,null,null,0,null,null,null,null,5870000,null,null,null,null,null,null,null,null,null,null,null,null,null,null,null,null,null,null,null,null,null,null,null,null,null,null,null,"OK","OK"]
[null,null,null,null,null,null,null,null,null,null,null,null,null,null,null,null,null,null,0,null,null,null,null,5870000,null,null,null,null,null,null,null,null,null,null,null,null,null,null,null,null,null,null,null,null,null,null,null,null,null,null,null,"OK","OK"]
[null,null,null,null,null,null,null,null,null,null,null,null,null,null,null,null,null,null,0,null,null,null,null,5870000,null,null,null,null,null,null,null,null,null,null,null,null,null,null,null,null,null,null,null,null,null,null,null,null,null,null,null,"OK","OK"]
[null,null,null,null,null,null,null,null,null,null,null,null,null,null,null,null,null,null,0,null,null,null,null,5870000,null,null,null,null,null,null,null,null,null,null,null,null,null,null,null,null,null,null,null,null,null,null,null,null,null,null,null,"OK","OK"]
[null,null,null,null,null,null,null,null,null,null,null,null,null,null,null,null,null,null,0,null,null,null,null,5870000,null,null,null,null,null,null,null,null,null,null,null,null,null,null,null,null,null,null,null,null,null,null,null,null,null,null,null,"OK","OK"]
[null,null,null,null,null,null,null,null,null,null,null,null,null,null,null,null,null,null,0,null,null,null,null,5870000,null,null,null,null,null,null,null,null,null,null,null,null,null,null,null,null,null,null,null,null,null,null,null,null,null,null,null,"OK","OK"]
[null,null,null,null,null,null,null,null,null,null,null,null,null,null,null,null,null,null,0,null,null,null,null,5870000,null,null,null,null,null,null,null,null,null,null,null,null,null,null,null,null,null,null,null,null,null,null,null,null,null,null,null,"OK","OK"]
[null,null,null,null,null,null,null,null,null,null,null,null,null,null,null,null,null,null,0,null,null,null,null,5870000,null,null,null,null,null,null,null,null,null,null,null,null,null,null,null,null,null,null,null,null,null,null,null,null,null,null,null,"OK","OK"]
[null,null,null,null,null,null,null,null,null,null,null,null,null,null,null,null,null,null,0,null,null,null,null,5870000,null,null,null,null,null,null,null,null,null,null,null,null,null,null,null,null,null,null,null,null,null,null,null,null,null,null,null,"OK","OK"]
[null,null,null,null,null,null,null,null,null,null,null,null,null,null,null,null,null,null,0,null,null,null,null,5870000,null,null,null,null,null,null,null,null,null,null,null,null,null,null,null,null,null,null,null,null,null,null,null,null,null,null,null,"OK","OK"]
[null,null,null,null,null,null,null,null,null,null,null,null,null,null,null,null,null,null,0,null,null,null,null,5870000,null,null,null,null,null,null,null,null,null,null,null,null,null,null,null,null,null,null,null,null,null,null,null,null,null,null,null,"OK","OK"]
[null,null,null,null,null,null,null,null,null,null,null,null,null,null,null,null,null,null,0,null,null,null,null,5870000,null,null,null,null,null,null,null,null,null,null,null,null,null,null,null,null,null,null,null,null,null,null,null,null,null,null,null,"OK","OK"]
[null,null,null,null,null,null,null,null,null,null,null,null,null,null,null,null,null,null,0,null,null,null,null,5870000,null,null,null,null,null,null,null,null,null,null,null,null,null,null,null,null,null,null,null,null,null,null,null,null,null,null,null,"OK","OK"]
[null,null,null,null,null,null,null,null,null,null,null,null,null,null,null,null,null,null,0,null,null,null,null,5870000,null,null,null,null,null,null,null,null,null,null,null,null,null,null,null,null,null,null,null,null,null,null,null,null,null,null,null,{"$f":"IF(S334-AA334-AC334-AE334-AG334-AI334-AK334-AM334-AO334-AQ334-AS334-AU334-AW334=0,\"OK\",\"Compromisos diferentes al valor estimado en la vigencia actual\")","v":"OK"},{"$f":"IF(S334-AB334-AD334-AF334-AH334-AJ334-AL334-AN334-AP334-AR334-AT334-AV334-AX334=0,\"OK\",\"Obligaciones diferentes al valor estimado en la vigencia actual\")","v":"OK"}]
[null,null,null,null,null,null,null,null,null,null,null,null,null,null,null,null,null,null,{"$f":"O335+P335-Q335","v":0},null,null,null,null,5870000,null,null,null,null,null,null,null,null,null,null,null,null,null,null,null,null,null,null,null,null,null,null,null,null,null,null,null,"OK","OK"]
[null,null,null,null,null,null,null,null,null,null,null,null,null,null,null,null,null,null,0,null,null,null,null,5870000,null,null,null,null,null,null,null,null,null,null,null,null,null,null,null,null,null,null,null,null,null,null,null,null,null,null,null,"OK","OK"]
[null,null,null,null,null,null,null,null,null,null,null,null,null,null,null,null,null,null,0,null,null,null,null,5870000,null,null,null,null,null,null,null,null,null,null,null,null,null,null,null,null,null,null,null,null,null,null,null,null,null,null,null,"OK","OK"]
[null,null,null,null,null,null,null,null,null,null,null,null,null,null,null,null,null,null,0,null,null,null,null,5870000,null,null,null,null,null,null,null,null,null,null,null,null,null,null,null,null,null,null,null,null,null,null,null,null,null,null,null,"OK","OK"]
[null,null,null,null,null,null,null,null,null,null,null,null,null,null,null,null,null,null,0,null,null,null,null,5870000,null,null,null,null,null,null,null,null,null,null,null,null,null,null,null,null,null,null,null,null,null,null,null,null,null,null,null,"OK","OK"]
[null,null,null,null,null,null,null,null,null,null,null,null,null,null,null,null,null,null,0,null,null,null,null,5870000,null,null,null,null,null,null,null,null,null,null,null,null,null,null,null,null,null,null,null,null,null,null,null,null,null,null,null,"OK","OK"]
[null,null,null,null,null,null,null,null,null,null,null,null,null,null,null,null,null,null,0,null,null,null,null,5870000,null,null,null,null,null,null,null,null,null,null,null,null,null,null,null,null,null,null,null,null,null,null,null,null,null,null,null,"OK","OK"]
[null,null,null,null,null,null,null,null,null,null,null,null,null,null,null,null,null,null,0,null,null,null,null,5870000,null,null,null,null,null,null,null,null,null,null,null,null,null,null,null,null,null,null,null,null,null,null,null,null,null,null,null,"OK","OK"]
[null,null,null,null,null,null,null,null,null,null,null,null,null,null,null,null,null,null,0,null,null,null,null,5870000,null,null,null,null,null,null,null,null,null,null,null,null,null,null,null,null,null,null,null,null,null,null,null,null,null,null,null,"OK","OK"]
[null,null,null,null,null,null,null,null,null,null,null,null,null,null,null,null,null,null,0,null,null,null,null,5870000,null,null,null,null,null,null,null,null,null,null,null,null,null,null,null,null,null,null,null,null,null,null,null,null,null,null,null,"OK","OK"]
[null,null,null,null,null,null,null,null,null,null,null,null,null,null,null,null,null,null,0,null,null,null,null,5870000,null,null,null,null,null,null,null,null,null,null,null,null,null,null,null,null,null,null,null,null,null,null,null,null,null,null,null,"OK","OK"]
[null,null,null,null,null,null,null,null,null,null,null,null,null,null,null,null,null,null,0,null,null,null,null,5870000,null,null,null,null,null,null,null,null,null,null,null,null,null,null,null,null,null,null,null,null,null,null,null,null,null,null,null,"OK","OK"]
[null,null,null,null,null,null,null,null,null,null,null,null,null,null,null,null,null,null,0,null,null,null,null,5870000,null,null,null,null,null,null,null,null,null,null,null,null,null,null,null,null,null,null,null,null,null,null,null,null,null,null,null,"OK","OK"]
[null,null,null,null,null,null,null,null,null,null,null,null,null,null,null,null,null,null,0,null,null,null,null,5870000,null,null,null,null,null,null,null,null,null,null,null,null,null,null,null,null,null,null,null,null,null,null,null,null,null,null,null,"OK","OK"]
[null,null,null,null,null,null,null,null,null,null,null,null,null,null,null,null,null,null,0,null,null,null,null,5870000,null,null,null,null,null,null,null,null,null,null,null,null,null,null,null,null,null,null,null,null,null,null,null,null,null,null,null,"OK","OK"]
[null,null,null,null,null,null,null,null,null,null,null,null,null,null,null,null,null,null,0,null,null,null,null,5870000,null,null,null,null,null,null,null,null,null,null,null,null,null,null,null,null,null,null,null,null,null,null,null,null,null,null,null,"OK","OK"]
[null,null,null,null,null,null,null,null,null,null,null,null,null,null,null,null,null,null,0,null,null,null,null,5870000,null,null,null,null,null,null,null,null,null,null,null,null,null,null,null,null,null,null,null,null,null,null,null,null,null,null,null,"OK","OK"]
[null,null,null,null,null,null,null,null,null,null,null,null,null,null,null,null,null,null,0,null,null,null,null,5870000,null,null,null,null,null,null,null,null,null,null,null,null,null,null,null,null,null,null,null,null,null,null,null,null,null,null,null,"OK","OK"]
[null,null,null,null,null,null,null,null,null,null,null,null,null,null,null,null,null,null,0,null,null,null,null,5870000,null,null,null,null,null,null,null,null,null,null,null,null,null,null,null,null,null,null,null,null,null,null,null,null,null,null,null,"OK","OK"]
[null,null,null,null,null,null,null,null,null,null,null,null,null,null,null,null,null,null,0,null,null,null,null,5870000,null,null,null,null,null,null,null,null,null,null,null,null,null,null,null,null,null,null,null,null,null,null,null,null,null,null,null,"OK","OK"]
[null,null,null,null,null,null,null,null,null,null,null,null,null,null,null,null,null,null,0,null,null,null,null,5870000,null,null,null,null,null,null,null,null,null,null,null,null,null,null,null,null,null,null,null,null,null,null,null,null,null,null,null,"OK","OK"]
[null,null,null,null,null,null,null,null,null,null,null,null,null,null,null,null,null,null,0,null,null,null,null,5870000,null,null,null,null,null,null,null,null,null,null,null,null,null,null,null,null,null,null,null,null,null,null,null,null,null,null,null,"OK","OK"]
[null,null,null,null,null,null,null,null,null,null,null,null,null,null,null,null,null,null,0,null,null,null,null,5870000,null,null,null,null,null,null,null,null,null,null,null,null,null,null,null,null,null,null,null,null,null,null,null,null,null,null,null,"OK","OK"]
[null,null,null,null,null,null,null,null,null,null,null,null,null,null,null,null,null,null,0,null,null,null,null,5870000,null,null,null,null,null,null,null,null,null,null,null,null,null,null,null,null,null,null,null,null,null,null,null,null,null,null,null,"OK","OK"]
[null,null,null,null,null,null,null,null,null,null,null,null,null,null,null,null,null,null,0,null,null,null,null,5870000,null,null,null,null,null,null,null,null,null,null,null,null,null,null,null,null,null,null,null,null,null,null,null,null,null,null,null,"OK","OK"]
[null,null,null,null,null,null,null,null,null,null,null,null,null,null,null,null,null,null,0,null,null,null,null,5870000,null,null,null,null,null,null,null,null,null,null,null,null,null,null,null,null,null,null,null,null,null,null,null,null,null,null,null,"OK","OK"]
[null,null,null,null,null,null,null,null,null,null,null,null,null,null,null,null,null,null,0,null,null,null,null,5870000,null,null,null,null,null,null,null,null,null,null,null,null,null,null,null,null,null,null,null,null,null,null,null,null,null,null,null,"OK","OK"]
[null,null,null,null,null,null,null,null,null,null,null,null,null,null,null,null,null,null,0,null,null,null,null,5870000,null,null,null,null,null,null,null,null,null,null,null,null,null,null,null,null,null,null,null,null,null,null,null,null,null,null,null,"OK","OK"]
[null,null,null,null,null,null,null,null,null,null,null,null,null,null,null,null,null,null,0,null,null,null,null,5870000,null,null,null,null,null,null,null,null,null,null,null,null,null,null,null,null,null,null,null,null,null,null,null,null,null,null,null,"OK","OK"]
[null,null,null,null,null,null,null,null,null,null,null,null,null,null,null,null,null,null,0,null,null,null,null,5870000,null,null,null,null,null,null,null,null,null,null,null,null,null,null,null,null,null,null,null,null,null,null,null,null,null,null,null,"OK","OK"]
[null,null,null,null,null,null,null,null,null,null,null,null,null,null,null,null,null,null,0,null,null,null,null,5870000,null,null,null,null,null,null,null,null,null,null,null,null,null,null,null,null,null,null,null,null,null,null,null,null,null,null,null,"OK","OK"]
[null,null,null,null,null,null,null,null,null,null,null,null,null,null,null,null,null,null,0,null,null,null,null,5870000,null,null,null,null,null,null,null,null,null,null,null,null,null,null,null,null,null,null,null,null,null,null,null,null,null,null,null,"OK","OK"]
[null,null,null,null,null,null,null,null,null,null,null,null,null,null,null,null,null,null,0,null,null,null,null,5870000,null,null,null,null,null,null,null,null,null,null,null,null,null,null,null,null,null,null,null,null,null,null,null,null,null,null,null,"OK","OK"]
[null,null,null,null,null,null,null,null,null,null,null,null,null,null,null,null,null,null,0,null,null,null,null,5870000,null,null,null,null,null,null,null,null,null,null,null,null,null,null,null,null,null,null,null,null,null,null,null,null,null,null,null,"OK","OK"]
[null,null,null,null,null,null,null,null,null,null,null,null,null,null,null,null,null,null,0,null,null,null,null,5870000,null,null,null,null,null,null,null,null,null,null,null,null,null,null,null,null,null,null,null,null,null,null,null,null,null,null,null,"OK","OK"]
[null,null,null,null,null,null,null,null,null,null,null,null,null,null,null,null,null,null,0,null,null,null,null,5870000,null,null,null,null,null,null,null,null,null,null,null,null,null,null,null,null,null,null,null,null,null,null,null,null,null,null,null,"OK","OK"]
[null,null,null,null,null,null,null,null,null,null,null,null,null,null,null,null,null,null,0,null,null,null,null,5870000,null,null,null,null,null,null,null,null,null,null,null,null,null,null,null,null,null,null,null,null,null,null,null,null,null,null,null,"OK","OK"]
[null,null,null,null,null,null,null,null,null,null,null,null,null,null,null,null,null,null,0,null,null,null,null,5870000,null,null,null,null,null,null,null,null,null,null,null,null,null,null,null,null,null,null,null,null,null,null,null,null,null,null,null,"OK","OK"]
[null,null,null,null,null,null,null,null,null,null,null,null,null,null,null,null,null,null,0,null,null,null,null,5870000,null,null,null,null,null,null,null,null,null,null,null,null,null,null,null,null,null,null,null,null,null,null,null,null,null,null,null,"OK","OK"]
[null,null,null,null,null,null,null,null,null,null,null,null,null,null,null,null,null,null,0,null,null,null,null,5870000,null,null,null,null,null,null,null,null,null,null,null,null,null,null,null,null,null,null,null,null,null,null,null,null,null,null,null,"OK","OK"]
[null,null,null,null,null,null,null,null,null,null,null,null,null,null,null,null,null,null,0,null,null,null,null,5870000,null,null,null,null,null,null,null,null,null,null,null,null,null,null,null,null,null,null,null,null,null,null,null,null,null,null,null,"OK","OK"]
[null,null,null,null,null,null,null,null,null,null,null,null,null,null,null,null,null,null,0,null,null,null,null,5870000,null,null,null,null,null,null,null,null,null,null,null,null,null,null,null,null,null,null,null,null,null,null,null,null,null,null,null,"OK","OK"]
[null,null,null,null,null,null,null,null,null,null,null,null,null,null,null,null,null,null,0,null,null,null,null,5870000,null,null,null,null,null,null,null,null,null,null,null,null,null,null,null,null,null,null,null,null,null,null,null,null,null,null,null,"OK","OK"]
[null,null,null,null,null,null,null,null,null,null,null,null,null,null,null,null,null,null,0,null,null,null,null,5870000,null,null,null,null,null,null,null,null,null,null,null,null,null,null,null,null,null,null,null,null,null,null,null,null,null,null,null,"OK","OK"]
[null,null,null,null,null,null,null,null,null,null,null,null,null,null,null,null,null,null,0,null,null,null,null,5870000,null,null,null,null,null,null,null,null,null,null,null,null,null,null,null,null,null,null,null,null,null,null,null,null,null,null,null,"OK","OK"]
[null,null,null,null,null,null,null,null,null,null,null,null,null,null,null,null,null,null,0,null,null,null,null,5870000,null,null,null,null,null,null,null,null,null,null,null,null,null,null,null,null,null,null,null,null,null,null,null,null,null,null,null,"OK","OK"]
[null,null,null,null,null,null,null,null,null,null,null,null,null,null,null,null,null,null,0,null,null,null,null,5870000,null,null,null,null,null,null,null,null,null,null,null,null,null,null,null,null,null,null,null,null,null,null,null,null,null,null,null,"OK","OK"]
[null,null,null,null,null,null,null,null,null,null,null,null,null,null,null,null,null,null,0,null,null,null,null,5870000,null,null,null,null,null,null,null,null,null,null,null,null,null,null,null,null,null,null,null,null,null,null,null,null,null,null,null,"OK","OK"]
[null,null,null,null,null,null,null,null,null,null,null,null,null,null,null,null,null,null,0,null,null,null,null,5870000,null,null,null,null,null,null,null,null,null,null,null,null,null,null,null,null,null,null,null,null,null,null,null,null,null,null,null,"OK","OK"]
[null,null,null,null,null,null,null,null,null,null,null,null,null,null,null,null,null,null,0,null,null,null,null,5870000,null,null,null,null,null,null,null,null,null,null,null,null,null,null,null,null,null,null,null,null,null,null,null,null,null,null,null,"OK","OK"]
[null,null,null,null,null,null,null,null,null,null,null,null,null,null,null,null,null,null,0,null,null,null,null,5870000,null,null,null,null,null,null,null,null,null,null,null,null,null,null,null,null,null,null,null,null,null,null,null,null,null,null,null,"OK","OK"]
[null,null,null,null,null,null,null,null,null,null,null,null,null,null,null,null,null,null,0,null,null,null,null,5870000,null,null,null,null,null,null,null,null,null,null,null,null,null,null,null,null,null,null,null,null,null,null,null,null,null,null,null,"OK","OK"]
[null,null,null,null,null,null,null,null,null,null,null,null,null,null,null,null,null,null,0,null,null,null,null,5870000,null,null,null,null,null,null,null,null,null,null,null,null,null,null,null,null,null,null,null,null,null,null,null,null,null,null,null,"OK","OK"]
[null,null,null,null,null,null,null,null,null,null,null,null,null,null,null,null,null,null,0,null,null,null,null,5870000,null,null,null,null,null,null,null,null,null,null,null,null,null,null,null,null,null,null,null,null,null,null,null,null,null,null,null,"OK","OK"]
[null,null,null,null,null,null,null,null,null,null,null,null,null,null,null,null,null,null,0,null,null,null,null,5870000,null,null,null,null,null,null,null,null,null,null,null,null,null,null,null,null,null,null,null,null,null,null,null,null,null,null,null,"OK","OK"]
[null,null,null,null,null,null,null,null,null,null,null,null,null,null,null,null,null,null,0,null,null,null,null,5870000,null,null,null,null,null,null,null,null,null,null,null,null,null,null,null,null,null,null,null,null,null,null,null,null,null,null,null,"OK","OK"]
[null,null,null,null,null,null,null,null,null,null,null,null,null,null,null,null,null,null,0,null,null,null,null,5870000,null,null,null,null,null,null,null,null,null,null,null,null,null,null,null,null,null,null,null,null,null,null,null,null,null,null,null,"OK","OK"]
[null,null,null,null,null,null,null,null,null,null,null,null,null,null,null,null,null,null,0,null,null,null,null,5870000,null,null,null,null,null,null,null,null,null,null,null,null,null,null,null,null,null,null,null,null,null,null,null,null,null,null,null,"OK","OK"]
[null,null,null,null,null,null,null,null,null,null,null,null,null,null,null,null,null,null,0,null,null,null,null,5870000,null,null,null,null,null,null,null,null,null,null,null,null,null,null,null,null,null,null,null,null,null,null,null,null,null,null,null,"OK","OK"]
[null,null,null,null,null,null,null,null,null,null,null,null,null,null,null,null,null,null,0,null,null,null,null,5870000,null,null,null,null,null,null,null,null,null,null,null,null,null,null,null,null,null,null,null,null,null,null,null,null,null,null,null,"OK","OK"]
[null,null,null,null,null,null,null,null,null,null,null,null,null,null,null,null,null,null,0,null,null,null,null,5870000,null,null,null,null,null,null,null,null,null,null,null,null,null,null,null,null,null,null,null,null,null,null,null,null,null,null,null,"OK","OK"]
[null,null,null,null,null,null,null,null,null,null,null,null,null,null,null,null,null,null,0,null,null,null,null,5870000,null,null,null,null,null,null,null,null,null,null,null,null,null,null,null,null,null,null,null,null,null,null,null,null,null,null,null,"OK","OK"]
[null,null,null,null,null,null,null,null,null,null,null,null,null,null,null,null,null,null,0,null,null,null,null,5870000,null,null,null,null,null,null,null,null,null,null,null,null,null,null,null,null,null,null,null,null,null,null,null,null,null,null,null,"OK","OK"]
[null,null,null,null,null,null,null,null,null,null,null,null,null,null,null,null,null,null,0,null,null,null,null,5870000,null,null,null,null,null,null,null,null,null,null,null,null,null,null,null,null,null,null,null,null,null,null,null,null,null,null,null,{"$f":"IF(S398-AA398-AC398-AE398-AG398-AI398-AK398-AM398-AO398-AQ398-AS398-AU398-AW398=0,\"OK\",\"Compromisos diferentes al valor estimado en la vigencia actual\")","v":"OK"},{"$f":"IF(S398-AB398-AD398-AF398-AH398-AJ398-AL398-AN398-AP398-AR398-AT398-AV398-AX398=0,\"OK\",\"Obligaciones diferentes al valor estimado en la vigencia actual\")","v":"OK"}]
[null,null,null,null,null,null,null,null,null,null,null,null,null,null,null,null,null,null,{"$f":"O399+P399-Q399","v":0},null,null,null,null,5870000,null,null,null,null,null,null,null,null,null,null,null,null,null,null,null,null,null,null,null,null,null,null,null,null,null,null,null,"OK","OK"]
[null,null,null,null,null,null,null,null,null,null,null,null,null,null,null,null,null,null,0,null,null,null,null,5870000,null,null,null,null,null,null,null,null,null,null,null,null,null,null,null,null,null,null,null,null,null,null,null,null,null,null,null,"OK","OK"]
[null,null,null,null,null,null,null,null,null,null,null,null,null,null,null,null,null,null,0,null,null,null,null,5870000,null,null,null,null,null,null,null,null,null,null,null,null,null,null,null,null,null,null,null,null,null,null,null,null,null,null,null,"OK","OK"]
[null,null,null,null,null,null,null,null,null,null,null,null,null,null,null,null,null,null,0,null,null,null,null,5870000,null,null,null,null,null,null,null,null,null,null,null,null,null,null,null,null,null,null,null,null,null,null,null,null,null,null,null,"OK","OK"]
[null,null,null,null,null,null,null,null,null,null,null,null,null,null,null,null,null,null,0,null,null,null,null,5870000,null,null,null,null,null,null,null,null,null,null,null,null,null,null,null,null,null,null,null,null,null,null,null,null,null,null,null,"OK","OK"]
[null,null,null,null,null,null,null,null,null,null,null,null,null,null,null,null,null,null,0,null,null,null,null,5870000,null,null,null,null,null,null,null,null,null,null,null,null,null,null,null,null,null,null,null,null,null,null,null,null,null,null,null,"OK","OK"]
[null,null,null,null,null,null,null,null,null,null,null,null,null,null,null,null,null,null,0,null,null,null,null,5870000,null,null,null,null,null,null,null,null,null,null,null,null,null,null,null,null,null,null,null,null,null,null,null,null,null,null,null,"OK","OK"]
[null,null,null,null,null,null,null,null,null,null,null,null,null,null,null,null,null,null,0,null,null,null,null,5870000,null,null,null,null,null,null,null,null,null,null,null,null,null,null,null,null,null,null,null,null,null,null,null,null,null,null,null,"OK","OK"]
[null,null,null,null,null,null,null,null,null,null,null,null,null,null,null,null,null,null,0,null,null,null,null,5870000,null,null,null,null,null,null,null,null,null,null,null,null,null,null,null,null,null,null,null,null,null,null,null,null,null,null,null,"OK","OK"]
[null,null,null,null,null,null,null,null,null,null,null,null,null,null,null,null,null,null,0,null,null,null,null,5870000,null,null,null,null,null,null,null,null,null,null,null,null,null,null,null,null,null,null,null,null,null,null,null,null,null,null,null,"OK","OK"]
[null,null,null,null,null,null,null,null,null,null,null,null,null,null,null,null,null,null,0,null,null,null,null,5870000,null,null,null,null,null,null,null,null,null,null,null,null,null,null,null,null,null,null,null,null,null,null,null,null,null,null,null,"OK","OK"]
[null,null,null,null,null,null,null,null,null,null,null,null,null,null,null,null,null,null,0,null,null,null,null,5870000,null,null,null,null,null,null,null,null,null,null,null,null,null,null,null,null,null,null,null,null,null,null,null,null,null,null,null,"OK","OK"]
[null,null,null,null,null,null,null,null,null,null,null,null,null,null,null,null,null,null,0,null,null,null,null,5870000,null,null,null,null,null,null,null,null,null,null,null,null,null,null,null,null,null,null,null,null,null,null,null,null,null,null,null,"OK","OK"]
[null,null,null,null,null,null,null,null,null,null,null,null,null,null,null,null,null,null,0,null,null,null,null,5870000,null,null,null,null,null,null,null,null,null,null,null,null,null,null,null,null,null,null,null,null,null,null,null,null,null,null,null,"OK","OK"]
[null,null,null,null,null,null,null,null,null,null,null,null,null,null,null,null,null,null,0,null,null,null,null,5870000,null,null,null,null,null,null,null,null,null,null,null,null,null,null,null,null,null,null,null,null,null,null,null,null,null,null,null,"OK","OK"]
[null,null,null,null,null,null,null,null,null,null,null,null,null,null,null,null,null,null,0,null,null,null,null,5870000,null,null,null,null,null,null,null,null,null,null,null,null,null,null,null,null,null,null,null,null,null,null,null,null,null,null,null,"OK","OK"]
[null,null,null,null,null,null,null,null,null,null,null,null,null,null,null,null,null,null,0,null,null,null,null,5870000,null,null,null,null,null,null,null,null,null,null,null,null,null,null,null,null,null,null,null,null,null,null,null,null,null,null,null,"OK","OK"]
[null,null,null,null,null,null,null,null,null,null,null,null,null,null,null,null,null,null,0,null,null,null,null,5870000,null,null,null,null,null,null,null,null,null,null,null,null,null,null,null,null,null,null,null,null,null,null,null,null,null,null,null,"OK","OK"]
[null,null,null,null,null,null,null,null,null,null,null,null,null,null,null,null,null,null,0,null,null,null,null,5870000,null,null,null,null,null,null,null,null,null,null,null,null,null,null,null,null,null,null,null,null,null,null,null,null,null,null,null,"OK","OK"]
[null,null,null,null,null,null,null,null,null,null,null,null,null,null,null,null,null,null,0,null,null,null,null,5870000,null,null,null,null,null,null,null,null,null,null,null,null,null,null,null,null,null,null,null,null,null,null,null,null,null,null,null,"OK","OK"]
[null,null,null,null,null,null,null,null,null,null,null,null,null,null,null,null,null,null,0,null,null,null,null,5870000,null,null,null,null,null,null,null,null,null,null,null,null,null,null,null,null,null,null,null,null,null,null,null,null,null,null,null,"OK","OK"]
[null,null,null,null,null,null,null,null,null,null,null,null,null,null,null,null,null,null,0,null,null,null,null,5870000,null,null,null,null,null,null,null,null,null,null,null,null,null,null,null,null,null,null,null,null,null,null,null,null,null,null,null,"OK","OK"]
[null,null,null,null,null,null,null,null,null,null,null,null,null,null,null,null,null,null,0,null,null,null,null,5870000,null,null,null,null,null,null,null,null,null,null,null,null,null,null,null,null,null,null,null,null,null,null,null,null,null,null,null,"OK","OK"]
[null,null,null,null,null,null,null,null,null,null,null,null,null,null,null,null,null,null,0,null,null,null,null,5870000,null,null,null,null,null,null,null,null,null,null,null,null,null,null,null,null,null,null,null,null,null,null,null,null,null,null,null,"OK","OK"]
[null,null,null,null,null,null,null,null,null,null,null,null,null,null,null,null,null,null,0,null,null,null,null,5870000,null,null,null,null,null,null,null,null,null,null,null,null,null,null,null,null,null,null,null,null,null,null,null,null,null,null,null,"OK","OK"]
[null,null,null,null,null,null,null,null,null,null,null,null,null,null,null,null,null,null,0,null,null,null,null,5870000,null,null,null,null,null,null,null,null,null,null,null,null,null,null,null,null,null,null,null,null,null,null,null,null,null,null,null,"OK","OK"]
[null,null,null,null,null,null,null,null,null,null,null,null,null,null,null,null,null,null,0,null,null,null,null,5870000,null,null,null,null,null,null,null,null,null,null,null,null,null,null,null,null,null,null,null,null,null,null,null,null,null,null,null,"OK","OK"]
[null,null,null,null,null,null,null,null,null,null,null,null,null,null,null,null,null,null,0,null,null,null,null,5870000,null,null,null,null,null,null,null,null,null,null,null,null,null,null,null,null,null,null,null,null,null,null,null,null,null,null,null,"OK","OK"]
[null,null,null,null,null,null,null,null,null,null,null,null,null,null,null,null,null,null,0,null,null,null,null,5870000,null,null,null,null,null,null,null,null,null,null,null,null,null,null,null,null,null,null,null,null,null,null,null,null,null,null,null,"OK","OK"]
[null,null,null,null,null,null,null,null,null,null,null,null,null,null,null,null,null,null,0,null,null,null,null,5870000,null,null,null,null,null,null,null,null,null,null,null,null,null,null,null,null,null,null,null,null,null,null,null,null,null,null,null,"OK","OK"]
[null,null,null,null,null,null,null,null,null,null,null,null,null,null,null,null,null,null,0,null,null,null,null,5870000,null,null,null,null,null,null,null,null,null,null,null,null,null,null,null,null,null,null,null,null,null,null,null,null,null,null,null,"OK","OK"]
[null,null,null,null,null,null,null,null,null,null,null,null,null,null,null,null,null,null,0,null,null,null,null,5870000,null,null,null,null,null,null,null,null,null,null,null,null,null,null,null,null,null,null,null,null,null,null,null,null,null,null,null,"OK","OK"]
[null,null,null,null,null,null,null,null,null,null,null,null,null,null,null,null,null,null,0,null,null,null,null,5870000,null,null,null,null,null,null,null,null,null,null,null,null,null,null,null,null,null,null,null,null,null,null,null,null,null,null,null,"OK","OK"]
[null,null,null,null,null,null,null,null,null,null,null,null,null,null,null,null,null,null,0,null,null,null,null,5870000,null,null,null,null,null,null,null,null,null,null,null,null,null,null,null,null,null,null,null,null,null,null,null,null,null,null,null,"OK","OK"]
[null,null,null,null,null,null,null,null,null,null,null,null,null,null,null,null,null,null,0,null,null,null,null,5870000,null,null,null,null,null,null,null,null,null,null,null,null,null,null,null,null,null,null,null,null,null,null,null,null,null,null,null,"OK","OK"]
[null,null,null,null,null,null,null,null,null,null,null,null,null,null,null,null,null,null,0,null,null,null,null,5870000,null,null,null,null,null,null,null,null,null,null,null,null,null,null,null,null,null,null,null,null,null,null,null,null,null,null,null,"OK","OK"]
[null,null,null,null,null,null,null,null,null,null,null,null,null,null,null,null,null,null,0,null,null,null,null,5870000,null,null,null,null,null,null,null,null,null,null,null,null,null,null,null,null,null,null,null,null,null,null,null,null,null,null,null,"OK","OK"]
[null,null,null,null,null,null,null,null,null,null,null,null,null,null,null,null,null,null,0,null,null,null,null,5870000,null,null,null,null,null,null,null,null,null,null,null,null,null,null,null,null,null,null,null,null,null,null,null,null,null,null,null,"OK","OK"]
[null,null,null,null,null,null,null,null,null,null,null,null,null,null,null,null,null,null,0,null,null,null,null,5870000,null,null,null,null,null,null,null,null,null,null,null,null,null,null,null,null,null,null,null,null,null,null,null,null,null,null,null,"OK","OK"]
[null,null,null,null,null,null,null,null,null,null,null,null,null,null,null,null,null,null,0,null,null,null,null,5870000,null,null,null,null,null,null,null,null,null,null,null,null,null,null,null,null,null,null,null,null,null,null,null,null,null,null,null,"OK","OK"]
[null,null,null,null,null,null,null,null,null,null,null,null,null,null,null,null,null,null,0,null,null,null,null,5870000,null,null,null,null,null,null,null,null,null,null,null,null,null,null,null,null,null,null,null,null,null,null,null,null,null,null,null,"OK","OK"]
[null,null,null,null,null,null,null,null,null,null,null,null,null,null,null,null,null,null,0,null,null,null,null,5870000,null,null,null,null,null,null,null,null,null,null,null,null,null,null,null,null,null,null,null,null,null,null,null,null,null,null,null,"OK","OK"]
[null,null,null,null,null,null,null,null,null,null,null,null,null,null,null,null,null,null,0,null,null,null,null,5870000,null,null,null,null,null,null,null,null,null,null,null,null,null,null,null,null,null,null,null,null,null,null,null,null,null,null,null,"OK","OK"]
[null,null,null,null,null,null,null,null,null,null,null,null,null,null,null,null,null,null,0,null,null,null,null,5870000,null,null,null,null,null,null,null,null,null,null,null,null,null,null,null,null,null,null,null,null,null,null,null,null,null,null,null,"OK","OK"]
[null,null,null,null,null,null,null,null,null,null,null,null,null,null,null,null,null,null,0,null,null,null,null,5870000,null,null,null,null,null,null,null,null,null,null,null,null,null,null,null,null,null,null,null,null,null,null,null,null,null,null,null,"OK","OK"]
[null,null,null,null,null,null,null,null,null,null,null,null,null,null,null,null,null,null,0,null,null,null,null,5870000,null,null,null,null,null,null,null,null,null,null,null,null,null,null,null,null,null,null,null,null,null,null,null,null,null,null,null,"OK","OK"]
[null,null,null,null,null,null,null,null,null,null,null,null,null,null,null,null,null,null,0,null,null,null,null,5870000,null,null,null,null,null,null,null,null,null,null,null,null,null,null,null,null,null,null,null,null,null,null,null,null,null,null,null,"OK","OK"]
[null,null,null,null,null,null,null,null,null,null,null,null,null,null,null,null,null,null,0,null,null,null,null,5870000,null,null,null,null,null,null,null,null,null,null,null,null,null,null,null,null,null,null,null,null,null,null,null,null,null,null,null,"OK","OK"]
[null,null,null,null,null,null,null,null,null,null,null,null,null,null,null,null,null,null,0,null,null,null,null,5870000,null,null,null,null,null,null,null,null,null,null,null,null,null,null,null,null,null,null,null,null,null,null,null,null,null,null,null,"OK","OK"]
[null,null,null,null,null,null,null,null,null,null,null,null,null,null,null,null,null,null,0,null,null,null,null,5870000,null,null,null,null,null,null,null,null,null,null,null,null,null,null,null,null,null,null,null,null,null,null,null,null,null,null,null,"OK","OK"]
[null,null,null,null,null,null,null,null,null,null,null,null,null,null,null,null,null,null,0,null,null,null,null,5870000,null,null,null,null,null,null,null,null,null,null,null,null,null,null,null,null,null,null,null,null,null,null,null,null,null,null,null,"OK","OK"]
[null,null,null,null,null,null,null,null,null,null,null,null,null,null,null,null,null,null,0,null,null,null,null,5870000,null,null,null,null,null,null,null,null,null,null,null,null,null,null,null,null,null,null,null,null,null,null,null,null,null,null,null,"OK","OK"]
[null,null,null,null,null,null,null,null,null,null,null,null,null,null,null,null,null,null,0,null,null,null,null,5870000,null,null,null,null,null,null,null,null,null,null,null,null,null,null,null,null,null,null,null,null,null,null,null,null,null,null,null,"OK","OK"]
[null,null,null,null,null,null,null,null,null,null,null,null,null,null,null,null,null,null,0,null,null,null,null,5870000,null,null,null,null,null,null,null,null,null,null,null,null,null,null,null,null,null,null,null,null,null,null,null,null,null,null,null,"OK","OK"]
[null,null,null,null,null,null,null,null,null,null,null,null,null,null,null,null,null,null,0,null,null,null,null,5870000,null,null,null,null,null,null,null,null,null,null,null,null,null,null,null,null,null,null,null,null,null,null,null,null,null,null,null,"OK","OK"]
[null,null,null,null,null,null,null,null,null,null,null,null,null,null,null,null,null,null,0,null,null,null,null,5870000,null,null,null,null,null,null,null,null,null,null,null,null,null,null,null,null,null,null,null,null,null,null,null,null,null,null,null,"OK","OK"]
[null,null,null,null,null,null,null,null,null,null,null,null,null,null,null,null,null,null,0,null,null,null,null,5870000,null,null,null,null,null,null,null,null,null,null,null,null,null,null,null,null,null,null,null,null,null,null,null,null,null,null,null,"OK","OK"]
[null,null,null,null,null,null,null,null,null,null,null,null,null,null,null,null,null,null,0,null,null,null,null,5870000,null,null,null,null,null,null,null,null,null,null,null,null,null,null,null,null,null,null,null,null,null,null,null,null,null,null,null,"OK","OK"]
[null,null,null,null,null,null,null,null,null,null,null,null,null,null,null,null,null,null,0,null,null,null,null,5870000,null,null,null,null,null,null,null,null,null,null,null,null,null,null,null,null,null,null,null,null,null,null,null,null,null,null,null,"OK","OK"]
[null,null,null,null,null,null,null,null,null,null,null,null,null,null,null,null,null,null,0,null,null,null,null,5870000,null,null,null,null,null,null,null,null,null,null,null,null,null,null,null,null,null,null,null,null,null,null,null,null,null,null,null,"OK","OK"]
[null,null,null,null,null,null,null,null,null,null,null,null,null,null,null,null,null,null,0,null,null,null,null,5870000,null,null,null,null,null,null,null,null,null,null,null,null,null,null,null,null,null,null,null,null,null,null,null,null,null,null,null,"OK","OK"]
[null,null,null,null,null,null,null,null,null,null,null,null,null,null,null,null,null,null,0,null,null,null,null,5870000,null,null,null,null,null,null,null,null,null,null,null,null,null,null,null,null,null,null,null,null,null,null,null,null,null,null,null,"OK","OK"]
[null,null,null,null,null,null,null,null,null,null,null,null,null,null,null,null,null,null,0,null,null,null,null,5870000,null,null,null,null,null,null,null,null,null,null,null,null,null,null,null,null,null,null,null,null,null,null,null,null,null,null,null,"OK","OK"]
[null,null,null,null,null,null,null,null,null,null,null,null,null,null,null,null,null,null,0,null,null,null,null,5870000,null,null,null,null,null,null,null,null,null,null,null,null,null,null,null,null,null,null,null,null,null,null,null,null,null,null,null,{"$f":"IF(S462-AA462-AC462-AE462-AG462-AI462-AK462-AM462-AO462-AQ462-AS462-AU462-AW462=0,\"OK\",\"Compromisos diferentes al valor estimado en la vigencia actual\")","v":"OK"},{"$f":"IF(S462-AB462-AD462-AF462-AH462-AJ462-AL462-AN462-AP462-AR462-AT462-AV462-AX462=0,\"OK\",\"Obligaciones diferentes al valor estimado en la vigencia actual\")","v":"OK"}]
[null,null,null,null,null,null,null,null,null,null,null,null,null,null,null,null,null,null,{"$f":"O463+P463-Q463","v":0},null,null,null,null,5870000,null,null,null,null,null,null,null,null,null,null,null,null,null,null,null,null,null,null,null,null,null,null,null,null,null,null,null,"OK","OK"]
[null,null,null,null,null,null,null,null,null,null,null,null,null,null,null,null,null,null,0,null,null,null,null,5870000,null,null,null,null,null,null,null,null,null,null,null,null,null,null,null,null,null,null,null,null,null,null,null,null,null,null,null,"OK","OK"]
[null,null,null,null,null,null,null,null,null,null,null,null,null,null,null,null,null,null,0,null,null,null,null,5870000,null,null,null,null,null,null,null,null,null,null,null,null,null,null,null,null,null,null,null,null,null,null,null,null,null,null,null,"OK","OK"]
[null,null,null,null,null,null,null,null,null,null,null,null,null,null,null,null,null,null,0,null,null,null,null,5870000,null,null,null,null,null,null,null,null,null,null,null,null,null,null,null,null,null,null,null,null,null,null,null,null,null,null,null,"OK","OK"]
[null,null,null,null,null,null,null,null,null,null,null,null,null,null,null,null,null,null,0,null,null,null,null,5870000,null,null,null,null,null,null,null,null,null,null,null,null,null,null,null,null,null,null,null,null,null,null,null,null,null,null,null,"OK","OK"]
[null,null,null,null,null,null,null,null,null,null,null,null,null,null,null,null,null,null,0,null,null,null,null,5870000,null,null,null,null,null,null,null,null,null,null,null,null,null,null,null,null,null,null,null,null,null,null,null,null,null,null,null,"OK","OK"]
[null,null,null,null,null,null,null,null,null,null,null,null,null,null,null,null,null,null,0,null,null,null,null,5870000,null,null,null,null,null,null,null,null,null,null,null,null,null,null,null,null,null,null,null,null,null,null,null,null,null,null,null,"OK","OK"]
[null,null,null,null,null,null,null,null,null,null,null,null,null,null,null,null,null,null,0,null,null,null,null,5870000,null,null,null,null,null,null,null,null,null,null,null,null,null,null,null,null,null,null,null,null,null,null,null,null,null,null,null,"OK","OK"]
[null,null,null,null,null,null,null,null,null,null,null,null,null,null,null,null,null,null,0,null,null,null,null,5870000,null,null,null,null,null,null,null,null,null,null,null,null,null,null,null,null,null,null,null,null,null,null,null,null,null,null,null,"OK","OK"]
[null,null,null,null,null,null,null,null,null,null,null,null,null,null,null,null,null,null,0,null,null,null,null,5870000,null,null,null,null,null,null,null,null,null,null,null,null,null,null,null,null,null,null,null,null,null,null,null,null,null,null,null,"OK","OK"]
[null,null,null,null,null,null,null,null,null,null,null,null,null,null,null,null,null,null,0,null,null,null,null,5870000,null,null,null,null,null,null,null,null,null,null,null,null,null,null,null,null,null,null,null,null,null,null,null,null,null,null,null,"OK","OK"]
[null,null,null,null,null,null,null,null,null,null,null,null,null,null,null,null,null,null,0,null,null,null,null,5870000,null,null,null,null,null,null,null,null,null,null,null,null,null,null,null,null,null,null,null,null,null,null,null,null,null,null,null,"OK","OK"]
[null,null,null,null,null,null,null,null,null,null,null,null,null,null,null,null,null,null,0,null,null,null,null,5870000,null,null,null,null,null,null,null,null,null,null,null,null,null,null,null,null,null,null,null,null,null,null,null,null,null,null,null,"OK","OK"]
[null,null,null,null,null,null,null,null,null,null,null,null,null,null,null,null,null,null,0,null,null,null,null,5870000,null,null,null,null,null,null,null,null,null,null,null,null,null,null,null,null,null,null,null,null,null,null,null,null,null,null,null,"OK","OK"]
[null,null,null,null,null,null,null,null,null,null,null,null,null,null,null,null,null,null,0,null,null,null,null,5870000,null,null,null,null,null,null,null,null,null,null,null,null,null,null,null,null,null,null,null,null,null,null,null,null,null,null,null,"OK","OK"]
[null,null,null,null,null,null,null,null,null,null,null,null,null,null,null,null,null,null,0,null,null,null,null,5870000,null,null,null,null,null,null,null,null,null,null,null,null,null,null,null,null,null,null,null,null,null,null,null,null,null,null,null,"OK","OK"]
[null,null,null,null,null,null,null,null,null,null,null,null,null,null,null,null,null,null,0,null,null,null,null,5870000,null,null,null,null,null,null,null,null,null,null,null,null,null,null,null,null,null,null,null,null,null,null,null,null,null,null,null,"OK","OK"]
[null,null,null,null,null,null,null,null,null,null,null,null,null,null,null,null,null,null,0,null,null,null,null,5870000,null,null,null,null,null,null,null,null,null,null,null,null,null,null,null,null,null,null,null,null,null,null,null,null,null,null,null,"OK","OK"]
[null,null,null,null,null,null,null,null,null,null,null,null,null,null,null,null,null,null,0,null,null,null,null,5870000,null,null,null,null,null,null,null,null,null,null,null,null,null,null,null,null,null,null,null,null,null,null,null,null,null,null,null,"OK","OK"]
[null,null,null,null,null,null,null,null,null,null,null,null,null,null,null,null,null,null,0,null,null,null,null,5870000,null,null,null,null,null,null,null,null,null,null,null,null,null,null,null,null,null,null,null,null,null,null,null,null,null,null,null,"OK","OK"]
[null,null,null,null,null,null,null,null,null,null,null,null,null,null,null,null,null,null,0,null,null,null,null,5870000,null,null,null,null,null,null,null,null,null,null,null,null,null,null,null,null,null,null,null,null,null,null,null,null,null,null,null,"OK","OK"]
[null,null,null,null,null,null,null,null,null,null,null,null,null,null,null,null,null,null,0,null,null,null,null,5870000,null,null,null,null,null,null,null,null,null,null,null,null,null,null,null,null,null,null,null,null,null,null,null,null,null,null,null,"OK","OK"]
[null,null,null,null,null,null,null,null,null,null,null,null,null,null,null,null,null,null,0,null,null,null,null,5870000,null,null,null,null,null,null,null,null,null,null,null,null,null,null,null,null,null,null,null,null,null,null,null,null,null,null,null,"OK","OK"]
[null,null,null,null,null,null,null,null,null,null,null,null,null,null,null,null,null,null,0,null,null,null,null,5870000,null,null,null,null,null,null,null,null,null,null,null,null,null,null,null,null,null,null,null,null,null,null,null,null,null,null,null,"OK","OK"]
[null,null,null,null,null,null,null,null,null,null,null,null,null,null,null,null,null,null,0,null,null,null,null,5870000,null,null,null,null,null,null,null,null,null,null,null,null,null,null,null,null,null,null,null,null,null,null,null,null,null,null,null,"OK","OK"]
[null,null,null,null,null,null,null,null,null,null,null,null,null,null,null,null,null,null,0,null,null,null,null,5870000,null,null,null,null,null,null,null,null,null,null,null,null,null,null,null,null,null,null,null,null,null,null,null,null,null,null,null,"OK","OK"]
[null,null,null,null,null,null,null,null,null,null,null,null,null,null,null,null,null,null,0,null,null,null,null,5870000,null,null,null,null,null,null,null,null,null,null,null,null,null,null,null,null,null,null,null,null,null,null,null,null,null,null,null,"OK","OK"]
[null,null,null,null,null,null,null,null,null,null,null,null,null,null,null,null,null,null,0,null,null,null,null,5870000,null,null,null,null,null,null,null,null,null,null,null,null,null,null,null,null,null,null,null,null,null,null,null,null,null,null,null,"OK","OK"]
[null,null,null,null,null,null,null,null,null,null,null,null,null,null,null,null,null,null,0,null,null,null,null,5870000,null,null,null,null,null,null,null,null,null,null,null,null,null,null,null,null,null,null,null,null,null,null,null,null,null,null,null,"OK","OK"]
[null,null,null,null,null,null,null,null,null,null,null,null,null,null,null,null,null,null,0,null,null,null,null,5870000,null,null,null,null,null,null,null,null,null,null,null,null,null,null,null,null,null,null,null,null,null,null,null,null,null,null,null,"OK","OK"]
[null,null,null,null,null,null,null,null,null,null,null,null,null,null,null,null,null,null,0,null,null,null,null,5870000,null,null,null,null,null,null,null,null,null,null,null,null,null,null,null,null,null,null,null,null,null,null,null,null,null,null,null,"OK","OK"]
[null,null,null,null,null,null,null,null,null,null,null,null,null,null,null,null,null,null,0,null,null,null,null,5870000,null,null,null,null,null,null,null,null,null,null,null,null,null,null,null,null,null,null,null,null,null,null,null,null,null,null,null,"OK","OK"]
[null,null,null,null,null,null,null,null,null,null,null,null,null,null,null,null,null,null,0,null,null,null,null,5870000,null,null,null,null,null,null,null,null,null,null,null,null,null,null,null,null,null,null,null,null,null,null,null,null,null,null,null,"OK","OK"]
[null,null,null,null,null,null,null,null,null,null,null,null,null,null,null,null,null,null,0,null,null,null,null,5870000,null,null,null,null,null,null,null,null,null,null,null,null,null,null,null,null,null,null,null,null,null,null,null,null,null,null,null,"OK","OK"]
[null,null,null,null,null,null,null,null,null,null,null,null,null,null,null,null,null,null,0,null,null,null,null,5870000,null,null,null,null,null,null,null,null,null,null,null,null,null,null,null,null,null,null,null,null,null,null,null,null,null,null,null,"OK","OK"]
[null,null,null,null,null,null,null,null,null,null,null,null,null,null,null,null,null,null,0,null,null,null,null,5870000,null,null,null,null,null,null,null,null,null,null,null,null,null,null,null,null,null,null,null,null,null,null,null,null,null,null,null,"OK","OK"]
[null,null,null,null,null,null,null,null,null,null,null,null,null,null,null,null,null,null,0,null,null,null,null,5870000,null,null,null,null,null,null,null,null,null,null,null,null,null,null,null,null,null,null,null,null,null,null,null,null,null,null,null,"OK","OK"]
[null,null,null,null,null,null,null,null,null,null,null,null,null,null,null,null,null,null,0,null,null,null,null,5870000,null,null,null,null,null,null,null,null,null,null,null,null,null,null,null,null,null,null,null,null,null,null,null,null,null,null,null,"OK","OK"]
[null,null,null,null,null,null,null,null,null,null,null,null,null,null,null,null,null,null,0,null,null,null,null,5870000,null,null,null,null,null,null,null,null,null,null,null,null,null,null,null,null,null,null,null,null,null,null,null,null,null,null,null,"OK","OK"]
[null,null,null,null,null,null,null,null,null,null,null,null,null,null,null,null,null,null,0,null,null,null,null,5870000,null,null,null,null,null,null,null,null,null,null,null,null,null,null,null,null,null,null,null,null,null,null,null,null,null,null,null,"OK","OK"]
[null,null,null,null,null,null,null,null,null,null,null,null,null,null,null,null,null,null,0,null,null,null,null,5870000,null,null,null,null,null,null,null,null,null,null,null,null,null,null,null,null,null,null,null,null,null,null,null,null,null,null,null,"OK","OK"]
[null,null,null,null,null,null,null,null,null,null,null,null,null,null,null,null,null,null,0,null,null,null,null,5870000,null,null,null,null,null,null,null,null,null,null,null,null,null,null,null,null,null,null,null,null,null,null,null,null,null,null,null,"OK","OK"]
[null,null,null,null,null,null,null,null,null,null,null,null,null,null,null,null,null,null,0,null,null,null,null,5870000,null,null,null,null,null,null,null,null,null,null,null,null,null,null,null,null,null,null,null,null,null,null,null,null,null,null,null,"OK","OK"]
[null,null,null,null,null,null,null,null,null,null,null,null,null,null,null,null,null,null,0,null,null,null,null,5870000,null,null,null,null,null,null,null,null,null,null,null,null,null,null,null,null,null,null,null,null,null,null,null,null,null,null,null,{"$f":"IF(S526-AA526-AC526-AE526-AG526-AI526-AK526-AM526-AO526-AQ526-AS526-AU526-AW526=0,\"OK\",\"Compromisos diferentes al valor estimado en la vigencia actual\")","v":"OK"},{"$f":"IF(S526-AB526-AD526-AF526-AH526-AJ526-AL526-AN526-AP526-AR526-AT526-AV526-AX526=0,\"OK\",\"Obligaciones diferentes al valor estimado en la vigencia actual\")","v":"OK"}]
[null,null,null,null,null,null,null,null,null,null,null,null,null,null,null,null,null,null,0,null,null,null,null,5870000,null,null,null,null,null,null,null,null,null,null,null,null,null,null,null,null,null,null,null,null,null,null,null,null,null,null,null,"OK","OK"]
[null,null,null,null,null,null,null,null,null,null,null,null,null,null,null,null,null,null,0,null,null,null,null,5870000,null,null,null,null,null,null,null,null,null,null,null,null,null,null,null,null,null,null,null,null,null,null,null,null,null,null,null,"OK","OK"]
[null,null,null,null,null,null,null,null,null,null,null,null,null,null,null,null,null,null,0,null,null,null,null,5870000,null,null,null,null,null,null,null,null,null,null,null,null,null,null,null,null,null,null,null,null,null,null,null,null,null,null,null,"OK","OK"]
[null,null,null,null,null,null,null,null,null,null,null,null,null,null,null,null,null,null,0,null,null,null,null,5870000,null,null,null,null,null,null,null,null,null,null,null,null,null,null,null,null,null,null,null,null,null,null,null,null,null,null,null,"OK","OK"]
[null,null,null,null,null,null,null,null,null,null,null,null,null,null,null,null,null,null,0,null,null,null,null,5870000,null,null,null,null,null,null,null,null,null,null,null,null,null,null,null,null,null,null,null,null,null,null,null,null,null,null,null,"OK","OK"]
[null,null,null,null,null,null,null,null,null,null,null,null,null,null,null,null,null,null,0,null,null,null,null,5870000,null,null,null,null,null,null,null,null,null,null,null,null,null,null,null,null,null,null,null,null,null,null,null,null,null,null,null,"OK","OK"]
[null,null,null,null,null,null,null,null,null,null,null,null,null,null,null,null,null,null,0,null,null,null,null,5870000,null,null,null,null,null,null,null,null,null,null,null,null,null,null,null,null,null,null,null,null,null,null,null,null,null,null,null,"OK","OK"]
[null,null,null,null,null,null,null,null,null,null,null,null,null,null,null,null,null,null,0,null,null,null,null,5870000,null,null,null,null,null,null,null,null,null,null,null,null,null,null,null,null,null,null,null,null,null,null,null,null,null,null,null,"OK","OK"]
[null,null,null,null,null,null,null,null,null,null,null,null,null,null,null,null,null,null,0,null,null,null,null,5870000,null,null,null,null,null,null,null,null,null,null,null,null,null,null,null,null,null,null,null,null,null,null,null,null,null,null,null,"OK","OK"]
[null,null,null,null,null,null,null,null,null,null,null,null,null,null,null,null,null,null,0,null,null,null,null,5870000,null,null,null,null,null,null,null,null,null,null,null,null,null,null,null,null,null,null,null,null,null,null,null,null,null,null,null,"OK","OK"]
[null,null,null,null,null,null,null,null,null,null,null,null,null,null,null,null,null,null,0,null,null,null,null,5870000,null,null,null,null,null,null,null,null,null,null,null,null,null,null,null,null,null,null,null,null,null,null,null,null,null,null,null,"OK","OK"]
[null,null,null,null,null,null,null,null,null,null,null,null,null,null,null,null,null,null,0,null,null,null,null,5870000,null,null,null,null,null,null,null,null,null,null,null,null,null,null,null,null,null,null,null,null,null,null,null,null,null,null,null,"OK","OK"]
[null,null,null,null,null,null,null,null,null,null,null,null,null,null,null,null,null,null,0,null,null,null,null,5870000,null,null,null,null,null,null,null,null,null,null,null,null,null,null,null,null,null,null,null,null,null,null,null,null,null,null,null,"OK","OK"]
[null,null,null,null,null,null,null,null,null,null,null,null,null,null,null,null,null,null,0,null,null,null,null,5870000,null,null,null,null,null,null,null,null,null,null,null,null,null,null,null,null,null,null,null,null,null,null,null,null,null,null,null,"OK","OK"]
[null,null,null,null,null,null,null,null,null,null,null,null,null,null,null,null,null,null,0,null,null,null,null,5870000,null,null,null,null,null,null,null,null,null,null,null,null,null,null,null,null,null,null,null,null,null,null,null,null,null,null,null,"OK","OK"]
[null,null,null,null,null,null,null,null,null,null,null,null,null,null,null,null,null,null,0,null,null,null,null,5870000,null,null,null,null,null,null,null,null,null,null,null,null,null,null,null,null,null,null,null,null,null,null,null,null,null,null,null,"OK","OK"]
[null,null,null,null,null,null,null,null,null,null,null,null,null,null,null,null,null,null,0,null,null,null,null,5870000,null,null,null,null,null,null,null,null,null,null,null,null,null,null,null,null,null,null,null,null,null,null,null,null,null,null,null,"OK","OK"]
[null,null,null,null,null,null,null,null,null,null,null,null,null,null,null,null,null,null,0,null,null,null,null,5870000,null,null,null,null,null,null,null,null,null,null,null,null,null,null,null,null,null,null,null,null,null,null,null,null,null,null,null,"OK","OK"]
[null,null,null,null,null,null,null,null,null,null,null,null,null,null,null,null,null,null,0,null,null,null,null,5870000,null,null,null,null,null,null,null,null,null,null,null,null,null,null,null,null,null,null,null,null,null,null,null,null,null,null,null,"OK","OK"]
[null,null,null,null,null,null,null,null,null,null,null,null,null,null,null,null,null,null,0,null,null,null,null,5870000,null,null,null,null,null,null,null,null,null,null,null,null,null,null,null,null,null,null,null,null,null,null,null,null,null,null,null,"OK","OK"]
[null,null,null,null,null,null,null,null,null,null,null,null,null,null,null,null,null,null,0,null,null,null,null,5870000,null,null,null,null,null,null,null,null,null,null,null,null,null,null,null,null,null,null,null,null,null,null,null,null,null,null,null,"OK","OK"]
[null,null,null,null,null,null,null,null,null,null,null,null,null,null,null,null,null,null,0,null,null,null,null,5870000,null,null,null,null,null,null,null,null,null,null,null,null,null,null,null,null,null,null,null,null,null,null,null,null,null,null,null,"OK","OK"]
[null,null,null,null,null,null,null,null,null,null,null,null,null,null,null,null,null,null,0,null,null,null,null,5870000,null,null,null,null,null,null,null,null,null,null,null,null,null,null,null,null,null,null,null,null,null,null,null,null,null,null,null,"OK","OK"]
[null,null,null,null,null,null,null,null,null,null,null,null,null,null,null,null,null,null,0,null,null,null,null,5870000,null,null,null,null,null,null,null,null,null,null,null,null,null,null,null,null,null,null,null,null,null,null,null,null,null,null,null,"OK","OK"]
[null,null,null,null,null,null,null,null,null,null,null,null,null,null,null,null,null,null,0,null,null,null,null,5870000,null,null,null,null,null,null,null,null,null,null,null,null,null,null,null,null,null,null,null,null,null,null,null,null,null,null,null,"OK","OK"]
[null,null,null,null,null,null,null,null,null,null,null,null,null,null,null,null,null,null,0,null,null,null,null,5870000,null,null,null,null,null,null,null,null,null,null,null,null,null,null,null,null,null,null,null,null,null,null,null,null,null,null,null,"OK","OK"]
[null,null,null,null,null,null,null,null,null,null,null,null,null,null,null,null,null,null,0,null,null,null,null,5870000,null,null,null,null,null,null,null,null,null,null,null,null,null,null,null,null,null,null,null,null,null,null,null,null,null,null,null,{"$f":"IF(S654-AA654-AC654-AE654-AG654-AI654-AK654-AM654-AO654-AQ654-AS654-AU654-AW654=0,\"OK\",\"Compromisos diferentes al valor estimado en la vigencia actual\")","v":"OK"},{"$f":"IF(S654-AB654-AD654-AF654-AH654-AJ654-AL654-AN654-AP654-AR654-AT654-AV654-AX654=0,\"OK\",\"Obligaciones diferentes al valor estimado en la vigencia actual\")","v":"OK"}]
[null,null,null,null,null,null,null,null,null,null,null,null,null,null,null,null,null,null,0,null,null,null,null,5870000,null,null,null,null,null,null,null,null,null,null,null,null,null,null,null,null,null,null,null,null,null,null,null,null,null,null,null,"OK","OK"]
[null,null,null,null,null,null,null,null,null,null,null,null,null,null,null,null,null,null,0,null,null,null,null,5870000,null,null,null,null,null,null,null,null,null,null,null,null,null,null,null,null,null,null,null,null,null,null,null,null,null,null,null,"OK","OK"]
[null,null,null,null,null,null,null,null,null,null,null,null,null,null,null,null,null,null,0,null,null,null,null,5870000,null,null,null,null,null,null,null,null,null,null,null,null,null,null,null,null,null,null,null,null,null,null,null,null,null,null,null,"OK","OK"]
[null,null,null,null,null,null,null,null,null,null,null,null,null,null,null,null,null,null,0,null,null,null,null,5870000,null,null,null,null,null,null,null,null,null,null,null,null,null,null,null,null,null,null,null,null,null,null,null,null,null,null,null,"OK","OK"]
[null,null,null,null,null,null,null,null,null,null,null,null,null,null,null,null,null,null,0,null,null,null,null,5870000,null,null,null,null,null,null,null,null,null,null,null,null,null,null,null,null,null,null,null,null,null,null,null,null,null,null,null,"OK","OK"]
[null,null,null,null,null,null,null,null,null,null,null,null,null,null,null,null,null,null,0,null,null,null,null,5870000,null,null,null,null,null,null,null,null,null,null,null,null,null,null,null,null,null,null,null,null,null,null,null,null,null,null,null,"OK","OK"]
[null,null,null,null,null,null,null,null,null,null,null,null,null,null,null,null,null,null,0,null,null,null,null,5870000,null,null,null,null,null,null,null,null,null,null,null,null,null,null,null,null,null,null,null,null,null,null,null,null,null,null,null,"OK","OK"]
[null,null,null,null,null,null,null,null,null,null,null,null,null,null,null,null,null,null,0,null,null,null,null,5870000,null,null,null,null,null,null,null,null,null,null,null,null,null,null,null,null,null,null,null,null,null,null,null,null,null,null,null,"OK","OK"]
[null,null,null,null,null,null,null,null,null,null,null,null,null,null,null,null,null,null,0,null,null,null,null,5870000,null,null,null,null,null,null,null,null,null,null,null,null,null,null,null,null,null,null,null,null,null,null,null,null,null,null,null,"OK","OK"]
[null,null,null,null,null,null,null,null,null,null,null,null,null,null,null,null,null,null,0,null,null,null,null,5870000,null,null,null,null,null,null,null,null,null,null,null,null,null,null,null,null,null,null,null,null,null,null,null,null,null,null,null,"OK","OK"]
[null,null,null,null,null,null,null,null,null,null,null,null,null,null,null,null,null,null,0,null,null,null,null,5870000,null,null,null,null,null,null,null,null,null,null,null,null,null,null,null,null,null,null,null,null,null,null,null,null,null,null,null,"OK","OK"]
[null,null,null,null,null,null,null,null,null,null,null,null,null,null,null,null,null,null,0,null,null,null,null,5870000,null,null,null,null,null,null,null,null,null,null,null,null,null,null,null,null,null,null,null,null,null,null,null,null,null,null,null,"OK","OK"]
[null,null,null,null,null,null,null,null,null,null,null,null,null,null,null,null,null,null,0,null,null,null,null,5870000,null,null,null,null,null,null,null,null,null,null,null,null,null,null,null,null,null,null,null,null,null,null,null,null,null,null,null,"OK","OK"]
[null,null,null,null,null,null,null,null,null,null,null,null,null,null,null,null,null,null,0,null,null,null,null,5870000,null,null,null,null,null,null,null,null,null,null,null,null,null,null,null,null,null,null,null,null,null,null,null,null,null,null,null,"OK","OK"]
[null,null,null,null,null,null,null,null,null,null,null,null,null,null,null,null,null,null,0,null,null,null,null,5870000,null,null,null,null,null,null,null,null,null,null,null,null,null,null,null,null,null,null,null,null,null,null,null,null,null,null,null,"OK","OK"]
[null,null,null,null,null,null,null,null,null,null,null,null,null,null,null,null,null,null,0,null,null,null,null,5870000,null,null,null,null,null,null,null,null,null,null,null,null,null,null,null,null,null,null,null,null,null,null,null,null,null,null,null,"OK","OK"]
[null,null,null,null,null,null,null,null,null,null,null,null,null,null,null,null,null,null,0,null,null,null,null,5870000,null,null,null,null,null,null,null,null,null,null,null,null,null,null,null,null,null,null,null,null,null,null,null,null,null,null,null,"OK","OK"]
[null,null,null,null,null,null,null,null,null,null,null,null,null,null,null,null,null,null,0,null,null,null,null,5870000,null,null,null,null,null,null,null,null,null,null,null,null,null,null,null,null,null,null,null,null,null,null,null,null,null,null,null,"OK","OK"]
[null,null,null,null,null,null,null,null,null,null,null,null,null,null,null,null,null,null,0,null,null,null,null,5870000,null,null,null,null,null,null,null,null,null,null,null,null,null,null,null,null,null,null,null,null,null,null,null,null,null,null,null,"OK","OK"]
[null,null,null,null,null,null,null,null,null,null,null,null,null,null,null,null,null,null,0,null,null,null,null,5870000,null,null,null,null,null,null,null,null,null,null,null,null,null,null,null,null,null,null,null,null,null,null,null,null,null,null,null,"OK","OK"]
[null,null,null,null,null,null,null,null,null,null,null,null,null,null,null,null,null,null,0,null,null,null,null,5870000,null,null,null,null,null,null,null,null,null,null,null,null,null,null,null,null,null,null,null,null,null,null,null,null,null,null,null,"OK","OK"]
[null,null,null,null,null,null,null,null,null,null,null,null,null,null,null,null,null,null,0,null,null,null,null,5870000,null,null,null,null,null,null,null,null,null,null,null,null,null,null,null,null,null,null,null,null,null,null,null,null,null,null,null,"OK","OK"]
[null,null,null,null,null,null,null,null,null,null,null,null,null,null,null,null,null,null,0,null,null,null,null,5870000,null,null,null,null,null,null,null,null,null,null,null,null,null,null,null,null,null,null,null,null,null,null,null,null,null,null,null,"OK","OK"]
[null,null,null,null,null,null,null,null,null,null,null,null,null,null,null,null,null,null,0,null,null,null,null,5870000,null,null,null,null,null,null,null,null,null,null,null,null,null,null,null,null,null,null,null,null,null,null,null,null,null,null,null,"OK","OK"]
[null,null,null,null,null,null,null,null,null,null,null,null,null,null,null,null,null,null,0,null,null,null,null,5870000,null,null,null,null,null,null,null,null,null,null,null,null,null,null,null,null,null,null,null,null,null,null,null,null,null,null,null,"OK","OK"]
[null,null,null,null,null,null,null,null,null,null,null,null,null,null,null,null,null,null,0,null,null,null,null,5870000,null,null,null,null,null,null,null,null,null,null,null,null,null,null,null,null,null,null,null,null,null,null,null,null,null,null,null,"OK","OK"]
[null,null,null,null,null,null,null,null,null,null,null,null,null,null,null,null,null,null,0,null,null,null,null,5870000,null,null,null,null,null,null,null,null,null,null,null,null,null,null,null,null,null,null,null,null,null,null,null,null,null,null,null,"OK","OK"]
[null,null,null,null,null,null,null,null,null,null,null,null,null,null,null,null,null,null,0,null,null,null,null,5870000,null,null,null,null,null,null,null,null,null,null,null,null,null,null,null,null,null,null,null,null,null,null,null,null,null,null,null,"OK","OK"]
[null,null,null,null,null,null,null,null,null,null,null,null,null,null,null,null,null,null,0,null,null,null,null,5870000,null,null,null,null,null,null,null,null,null,null,null,null,null,null,null,null,null,null,null,null,null,null,null,null,null,null,null,"OK","OK"]
[null,null,null,null,null,null,null,null,null,null,null,null,null,null,null,null,null,null,0,null,null,null,null,5870000,null,null,null,null,null,null,null,null,null,null,null,null,null,null,null,null,null,null,null,null,null,null,null,null,null,null,null,"OK","OK"]
[null,null,null,null,null,null,null,null,null,null,null,null,null,null,null,null,null,null,0,null,null,null,null,5870000,null,null,null,null,null,null,null,null,null,null,null,null,null,null,null,null,null,null,null,null,null,null,null,null,null,null,null,"OK","OK"]
[null,null,null,null,null,null,null,null,null,null,null,null,null,null,null,null,null,null,0,null,null,null,null,5870000,null,null,null,null,null,null,null,null,null,null,null,null,null,null,null,null,null,null,null,null,null,null,null,null,null,null,null,"OK","OK"]
[null,null,null,null,null,null,null,null,null,null,null,null,null,null,null,null,null,null,0,null,null,null,null,5870000,null,null,null,null,null,null,null,null,null,null,null,null,null,null,null,null,null,null,null,null,null,null,null,null,null,null,null,"OK","OK"]
[null,null,null,null,null,null,null,null,null,null,null,null,null,null,null,null,null,null,0,null,null,null,null,5870000,null,null,null,null,null,null,null,null,null,null,null,null,null,null,null,null,null,null,null,null,null,null,null,null,null,null,null,"OK","OK"]
[null,null,null,null,null,null,null,null,null,null,null,null,null,null,null,null,null,null,0,null,null,null,null,5870000,null,null,null,null,null,null,null,null,null,null,null,null,null,null,null,null,null,null,null,null,null,null,null,null,null,null,null,"OK","OK"]
[null,null,null,null,null,null,null,null,null,null,null,null,null,null,null,null,null,null,0,null,null,null,null,5870000,null,null,null,null,null,null,null,null,null,null,null,null,null,null,null,null,null,null,null,null,null,null,null,null,null,null,null,"OK","OK"]
[null,null,null,null,null,null,null,null,null,null,null,null,null,null,null,null,null,null,0,null,null,null,null,5870000,null,null,null,null,null,null,null,null,null,null,null,null,null,null,null,null,null,null,null,null,null,null,null,null,null,null,null,"OK","OK"]
[null,null,null,null,null,null,null,null,null,null,null,null,null,null,null,null,null,null,0,null,null,null,null,5870000,null,null,null,null,null,null,null,null,null,null,null,null,null,null,null,null,null,null,null,null,null,null,null,null,null,null,null,"OK","OK"]
[null,null,null,null,null,null,null,null,null,null,null,null,null,null,null,null,null,null,0,null,null,null,null,5870000,null,null,null,null,null,null,null,null,null,null,null,null,null,null,null,null,null,null,null,null,null,null,null,null,null,null,null,"OK","OK"]
[null,null,null,null,null,null,null,null,null,null,null,null,null,null,null,null,null,null,0,null,null,null,null,5870000,null,null,null,null,null,null,null,null,null,null,null,null,null,null,null,null,null,null,null,null,null,null,null,null,null,null,null,"OK","OK"]
[null,null,null,null,null,null,null,null,null,null,null,null,null,null,null,null,null,null,0,null,null,null,null,5870000,null,null,null,null,null,null,null,null,null,null,null,null,null,null,null,null,null,null,null,null,null,null,null,null,null,null,null,"OK","OK"]
[null,null,null,null,null,null,null,null,null,null,null,null,null,null,null,null,null,null,0,null,null,null,null,5870000,null,null,null,null,null,null,null,null,null,null,null,null,null,null,null,null,null,null,null,null,null,null,null,null,null,null,null,"OK","OK"]
[null,null,null,null,null,null,null,null,null,null,null,null,null,null,null,null,null,null,0,null,null,null,null,5870000,null,null,null,null,null,null,null,null,null,null,null,null,null,null,null,null,null,null,null,null,null,null,null,null,null,null,null,"OK","OK"]
[null,null,null,null,null,null,null,null,null,null,null,null,null,null,null,null,null,null,0,null,null,null,null,5870000,null,null,null,null,null,null,null,null,null,null,null,null,null,null,null,null,null,null,null,null,null,null,null,null,null,null,null,"OK","OK"]
[null,null,null,null,null,null,null,null,null,null,null,null,null,null,null,null,null,null,0,null,null,null,null,5870000,null,null,null,null,null,null,null,null,null,null,null,null,null,null,null,null,null,null,null,null,null,null,null,null,null,null,null,"OK","OK"]
[null,null,null,null,null,null,null,null,null,null,null,null,null,null,null,null,null,null,0,null,null,null,null,5870000,null,null,null,null,null,null,null,null,null,null,null,null,null,null,null,null,null,null,null,null,null,null,null,null,null,null,null,"OK","OK"]
[null,null,null,null,null,null,null,null,null,null,null,null,null,null,null,null,null,null,0,null,null,null,null,5870000,null,null,null,null,null,null,null,null,null,null,null,null,null,null,null,null,null,null,null,null,null,null,null,null,null,null,null,"OK","OK"]
[null,null,null,null,null,null,null,null,null,null,null,null,null,null,null,null,null,null,0,null,null,null,null,5870000,null,null,null,null,null,null,null,null,null,null,null,null,null,null,null,null,null,null,null,null,null,null,null,null,null,null,null,"OK","OK"]
[null,null,null,null,null,null,null,null,null,null,null,null,null,null,null,null,null,null,0,null,null,null,null,5870000,null,null,null,null,null,null,null,null,null,null,null,null,null,null,null,null,null,null,null,null,null,null,null,null,null,null,null,"OK","OK"]
[null,null,null,null,null,null,null,null,null,null,null,null,null,null,null,null,null,null,0,null,null,null,null,5870000,null,null,null,null,null,null,null,null,null,null,null,null,null,null,null,null,null,null,null,null,null,null,null,null,null,null,null,"OK","OK"]
[null,null,null,null,null,null,null,null,null,null,null,null,null,null,null,null,null,null,0,null,null,null,null,5870000,null,null,null,null,null,null,null,null,null,null,null,null,null,null,null,null,null,null,null,null,null,null,null,null,null,null,null,"OK","OK"]
[null,null,null,null,null,null,null,null,null,null,null,null,null,null,null,null,null,null,0,null,null,null,null,5870000,null,null,null,null,null,null,null,null,null,null,null,null,null,null,null,null,null,null,null,null,null,null,null,null,null,null,null,"OK","OK"]
[null,null,null,null,null,null,null,null,null,null,null,null,null,null,null,null,null,null,0,null,null,null,null,5870000,null,null,null,null,null,null,null,null,null,null,null,null,null,null,null,null,null,null,null,null,null,null,null,null,null,null,null,"OK","OK"]
[null,null,null,null,null,null,null,null,null,null,null,null,null,null,null,null,null,null,0,null,null,null,null,5870000,null,null,null,null,null,null,null,null,null,null,null,null,null,null,null,null,null,null,null,null,null,null,null,null,null,null,null,"OK","OK"]
[null,null,null,null,null,null,null,null,null,null,null,null,null,null,null,null,null,null,0,null,null,null,null,5870000,null,null,null,null,null,null,null,null,null,null,null,null,null,null,null,null,null,null,null,null,null,null,null,null,null,null,null,"OK","OK"]
[null,null,null,null,null,null,null,null,null,null,null,null,null,null,null,null,null,null,0,null,null,null,null,5870000,null,null,null,null,null,null,null,null,null,null,null,null,null,null,null,null,null,null,null,null,null,null,null,null,null,null,null,"OK","OK"]
[null,null,null,null,null,null,null,null,null,null,null,null,null,null,null,null,null,null,0,null,null,null,null,5870000,null,null,null,null,null,null,null,null,null,null,null,null,null,null,null,null,null,null,null,null,null,null,null,null,null,null,null,"OK","OK"]
[null,null,null,null,null,null,null,null,null,null,null,null,null,null,null,null,null,null,0,null,null,null,null,5870000,null,null,null,null,null,null,null,null,null,null,null,null,null,null,null,null,null,null,null,null,null,null,null,null,null,null,null,"OK","OK"]
[null,null,null,null,null,null,null,null,null,null,null,null,null,null,null,null,null,null,0,null,null,null,null,5870000,null,null,null,null,null,null,null,null,null,null,null,null,null,null,null,null,null,null,null,null,null,null,null,null,null,null,null,"OK","OK"]
[null,null,null,null,null,null,null,null,null,null,null,null,null,null,null,null,null,null,0,null,null,null,null,5870000,null,null,null,null,null,null,null,null,null,null,null,null,null,null,null,null,null,null,null,null,null,null,null,null,null,null,null,"OK","OK"]
[null,null,null,null,null,null,null,null,null,null,null,null,null,null,null,null,null,null,0,null,null,null,null,5870000,null,null,null,null,null,null,null,null,null,null,null,null,null,null,null,null,null,null,null,null,null,null,null,null,null,null,null,"OK","OK"]
[null,null,null,null,null,null,null,null,null,null,null,null,null,null,null,null,null,null,0,null,null,null,null,5870000,null,null,null,null,null,null,null,null,null,null,null,null,null,null,null,null,null,null,null,null,null,null,null,null,null,null,null,"OK","OK"]
[null,null,null,null,null,null,null,null,null,null,null,null,null,null,null,null,null,null,0,null,null,null,null,5870000,null,null,null,null,null,null,null,null,null,null,null,null,null,null,null,null,null,null,null,null,null,null,null,null,null,null,null,"OK","OK"]
[null,null,null,null,null,null,null,null,null,null,null,null,null,null,null,null,null,null,0,null,null,null,null,5870000,null,null,null,null,null,null,null,null,null,null,null,null,null,null,null,null,null,null,null,null,null,null,null,null,null,null,null,"OK","OK"]
[null,null,null,null,null,null,null,null,null,null,null,null,null,null,null,null,null,null,0,null,null,null,null,5870000,null,null,null,null,null,null,null,null,null,null,null,null,null,null,null,null,null,null,null,null,null,null,null,null,null,null,null,"OK","OK"]
[null,null,null,null,null,null,null,null,null,null,null,null,null,null,null,null,null,null,0,null,null,null,null,5870000,null,null,null,null,null,null,null,null,null,null,null,null,null,null,null,null,null,null,null,null,null,null,null,null,null,null,null,"OK","OK"]
[null,null,null,null,null,null,null,null,null,null,null,null,null,null,null,null,null,null,0,null,null,null,null,5870000,null,null,null,null,null,null,null,null,null,null,null,null,null,null,null,null,null,null,null,null,null,null,null,null,null,null,null,{"$f":"IF(S974-AA974-AC974-AE974-AG974-AI974-AK974-AM974-AO974-AQ974-AS974-AU974-AW974=0,\"OK\",\"Compromisos diferentes al valor estimado en la vigencia actual\")","v":"OK"},{"$f":"IF(S974-AB974-AD974-AF974-AH974-AJ974-AL974-AN974-AP974-AR974-AT974-AV974-AX974=0,\"OK\",\"Obligaciones diferentes al valor estimado en la vigencia actual\")","v":"OK"}]
[null,null,null,null,null,null,null,null,null,null,null,null,null,null,null,null,null,null,0,null,null,null,null,5870000,null,null,null,null,null,null,null,null,null,null,null,null,null,null,null,null,null,null,null,null,null,null,null,null,null,null,null,"OK","OK"]
[null,null,null,null,null,null,null,null,null,null,null,null,null,null,null,null,null,null,0,null,null,null,null,5870000,null,null,null,null,null,null,null,null,null,null,null,null,null,null,null,null,null,null,null,null,null,null,null,null,null,null,null,"OK","OK"]
[null,null,null,null,null,null,null,null,null,null,null,null,null,null,null,null,null,null,0,null,null,null,null,5870000,null,null,null,null,null,null,null,null,null,null,null,null,null,null,null,null,null,null,null,null,null,null,null,null,null,null,null,"OK","OK"]
[null,null,null,null,null,null,null,null,null,null,null,null,null,null,null,null,null,null,0,null,null,null,null,5870000,null,null,null,null,null,null,null,null,null,null,null,null,null,null,null,null,null,null,null,null,null,null,null,null,null,null,null,"OK","OK"]
[null,null,null,null,null,null,null,null,null,null,null,null,null,null,null,null,null,null,0,null,null,null,null,5870000,null,null,null,null,null,null,null,null,null,null,null,null,null,null,null,null,null,null,null,null,null,null,null,null,null,null,null,"OK","OK"]
[null,null,null,null,null,null,null,null,null,null,null,null,null,null,null,null,null,null,0,null,null,null,null,5870000,null,null,null,null,null,null,null,null,null,null,null,null,null,null,null,null,null,null,null,null,null,null,null,null,null,null,null,"OK","OK"]
[null,null,null,null,null,null,null,null,null,null,null,null,null,null,null,null,null,null,0,null,null,null,null,5870000,null,null,null,null,null,null,null,null,null,null,null,null,null,null,null,null,null,null,null,null,null,null,null,null,null,null,null,"OK","OK"]
[null,null,null,null,null,null,null,null,null,null,null,null,null,null,null,null,null,null,0,null,null,null,null,5870000,null,null,null,null,null,null,null,null,null,null,null,null,null,null,null,null,null,null,null,null,null,null,null,null,null,null,null,"OK","OK"]
[null,null,null,null,null,null,null,null,null,null,null,null,null,null,null,null,null,null,0,null,null,null,null,5870000,null,null,null,null,null,null,null,null,null,null,null,null,null,null,null,null,null,null,null,null,null,null,null,null,null,null,null,"OK","OK"]
[null,null,null,null,null,null,null,null,null,null,null,null,null,null,null,null,null,null,0,null,null,null,null,5870000,null,null,null,null,null,null,null,null,null,null,null,null,null,null,null,null,null,null,null,null,null,null,null,null,null,null,null,"OK","OK"]
[null,null,null,null,null,null,null,null,null,null,null,null,null,null,null,null,null,null,0,null,null,null,null,5870000,null,null,null,null,null,null,null,null,null,null,null,null,null,null,null,null,null,null,null,null,null,null,null,null,null,null,null,"OK","OK"]
[null,null,null,null,null,null,null,null,null,null,null,null,null,null,null,null,null,null,0,null,null,null,null,5870000,null,null,null,null,null,null,null,null,null,null,null,null,null,null,null,null,null,null,null,null,null,null,null,null,null,null,null,"OK","OK"]
[null,null,null,null,null,null,null,null,null,null,null,null,null,null,null,null,null,null,0,null,null,null,null,5870000,null,null,null,null,null,null,null,null,null,null,null,null,null,null,null,null,null,null,null,null,null,null,null,null,null,null,null,"OK","OK"]
[null,null,null,null,null,null,null,null,null,null,null,null,null,null,null,null,null,null,0,null,null,null,null,5870000,null,null,null,null,null,null,null,null,null,null,null,null,null,null,null,null,null,null,null,null,null,null,null,null,null,null,null,"OK","OK"]
[null,null,null,null,null,null,null,null,null,null,null,null,null,null,null,null,null,null,0,null,null,null,null,5870000,null,null,null,null,null,null,null,null,null,null,null,null,null,null,null,null,null,null,null,null,null,null,null,null,null,null,null,"OK","OK"]
[null,null,null,null,null,null,null,null,null,null,null,null,null,null,null,null,null,null,0,null,null,null,null,5870000,null,null,null,null,null,null,null,null,null,null,null,null,null,null,null,null,null,null,null,null,null,null,null,null,null,null,null,"OK","OK"]
[null,null,null,null,null,null,null,null,null,null,null,null,null,null,null,null,null,null,0,null,null,null,null,5870000,null,null,null,null,null,null,null,null,null,null,null,null,null,null,null,null,null,null,null,null,null,null,null,null,null,null,null,"OK","OK"]
[null,null,null,null,null,null,null,null,null,null,null,null,null,null,null,null,null,null,0,null,null,null,null,5870000,null,null,null,null,null,null,null,null,null,null,null,null,null,null,null,null,null,null,null,null,null,null,null,null,null,null,null,"OK","OK"]
[null,null,null,null,null,null,null,null,null,null,null,null,null,null,null,null,null,null,0,null,null,null,null,5870000,null,null,null,null,null,null,null,null,null,null,null,null,null,null,null,null,null,null,null,null,null,null,null,null,null,null,null,"OK","OK"]
[null,null,null,null,null,null,null,null,null,null,null,null,null,null,null,null,null,null,0,null,null,null,null,5870000,null,null,null,null,null,null,null,null,null,null,null,null,null,null,null,null,null,null,null,null,null,null,null,null,null,null,null,"OK","OK"]
[null,null,null,null,null,null,null,null,null,null,null,null,null,null,null,null,null,null,0,null,null,null,null,5870000,null,null,null,null,null,null,null,null,null,null,null,null,null,null,null,null,null,null,null,null,null,null,null,null,null,null,null,"OK","OK"]
[null,null,null,null,null,null,null,null,null,null,null,null,null,null,null,null,null,null,0,null,null,null,null,5870000,null,null,null,null,null,null,null,null,null,null,null,null,null,null,null,null,null,null,null,null,null,null,null,null,null,null,null,"OK","OK"]
[null,null,null,null,null,null,null,null,null,null,null,null,null,null,null,null,null,null,0,null,null,null,null,5870000,null,null,null,null,null,null,null,null,null,null,null,null,null,null,null,null,null,null,null,null,null,null,null,null,null,null,null,"OK","OK"]
[null,null,null,null,null,null,null,null,null,null,null,null,null,null,null,null,null,null,0,null,null,null,null,5870000,null,null,null,null,null,null,null,null,null,null,null,null,null,null,null,null,null,null,null,null,null,null,null,null,null,null,null,"OK","OK"]
[null,null,null,null,null,null,null,null,null,null,null,null,null,null,null,null,null,null,0,null,null,null,null,5870000,null,null,null,null,null,null,null,null,null,null,null,null,null,null,null,null,null,null,null,null,null,null,null,null,null,null,null,"OK","OK"]
[null,null,null,null,null,null,null,null,null,null,null,null,null,null,null,null,null,null,0,null,null,null,null,5870000,null,null,null,null,null,null,null,null,null,null,null,null,null,null,null,null,null,null,null,null,null,null,null,null,null,null,null,"OK","OK"]
[null,null,null,null,null,null,null,null,null,null,null,null,null,null,null,null,null,null,{"$f":"O1103+P1103-Q1103","v":0},null,null,null,null,5870000,null,null,null,null,null,null,null,null,null,null,null,null,null,null,null,null,null,null,null,null,null,null,null,null,null,null,null,"OK","OK"]
[null,null,null,null,null,null,null,null,null,null,null,null,null,null,null,null,null,null,0,null,null,null,null,5870000,null,null,null,null,null,null,null,null,null,null,null,null,null,null,null,null,null,null,null,null,null,null,null,null,null,null,null,"OK","OK"]
[null,null,null,null,null,null,null,null,null,null,null,null,null,null,null,null,null,null,0,null,null,null,null,5870000,null,null,null,null,null,null,null,null,null,null,null,null,null,null,null,null,null,null,null,null,null,null,null,null,null,null,null,"OK","OK"]
[null,null,null,null,null,null,null,null,null,null,null,null,null,null,null,null,null,null,0,null,null,null,null,5870000,null,null,null,null,null,null,null,null,null,null,null,null,null,null,null,null,null,null,null,null,null,null,null,null,null,null,null,"OK","OK"]
[null,null,null,null,null,null,null,null,null,null,null,null,null,null,null,null,null,null,0,null,null,null,null,5870000,null,null,null,null,null,null,null,null,null,null,null,null,null,null,null,null,null,null,null,null,null,null,null,null,null,null,null,"OK","OK"]
[null,null,null,null,null,null,null,null,null,null,null,null,null,null,null,null,null,null,0,null,null,null,null,5870000,null,null,null,null,null,null,null,null,null,null,null,null,null,null,null,null,null,null,null,null,null,null,null,null,null,null,null,"OK","OK"]
[null,null,null,null,null,null,null,null,null,null,null,null,null,null,null,null,null,null,0,null,null,null,null,5870000,null,null,null,null,null,null,null,null,null,null,null,null,null,null,null,null,null,null,null,null,null,null,null,null,null,null,null,"OK","OK"]
[null,null,null,null,null,null,null,null,null,null,null,null,null,null,null,null,null,null,0,null,null,null,null,5870000,null,null,null,null,null,null,null,null,null,null,null,null,null,null,null,null,null,null,null,null,null,null,null,null,null,null,null,"OK","OK"]
[null,null,null,null,null,null,null,null,null,null,null,null,null,null,null,null,null,null,0,null,null,null,null,5870000,null,null,null,null,null,null,null,null,null,null,null,null,null,null,null,null,null,null,null,null,null,null,null,null,null,null,null,"OK","OK"]
[null,null,null,null,null,null,null,null,null,null,null,null,null,null,null,null,null,null,0,null,null,null,null,5870000,null,null,null,null,null,null,null,null,null,null,null,null,null,null,null,null,null,null,null,null,null,null,null,null,null,null,null,"OK","OK"]
[null,null,null,null,null,null,null,null,null,null,null,null,null,null,null,null,null,null,0,null,null,null,null,5870000,null,null,null,null,null,null,null,null,null,null,null,null,null,null,null,null,null,null,null,null,null,null,null,null,null,null,null,"OK","OK"]
[null,null,null,null,null,null,null,null,null,null,null,null,null,null,null,null,null,null,0,null,null,null,null,5870000,null,null,null,null,null,null,null,null,null,null,null,null,null,null,null,null,null,null,null,null,null,null,null,null,null,null,null,"OK","OK"]
[null,null,null,null,null,null,null,null,null,null,null,null,null,null,null,null,null,null,0,null,null,null,null,5870000,null,null,null,null,null,null,null,null,null,null,null,null,null,null,null,null,null,null,null,null,null,null,null,null,null,null,null,"OK","OK"]
[null,null,null,null,null,null,null,null,null,null,null,null,null,null,null,null,null,null,0,null,null,null,null,5870000,null,null,null,null,null,null,null,null,null,null,null,null,null,null,null,null,null,null,null,null,null,null,null,null,null,null,null,"OK","OK"]
[null,null,null,null,null,null,null,null,null,null,null,null,null,null,null,null,null,null,{"$f":"O1167+P1167-Q1167","v":0},null,null,null,null,5870000,null,null,null,null,null,null,null,null,null,null,null,null,null,null,null,null,null,null,null,null,null,null,null,null,null,null,null,"OK","OK"]
[null,null,null,null,null,null,null,null,null,null,null,null,null,null,null,null,null,null,0,null,null,null,null,5870000,null,null,null,null,null,null,null,null,null,null,null,null,null,null,null,null,null,null,null,null,null,null,null,null,null,null,null,"OK","OK"]
[null,null,null,null,null,null,null,null,null,null,null,null,null,null,null,null,null,null,0,null,null,null,null,5870000,null,null,null,null,null,null,null,null,null,null,null,null,null,null,null,null,null,null,null,null,null,null,null,null,null,null,null,"OK","OK"]
[null,null,null,null,null,null,null,null,null,null,null,null,null,null,null,null,null,null,0,null,null,null,null,5870000,null,null,null,null,null,null,null,null,null,null,null,null,null,null,null,null,null,null,null,null,null,null,null,null,null,null,null,"OK","OK"]
[null,null,null,null,null,null,null,null,null,null,null,null,null,null,null,null,null,null,0,null,null,null,null,5870000,null,null,null,null,null,null,null,null,null,null,null,null,null,null,null,null,null,null,null,null,null,null,null,null,null,null,null,"OK","OK"]
[null,null,null,null,null,null,null,null,null,null,null,null,null,null,null,null,null,null,0,null,null,null,null,5870000,null,null,null,null,null,null,null,null,null,null,null,null,null,null,null,null,null,null,null,null,null,null,null,null,null,null,null,"OK","OK"]
[null,null,null,null,null,null,null,null,null,null,null,null,null,null,null,null,null,null,0,null,null,null,null,5870000,null,null,null,null,null,null,null,null,null,null,null,null,null,null,null,null,null,null,null,null,null,null,null,null,null,null,null,"OK","OK"]
[null,null,null,null,null,null,null,null,null,null,null,null,null,null,null,null,null,null,0,null,null,null,null,5870000,null,null,null,null,null,null,null,null,null,null,null,null,null,null,null,null,null,null,null,null,null,null,null,null,null,null,null,"OK","OK"]
[null,null,null,null,null,null,null,null,null,null,null,null,null,null,null,null,null,null,0,null,null,null,null,5870000,null,null,null,null,null,null,null,null,null,null,null,null,null,null,null,null,null,null,null,null,null,null,null,null,null,null,null,"OK","OK"]
[null,null,null,null,null,null,null,null,null,null,null,null,null,null,null,null,null,null,0,null,null,null,null,5870000,null,null,null,null,null,null,null,null,null,null,null,null,null,null,null,null,null,null,null,null,null,null,null,null,null,null,null,"OK","OK"]
[null,null,null,null,null,null,null,null,null,null,null,null,null,null,null,null,null,null,0,null,null,null,null,5870000,null,null,null,null,null,null,null,null,null,null,null,null,null,null,null,null,null,null,null,null,null,null,null,null,null,null,null,"OK","OK"]
[null,null,null,null,null,null,null,null,null,null,null,null,null,null,null,null,null,null,0,null,null,null,null,5870000,null,null,null,null,null,null,null,null,null,null,null,null,null,null,null,null,null,null,null,null,null,null,null,null,null,null,null,"OK","OK"]
[null,null,null,null,null,null,null,null,null,null,null,null,null,null,null,null,null,null,0,null,null,null,null,5870000,null,null,null,null,null,null,null,null,null,null,null,null,null,null,null,null,null,null,null,null,null,null,null,null,null,null,null,"OK","OK"]
[null,null,null,null,null,null,null,null,null,null,null,null,null,null,null,null,null,null,{"$f":"O1231+P1231-Q1231","v":0},null,null,null,null,5870000,null,null,null,null,null,null,null,null,null,null,null,null,null,null,null,null,null,null,null,null,null,null,null,null,null,null,null,"OK","OK"]
[null,null,null,null,null,null,null,null,null,null,null,null,null,null,null,null,null,null,0,null,null,null,null,5870000,null,null,null,null,null,null,null,null,null,null,null,null,null,null,null,null,null,null,null,null,null,null,null,null,null,null,null,"OK","OK"]
[null,null,null,null,null,null,null,null,null,null,null,null,null,null,null,null,null,null,0,null,null,null,null,5870000,null,null,null,null,null,null,null,null,null,null,null,null,null,null,null,null,null,null,null,null,null,null,null,null,null,null,null,"OK","OK"]
[null,null,null,null,null,null,null,null,null,null,null,null,null,null,null,null,null,null,0,null,null,null,null,5870000,null,null,null,null,null,null,null,null,null,null,null,null,null,null,null,null,null,null,null,null,null,null,null,null,null,null,null,"OK","OK"]
[null,null,null,null,null,null,null,null,null,null,null,null,null,null,null,null,null,null,0,null,null,null,null,5870000,null,null,null,null,null,null,null,null,null,null,null,null,null,null,null,null,null,null,null,null,null,null,null,null,null,null,null,"OK","OK"]
[null,null,null,null,null,null,null,null,null,null,null,null,null,null,null,null,null,null,0,null,null,null,null,5870000,null,null,null,null,null,null,null,null,null,null,null,null,null,null,null,null,null,null,null,null,null,null,null,null,null,null,null,"OK","OK"]
[null,null,null,null,null,null,null,null,null,null,null,null,null,null,null,null,null,null,0,null,null,null,null,5870000,null,null,null,null,null,null,null,null,null,null,null,null,null,null,null,null,null,null,null,null,null,null,null,null,null,null,null,"OK","OK"]
[null,null,null,null,null,null,null,null,null,null,null,null,null,null,null,null,null,null,0,null,null,null,null,5870000,null,null,null,null,null,null,null,null,null,null,null,null,null,null,null,null,null,null,null,null,null,null,null,null,null,null,null,"OK","OK"]
[null,null,null,null,null,null,null,null,null,null,null,null,null,null,null,null,null,null,0,null,null,null,null,5870000,null,null,null,null,null,null,null,null,null,null,null,null,null,null,null,null,null,null,null,null,null,null,null,null,null,null,null,"OK","OK"]
[null,null,null,null,null,null,null,null,null,null,null,null,null,null,null,null,null,null,0,null,null,null,null,5870000,null,null,null,null,null,null,null,null,null,null,null,null,null,null,null,null,null,null,null,null,null,null,null,null,null,null,null,"OK","OK"]
[null,null,null,null,null,null,null,null,null,null,null,null,null,null,null,null,null,null,0,null,null,null,null,5870000,null,null,null,null,null,null,null,null,null,null,null,null,null,null,null,null,null,null,null,null,null,null,null,null,null,null,null,"OK","OK"]
[null,null,null,null,null,null,null,null,null,null,null,null,null,null,null,null,null,null,0,null,null,null,null,5870000,null,null,null,null,null,null,null,null,null,null,null,null,null,null,null,null,null,null,null,null,null,null,null,null,null,null,null,"OK","OK"]
[null,null,null,null,null,null,null,null,null,null,null,null,null,null,null,null,null,null,0,null,null,null,null,5870000,null,null,null,null,null,null,null,null,null,null,null,null,null,null,null,null,null,null,null,null,null,null,null,null,null,null,null,"OK","OK"]
[null,null,null,null,null,null,null,null,null,null,null,null,null,null,null,null,null,null,0,null,null,null,null,5870000,null,null,null,null,null,null,null,null,null,null,null,null,null,null,null,null,null,null,null,null,null,null,null,null,null,null,null,"OK","OK"]
[null,null,null,null,null,null,null,null,null,null,null,null,null,null,null,null,null,null,0,null,null,null,null,5870000,null,null,null,null,null,null,null,null,null,null,null,null,null,null,null,null,null,null,null,null,null,null,null,null,null,null,null,"OK","OK"]
[null,null,null,null,null,null,null,null,null,null,null,null,null,null,null,null,null,null,0,null,null,null,null,5870000,null,null,null,null,null,null,null,null,null,null,null,null,null,null,null,null,null,null,null,null,null,null,null,null,null,null,null,"OK","OK"]
[null,null,null,null,null,null,null,null,null,null,null,null,null,null,null,null,null,null,0,null,null,null,null,5870000,null,null,null,null,null,null,null,null,null,null,null,null,null,null,null,null,null,null,null,null,null,null,null,null,null,null,null,"OK","OK"]
[null,null,null,null,null,null,null,null,null,null,null,null,null,null,null,null,null,null,0,null,null,null,null,5870000,null,null,null,null,null,null,null,null,null,null,null,null,null,null,null,null,null,null,null,null,null,null,null,null,null,null,null,"OK","OK"]
[null,null,null,null,null,null,null,null,null,null,null,null,null,null,null,null,null,null,0,null,null,null,null,5870000,null,null,null,null,null,null,null,null,null,null,null,null,null,null,null,null,null,null,null,null,null,null,null,null,null,null,null,"OK","OK"]
[null,null,null,null,null,null,null,null,null,null,null,null,null,null,null,null,null,null,0,null,null,null,null,5870000,null,null,null,null,null,null,null,null,null,null,null,null,null,null,null,null,null,null,null,null,null,null,null,null,null,null,null,"OK","OK"]
[null,null,null,null,null,null,null,null,null,null,null,null,null,null,null,null,null,null,0,null,null,null,null,5870000,null,null,null,null,null,null,null,null,null,null,null,null,null,null,null,null,null,null,null,null,null,null,null,null,null,null,null,"OK","OK"]
[null,null,null,null,null,null,null,null,null,null,null,null,null,null,null,null,null,null,0,null,null,null,null,5870000,null,null,null,null,null,null,null,null,null,null,null,null,null,null,null,null,null,null,null,null,null,null,null,null,null,null,null,"OK","OK"]
[null,null,null,null,null,null,null,null,null,null,null,null,null,null,null,null,null,null,0,null,null,null,null,5870000,null,null,null,null,null,null,null,null,null,null,null,null,null,null,null,null,null,null,null,null,null,null,null,null,null,null,null,"OK","OK"]
[null,null,null,null,null,null,null,null,null,null,null,null,null,null,null,null,null,null,0,null,null,null,null,5870000,null,null,null,null,null,null,null,null,null,null,null,null,null,null,null,null,null,null,null,null,null,null,null,null,null,null,null,"OK","OK"]
[null,null,null,null,null,null,null,null,null,null,null,null,null,null,null,null,null,null,0,null,null,null,null,5870000,null,null,null,null,null,null,null,null,null,null,null,null,null,null,null,null,null,null,null,null,null,null,null,null,null,null,null,"OK","OK"]
[null,null,null,null,null,null,null,null,null,null,null,null,null,null,null,null,null,null,0,null,null,null,null,5870000,null,null,null,null,null,null,null,null,null,null,null,null,null,null,null,null,null,null,null,null,null,null,null,null,null,null,null,"OK","OK"]
[null,null,null,null,null,null,null,null,null,null,null,null,null,null,null,null,null,null,0,null,null,null,null,5870000,null,null,null,null,null,null,null,null,null,null,null,null,null,null,null,null,null,null,null,null,null,null,null,null,null,null,null,"OK","OK"]
[null,null,null,null,null,null,null,null,null,null,null,null,null,null,null,null,null,null,0,null,null,null,null,5870000,null,null,null,null,null,null,null,null,null,null,null,null,null,null,null,null,null,null,null,null,null,null,null,null,null,null,null,"OK","OK"]
[null,null,null,null,null,null,null,null,null,null,null,null,null,null,null,null,null,null,0,null,null,null,null,5870000,null,null,null,null,null,null,null,null,null,null,null,null,null,null,null,null,null,null,null,null,null,null,null,null,null,null,null,"OK","OK"]
[null,null,null,null,null,null,null,null,null,null,null,null,null,null,null,null,null,null,0,null,null,null,null,5870000,null,null,null,null,null,null,null,null,null,null,null,null,null,null,null,null,null,null,null,null,null,null,null,null,null,null,null,"OK","OK"]
[null,null,null,null,null,null,null,null,null,null,null,null,null,null,null,null,null,null,0,null,null,null,null,5870000,null,null,null,null,null,null,null,null,null,null,null,null,null,null,null,null,null,null,null,null,null,null,null,null,null,null,null,"OK","OK"]
[null,null,null,null,null,null,null,null,null,null,null,null,null,null,null,null,null,null,0,null,null,null,null,5870000,null,null,null,null,null,null,null,null,null,null,null,null,null,null,null,null,null,null,null,null,null,null,null,null,null,null,null,"OK","OK"]
[null,null,null,null,null,null,null,null,null,null,null,null,null,null,null,null,null,null,0,null,null,null,null,5870000,null,null,null,null,null,null,null,null,null,null,null,null,null,null,null,null,null,null,null,null,null,null,null,null,null,null,null,"OK","OK"]
[null,null,null,null,null,null,null,null,null,null,null,null,null,null,null,null,null,null,0,null,null,null,null,5870000,null,null,null,null,null,null,null,null,null,null,null,null,null,null,null,null,null,null,null,null,null,null,null,null,null,null,null,"OK","OK"]
[null,null,null,null,null,null,null,null,null,null,null,null,null,null,null,null,null,null,0,null,null,null,null,5870000,null,null,null,null,null,null,null,null,null,null,null,null,null,null,null,null,null,null,null,null,null,null,null,null,null,null,null,"OK","OK"]
[null,null,null,null,null,null,null,null,null,null,null,null,null,null,null,null,null,null,0,null,null,null,null,5870000,null,null,null,null,null,null,null,null,null,null,null,null,null,null,null,null,null,null,null,null,null,null,null,null,null,null,null,"OK","OK"]
[null,null,null,null,null,null,null,null,null,null,null,null,null,null,null,null,null,null,0,null,null,null,null,5870000,null,null,null,null,null,null,null,null,null,null,null,null,null,null,null,null,null,null,null,null,null,null,null,null,null,null,null,"OK","OK"]
[null,null,null,null,null,null,null,null,null,null,null,null,null,null,null,null,null,null,0,null,null,null,null,5870000,null,null,null,null,null,null,null,null,null,null,null,null,null,null,null,null,null,null,null,null,null,null,null,null,null,null,null,"OK","OK"]
[null,null,null,null,null,null,null,null,null,null,null,null,null,null,null,null,null,null,0,null,null,null,null,5870000,null,null,null,null,null,null,null,null,null,null,null,null,null,null,null,null,null,null,null,null,null,null,null,null,null,null,null,"OK","OK"]
[null,null,null,null,null,null,null,null,null,null,null,null,null,null,null,null,null,null,0,null,null,null,null,5870000,null,null,null,null,null,null,null,null,null,null,null,null,null,null,null,null,null,null,null,null,null,null,null,null,null,null,null,"OK","OK"]
[null,null,null,null,null,null,null,null,null,null,null,null,null,null,null,null,null,null,0,null,null,null,null,5870000,null,null,null,null,null,null,null,null,null,null,null,null,null,null,null,null,null,null,null,null,null,null,null,null,null,null,null,"OK","OK"]
[null,null,null,null,null,null,null,null,null,null,null,null,null,null,null,null,null,null,0,null,null,null,null,5870000,null,null,null,null,null,null,null,null,null,null,null,null,null,null,null,null,null,null,null,null,null,null,null,null,null,null,null,{"$f":"IF(S1422-AA1422-AC1422-AE1422-AG1422-AI1422-AK1422-AM1422-AO1422-AQ1422-AS1422-AU1422-AW1422=0,\"OK\",\"Compromisos diferentes al valor estimado en la vigencia actual\")","v":"OK"},{"$f":"IF(S1422-AB1422-AD1422-AF1422-AH1422-AJ1422-AL1422-AN1422-AP1422-AR1422-AT1422-AV1422-AX1422=0,\"OK\",\"Obligaciones diferentes al valor estimado en la vigencia actual\")","v":"OK"}]
[null,null,null,null,null,null,null,null,null,null,null,null,null,null,null,null,null,null,0,null,null,null,null,5870000,null,null,null,null,null,null,null,null,null,null,null,null,null,null,null,null,null,null,null,null,null,null,null,null,null,null,null,"OK","OK"]
[null,null,null,null,null,null,null,null,null,null,null,null,null,null,null,null,null,null,0,null,null,null,null,5870000,null,null,null,null,null,null,null,null,null,null,null,null,null,null,null,null,null,null,null,null,null,null,null,null,null,null,null,"OK","OK"]
[null,null,null,null,null,null,null,null,null,null,null,null,null,null,null,null,null,null,0,null,null,null,null,5870000,null,null,null,null,null,null,null,null,null,null,null,null,null,null,null,null,null,null,null,null,null,null,null,null,null,null,null,"OK","OK"]
[null,null,null,null,null,null,null,null,null,null,null,null,null,null,null,null,null,null,0,null,null,null,null,5870000,null,null,null,null,null,null,null,null,null,null,null,null,null,null,null,null,null,null,null,null,null,null,null,null,null,null,null,"OK","OK"]
[null,null,null,null,null,null,null,null,null,null,null,null,null,null,null,null,null,null,0,null,null,null,null,5870000,null,null,null,null,null,null,null,null,null,null,null,null,null,null,null,null,null,null,null,null,null,null,null,null,null,null,null,"OK","OK"]
[null,null,null,null,null,null,null,null,null,null,null,null,null,null,null,null,null,null,0,null,null,null,null,5870000,null,null,null,null,null,null,null,null,null,null,null,null,null,null,null,null,null,null,null,null,null,null,null,null,null,null,null,"OK","OK"]
[null,null,null,null,null,null,null,null,null,null,null,null,null,null,null,null,null,null,0,null,null,null,null,5870000,null,null,null,null,null,null,null,null,null,null,null,null,null,null,null,null,null,null,null,null,null,null,null,null,null,null,null,"OK","OK"]
[null,null,null,null,null,null,null,null,null,null,null,null,null,null,null,null,null,null,0,null,null,null,null,5870000,null,null,null,null,null,null,null,null,null,null,null,null,null,null,null,null,null,null,null,null,null,null,null,null,null,null,null,"OK","OK"]
[null,null,null,null,null,null,null,null,null,null,null,null,null,null,null,null,null,null,0,null,null,null,null,5870000,null,null,null,null,null,null,null,null,null,null,null,null,null,null,null,null,null,null,null,null,null,null,null,null,null,null,null,"OK","OK"]
[null,null,null,null,null,null,null,null,null,null,null,null,null,null,null,null,null,null,0,null,null,null,null,5870000,null,null,null,null,null,null,null,null,null,null,null,null,null,null,null,null,null,null,null,null,null,null,null,null,null,null,null,"OK","OK"]
[null,null,null,null,null,null,null,null,null,null,null,null,null,null,null,null,null,null,0,null,null,null,null,5870000,null,null,null,null,null,null,null,null,null,null,null,null,null,null,null,null,null,null,null,null,null,null,null,null,null,null,null,"OK","OK"]
[null,null,null,null,null,null,null,null,null,null,null,null,null,null,null,null,null,null,0,null,null,null,null,5870000,null,null,null,null,null,null,null,null,null,null,null,null,null,null,null,null,null,null,null,null,null,null,null,null,null,null,null,"OK","OK"]
[null,null,null,null,null,null,null,null,null,null,null,null,null,null,null,null,null,null,0,null,null,null,null,5870000,null,null,null,null,null,null,null,null,null,null,null,null,null,null,null,null,null,null,null,null,null,null,null,null,null,null,null,"OK","OK"]
[null,null,null,null,null,null,null,null,null,null,null,null,null,null,null,null,null,null,0,null,null,null,null,5870000,null,null,null,null,null,null,null,null,null,null,null,null,null,null,null,null,null,null,null,null,null,null,null,null,null,null,null,"OK","OK"]
[null,null,null,null,null,null,null,null,null,null,null,null,null,null,null,null,null,null,0,null,null,null,null,5870000,null,null,null,null,null,null,null,null,null,null,null,null,null,null,null,null,null,null,null,null,null,null,null,null,null,null,null,"OK","OK"]
[null,null,null,null,null,null,null,null,null,null,null,null,null,null,null,null,null,null,0,null,null,null,null,5870000,null,null,null,null,null,null,null,null,null,null,null,null,null,null,null,null,null,null,null,null,null,null,null,null,null,null,null,"OK","OK"]
[null,null,null,null,null,null,null,null,null,null,null,null,null,null,null,null,null,null,0,null,null,null,null,5870000,null,null,null,null,null,null,null,null,null,null,null,null,null,null,null,null,null,null,null,null,null,null,null,null,null,null,null,"OK","OK"]
[null,null,null,null,null,null,null,null,null,null,null,null,null,null,null,null,null,null,0,null,null,null,null,5870000,null,null,null,null,null,null,null,null,null,null,null,null,null,null,null,null,null,null,null,null,null,null,null,null,null,null,null,"OK","OK"]
[null,null,null,null,null,null,null,null,null,null,null,null,null,null,null,null,null,null,0,null,null,null,null,5870000,null,null,null,null,null,null,null,null,null,null,null,null,null,null,null,null,null,null,null,null,null,null,null,null,null,null,null,"OK","OK"]
[null,null,null,null,null,null,null,null,null,null,null,null,null,null,null,null,null,null,0,null,null,null,null,5870000,null,null,null,null,null,null,null,null,null,null,null,null,null,null,null,null,null,null,null,null,null,null,null,null,null,null,null,"OK","OK"]
[null,null,null,null,null,null,null,null,null,null,null,null,null,null,null,null,null,null,0,null,null,null,null,5870000,null,null,null,null,null,null,null,null,null,null,null,null,null,null,null,null,null,null,null,null,null,null,null,null,null,null,null,"OK","OK"]
[null,null,null,null,null,null,null,null,null,null,null,null,null,null,null,null,null,null,0,null,null,null,null,5870000,null,null,null,null,null,null,null,null,null,null,null,null,null,null,null,null,null,null,null,null,null,null,null,null,null,null,null,"OK","OK"]
[null,null,null,null,null,null,null,null,null,null,null,null,null,null,null,null,null,null,0,null,null,null,null,5870000,null,null,null,null,null,null,null,null,null,null,null,null,null,null,null,null,null,null,null,null,null,null,null,null,null,null,null,"OK","OK"]
[null,null,null,null,null,null,null,null,null,null,null,null,null,null,null,null,null,null,0,null,null,null,null,5870000,null,null,null,null,null,null,null,null,null,null,null,null,null,null,null,null,null,null,null,null,null,null,null,null,null,null,null,"OK","OK"]
[null,null,null,null,null,null,null,null,null,null,null,null,null,null,null,null,null,null,0,null,null,null,null,5870000,null,null,null,null,null,null,null,null,null,null,null,null,null,null,null,null,null,null,null,null,null,null,null,null,null,null,null,"OK","OK"]
[null,null,null,null,null,null,null,null,null,null,null,null,null,null,null,null,null,null,0,null,null,null,null,5870000,null,null,null,null,null,null,null,null,null,null,null,null,null,null,null,null,null,null,null,null,null,null,null,null,null,null,null,"OK","OK"]
[null,null,null,null,null,null,null,null,null,null,null,null,null,null,null,null,null,null,0,null,null,null,null,5870000,null,null,null,null,null,null,null,null,null,null,null,null,null,null,null,null,null,null,null,null,null,null,null,null,null,null,null,{"$f":"IF(S1550-AA1550-AC1550-AE1550-AG1550-AI1550-AK1550-AM1550-AO1550-AQ1550-AS1550-AU1550-AW1550=0,\"OK\",\"Compromisos diferentes al valor estimado en la vigencia actual\")","v":"OK"},{"$f":"IF(S1550-AB1550-AD1550-AF1550-AH1550-AJ1550-AL1550-AN1550-AP1550-AR1550-AT1550-AV1550-AX1550=0,\"OK\",\"Obligaciones diferentes al valor estimado en la vigencia actual\")","v":"OK"}]
[null,null,null,null,null,null,null,null,null,null,null,null,null,null,null,null,null,null,0,null,null,null,null,5870000,null,null,null,null,null,null,null,null,null,null,null,null,null,null,null,null,null,null,null,null,null,null,null,null,null,null,null,"OK","OK"]
[null,null,null,null,null,null,null,null,null,null,null,null,null,null,null,null,null,null,0,null,null,null,null,5870000,null,null,null,null,null,null,null,null,null,null,null,null,null,null,null,null,null,null,null,null,null,null,null,null,null,null,null,"OK","OK"]
[null,null,null,null,null,null,null,null,null,null,null,null,null,null,null,null,null,null,0,null,null,null,null,5870000,null,null,null,null,null,null,null,null,null,null,null,null,null,null,null,null,null,null,null,null,null,null,null,null,null,null,null,"OK","OK"]
[null,null,null,null,null,null,null,null,null,null,null,null,null,null,null,null,null,null,0,null,null,null,null,5870000,null,null,null,null,null,null,null,null,null,null,null,null,null,null,null,null,null,null,null,null,null,null,null,null,null,null,null,"OK","OK"]
[null,null,null,null,null,null,null,null,null,null,null,null,null,null,null,null,null,null,0,null,null,null,null,5870000,null,null,null,null,null,null,null,null,null,null,null,null,null,null,null,null,null,null,null,null,null,null,null,null,null,null,null,"OK","OK"]
[null,null,null,null,null,null,null,null,null,null,null,null,null,null,null,null,null,null,0,null,null,null,null,5870000,null,null,null,null,null,null,null,null,null,null,null,null,null,null,null,null,null,null,null,null,null,null,null,null,null,null,null,"OK","OK"]
[null,null,null,null,null,null,null,null,null,null,null,null,null,null,null,null,null,null,0,null,null,null,null,5870000,null,null,null,null,null,null,null,null,null,null,null,null,null,null,null,null,null,null,null,null,null,null,null,null,null,null,null,"OK","OK"]
[null,null,null,null,null,null,null,null,null,null,null,null,null,null,null,null,null,null,0,null,null,null,null,5870000,null,null,null,null,null,null,null,null,null,null,null,null,null,null,null,null,null,null,null,null,null,null,null,null,null,null,null,"OK","OK"]
[null,null,null,null,null,null,null,null,null,null,null,null,null,null,null,null,null,null,0,null,null,null,null,5870000,null,null,null,null,null,null,null,null,null,null,null,null,null,null,null,null,null,null,null,null,null,null,null,null,null,null,null,"OK","OK"]
[null,null,null,null,null,null,null,null,null,null,null,null,null,null,null,null,null,null,0,null,null,null,null,5870000,null,null,null,null,null,null,null,null,null,null,null,null,null,null,null,null,null,null,null,null,null,null,null,null,null,null,null,"OK","OK"]
[null,null,null,null,null,null,null,null,null,null,null,null,null,null,null,null,null,null,0,null,null,null,null,5870000,null,null,null,null,null,null,null,null,null,null,null,null,null,null,null,null,null,null,null,null,null,null,null,null,null,null,null,"OK","OK"]
[null,null,null,null,null,null,null,null,null,null,null,null,null,null,null,null,null,null,0,null,null,null,null,5870000,null,null,null,null,null,null,null,null,null,null,null,null,null,null,null,null,null,null,null,null,null,null,null,null,null,null,null,"OK","OK"]
[null,null,null,null,null,null,null,null,null,null,null,null,null,null,null,null,null,null,0,null,null,null,null,5870000,null,null,null,null,null,null,null,null,null,null,null,null,null,null,null,null,null,null,null,null,null,null,null,null,null,null,null,"OK","OK"]
[null,null,null,null,null,null,null,null,null,null,null,null,null,null,null,null,null,null,0,null,null,null,null,5870000,null,null,null,null,null,null,null,null,null,null,null,null,null,null,null,null,null,null,null,null,null,null,null,null,null,null,null,"OK","OK"]
[null,null,null,null,null,null,null,null,null,null,null,null,null,null,null,null,null,null,0,null,null,null,null,5870000,null,null,null,null,null,null,null,null,null,null,null,null,null,null,null,null,null,null,null,null,null,null,null,null,null,null,null,"OK","OK"]
[null,null,null,null,null,null,null,null,null,null,null,null,null,null,null,null,null,null,0,null,null,null,null,5870000,null,null,null,null,null,null,null,null,null,null,null,null,null,null,null,null,null,null,null,null,null,null,null,null,null,null,null,"OK","OK"]
[null,null,null,null,null,null,null,null,null,null,null,null,null,null,null,null,null,null,0,null,null,null,null,5870000,null,null,null,null,null,null,null,null,null,null,null,null,null,null,null,null,null,null,null,null,null,null,null,null,null,null,null,"OK","OK"]
[null,null,null,null,null,null,null,null,null,null,null,null,null,null,null,null,null,null,0,null,null,null,null,5870000,null,null,null,null,null,null,null,null,null,null,null,null,null,null,null,null,null,null,null,null,null,null,null,null,null,null,null,"OK","OK"]
[null,null,null,null,null,null,null,null,null,null,null,null,null,null,null,null,null,null,0,null,null,null,null,5870000,null,null,null,null,null,null,null,null,null,null,null,null,null,null,null,null,null,null,null,null,null,null,null,null,null,null,null,"OK","OK"]
[null,null,null,null,null,null,null,null,null,null,null,null,null,null,null,null,null,null,0,null,null,null,null,5870000,null,null,null,null,null,null,null,null,null,null,null,null,null,null,null,null,null,null,null,null,null,null,null,null,null,null,null,"OK","OK"]
[null,null,null,null,null,null,null,null,null,null,null,null,null,null,null,null,null,null,0,null,null,null,null,5870000,null,null,null,null,null,null,null,null,null,null,null,null,null,null,null,null,null,null,null,null,null,null,null,null,null,null,null,"OK","OK"]
[null,null,null,null,null,null,null,null,null,null,null,null,null,null,null,null,null,null,0,null,null,null,null,5870000,null,null,null,null,null,null,null,null,null,null,null,null,null,null,null,null,null,null,null,null,null,null,null,null,null,null,null,"OK","OK"]
[null,null,null,null,null,null,null,null,null,null,null,null,null,null,null,null,null,null,0,null,null,null,null,5870000,null,null,null,null,null,null,null,null,null,null,null,null,null,null,null,null,null,null,null,null,null,null,null,null,null,null,null,"OK","OK"]
[null,null,null,null,null,null,null,null,null,null,null,null,null,null,null,null,null,null,0,null,null,null,null,5870000,null,null,null,null,null,null,null,null,null,null,null,null,null,null,null,null,null,null,null,null,null,null,null,null,null,null,null,"OK","OK"]
[null,null,null,null,null,null,null,null,null,null,null,null,null,null,null,null,null,null,0,null,null,null,null,5870000,null,null,null,null,null,null,null,null,null,null,null,null,null,null,null,null,null,null,null,null,null,null,null,null,null,null,null,"OK","OK"]
[null,null,null,null,null,null,null,null,null,null,null,null,null,null,null,null,null,null,0,null,null,null,null,5870000,null,null,null,null,null,null,null,null,null,null,null,null,null,null,null,null,null,null,null,null,null,null,null,null,null,null,null,"OK","OK"]
[null,null,null,null,null,null,null,null,null,null,null,null,null,null,null,null,null,null,0,null,null,null,null,5870000,null,null,null,null,null,null,null,null,null,null,null,null,null,null,null,null,null,null,null,null,null,null,null,null,null,null,null,"OK","OK"]
[null,null,null,null,null,null,null,null,null,null,null,null,null,null,null,null,null,null,0,null,null,null,null,5870000,null,null,null,null,null,null,null,null,null,null,null,null,null,null,null,null,null,null,null,null,null,null,null,null,null,null,null,"OK","OK"]
[null,null,null,null,null,null,null,null,null,null,null,null,null,null,null,null,null,null,0,null,null,null,null,5870000,null,null,null,null,null,null,null,null,null,null,null,null,null,null,null,null,null,null,null,null,null,null,null,null,null,null,null,"OK","OK"]
[null,null,null,null,null,null,null,null,null,null,null,null,null,null,null,null,null,null,0,null,null,null,null,5870000,null,null,null,null,null,null,null,null,null,null,null,null,null,null,null,null,null,null,null,null,null,null,null,null,null,null,null,"OK","OK"]
[null,null,null,null,null,null,null,null,null,null,null,null,null,null,null,null,null,null,0,null,null,null,null,5870000,null,null,null,null,null,null,null,null,null,null,null,null,null,null,null,null,null,null,null,null,null,null,null,null,null,null,null,"OK","OK"]
[null,null,null,null,null,null,null,null,null,null,null,null,null,null,null,null,null,null,0,null,null,null,null,5870000,null,null,null,null,null,null,null,null,null,null,null,null,null,null,null,null,null,null,null,null,null,null,null,null,null,null,null,"OK","OK"]
[null,null,null,null,null,null,null,null,null,null,null,null,null,null,null,null,null,null,0,null,null,null,null,5870000,null,null,null,null,null,null,null,null,null,null,null,null,null,null,null,null,null,null,null,null,null,null,null,null,null,null,null,"OK","OK"]
[null,null,null,null,null,null,null,null,null,null,null,null,null,null,null,null,null,null,0,null,null,null,null,5870000,null,null,null,null,null,null,null,null,null,null,null,null,null,null,null,null,null,null,null,null,null,null,null,null,null,null,null,"OK","OK"]
[null,null,null,null,null,null,null,null,null,null,null,null,null,null,null,null,null,null,0,null,null,null,null,5870000,null,null,null,null,null,null,null,null,null,null,null,null,null,null,null,null,null,null,null,null,null,null,null,null,null,null,null,"OK","OK"]
[null,null,null,null,null,null,null,null,null,null,null,null,null,null,null,null,null,null,0,null,null,null,null,5870000,null,null,null,null,null,null,null,null,null,null,null,null,null,null,null,null,null,null,null,null,null,null,null,null,null,null,null,"OK","OK"]
[null,null,null,null,null,null,null,null,null,null,null,null,null,null,null,null,null,null,0,null,null,null,null,5870000,null,null,null,null,null,null,null,null,null,null,null,null,null,null,null,null,null,null,null,null,null,null,null,null,null,null,null,"OK","OK"]
[null,null,null,null,null,null,null,null,null,null,null,null,null,null,null,null,null,null,0,null,null,null,null,5870000,null,null,null,null,null,null,null,null,null,null,null,null,null,null,null,null,null,null,null,null,null,null,null,null,null,null,null,"OK","OK"]
[null,null,null,null,null,null,null,null,null,null,null,null,null,null,null,null,null,null,0,null,null,null,null,5870000,null,null,null,null,null,null,null,null,null,null,null,null,null,null,null,null,null,null,null,null,null,null,null,null,null,null,null,"OK","OK"]
[null,null,null,null,null,null,null,null,null,null,null,null,null,null,null,null,null,null,0,null,null,null,null,5870000,null,null,null,null,null,null,null,null,null,null,null,null,null,null,null,null,null,null,null,null,null,null,null,null,null,null,null,"OK","OK"]
[null,null,null,null,null,null,null,null,null,null,null,null,null,null,null,null,null,null,0,null,null,null,null,5870000,null,null,null,null,null,null,null,null,null,null,null,null,null,null,null,null,null,null,null,null,null,null,null,null,null,null,null,"OK","OK"]
[null,null,null,null,null,null,null,null,null,null,null,null,null,null,null,null,null,null,0,null,null,null,null,5870000,null,null,null,null,null,null,null,null,null,null,null,null,null,null,null,null,null,null,null,null,null,null,null,null,null,null,null,"OK","OK"]
[null,null,null,null,null,null,null,null,null,null,null,null,null,null,null,null,null,null,0,null,null,null,null,5870000,null,null,null,null,null,null,null,null,null,null,null,null,null,null,null,null,null,null,null,null,null,null,null,null,null,null,null,"OK","OK"]
[null,null,null,null,null,null,null,null,null,null,null,null,null,null,null,null,null,null,0,null,null,null,null,5870000,null,null,null,null,null,null,null,null,null,null,null,null,null,null,null,null,null,null,null,null,null,null,null,null,null,null,null,"OK","OK"]
[null,null,null,null,null,null,null,null,null,null,null,null,null,null,null,null,null,null,0,null,null,null,null,5870000,null,null,null,null,null,null,null,null,null,null,null,null,null,null,null,null,null,null,null,null,null,null,null,null,null,null,null,"OK","OK"]
[null,null,null,null,null,null,null,null,null,null,null,null,null,null,null,null,null,null,0,null,null,null,null,5870000,null,null,null,null,null,null,null,null,null,null,null,null,null,null,null,null,null,null,null,null,null,null,null,null,null,null,null,"OK","OK"]
[null,null,null,null,null,null,null,null,null,null,null,null,null,null,null,null,null,null,0,null,null,null,null,5870000,null,null,null,null,null,null,null,null,null,null,null,null,null,null,null,null,null,null,null,null,null,null,null,null,null,null,null,"OK","OK"]
[null,null,null,null,null,null,null,null,null,null,null,null,null,null,null,null,null,null,0,null,null,null,null,5870000,null,null,null,null,null,null,null,null,null,null,null,null,null,null,null,null,null,null,null,null,null,null,null,null,null,null,null,"OK","OK"]
[null,null,null,null,null,null,null,null,null,null,null,null,null,null,null,null,null,null,0,null,null,null,null,5870000,null,null,null,null,null,null,null,null,null,null,null,null,null,null,null,null,null,null,null,null,null,null,null,null,null,null,null,"OK","OK"]
[null,null,null,null,null,null,null,null,null,null,null,null,null,null,null,null,null,null,0,null,null,null,null,5870000,null,null,null,null,null,null,null,null,null,null,null,null,null,null,null,null,null,null,null,null,null,null,null,null,null,null,null,"OK","OK"]
[null,null,null,null,null,null,null,null,null,null,null,null,null,null,null,null,null,null,0,null,null,null,null,5870000,null,null,null,null,null,null,null,null,null,null,null,null,null,null,null,null,null,null,null,null,null,null,null,null,null,null,null,"OK","OK"]
[null,null,null,null,null,null,null,null,null,null,null,null,null,null,null,null,null,null,0,null,null,null,null,5870000,null,null,null,null,null,null,null,null,null,null,null,null,null,null,null,null,null,null,null,null,null,null,null,null,null,null,null,"OK","OK"]
[null,null,null,null,null,null,null,null,null,null,null,null,null,null,null,null,null,null,0,null,null,null,null,5870000,null,null,null,null,null,null,null,null,null,null,null,null,null,null,null,null,null,null,null,null,null,null,null,null,null,null,null,"OK","OK"]
[null,null,null,null,null,null,null,null,null,null,null,null,null,null,null,null,null,null,0,null,null,null,null,5870000,null,null,null,null,null,null,null,null,null,null,null,null,null,null,null,null,null,null,null,null,null,null,null,null,null,null,null,"OK","OK"]
[null,null,null,null,null,null,null,null,null,null,null,null,null,null,null,null,null,null,0,null,null,null,null,5870000,null,null,null,null,null,null,null,null,null,null,null,null,null,null,null,null,null,null,null,null,null,null,null,null,null,null,null,"OK","OK"]
[null,null,null,null,null,null,null,null,null,null,null,null,null,null,null,null,null,null,0,null,null,null,null,5870000,null,null,null,null,null,null,null,null,null,null,null,null,null,null,null,null,null,null,null,null,null,null,null,null,null,null,null,"OK","OK"]
[null,null,null,null,null,null,null,null,null,null,null,null,null,null,null,null,null,null,0,null,null,null,null,5870000,null,null,null,null,null,null,null,null,null,null,null,null,null,null,null,null,null,null,null,null,null,null,null,null,null,null,null,"OK","OK"]
[null,null,null,null,null,null,null,null,null,null,null,null,null,null,null,null,null,null,0,null,null,null,null,5870000,null,null,null,null,null,null,null,null,null,null,null,null,null,null,null,null,null,null,null,null,null,null,null,null,null,null,null,"OK","OK"]
[null,null,null,null,null,null,null,null,null,null,null,null,null,null,null,null,null,null,0,null,null,null,null,5870000,null,null,null,null,null,null,null,null,null,null,null,null,null,null,null,null,null,null,null,null,null,null,null,null,null,null,null,"OK","OK"]
[null,null,null,null,null,null,null,null,null,null,null,null,null,null,null,null,null,null,0,null,null,null,null,5870000,null,null,null,null,null,null,null,null,null,null,null,null,null,null,null,null,null,null,null,null,null,null,null,null,null,null,null,"OK","OK"]
[null,null,null,null,null,null,null,null,null,null,null,null,null,null,null,null,null,null,0,null,null,null,null,5870000,null,null,null,null,null,null,null,null,null,null,null,null,null,null,null,null,null,null,null,null,null,null,null,null,null,null,null,"OK","OK"]
[null,null,null,null,null,null,null,null,null,null,null,null,null,null,null,null,null,null,0,null,null,null,null,5870000,null,null,null,null,null,null,null,null,null,null,null,null,null,null,null,null,null,null,null,null,null,null,null,null,null,null,null,"OK","OK"]
[null,null,null,null,null,null,null,null,null,null,null,null,null,null,null,null,null,null,0,null,null,null,null,5870000,null,null,null,null,null,null,null,null,null,null,null,null,null,null,null,null,null,null,null,null,null,null,null,null,null,null,null,"OK","OK"]
[null,null,null,null,null,null,null,null,null,null,null,null,null,null,null,null,null,null,0,null,null,null,null,5870000,null,null,null,null,null,null,null,null,null,null,null,null,null,null,null,null,null,null,null,null,null,null,null,null,null,null,null,"OK","OK"]
[null,null,null,null,null,null,null,null,null,null,null,null,null,null,null,null,null,null,0,null,null,null,null,5870000,null,null,null,null,null,null,null,null,null,null,null,null,null,null,null,null,null,null,null,null,null,null,null,null,null,null,null,"OK","OK"]
[null,null,null,null,null,null,null,null,null,null,null,null,null,null,null,null,null,null,0,null,null,null,null,5870000,null,null,null,null,null,null,null,null,null,null,null,null,null,null,null,null,null,null,null,null,null,null,null,null,null,null,null,"OK","OK"]
[null,null,null,null,null,null,null,null,null,null,null,null,null,null,null,null,null,null,0,null,null,null,null,5870000,null,null,null,null,null,null,null,null,null,null,null,null,null,null,null,null,null,null,null,null,null,null,null,null,null,null,null,{"$f":"IF(S1870-AA1870-AC1870-AE1870-AG1870-AI1870-AK1870-AM1870-AO1870-AQ1870-AS1870-AU1870-AW1870=0,\"OK\",\"Compromisos diferentes al valor estimado en la vigencia actual\")","v":"OK"},{"$f":"IF(S1870-AB1870-AD1870-AF1870-AH1870-AJ1870-AL1870-AN1870-AP1870-AR1870-AT1870-AV1870-AX1870=0,\"OK\",\"Obligaciones diferentes al valor estimado en la vigencia actual\")","v":"OK"}]
[null,null,null,null,null,null,null,null,null,null,null,null,null,null,null,null,null,null,0,null,null,null,null,5870000,null,null,null,null,null,null,null,null,null,null,null,null,null,null,null,null,null,null,null,null,null,null,null,null,null,null,null,"OK","OK"]
[null,null,null,null,null,null,null,null,null,null,null,null,null,null,null,null,null,null,0,null,null,null,null,5870000,null,null,null,null,null,null,null,null,null,null,null,null,null,null,null,null,null,null,null,null,null,null,null,null,null,null,null,"OK","OK"]
[null,null,null,null,null,null,null,null,null,null,null,null,null,null,null,null,null,null,0,null,null,null,null,5870000,null,null,null,null,null,null,null,null,null,null,null,null,null,null,null,null,null,null,null,null,null,null,null,null,null,null,null,"OK","OK"]
[null,null,null,null,null,null,null,null,null,null,null,null,null,null,null,null,null,null,0,null,null,null,null,5870000,null,null,null,null,null,null,null,null,null,null,null,null,null,null,null,null,null,null,null,null,null,null,null,null,null,null,null,"OK","OK"]
[null,null,null,null,null,null,null,null,null,null,null,null,null,null,null,null,null,null,0,null,null,null,null,5870000,null,null,null,null,null,null,null,null,null,null,null,null,null,null,null,null,null,null,null,null,null,null,null,null,null,null,null,"OK","OK"]
[null,null,null,null,null,null,null,null,null,null,null,null,null,null,null,null,null,null,0,null,null,null,null,5870000,null,null,null,null,null,null,null,null,null,null,null,null,null,null,null,null,null,null,null,null,null,null,null,null,null,null,null,"OK","OK"]
[null,null,null,null,null,null,null,null,null,null,null,null,null,null,null,null,null,null,0,null,null,null,null,5870000,null,null,null,null,null,null,null,null,null,null,null,null,null,null,null,null,null,null,null,null,null,null,null,null,null,null,null,"OK","OK"]
[null,null,null,null,null,null,null,null,null,null,null,null,null,null,null,null,null,null,0,null,null,null,null,5870000,null,null,null,null,null,null,null,null,null,null,null,null,null,null,null,null,null,null,null,null,null,null,null,null,null,null,null,"OK","OK"]
[null,null,null,null,null,null,null,null,null,null,null,null,null,null,null,null,null,null,0,null,null,null,null,5870000,null,null,null,null,null,null,null,null,null,null,null,null,null,null,null,null,null,null,null,null,null,null,null,null,null,null,null,"OK","OK"]
[null,null,null,null,null,null,null,null,null,null,null,null,null,null,null,null,null,null,0,null,null,null,null,5870000,null,null,null,null,null,null,null,null,null,null,null,null,null,null,null,null,null,null,null,null,null,null,null,null,null,null,null,"OK","OK"]
[null,null,null,null,null,null,null,null,null,null,null,null,null,null,null,null,null,null,0,null,null,null,null,5870000,null,null,null,null,null,null,null,null,null,null,null,null,null,null,null,null,null,null,null,null,null,null,null,null,null,null,null,"OK","OK"]
[null,null,null,null,null,null,null,null,null,null,null,null,null,null,null,null,null,null,0,null,null,null,null,5870000,null,null,null,null,null,null,null,null,null,null,null,null,null,null,null,null,null,null,null,null,null,null,null,null,null,null,null,"OK","OK"]
[null,null,null,null,null,null,null,null,null,null,null,null,null,null,null,null,null,null,0,null,null,null,null,5870000,null,null,null,null,null,null,null,null,null,null,null,null,null,null,null,null,null,null,null,null,null,null,null,null,null,null,null,"OK","OK"]
[null,null,null,null,null,null,null,null,null,null,null,null,null,null,null,null,null,null,0,null,null,null,null,5870000,null,null,null,null,null,null,null,null,null,null,null,null,null,null,null,null,null,null,null,null,null,null,null,null,null,null,null,"OK","OK"]
[null,null,null,null,null,null,null,null,null,null,null,null,null,null,null,null,null,null,0,null,null,null,null,5870000,null,null,null,null,null,null,null,null,null,null,null,null,null,null,null,null,null,null,null,null,null,null,null,null,null,null,null,"OK","OK"]
[null,null,null,null,null,null,null,null,null,null,null,null,null,null,null,null,null,null,0,null,null,null,null,5870000,null,null,null,null,null,null,null,null,null,null,null,null,null,null,null,null,null,null,null,null,null,null,null,null,null,null,null,"OK","OK"]
[null,null,null,null,null,null,null,null,null,null,null,null,null,null,null,null,null,null,0,null,null,null,null,5870000,null,null,null,null,null,null,null,null,null,null,null,null,null,null,null,null,null,null,null,null,null,null,null,null,null,null,null,"OK","OK"]
[null,null,null,null,null,null,null,null,null,null,null,null,null,null,null,null,null,null,0,null,null,null,null,5870000,null,null,null,null,null,null,null,null,null,null,null,null,null,null,null,null,null,null,null,null,null,null,null,null,null,null,null,"OK","OK"]
[null,null,null,null,null,null,null,null,null,null,null,null,null,null,null,null,null,null,0,null,null,null,null,5870000,null,null,null,null,null,null,null,null,null,null,null,null,null,null,null,null,null,null,null,null,null,null,null,null,null,null,null,"OK","OK"]
[null,null,null,null,null,null,null,null,null,null,null,null,null,null,null,null,null,null,0,null,null,null,null,5870000,null,null,null,null,null,null,null,null,null,null,null,null,null,null,null,null,null,null,null,null,null,null,null,null,null,null,null,"OK","OK"]
[null,null,null,null,null,null,null,null,null,null,null,null,null,null,null,null,null,null,0,null,null,null,null,5870000,null,null,null,null,null,null,null,null,null,null,null,null,null,null,null,null,null,null,null,null,null,null,null,null,null,null,null,"OK","OK"]
[null,null,null,null,null,null,null,null,null,null,null,null,null,null,null,null,null,null,0,null,null,null,null,5870000,null,null,null,null,null,null,null,null,null,null,null,null,null,null,null,null,null,null,null,null,null,null,null,null,null,null,null,"OK","OK"]
[null,null,null,null,null,null,null,null,null,null,null,null,null,null,null,null,null,null,0,null,null,null,null,5870000,null,null,null,null,null,null,null,null,null,null,null,null,null,null,null,null,null,null,null,null,null,null,null,null,null,null,null,"OK","OK"]
[null,null,null,null,null,null,null,null,null,null,null,null,null,null,null,null,null,null,0,null,null,null,null,5870000,null,null,null,null,null,null,null,null,null,null,null,null,null,null,null,null,null,null,null,null,null,null,null,null,null,null,null,"OK","OK"]
[null,null,null,null,null,null,null,null,null,null,null,null,null,null,null,null,null,null,0,null,null,null,null,5870000,null,null,null,null,null,null,null,null,null,null,null,null,null,null,null,null,null,null,null,null,null,null,null,null,null,null,null,"OK","OK"]
[null,null,null,null,null,null,null,null,null,null,null,null,null,null,null,null,null,null,0,null,null,null,null,5870000,null,null,null,null,null,null,null,null,null,null,null,null,null,null,null,null,null,null,null,null,null,null,null,null,null,null,null,"OK","OK"]
[null,null,null,null,null,null,null,null,null,null,null,null,null,null,null,null,null,null,0,null,null,null,null,5870000,null,null,null,null,null,null,null,null,null,null,null,null,null,null,null,null,null,null,null,null,null,null,null,null,null,null,null,{"$f":"IF(S1998-AA1998-AC1998-AE1998-AG1998-AI1998-AK1998-AM1998-AO1998-AQ1998-AS1998-AU1998-AW1998=0,\"OK\",\"Compromisos diferentes al valor estimado en la vigencia actual\")","v":"OK"},{"$f":"IF(S1998-AB1998-AD1998-AF1998-AH1998-AJ1998-AL1998-AN1998-AP1998-AR1998-AT1998-AV1998-AX1998=0,\"OK\",\"Obligaciones diferentes al valor estimado en la vigencia actual\")","v":"OK"}]
[null,null,null,null,null,null,null,null,null,null,null,null,null,null,null,null,null,null,0,null,null,null,null,5870000,null,null,null,null,null,null,null,null,null,null,null,null,null,null,null,null,null,null,null,null,null,null,null,null,null,null,null,"OK","OK"]
[null,null,null,null,null,null,null,null,null,null,null,null,null,null,null,null,null,null,0,null,null,null,null,5870000,null,null,null,null,null,null,null,null,null,null,null,null,null,null,null,null,null,null,null,null,null,null,null,null,null,null,null,"OK","OK"]
[null,null,null,null,null,null,null,null,null,null,null,null,null,null,null,null,null,null,0,null,null,null,null,5870000,null,null,null,null,null,null,null,null,null,null,null,null,null,null,null,null,null,null,null,null,null,null,null,null,null,null,null,"OK","OK"]
[null,null,null,null,null,null,null,null,null,null,null,null,null,null,null,null,null,null,0,null,null,null,null,5870000,null,null,null,null,null,null,null,null,null,null,null,null,null,null,null,null,null,null,null,null,null,null,null,null,null,null,null,"OK","OK"]
[null,null,null,null,null,null,null,null,null,null,null,null,null,null,null,null,null,null,0,null,null,null,null,5870000,null,null,null,null,null,null,null,null,null,null,null,null,null,null,null,null,null,null,null,null,null,null,null,null,null,null,null,"OK","OK"]
[null,null,null,null,null,null,null,null,null,null,null,null,null,null,null,null,null,null,0,null,null,null,null,5870000,null,null,null,null,null,null,null,null,null,null,null,null,null,null,null,null,null,null,null,null,null,null,null,null,null,null,null,"OK","OK"]
[null,null,null,null,null,null,null,null,null,null,null,null,null,null,null,null,null,null,0,null,null,null,null,5870000,null,null,null,null,null,null,null,null,null,null,null,null,null,null,null,null,null,null,null,null,null,null,null,null,null,null,null,"OK","OK"]
[null,null,null,null,null,null,null,null,null,null,null,null,null,null,null,null,null,null,0,null,null,null,null,5870000,null,null,null,null,null,null,null,null,null,null,null,null,null,null,null,null,null,null,null,null,null,null,null,null,null,null,null,"OK","OK"]
[null,null,null,null,null,null,null,null,null,null,null,null,null,null,null,null,null,null,0,null,null,null,null,5870000,null,null,null,null,null,null,null,null,null,null,null,null,null,null,null,null,null,null,null,null,null,null,null,null,null,null,null,"OK","OK"]
[null,null,null,null,null,null,null,null,null,null,null,null,null,null,null,null,null,null,0,null,null,null,null,5870000,null,null,null,null,null,null,null,null,null,null,null,null,null,null,null,null,null,null,null,null,null,null,null,null,null,null,null,"OK","OK"]
[null,null,null,null,null,null,null,null,null,null,null,null,null,null,null,null,null,null,0,null,null,null,null,5870000,null,null,null,null,null,null,null,null,null,null,null,null,null,null,null,null,null,null,null,null,null,null,null,null,null,null,null,"OK","OK"]
[null,null,null,null,null,null,null,null,null,null,null,null,null,null,null,null,null,null,0,null,null,null,null,5870000,null,null,null,null,null,null,null,null,null,null,null,null,null,null,null,null,null,null,null,null,null,null,null,null,null,null,null,"OK","OK"]
[null,null,null,null,null,null,null,null,null,null,null,null,null,null,null,null,null,null,0,null,null,null,null,5870000,null,null,null,null,null,null,null,null,null,null,null,null,null,null,null,null,null,null,null,null,null,null,null,null,null,null,null,"OK","OK"]
[null,null,null,null,null,null,null,null,null,null,null,null,null,null,null,null,null,null,0,null,null,null,null,5870000,null,null,null,null,null,null,null,null,null,null,null,null,null,null,null,null,null,null,null,null,null,null,null,null,null,null,null,"OK","OK"]
[null,null,null,null,null,null,null,null,null,null,null,null,null,null,null,null,null,null,0,null,null,null,null,5870000,null,null,null,null,null,null,null,null,null,null,null,null,null,null,null,null,null,null,null,null,null,null,null,null,null,null,null,"OK","OK"]
[null,null,null,null,null,null,null,null,null,null,null,null,null,null,null,null,null,null,0,null,null,null,null,5870000,null,null,null,null,null,null,null,null,null,null,null,null,null,null,null,null,null,null,null,null,null,null,null,null,null,null,null,"OK","OK"]
[null,null,null,null,null,null,null,null,null,null,null,null,null,null,null,null,null,null,0,null,null,null,null,5870000,null,null,null,null,null,null,null,null,null,null,null,null,null,null,null,null,null,null,null,null,null,null,null,null,null,null,null,"OK","OK"]
[null,null,null,null,null,null,null,null,null,null,null,null,null,null,null,null,null,null,0,null,null,null,null,5870000,null,null,null,null,null,null,null,null,null,null,null,null,null,null,null,null,null,null,null,null,null,null,null,null,null,null,null,"OK","OK"]
[null,null,null,null,null,null,null,null,null,null,null,null,null,null,null,null,null,null,0,null,null,null,null,5870000,null,null,null,null,null,null,null,null,null,null,null,null,null,null,null,null,null,null,null,null,null,null,null,null,null,null,null,"OK","OK"]
[null,null,null,null,null,null,null,null,null,null,null,null,null,null,null,null,null,null,0,null,null,null,null,5870000,null,null,null,null,null,null,null,null,null,null,null,null,null,null,null,null,null,null,null,null,null,null,null,null,null,null,null,"OK","OK"]
[null,null,null,null,null,null,null,null,null,null,null,null,null,null,null,null,null,null,0,null,null,null,null,5870000,null,null,null,null,null,null,null,null,null,null,null,null,null,null,null,null,null,null,null,null,null,null,null,null,null,null,null,"OK","OK"]
[null,null,null,null,null,null,null,null,null,null,null,null,null,null,null,null,null,null,0,null,null,null,null,5870000,null,null,null,null,null,null,null,null,null,null,null,null,null,null,null,null,null,null,null,null,null,null,null,null,null,null,null,"OK","OK"]
[null,null,null,null,null,null,null,null,null,null,null,null,null,null,null,null,null,null,0,null,null,null,null,5870000,null,null,null,null,null,null,null,null,null,null,null,null,null,null,null,null,null,null,null,null,null,null,null,null,null,null,null,"OK","OK"]
[null,null,null,null,null,null,null,null,null,null,null,null,null,null,null,null,null,null,0,null,null,null,null,5870000,null,null,null,null,null,null,null,null,null,null,null,null,null,null,null,null,null,null,null,null,null,null,null,null,null,null,null,"OK","OK"]
[null,null,null,null,null,null,null,null,null,null,null,null,null,null,null,null,null,null,0,null,null,null,null,5870000,null,null,null,null,null,null,null,null,null,null,null,null,null,null,null,null,null,null,null,null,null,null,null,null,null,null,null,"OK","OK"]
[null,null,null,null,null,null,null,null,null,null,null,null,null,null,null,null,null,null,0,null,null,null,null,5870000,null,null,null,null,null,null,null,null,null,null,null,null,null,null,null,null,null,null,null,null,null,null,null,null,null,null,null,"OK","OK"]
[null,null,null,null,null,null,null,null,null,null,null,null,null,null,null,null,null,null,0,null,null,null,null,5870000,null,null,null,null,null,null,null,null,null,null,null,null,null,null,null,null,null,null,null,null,null,null,null,null,null,null,null,{"$f":"IF(S2126-AA2126-AC2126-AE2126-AG2126-AI2126-AK2126-AM2126-AO2126-AQ2126-AS2126-AU2126-AW2126=0,\"OK\",\"Compromisos diferentes al valor estimado en la vigencia actual\")","v":"OK"},{"$f":"IF(S2126-AB2126-AD2126-AF2126-AH2126-AJ2126-AL2126-AN2126-AP2126-AR2126-AT2126-AV2126-AX2126=0,\"OK\",\"Obligaciones diferentes al valor estimado en la vigencia actual\")","v":"OK"}]
[null,null,null,null,null,null,null,null,null,null,null,null,null,null,null,null,null,null,0,null,null,null,null,5870000,null,null,null,null,null,null,null,null,null,null,null,null,null,null,null,null,null,null,null,null,null,null,null,null,null,null,null,"OK","OK"]
[null,null,null,null,null,null,null,null,null,null,null,null,null,null,null,null,null,null,0,null,null,null,null,5870000,null,null,null,null,null,null,null,null,null,null,null,null,null,null,null,null,null,null,null,null,null,null,null,null,null,null,null,"OK","OK"]
[null,null,null,null,null,null,null,null,null,null,null,null,null,null,null,null,null,null,0,null,null,null,null,5870000,null,null,null,null,null,null,null,null,null,null,null,null,null,null,null,null,null,null,null,null,null,null,null,null,null,null,null,"OK","OK"]
[null,null,null,null,null,null,null,null,null,null,null,null,null,null,null,null,null,null,0,null,null,null,null,5870000,null,null,null,null,null,null,null,null,null,null,null,null,null,null,null,null,null,null,null,null,null,null,null,null,null,null,null,"OK","OK"]
[null,null,null,null,null,null,null,null,null,null,null,null,null,null,null,null,null,null,0,null,null,null,null,5870000,null,null,null,null,null,null,null,null,null,null,null,null,null,null,null,null,null,null,null,null,null,null,null,null,null,null,null,"OK","OK"]
[null,null,null,null,null,null,null,null,null,null,null,null,null,null,null,null,null,null,0,null,null,null,null,5870000,null,null,null,null,null,null,null,null,null,null,null,null,null,null,null,null,null,null,null,null,null,null,null,null,null,null,null,"OK","OK"]
[null,null,null,null,null,null,null,null,null,null,null,null,null,null,null,null,null,null,0,null,null,null,null,5870000,null,null,null,null,null,null,null,null,null,null,null,null,null,null,null,null,null,null,null,null,null,null,null,null,null,null,null,"OK","OK"]
[null,null,null,null,null,null,null,null,null,null,null,null,null,null,null,null,null,null,0,null,null,null,null,5870000,null,null,null,null,null,null,null,null,null,null,null,null,null,null,null,null,null,null,null,null,null,null,null,null,null,null,null,"OK","OK"]
[null,null,null,null,null,null,null,null,null,null,null,null,null,null,null,null,null,null,0,null,null,null,null,5870000,null,null,null,null,null,null,null,null,null,null,null,null,null,null,null,null,null,null,null,null,null,null,null,null,null,null,null,"OK","OK"]
[null,null,null,null,null,null,null,null,null,null,null,null,null,null,null,null,null,null,0,null,null,null,null,5870000,null,null,null,null,null,null,null,null,null,null,null,null,null,null,null,null,null,null,null,null,null,null,null,null,null,null,null,"OK","OK"]
[null,null,null,null,null,null,null,null,null,null,null,null,null,null,null,null,null,null,0,null,null,null,null,5870000,null,null,null,null,null,null,null,null,null,null,null,null,null,null,null,null,null,null,null,null,null,null,null,null,null,null,null,"OK","OK"]
[null,null,null,null,null,null,null,null,null,null,null,null,null,null,null,null,null,null,0,null,null,null,null,5870000,null,null,null,null,null,null,null,null,null,null,null,null,null,null,null,null,null,null,null,null,null,null,null,null,null,null,null,"OK","OK"]
[null,null,null,null,null,null,null,null,null,null,null,null,null,null,null,null,null,null,0,null,null,null,null,5870000,null,null,null,null,null,null,null,null,null,null,null,null,null,null,null,null,null,null,null,null,null,null,null,null,null,null,null,"OK","OK"]
[null,null,null,null,null,null,null,null,null,null,null,null,null,null,null,null,null,null,0,null,null,null,null,5870000,null,null,null,null,null,null,null,null,null,null,null,null,null,null,null,null,null,null,null,null,null,null,null,null,null,null,null,"OK","OK"]
[null,null,null,null,null,null,null,null,null,null,null,null,null,null,null,null,null,null,0,null,null,null,null,5870000,null,null,null,null,null,null,null,null,null,null,null,null,null,null,null,null,null,null,null,null,null,null,null,null,null,null,null,"OK","OK"]
[null,null,null,null,null,null,null,null,null,null,null,null,null,null,null,null,null,null,0,null,null,null,null,5870000,null,null,null,null,null,null,null,null,null,null,null,null,null,null,null,null,null,null,null,null,null,null,null,null,null,null,null,"OK","OK"]
[null,null,null,null,null,null,null,null,null,null,null,null,null,null,null,null,null,null,0,null,null,null,null,5870000,null,null,null,null,null,null,null,null,null,null,null,null,null,null,null,null,null,null,null,null,null,null,null,null,null,null,null,"OK","OK"]
[null,null,null,null,null,null,null,null,null,null,null,null,null,null,null,null,null,null,0,null,null,null,null,5870000,null,null,null,null,null,null,null,null,null,null,null,null,null,null,null,null,null,null,null,null,null,null,null,null,null,null,null,"OK","OK"]
[null,null,null,null,null,null,null,null,null,null,null,null,null,null,null,null,null,null,0,null,null,null,null,5870000,null,null,null,null,null,null,null,null,null,null,null,null,null,null,null,null,null,null,null,null,null,null,null,null,null,null,null,"OK","OK"]
[null,null,null,null,null,null,null,null,null,null,null,null,null,null,null,null,null,null,0,null,null,null,null,5870000,null,null,null,null,null,null,null,null,null,null,null,null,null,null,null,null,null,null,null,null,null,null,null,null,null,null,null,"OK","OK"]
[null,null,null,null,null,null,null,null,null,null,null,null,null,null,null,null,null,null,0,null,null,null,null,5870000,null,null,null,null,null,null,null,null,null,null,null,null,null,null,null,null,null,null,null,null,null,null,null,null,null,null,null,"OK","OK"]
[null,null,null,null,null,null,null,null,null,null,null,null,null,null,null,null,null,null,0,null,null,null,null,5870000,null,null,null,null,null,null,null,null,null,null,null,null,null,null,null,null,null,null,null,null,null,null,null,null,null,null,null,"OK","OK"]
[null,null,null,null,null,null,null,null,null,null,null,null,null,null,null,null,null,null,0,null,null,null,null,5870000,null,null,null,null,null,null,null,null,null,null,null,null,null,null,null,null,null,null,null,null,null,null,null,null,null,null,null,"OK","OK"]
[null,null,null,null,null,null,null,null,null,null,null,null,null,null,null,null,null,null,0,null,null,null,null,5870000,null,null,null,null,null,null,null,null,null,null,null,null,null,null,null,null,null,null,null,null,null,null,null,null,null,null,null,"OK","OK"]
[null,null,null,null,null,null,null,null,null,null,null,null,null,null,null,null,null,null,0,null,null,null,null,5870000,null,null,null,null,null,null,null,null,null,null,null,null,null,null,null,null,null,null,null,null,null,null,null,null,null,null,null,"OK","OK"]
[null,null,null,null,null,null,null,null,null,null,null,null,null,null,null,null,null,null,0,null,null,null,null,5870000,null,null,null,null,null,null,null,null,null,null,null,null,null,null,null,null,null,null,null,null,null,null,null,null,null,null,null,"OK","OK"]
[null,null,null,null,null,null,null,null,null,null,null,null,null,null,null,null,null,null,0,null,null,null,null,5870000,null,null,null,null,null,null,null,null,null,null,null,null,null,null,null,null,null,null,null,null,null,null,null,null,null,null,null,{"$f":"IF(S2254-AA2254-AC2254-AE2254-AG2254-AI2254-AK2254-AM2254-AO2254-AQ2254-AS2254-AU2254-AW2254=0,\"OK\",\"Compromisos diferentes al valor estimado en la vigencia actual\")","v":"OK"},{"$f":"IF(S2254-AB2254-AD2254-AF2254-AH2254-AJ2254-AL2254-AN2254-AP2254-AR2254-AT2254-AV2254-AX2254=0,\"OK\",\"Obligaciones diferentes al valor estimado en la vigencia actual\")","v":"OK"}]
[null,null,null,null,null,null,null,null,null,null,null,null,null,null,null,null,null,null,0,null,null,null,null,5870000,null,null,null,null,null,null,null,null,null,null,null,null,null,null,null,null,null,null,null,null,null,null,null,null,null,null,null,"OK","OK"]
[null,null,null,null,null,null,null,null,null,null,null,null,null,null,null,null,null,null,0,null,null,null,null,5870000,null,null,null,null,null,null,null,null,null,null,null,null,null,null,null,null,null,null,null,null,null,null,null,null,null,null,null,"OK","OK"]
[null,null,null,null,null,null,null,null,null,null,null,null,null,null,null,null,null,null,0,null,null,null,null,5870000,null,null,null,null,null,null,null,null,null,null,null,null,null,null,null,null,null,null,null,null,null,null,null,null,null,null,null,"OK","OK"]
[null,null,null,null,null,null,null,null,null,null,null,null,null,null,null,null,null,null,0,null,null,null,null,5870000,null,null,null,null,null,null,null,null,null,null,null,null,null,null,null,null,null,null,null,null,null,null,null,null,null,null,null,"OK","OK"]
[null,null,null,null,null,null,null,null,null,null,null,null,null,null,null,null,null,null,0,null,null,null,null,5870000,null,null,null,null,null,null,null,null,null,null,null,null,null,null,null,null,null,null,null,null,null,null,null,null,null,null,null,"OK","OK"]
[null,null,null,null,null,null,null,null,null,null,null,null,null,null,null,null,null,null,0,null,null,null,null,5870000,null,null,null,null,null,null,null,null,null,null,null,null,null,null,null,null,null,null,null,null,null,null,null,null,null,null,null,"OK","OK"]
[null,null,null,null,null,null,null,null,null,null,null,null,null,null,null,null,null,null,0,null,null,null,null,5870000,null,null,null,null,null,null,null,null,null,null,null,null,null,null,null,null,null,null,null,null,null,null,null,null,null,null,null,"OK","OK"]
[null,null,null,null,null,null,null,null,null,null,null,null,null,null,null,null,null,null,0,null,null,null,null,5870000,null,null,null,null,null,null,null,null,null,null,null,null,null,null,null,null,null,null,null,null,null,null,null,null,null,null,null,"OK","OK"]
[null,null,null,null,null,null,null,null,null,null,null,null,null,null,null,null,null,null,0,null,null,null,null,5870000,null,null,null,null,null,null,null,null,null,null,null,null,null,null,null,null,null,null,null,null,null,null,null,null,null,null,null,"OK","OK"]
[null,null,null,null,null,null,null,null,null,null,null,null,null,null,null,null,null,null,0,null,null,null,null,5870000,null,null,null,null,null,null,null,null,null,null,null,null,null,null,null,null,null,null,null,null,null,null,null,null,null,null,null,"OK","OK"]
[null,null,null,null,null,null,null,null,null,null,null,null,null,null,null,null,null,null,0,null,null,null,null,5870000,null,null,null,null,null,null,null,null,null,null,null,null,null,null,null,null,null,null,null,null,null,null,null,null,null,null,null,"OK","OK"]
[null,null,null,null,null,null,null,null,null,null,null,null,null,null,null,null,null,null,0,null,null,null,null,5870000,null,null,null,null,null,null,null,null,null,null,null,null,null,null,null,null,null,null,null,null,null,null,null,null,null,null,null,"OK","OK"]
[null,null,null,null,null,null,null,null,null,null,null,null,null,null,null,null,null,null,0,null,null,null,null,5870000,null,null,null,null,null,null,null,null,null,null,null,null,null,null,null,null,null,null,null,null,null,null,null,null,null,null,null,"OK","OK"]
[null,null,null,null,null,null,null,null,null,null,null,null,null,null,null,null,null,null,0,null,null,null,null,5870000,null,null,null,null,null,null,null,null,null,null,null,null,null,null,null,null,null,null,null,null,null,null,null,null,null,null,null,"OK","OK"]
[null,null,null,null,null,null,null,null,null,null,null,null,null,null,null,null,null,null,0,null,null,null,null,5870000,null,null,null,null,null,null,null,null,null,null,null,null,null,null,null,null,null,null,null,null,null,null,null,null,null,null,null,"OK","OK"]
[null,null,null,null,null,null,null,null,null,null,null,null,null,null,null,null,null,null,0,null,null,null,null,5870000,null,null,null,null,null,null,null,null,null,null,null,null,null,null,null,null,null,null,null,null,null,null,null,null,null,null,null,"OK","OK"]
[null,null,null,null,null,null,null,null,null,null,null,null,null,null,null,null,null,null,0,null,null,null,null,5870000,null,null,null,null,null,null,null,null,null,null,null,null,null,null,null,null,null,null,null,null,null,null,null,null,null,null,null,"OK","OK"]
[null,null,null,null,null,null,null,null,null,null,null,null,null,null,null,null,null,null,0,null,null,null,null,5870000,null,null,null,null,null,null,null,null,null,null,null,null,null,null,null,null,null,null,null,null,null,null,null,null,null,null,null,"OK","OK"]
[null,null,null,null,null,null,null,null,null,null,null,null,null,null,null,null,null,null,0,null,null,null,null,5870000,null,null,null,null,null,null,null,null,null,null,null,null,null,null,null,null,null,null,null,null,null,null,null,null,null,null,null,"OK","OK"]
[null,null,null,null,null,null,null,null,null,null,null,null,null,null,null,null,null,null,0,null,null,null,null,5870000,null,null,null,null,null,null,null,null,null,null,null,null,null,null,null,null,null,null,null,null,null,null,null,null,null,null,null,"OK","OK"]
[null,null,null,null,null,null,null,null,null,null,null,null,null,null,null,null,null,null,0,null,null,null,null,5870000,null,null,null,null,null,null,null,null,null,null,null,null,null,null,null,null,null,null,null,null,null,null,null,null,null,null,null,"OK","OK"]
[null,null,null,null,null,null,null,null,null,null,null,null,null,null,null,null,null,null,0,null,null,null,null,5870000,null,null,null,null,null,null,null,null,null,null,null,null,null,null,null,null,null,null,null,null,null,null,null,null,null,null,null,"OK","OK"]
[null,null,null,null,null,null,null,null,null,null,null,null,null,null,null,null,null,null,0,null,null,null,null,5870000,null,null,null,null,null,null,null,null,null,null,null,null,null,null,null,null,null,null,null,null,null,null,null,null,null,null,null,"OK","OK"]
[null,null,null,null,null,null,null,null,null,null,null,null,null,null,null,null,null,null,0,null,null,null,null,5870000,null,null,null,null,null,null,null,null,null,null,null,null,null,null,null,null,null,null,null,null,null,null,null,null,null,null,null,"OK","OK"]
[null,null,null,null,null,null,null,null,null,null,null,null,null,null,null,null,null,null,0,null,null,null,null,5870000,null,null,null,null,null,null,null,null,null,null,null,null,null,null,null,null,null,null,null,null,null,null,null,null,null,null,null,"OK","OK"]
[null,null,null,null,null,null,null,null,null,null,null,null,null,null,null,null,null,null,0,null,null,null,null,5870000,null,null,null,null,null,null,null,null,null,null,null,null,null,null,null,null,null,null,null,null,null,null,null,null,null,null,null,"OK","OK"]
[null,null,null,null,null,null,null,null,null,null,null,null,null,null,null,null,null,null,{"$f":"O2383+P2383-Q2383","v":0},null,null,null,null,5870000,null,null,null,null,null,null,null,null,null,null,null,null,null,null,null,null,null,null,null,null,null,null,null,null,null,null,null,"OK","OK"]
[null,null,null,null,null,null,null,null,null,null,null,null,null,null,null,null,null,null,0,null,null,null,null,5870000,null,null,null,null,null,null,null,null,null,null,null,null,null,null,null,null,null,null,null,null,null,null,null,null,null,null,null,"OK","OK"]
[null,null,null,null,null,null,null,null,null,null,null,null,null,null,null,null,null,null,0,null,null,null,null,5870000,null,null,null,null,null,null,null,null,null,null,null,null,null,null,null,null,null,null,null,null,null,null,null,null,null,null,null,"OK","OK"]
[null,null,null,null,null,null,null,null,null,null,null,null,null,null,null,null,null,null,0,null,null,null,null,5870000,null,null,null,null,null,null,null,null,null,null,null,null,null,null,null,null,null,null,null,null,null,null,null,null,null,null,null,"OK","OK"]
[null,null,null,null,null,null,null,null,null,null,null,null,null,null,null,null,null,null,0,null,null,null,null,5870000,null,null,null,null,null,null,null,null,null,null,null,null,null,null,null,null,null,null,null,null,null,null,null,null,null,null,null,"OK","OK"]
[null,null,null,null,null,null,null,null,null,null,null,null,null,null,null,null,null,null,0,null,null,null,null,5870000,null,null,null,null,null,null,null,null,null,null,null,null,null,null,null,null,null,null,null,null,null,null,null,null,null,null,null,"OK","OK"]
[null,null,null,null,null,null,null,null,null,null,null,null,null,null,null,null,null,null,0,null,null,null,null,5870000,null,null,null,null,null,null,null,null,null,null,null,null,null,null,null,null,null,null,null,null,null,null,null,null,null,null,null,"OK","OK"]
[null,null,null,null,null,null,null,null,null,null,null,null,null,null,null,null,null,null,0,null,null,null,null,5870000,null,null,null,null,null,null,null,null,null,null,null,null,null,null,null,null,null,null,null,null,null,null,null,null,null,null,null,"OK","OK"]
[null,null,null,null,null,null,null,null,null,null,null,null,null,null,null,null,null,null,0,null,null,null,null,5870000,null,null,null,null,null,null,null,null,null,null,null,null,null,null,null,null,null,null,null,null,null,null,null,null,null,null,null,"OK","OK"]
[null,null,null,null,null,null,null,null,null,null,null,null,null,null,null,null,null,null,0,null,null,null,null,5870000,null,null,null,null,null,null,null,null,null,null,null,null,null,null,null,null,null,null,null,null,null,null,null,null,null,null,null,"OK","OK"]
[null,null,null,null,null,null,null,null,null,null,null,null,null,null,null,null,null,null,0,null,null,null,null,5870000,null,null,null,null,null,null,null,null,null,null,null,null,null,null,null,null,null,null,null,null,null,null,null,null,null,null,null,"OK","OK"]
[null,null,null,null,null,null,null,null,null,null,null,null,null,null,null,null,null,null,0,null,null,null,null,5870000,null,null,null,null,null,null,null,null,null,null,null,null,null,null,null,null,null,null,null,null,null,null,null,null,null,null,null,"OK","OK"]
[null,null,null,null,null,null,null,null,null,null,null,null,null,null,null,null,null,null,0,null,null,null,null,5870000,null,null,null,null,null,null,null,null,null,null,null,null,null,null,null,null,null,null,null,null,null,null,null,null,null,null,null,"OK","OK"]
[null,null,null,null,null,null,null,null,null,null,null,null,null,null,null,null,null,null,0,null,null,null,null,5870000,null,null,null,null,null,null,null,null,null,null,null,null,null,null,null,null,null,null,null,null,null,null,null,null,null,null,null,"OK","OK"]
[null,null,null,null,null,null,null,null,null,null,null,null,null,null,null,null,null,null,0,null,null,null,null,5870000,null,null,null,null,null,null,null,null,null,null,null,null,null,null,null,null,null,null,null,null,null,null,null,null,null,null,null,"OK","OK"]
[null,null,null,null,null,null,null,null,null,null,null,null,null,null,null,null,null,null,0,null,null,null,null,5870000,null,null,null,null,null,null,null,null,null,null,null,null,null,null,null,null,null,null,null,null,null,null,null,null,null,null,null,"OK","OK"]
[null,null,null,null,null,null,null,null,null,null,null,null,null,null,null,null,null,null,0,null,null,null,null,5870000,null,null,null,null,null,null,null,null,null,null,null,null,null,null,null,null,null,null,null,null,null,null,null,null,null,null,null,"OK","OK"]
[null,null,null,null,null,null,null,null,null,null,null,null,null,null,null,null,null,null,0,null,null,null,null,5870000,null,null,null,null,null,null,null,null,null,null,null,null,null,null,null,null,null,null,null,null,null,null,null,null,null,null,null,"OK","OK"]
[null,null,null,null,null,null,null,null,null,null,null,null,null,null,null,null,null,null,0,null,null,null,null,5870000,null,null,null,null,null,null,null,null,null,null,null,null,null,null,null,null,null,null,null,null,null,null,null,null,null,null,null,"OK","OK"]
[null,null,null,null,null,null,null,null,null,null,null,null,null,null,null,null,null,null,0,null,null,null,null,5870000,null,null,null,null,null,null,null,null,null,null,null,null,null,null,null,null,null,null,null,null,null,null,null,null,null,null,null,"OK","OK"]
[null,null,null,null,null,null,null,null,null,null,null,null,null,null,null,null,null,null,0,null,null,null,null,5870000,null,null,null,null,null,null,null,null,null,null,null,null,null,null,null,null,null,null,null,null,null,null,null,null,null,null,null,"OK","OK"]
[null,null,null,null,null,null,null,null,null,null,null,null,null,null,null,null,null,null,0,null,null,null,null,5870000,null,null,null,null,null,null,null,null,null,null,null,null,null,null,null,null,null,null,null,null,null,null,null,null,null,null,null,"OK","OK"]
[null,null,null,null,null,null,null,null,null,null,null,null,null,null,null,null,null,null,0,null,null,null,null,5870000,null,null,null,null,null,null,null,null,null,null,null,null,null,null,null,null,null,null,null,null,null,null,null,null,null,null,null,"OK","OK"]
[null,null,null,null,null,null,null,null,null,null,null,null,null,null,null,null,null,null,0,null,null,null,null,5870000,null,null,null,null,null,null,null,null,null,null,null,null,null,null,null,null,null,null,null,null,null,null,null,null,null,null,null,"OK","OK"]
[null,null,null,null,null,null,null,null,null,null,null,null,null,null,null,null,null,null,0,null,null,null,null,5870000,null,null,null,null,null,null,null,null,null,null,null,null,null,null,null,null,null,null,null,null,null,null,null,null,null,null,null,"OK","OK"]
[null,null,null,null,null,null,null,null,null,null,null,null,null,null,null,null,null,null,0,null,null,null,null,5870000,null,null,null,null,null,null,null,null,null,null,null,null,null,null,null,null,null,null,null,null,null,null,null,null,null,null,null,"OK","OK"]
[null,null,null,null,null,null,null,null,null,null,null,null,null,null,null,null,null,null,0,null,null,null,null,5870000,null,null,null,null,null,null,null,null,null,null,null,null,null,null,null,null,null,null,null,null,null,null,null,null,null,null,null,"OK","OK"]
[null,null,null,null,null,null,null,null,null,null,null,null,null,null,null,null,null,null,0,null,null,null,null,5870000,null,null,null,null,null,null,null,null,null,null,null,null,null,null,null,null,null,null,null,null,null,null,null,null,null,null,null,"OK","OK"]
[null,null,null,null,null,null,null,null,null,null,null,null,null,null,null,null,null,null,0,null,null,null,null,5870000,null,null,null,null,null,null,null,null,null,null,null,null,null,null,null,null,null,null,null,null,null,null,null,null,null,null,null,"OK","OK"]
[null,null,null,null,null,null,null,null,null,null,null,null,null,null,null,null,null,null,0,null,null,null,null,5870000,null,null,null,null,null,null,null,null,null,null,null,null,null,null,null,null,null,null,null,null,null,null,null,null,null,null,null,"OK","OK"]
[null,null,null,null,null,null,null,null,null,null,null,null,null,null,null,null,null,null,0,null,null,null,null,5870000,null,null,null,null,null,null,null,null,null,null,null,null,null,null,null,null,null,null,null,null,null,null,null,null,null,null,null,"OK","OK"]
[null,null,null,null,null,null,null,null,null,null,null,null,null,null,null,null,null,null,0,null,null,null,null,5870000,null,null,null,null,null,null,null,null,null,null,null,null,null,null,null,null,null,null,null,null,null,null,null,null,null,null,null,"OK","OK"]
[null,null,null,null,null,null,null,null,null,null,null,null,null,null,null,null,null,null,0,null,null,null,null,5870000,null,null,null,null,null,null,null,null,null,null,null,null,null,null,null,null,null,null,null,null,null,null,null,null,null,null,null,"OK","OK"]
[null,null,null,null,null,null,null,null,null,null,null,null,null,null,null,null,null,null,0,null,null,null,null,5870000,null,null,null,null,null,null,null,null,null,null,null,null,null,null,null,null,null,null,null,null,null,null,null,null,null,null,null,"OK","OK"]
[null,null,null,null,null,null,null,null,null,null,null,null,null,null,null,null,null,null,0,null,null,null,null,5870000,null,null,null,null,null,null,null,null,null,null,null,null,null,null,null,null,null,null,null,null,null,null,null,null,null,null,null,"OK","OK"]
[null,null,null,null,null,null,null,null,null,null,null,null,null,null,null,null,null,null,0,null,null,null,null,5870000,null,null,null,null,null,null,null,null,null,null,null,null,null,null,null,null,null,null,null,null,null,null,null,null,null,null,null,"OK","OK"]
[null,null,null,null,null,null,null,null,null,null,null,null,null,null,null,null,null,null,0,null,null,null,null,5870000,null,null,null,null,null,null,null,null,null,null,null,null,null,null,null,null,null,null,null,null,null,null,null,null,null,null,null,"OK","OK"]
[null,null,null,null,null,null,null,null,null,null,null,null,null,null,null,null,null,null,0,null,null,null,null,5870000,null,null,null,null,null,null,null,null,null,null,null,null,null,null,null,null,null,null,null,null,null,null,null,null,null,null,null,"OK","OK"]
[null,null,null,null,null,null,null,null,null,null,null,null,null,null,null,null,null,null,0,null,null,null,null,5870000,null,null,null,null,null,null,null,null,null,null,null,null,null,null,null,null,null,null,null,null,null,null,null,null,null,null,null,"OK","OK"]
[null,null,null,null,null,null,null,null,null,null,null,null,null,null,null,null,null,null,0,null,null,null,null,5870000,null,null,null,null,null,null,null,null,null,null,null,null,null,null,null,null,null,null,null,null,null,null,null,null,null,null,null,"OK","OK"]
[null,null,null,null,null,null,null,null,null,null,null,null,null,null,null,null,null,null,0,null,null,null,null,5870000,null,null,null,null,null,null,null,null,null,null,null,null,null,null,null,null,null,null,null,null,null,null,null,null,null,null,null,"OK","OK"]
[null,null,null,null,null,null,null,null,null,null,null,null,null,null,null,null,null,null,0,null,null,null,null,5870000,null,null,null,null,null,null,null,null,null,null,null,null,null,null,null,null,null,null,null,null,null,null,null,null,null,null,null,"OK","OK"]
[null,null,null,null,null,null,null,null,null,null,null,null,null,null,null,null,null,null,0,null,null,null,null,5870000,null,null,null,null,null,null,null,null,null,null,null,null,null,null,null,null,null,null,null,null,null,null,null,null,null,null,null,"OK","OK"]
[null,null,null,null,null,null,null,null,null,null,null,null,null,null,null,null,null,null,0,null,null,null,null,5870000,null,null,null,null,null,null,null,null,null,null,null,null,null,null,null,null,null,null,null,null,null,null,null,null,null,null,null,"OK","OK"]
[null,null,null,null,null,null,null,null,null,null,null,null,null,null,null,null,null,null,0,null,null,null,null,5870000,null,null,null,null,null,null,null,null,null,null,null,null,null,null,null,null,null,null,null,null,null,null,null,null,null,null,null,"OK","OK"]
[null,null,null,null,null,null,null,null,null,null,null,null,null,null,null,null,null,null,0,null,null,null,null,5870000,null,null,null,null,null,null,null,null,null,null,null,null,null,null,null,null,null,null,null,null,null,null,null,null,null,null,null,"OK","OK"]
[null,null,null,null,null,null,null,null,null,null,null,null,null,null,null,null,null,null,0,null,null,null,null,5870000,null,null,null,null,null,null,null,null,null,null,null,null,null,null,null,null,null,null,null,null,null,null,null,null,null,null,null,"OK","OK"]
[null,null,null,null,null,null,null,null,null,null,null,null,null,null,null,null,null,null,0,null,null,null,null,5870000,null,null,null,null,null,null,null,null,null,null,null,null,null,null,null,null,null,null,null,null,null,null,null,null,null,null,null,"OK","OK"]
[null,null,null,null,null,null,null,null,null,null,null,null,null,null,null,null,null,null,0,null,null,null,null,5870000,null,null,null,null,null,null,null,null,null,null,null,null,null,null,null,null,null,null,null,null,null,null,null,null,null,null,null,"OK","OK"]
[null,null,null,null,null,null,null,null,null,null,null,null,null,null,null,null,null,null,0,null,null,null,null,5870000,null,null,null,null,null,null,null,null,null,null,null,null,null,null,null,null,null,null,null,null,null,null,null,null,null,null,null,"OK","OK"]
[null,null,null,null,null,null,null,null,null,null,null,null,null,null,null,null,null,null,0,null,null,null,null,5870000,null,null,null,null,null,null,null,null,null,null,null,null,null,null,null,null,null,null,null,null,null,null,null,null,null,null,null,"OK","OK"]
[null,null,null,null,null,null,null,null,null,null,null,null,null,null,null,null,null,null,0,null,null,null,null,5870000,null,null,null,null,null,null,null,null,null,null,null,null,null,null,null,null,null,null,null,null,null,null,null,null,null,null,null,"OK","OK"]
[null,null,null,null,null,null,null,null,null,null,null,null,null,null,null,null,null,null,0,null,null,null,null,5870000,null,null,null,null,null,null,null,null,null,null,null,null,null,null,null,null,null,null,null,null,null,null,null,null,null,null,null,"OK","OK"]
[null,null,null,null,null,null,null,null,null,null,null,null,null,null,null,null,null,null,0,null,null,null,null,5870000,null,null,null,null,null,null,null,null,null,null,null,null,null,null,null,null,null,null,null,null,null,null,null,null,null,null,null,"OK","OK"]
[null,null,null,null,null,null,null,null,null,null,null,null,null,null,null,null,null,null,0,null,null,null,null,5870000,null,null,null,null,null,null,null,null,null,null,null,null,null,null,null,null,null,null,null,null,null,null,null,null,null,null,null,"OK","OK"]
[null,null,null,null,null,null,null,null,null,null,null,null,null,null,null,null,null,null,0,null,null,null,null,5870000,null,null,null,null,null,null,null,null,null,null,null,null,null,null,null,null,null,null,null,null,null,null,null,null,null,null,null,"OK","OK"]
[null,null,null,null,null,null,null,null,null,null,null,null,null,null,null,null,null,null,0,null,null,null,null,5870000,null,null,null,null,null,null,null,null,null,null,null,null,null,null,null,null,null,null,null,null,null,null,null,null,null,null,null,"OK","OK"]
[null,null,null,null,null,null,null,null,null,null,null,null,null,null,null,null,null,null,0,null,null,null,null,5870000,null,null,null,null,null,null,null,null,null,null,null,null,null,null,null,null,null,null,null,null,null,null,null,null,null,null,null,"OK","OK"]
[null,null,null,null,null,null,null,null,null,null,null,null,null,null,null,null,null,null,0,null,null,null,null,5870000,null,null,null,null,null,null,null,null,null,null,null,null,null,null,null,null,null,null,null,null,null,null,null,null,null,null,null,"OK","OK"]
[null,null,null,null,null,null,null,null,null,null,null,null,null,null,null,null,null,null,0,null,null,null,null,5870000,null,null,null,null,null,null,null,null,null,null,null,null,null,null,null,null,null,null,null,null,null,null,null,null,null,null,null,"OK","OK"]
[null,null,null,null,null,null,null,null,null,null,null,null,null,null,null,null,null,null,0,null,null,null,null,5870000,null,null,null,null,null,null,null,null,null,null,null,null,null,null,null,null,null,null,null,null,null,null,null,null,null,null,null,"OK","OK"]
[null,null,null,null,null,null,null,null,null,null,null,null,null,null,null,null,null,null,0,null,null,null,null,5870000,null,null,null,null,null,null,null,null,null,null,null,null,null,null,null,null,null,null,null,null,null,null,null,null,null,null,null,"OK","OK"]
[null,null,null,null,null,null,null,null,null,null,null,null,null,null,null,null,null,null,0,null,null,null,null,5870000,null,null,null,null,null,null,null,null,null,null,null,null,null,null,null,null,null,null,null,null,null,null,null,null,null,null,null,"OK","OK"]
[null,null,null,null,null,null,null,null,null,null,null,null,null,null,null,null,null,null,0,null,null,null,null,5870000,null,null,null,null,null,null,null,null,null,null,null,null,null,null,null,null,null,null,null,null,null,null,null,null,null,null,null,"OK","OK"]
[null,null,null,null,null,null,null,null,null,null,null,null,null,null,null,null,null,null,0,null,null,null,null,5870000,null,null,null,null,null,null,null,null,null,null,null,null,null,null,null,null,null,null,null,null,null,null,null,null,null,null,null,"OK","OK"]
[null,null,null,null,null,null,null,null,null,null,null,null,null,null,null,null,null,null,0,null,null,null,null,5870000,null,null,null,null,null,null,null,null,null,null,null,null,null,null,null,null,null,null,null,null,null,null,null,null,null,null,null,"OK","OK"]
[null,null,null,null,null,null,null,null,null,null,null,null,null,null,null,null,null,null,0,null,null,null,null,5870000,null,null,null,null,null,null,null,null,null,null,null,null,null,null,null,null,null,null,null,null,null,null,null,null,null,null,null,"OK","OK"]
[null,null,null,null,null,null,null,null,null,null,null,null,null,null,null,null,null,null,0,null,null,null,null,5870000,null,null,null,null,null,null,null,null,null,null,null,null,null,null,null,null,null,null,null,null,null,null,null,null,null,null,null,{"$f":"IF(S2702-AA2702-AC2702-AE2702-AG2702-AI2702-AK2702-AM2702-AO2702-AQ2702-AS2702-AU2702-AW2702=0,\"OK\",\"Compromisos diferentes al valor estimado en la vigencia actual\")","v":"OK"},{"$f":"IF(S2702-AB2702-AD2702-AF2702-AH2702-AJ2702-AL2702-AN2702-AP2702-AR2702-AT2702-AV2702-AX2702=0,\"OK\",\"Obligaciones diferentes al valor estimado en la vigencia actual\")","v":"OK"}]
[null,null,null,null,null,null,null,null,null,null,null,null,null,null,null,null,null,null,0,null,null,null,null,5870000,null,null,null,null,null,null,null,null,null,null,null,null,null,null,null,null,null,null,null,null,null,null,null,null,null,null,null,"OK","OK"]
[null,null,null,null,null,null,null,null,null,null,null,null,null,null,null,null,null,null,0,null,null,null,null,5870000,null,null,null,null,null,null,null,null,null,null,null,null,null,null,null,null,null,null,null,null,null,null,null,null,null,null,null,"OK","OK"]
[null,null,null,null,null,null,null,null,null,null,null,null,null,null,null,null,null,null,0,null,null,null,null,5870000,null,null,null,null,null,null,null,null,null,null,null,null,null,null,null,null,null,null,null,null,null,null,null,null,null,null,null,"OK","OK"]
[null,null,null,null,null,null,null,null,null,null,null,null,null,null,null,null,null,null,0,null,null,null,null,5870000,null,null,null,null,null,null,null,null,null,null,null,null,null,null,null,null,null,null,null,null,null,null,null,null,null,null,null,"OK","OK"]
[null,null,null,null,null,null,null,null,null,null,null,null,null,null,null,null,null,null,0,null,null,null,null,5870000,null,null,null,null,null,null,null,null,null,null,null,null,null,null,null,null,null,null,null,null,null,null,null,null,null,null,null,"OK","OK"]
[null,null,null,null,null,null,null,null,null,null,null,null,null,null,null,null,null,null,0,null,null,null,null,5870000,null,null,null,null,null,null,null,null,null,null,null,null,null,null,null,null,null,null,null,null,null,null,null,null,null,null,null,"OK","OK"]
[null,null,null,null,null,null,null,null,null,null,null,null,null,null,null,null,null,null,0,null,null,null,null,5870000,null,null,null,null,null,null,null,null,null,null,null,null,null,null,null,null,null,null,null,null,null,null,null,null,null,null,null,"OK","OK"]
[null,null,null,null,null,null,null,null,null,null,null,null,null,null,null,null,null,null,0,null,null,null,null,5870000,null,null,null,null,null,null,null,null,null,null,null,null,null,null,null,null,null,null,null,null,null,null,null,null,null,null,null,"OK","OK"]
[null,null,null,null,null,null,null,null,null,null,null,null,null,null,null,null,null,null,0,null,null,null,null,5870000,null,null,null,null,null,null,null,null,null,null,null,null,null,null,null,null,null,null,null,null,null,null,null,null,null,null,null,"OK","OK"]
[null,null,null,null,null,null,null,null,null,null,null,null,null,null,null,null,null,null,0,null,null,null,null,5870000,null,null,null,null,null,null,null,null,null,null,null,null,null,null,null,null,null,null,null,null,null,null,null,null,null,null,null,"OK","OK"]
[null,null,null,null,null,null,null,null,null,null,null,null,null,null,null,null,null,null,0,null,null,null,null,5870000,null,null,null,null,null,null,null,null,null,null,null,null,null,null,null,null,null,null,null,null,null,null,null,null,null,null,null,"OK","OK"]
[null,null,null,null,null,null,null,null,null,null,null,null,null,null,null,null,null,null,0,null,null,null,null,5870000,null,null,null,null,null,null,null,null,null,null,null,null,null,null,null,null,null,null,null,null,null,null,null,null,null,null,null,"OK","OK"]
[null,null,null,null,null,null,null,null,null,null,null,null,null,null,null,null,null,null,0,null,null,null,null,5870000,null,null,null,null,null,null,null,null,null,null,null,null,null,null,null,null,null,null,null,null,null,null,null,null,null,null,null,"OK","OK"]
[null,null,null,null,null,null,null,null,null,null,null,null,null,null,null,null,null,null,0,null,null,null,null,5870000,null,null,null,null,null,null,null,null,null,null,null,null,null,null,null,null,null,null,null,null,null,null,null,null,null,null,null,"OK","OK"]
[null,null,null,null,null,null,null,null,null,null,null,null,null,null,null,null,null,null,0,null,null,null,null,5870000,null,null,null,null,null,null,null,null,null,null,null,null,null,null,null,null,null,null,null,null,null,null,null,null,null,null,null,"OK","OK"]
[null,null,null,null,null,null,null,null,null,null,null,null,null,null,null,null,null,null,0,null,null,null,null,5870000,null,null,null,null,null,null,null,null,null,null,null,null,null,null,null,null,null,null,null,null,null,null,null,null,null,null,null,"OK","OK"]
[null,null,null,null,null,null,null,null,null,null,null,null,null,null,null,null,null,null,0,null,null,null,null,5870000,null,null,null,null,null,null,null,null,null,null,null,null,null,null,null,null,null,null,null,null,null,null,null,null,null,null,null,"OK","OK"]
[null,null,null,null,null,null,null,null,null,null,null,null,null,null,null,null,null,null,0,null,null,null,null,5870000,null,null,null,null,null,null,null,null,null,null,null,null,null,null,null,null,null,null,null,null,null,null,null,null,null,null,null,"OK","OK"]
[null,null,null,null,null,null,null,null,null,null,null,null,null,null,null,null,null,null,0,null,null,null,null,5870000,null,null,null,null,null,null,null,null,null,null,null,null,null,null,null,null,null,null,null,null,null,null,null,null,null,null,null,"OK","OK"]
[null,null,null,null,null,null,null,null,null,null,null,null,null,null,null,null,null,null,0,null,null,null,null,5870000,null,null,null,null,null,null,null,null,null,null,null,null,null,null,null,null,null,null,null,null,null,null,null,null,null,null,null,"OK","OK"]
[null,null,null,null,null,null,null,null,null,null,null,null,null,null,null,null,null,null,0,null,null,null,null,5870000,null,null,null,null,null,null,null,null,null,null,null,null,null,null,null,null,null,null,null,null,null,null,null,null,null,null,null,"OK","OK"]
[null,null,null,null,null,null,null,null,null,null,null,null,null,null,null,null,null,null,0,null,null,null,null,5870000,null,null,null,null,null,null,null,null,null,null,null,null,null,null,null,null,null,null,null,null,null,null,null,null,null,null,null,"OK","OK"]
[null,null,null,null,null,null,null,null,null,null,null,null,null,null,null,null,null,null,0,null,null,null,null,5870000,null,null,null,null,null,null,null,null,null,null,null,null,null,null,null,null,null,null,null,null,null,null,null,null,null,null,null,"OK","OK"]
[null,null,null,null,null,null,null,null,null,null,null,null,null,null,null,null,null,null,0,null,null,null,null,5870000,null,null,null,null,null,null,null,null,null,null,null,null,null,null,null,null,null,null,null,null,null,null,null,null,null,null,null,"OK","OK"]
[null,null,null,null,null,null,null,null,null,null,null,null,null,null,null,null,null,null,0,null,null,null,null,5870000,null,null,null,null,null,null,null,null,null,null,null,null,null,null,null,null,null,null,null,null,null,null,null,null,null,null,null,"OK","OK"]
[null,null,null,null,null,null,null,null,null,null,null,null,null,null,null,null,null,null,0,null,null,null,null,5870000,null,null,null,null,null,null,null,null,null,null,null,null,null,null,null,null,null,null,null,null,null,null,null,null,null,null,null,"OK","OK"]
[null,null,null,null,null,null,null,null,null,null,null,null,null,null,null,null,null,null,{"$f":"O2831+P2831-Q2831","v":0},null,null,null,null,5870000,null,null,null,null,null,null,null,null,null,null,null,null,null,null,null,null,null,null,null,null,null,null,null,null,null,null,null,"OK","OK"]
[null,null,null,null,null,null,null,null,null,null,null,null,null,null,null,null,null,null,0,null,null,null,null,5870000,null,null,null,null,null,null,null,null,null,null,null,null,null,null,null,null,null,null,null,null,null,null,null,null,null,null,null,"OK","OK"]
[null,null,null,null,null,null,null,null,null,null,null,null,null,null,null,null,null,null,0,null,null,null,null,5870000,null,null,null,null,null,null,null,null,null,null,null,null,null,null,null,null,null,null,null,null,null,null,null,null,null,null,null,"OK","OK"]
[null,null,null,null,null,null,null,null,null,null,null,null,null,null,null,null,null,null,0,null,null,null,null,5870000,null,null,null,null,null,null,null,null,null,null,null,null,null,null,null,null,null,null,null,null,null,null,null,null,null,null,null,"OK","OK"]
[null,null,null,null,null,null,null,null,null,null,null,null,null,null,null,null,null,null,0,null,null,null,null,5870000,null,null,null,null,null,null,null,null,null,null,null,null,null,null,null,null,null,null,null,null,null,null,null,null,null,null,null,"OK","OK"]
[null,null,null,null,null,null,null,null,null,null,null,null,null,null,null,null,null,null,0,null,null,null,null,5870000,null,null,null,null,null,null,null,null,null,null,null,null,null,null,null,null,null,null,null,null,null,null,null,null,null,null,null,"OK","OK"]
[null,null,null,null,null,null,null,null,null,null,null,null,null,null,null,null,null,null,0,null,null,null,null,5870000,null,null,null,null,null,null,null,null,null,null,null,null,null,null,null,null,null,null,null,null,null,null,null,null,null,null,null,"OK","OK"]
[null,null,null,null,null,null,null,null,null,null,null,null,null,null,null,null,null,null,0,null,null,null,null,5870000,null,null,null,null,null,null,null,null,null,null,null,null,null,null,null,null,null,null,null,null,null,null,null,null,null,null,null,"OK","OK"]
[null,null,null,null,null,null,null,null,null,null,null,null,null,null,null,null,null,null,0,null,null,null,null,5870000,null,null,null,null,null,null,null,null,null,null,null,null,null,null,null,null,null,null,null,null,null,null,null,null,null,null,null,"OK","OK"]
[null,null,null,null,null,null,null,null,null,null,null,null,null,null,null,null,null,null,0,null,null,null,null,5870000,null,null,null,null,null,null,null,null,null,null,null,null,null,null,null,null,null,null,null,null,null,null,null,null,null,null,null,"OK","OK"]
[null,null,null,null,null,null,null,null,null,null,null,null,null,null,null,null,null,null,0,null,null,null,null,5870000,null,null,null,null,null,null,null,null,null,null,null,null,null,null,null,null,null,null,null,null,null,null,null,null,null,null,null,"OK","OK"]
[null,null,null,null,null,null,null,null,null,null,null,null,null,null,null,null,null,null,0,null,null,null,null,5870000,null,null,null,null,null,null,null,null,null,null,null,null,null,null,null,null,null,null,null,null,null,null,null,null,null,null,null,"OK","OK"]
[null,null,null,null,null,null,null,null,null,null,null,null,null,null,null,null,null,null,0,null,null,null,null,5870000,null,null,null,null,null,null,null,null,null,null,null,null,null,null,null,null,null,null,null,null,null,null,null,null,null,null,null,"OK","OK"]
[null,null,null,null,null,null,null,null,null,null,null,null,null,null,null,null,null,null,0,null,null,null,null,5870000,null,null,null,null,null,null,null,null,null,null,null,null,null,null,null,null,null,null,null,null,null,null,null,null,null,null,null,"OK","OK"]
[null,null,null,null,null,null,null,null,null,null,null,null,null,null,null,null,null,null,0,null,null,null,null,5870000,null,null,null,null,null,null,null,null,null,null,null,null,null,null,null,null,null,null,null,null,null,null,null,null,null,null,null,"OK","OK"]
[null,null,null,null,null,null,null,null,null,null,null,null,null,null,null,null,null,null,0,null,null,null,null,5870000,null,null,null,null,null,null,null,null,null,null,null,null,null,null,null,null,null,null,null,null,null,null,null,null,null,null,null,"OK","OK"]
[null,null,null,null,null,null,null,null,null,null,null,null,null,null,null,null,null,null,0,null,null,null,null,5870000,null,null,null,null,null,null,null,null,null,null,null,null,null,null,null,null,null,null,null,null,null,null,null,null,null,null,null,"OK","OK"]
[null,null,null,null,null,null,null,null,null,null,null,null,null,null,null,null,null,null,0,null,null,null,null,5870000,null,null,null,null,null,null,null,null,null,null,null,null,null,null,null,null,null,null,null,null,null,null,null,null,null,null,null,"OK","OK"]
[null,null,null,null,null,null,null,null,null,null,null,null,null,null,null,null,null,null,0,null,null,null,null,5870000,null,null,null,null,null,null,null,null,null,null,null,null,null,null,null,null,null,null,null,null,null,null,null,null,null,null,null,"OK","OK"]
[null,null,null,null,null,null,null,null,null,null,null,null,null,null,null,null,null,null,0,null,null,null,null,5870000,null,null,null,null,null,null,null,null,null,null,null,null,null,null,null,null,null,null,null,null,null,null,null,null,null,null,null,"OK","OK"]
[null,null,null,null,null,null,null,null,null,null,null,null,null,null,null,null,null,null,0,null,null,null,null,5870000,null,null,null,null,null,null,null,null,null,null,null,null,null,null,null,null,null,null,null,null,null,null,null,null,null,null,null,"OK","OK"]
[null,null,null,null,null,null,null,null,null,null,null,null,null,null,null,null,null,null,0,null,null,null,null,5870000,null,null,null,null,null,null,null,null,null,null,null,null,null,null,null,null,null,null,null,null,null,null,null,null,null,null,null,"OK","OK"]
[null,null,null,null,null,null,null,null,null,null,null,null,null,null,null,null,null,null,0,null,null,null,null,5870000,null,null,null,null,null,null,null,null,null,null,null,null,null,null,null,null,null,null,null,null,null,null,null,null,null,null,null,"OK","OK"]
[null,null,null,null,null,null,null,null,null,null,null,null,null,null,null,null,null,null,0,null,null,null,null,5870000,null,null,null,null,null,null,null,null,null,null,null,null,null,null,null,null,null,null,null,null,null,null,null,null,null,null,null,"OK","OK"]
[null,null,null,null,null,null,null,null,null,null,null,null,null,null,null,null,null,null,0,null,null,null,null,5870000,null,null,null,null,null,null,null,null,null,null,null,null,null,null,null,null,null,null,null,null,null,null,null,null,null,null,null,"OK","OK"]
[null,null,null,null,null,null,null,null,null,null,null,null,null,null,null,null,null,null,0,null,null,null,null,5870000,null,null,null,null,null,null,null,null,null,null,null,null,null,null,null,null,null,null,null,null,null,null,null,null,null,null,null,"OK","OK"]
[null,null,null,null,null,null,null,null,null,null,null,null,null,null,null,null,null,null,0,null,null,null,null,5870000,null,null,null,null,null,null,null,null,null,null,null,null,null,null,null,null,null,null,null,null,null,null,null,null,null,null,null,"OK","OK"]
[null,null,null,null,null,null,null,null,null,null,null,null,null,null,null,null,null,null,0,null,null,null,null,5870000,null,null,null,null,null,null,null,null,null,null,null,null,null,null,null,null,null,null,null,null,null,null,null,null,null,null,null,"OK","OK"]
[null,null,null,null,null,null,null,null,null,null,null,null,null,null,null,null,null,null,0,null,null,null,null,5870000,null,null,null,null,null,null,null,null,null,null,null,null,null,null,null,null,null,null,null,null,null,null,null,null,null,null,null,{"$f":"IF(S2894-AA2894-AC2894-AE2894-AG2894-AI2894-AK2894-AM2894-AO2894-AQ2894-AS2894-AU2894-AW2894=0,\"OK\",\"Compromisos diferentes al valor estimado en la vigencia actual\")","v":"OK"},{"$f":"IF(S2894-AB2894-AD2894-AF2894-AH2894-AJ2894-AL2894-AN2894-AP2894-AR2894-AT2894-AV2894-AX2894=0,\"OK\",\"Obligaciones diferentes al valor estimado en la vigencia actual\")","v":"OK"}]
[null,null,null,null,null,null,null,null,null,null,null,null,null,null,null,null,null,null,{"$f":"O2895+P2895-Q2895","v":0},null,null,null,null,5870000,null,null,null,null,null,null,null,null,null,null,null,null,null,null,null,null,null,null,null,null,null,null,null,null,null,null,null,"OK","OK"]
[null,null,null,null,null,null,null,null,null,null,null,null,null,null,null,null,null,null,0,null,null,null,null,5870000,null,null,null,null,null,null,null,null,null,null,null,null,null,null,null,null,null,null,null,null,null,null,null,null,null,null,null,"OK","OK"]
[null,null,null,null,null,null,null,null,null,null,null,null,null,null,null,null,null,null,0,null,null,null,null,5870000,null,null,null,null,null,null,null,null,null,null,null,null,null,null,null,null,null,null,null,null,null,null,null,null,null,null,null,"OK","OK"]
[null,null,null,null,null,null,null,null,null,null,null,null,null,null,null,null,null,null,0,null,null,null,null,5870000,null,null,null,null,null,null,null,null,null,null,null,null,null,null,null,null,null,null,null,null,null,null,null,null,null,null,null,"OK","OK"]
[null,null,null,null,null,null,null,null,null,null,null,null,null,null,null,null,null,null,0,null,null,null,null,5870000,null,null,null,null,null,null,null,null,null,null,null,null,null,null,null,null,null,null,null,null,null,null,null,null,null,null,null,"OK","OK"]
[null,null,null,null,null,null,null,null,null,null,null,null,null,null,null,null,null,null,0,null,null,null,null,5870000,null,null,null,null,null,null,null,null,null,null,null,null,null,null,null,null,null,null,null,null,null,null,null,null,null,null,null,"OK","OK"]
[null,null,null,null,null,null,null,null,null,null,null,null,null,null,null,null,null,null,0,null,null,null,null,5870000,null,null,null,null,null,null,null,null,null,null,null,null,null,null,null,null,null,null,null,null,null,null,null,null,null,null,null,"OK","OK"]
[null,null,null,null,null,null,null,null,null,null,null,null,null,null,null,null,null,null,0,null,null,null,null,5870000,null,null,null,null,null,null,null,null,null,null,null,null,null,null,null,null,null,null,null,null,null,null,null,null,null,null,null,"OK","OK"]
[null,null,null,null,null,null,null,null,null,null,null,null,null,null,null,null,null,null,0,null,null,null,null,5870000,null,null,null,null,null,null,null,null,null,null,null,null,null,null,null,null,null,null,null,null,null,null,null,null,null,null,null,"OK","OK"]
[null,null,null,null,null,null,null,null,null,null,null,null,null,null,null,null,null,null,0,null,null,null,null,5870000,null,null,null,null,null,null,null,null,null,null,null,null,null,null,null,null,null,null,null,null,null,null,null,null,null,null,null,"OK","OK"]
[null,null,null,null,null,null,null,null,null,null,null,null,null,null,null,null,null,null,0,null,null,null,null,5870000,null,null,null,null,null,null,null,null,null,null,null,null,null,null,null,null,null,null,null,null,null,null,null,null,null,null,null,"OK","OK"]
[null,null,null,null,null,null,null,null,null,null,null,null,null,null,null,null,null,null,0,null,null,null,null,5870000,null,null,null,null,null,null,null,null,null,null,null,null,null,null,null,null,null,null,null,null,null,null,null,null,null,null,null,"OK","OK"]
[null,null,null,null,null,null,null,null,null,null,null,null,null,null,null,null,null,null,0,null,null,null,null,5870000,null,null,null,null,null,null,null,null,null,null,null,null,null,null,null,null,null,null,null,null,null,null,null,null,null,null,null,"OK","OK"]
[null,null,null,null,null,null,null,null,null,null,null,null,null,null,null,null,null,null,0,null,null,null,null,5870000,null,null,null,null,null,null,null,null,null,null,null,null,null,null,null,null,null,null,null,null,null,null,null,null,null,null,null,"OK","OK"]
[null,null,null,null,null,null,null,null,null,null,null,null,null,null,null,null,null,null,0,null,null,null,null,5870000,null,null,null,null,null,null,null,null,null,null,null,null,null,null,null,null,null,null,null,null,null,null,null,null,null,null,null,"OK","OK"]
[null,null,null,null,null,null,null,null,null,null,null,null,null,null,null,null,null,null,0,null,null,null,null,5870000,null,null,null,null,null,null,null,null,null,null,null,null,null,null,null,null,null,null,null,null,null,null,null,null,null,null,null,"OK","OK"]
[null,null,null,null,null,null,null,null,null,null,null,null,null,null,null,null,null,null,0,null,null,null,null,5870000,null,null,null,null,null,null,null,null,null,null,null,null,null,null,null,null,null,null,null,null,null,null,null,null,null,null,null,"OK","OK"]
[null,null,null,null,null,null,null,null,null,null,null,null,null,null,null,null,null,null,0,null,null,null,null,5870000,null,null,null,null,null,null,null,null,null,null,null,null,null,null,null,null,null,null,null,null,null,null,null,null,null,null,null,"OK","OK"]
[null,null,null,null,null,null,null,null,null,null,null,null,null,null,null,null,null,null,0,null,null,null,null,5870000,null,null,null,null,null,null,null,null,null,null,null,null,null,null,null,null,null,null,null,null,null,null,null,null,null,null,null,"OK","OK"]
[null,null,null,null,null,null,null,null,null,null,null,null,null,null,null,null,null,null,0,null,null,null,null,5870000,null,null,null,null,null,null,null,null,null,null,null,null,null,null,null,null,null,null,null,null,null,null,null,null,null,null,null,"OK","OK"]
[null,null,null,null,null,null,null,null,null,null,null,null,null,null,null,null,null,null,0,null,null,null,null,5870000,null,null,null,null,null,null,null,null,null,null,null,null,null,null,null,null,null,null,null,null,null,null,null,null,null,null,null,"OK","OK"]
[null,null,null,null,null,null,null,null,null,null,null,null,null,null,null,null,null,null,0,null,null,null,null,5870000,null,null,null,null,null,null,null,null,null,null,null,null,null,null,null,null,null,null,null,null,null,null,null,null,null,null,null,"OK","OK"]
[null,null,null,null,null,null,null,null,null,null,null,null,null,null,null,null,null,null,0,null,null,null,null,5870000,null,null,null,null,null,null,null,null,null,null,null,null,null,null,null,null,null,null,null,null,null,null,null,null,null,null,null,"OK","OK"]
[null,null,null,null,null,null,null,null,null,null,null,null,null,null,null,null,null,null,0,null,null,null,null,5870000,null,null,null,null,null,null,null,null,null,null,null,null,null,null,null,null,null,null,null,null,null,null,null,null,null,null,null,"OK","OK"]
[null,null,null,null,null,null,null,null,null,null,null,null,null,null,null,null,null,null,0,null,null,null,null,5870000,null,null,null,null,null,null,null,null,null,null,null,null,null,null,null,null,null,null,null,null,null,null,null,null,null,null,null,"OK","OK"]
[null,null,null,null,null,null,null,null,null,null,null,null,null,null,null,null,null,null,0,null,null,null,null,5870000,null,null,null,null,null,null,null,null,null,null,null,null,null,null,null,null,null,null,null,null,null,null,null,null,null,null,null,"OK","OK"]
[null,null,null,null,null,null,null,null,null,null,null,null,null,null,null,null,null,null,0,null,null,null,null,5870000,null,null,null,null,null,null,null,null,null,null,null,null,null,null,null,null,null,null,null,null,null,null,null,null,null,null,null,"OK","OK"]
[null,null,null,null,null,null,null,null,null,null,null,null,null,null,null,null,null,null,0,null,null,null,null,5870000,null,null,null,null,null,null,null,null,null,null,null,null,null,null,null,null,null,null,null,null,null,null,null,null,null,null,null,"OK","OK"]
[null,null,null,null,null,null,null,null,null,null,null,null,null,null,null,null,null,null,0,null,null,null,null,5870000,null,null,null,null,null,null,null,null,null,null,null,null,null,null,null,null,null,null,null,null,null,null,null,null,null,null,null,"OK","OK"]
[null,null,null,null,null,null,null,null,null,null,null,null,null,null,null,null,null,null,0,null,null,null,null,5870000,null,null,null,null,null,null,null,null,null,null,null,null,null,null,null,null,null,null,null,null,null,null,null,null,null,null,null,"OK","OK"]
[null,null,null,null,null,null,null,null,null,null,null,null,null,null,null,null,null,null,0,null,null,null,null,5870000,null,null,null,null,null,null,null,null,null,null,null,null,null,null,null,null,null,null,null,null,null,null,null,null,null,null,null,"OK","OK"]
[null,null,null,null,null,null,null,null,null,null,null,null,null,null,null,null,null,null,0,null,null,null,null,5870000,null,null,null,null,null,null,null,null,null,null,null,null,null,null,null,null,null,null,null,null,null,null,null,null,null,null,null,"OK","OK"]
[null,null,null,null,null,null,null,null,null,null,null,null,null,null,null,null,null,null,0,null,null,null,null,5870000,null,null,null,null,null,null,null,null,null,null,null,null,null,null,null,null,null,null,null,null,null,null,null,null,null,null,null,"OK","OK"]
[null,null,null,null,null,null,null,null,null,null,null,null,null,null,null,null,null,null,0,null,null,null,null,5870000,null,null,null,null,null,null,null,null,null,null,null,null,null,null,null,null,null,null,null,null,null,null,null,null,null,null,null,"OK","OK"]
[null,null,null,null,null,null,null,null,null,null,null,null,null,null,null,null,null,null,0,null,null,null,null,5870000,null,null,null,null,null,null,null,null,null,null,null,null,null,null,null,null,null,null,null,null,null,null,null,null,null,null,null,"OK","OK"]
[null,null,null,null,null,null,null,null,null,null,null,null,null,null,null,null,null,null,0,null,null,null,null,5870000,null,null,null,null,null,null,null,null,null,null,null,null,null,null,null,null,null,null,null,null,null,null,null,null,null,null,null,"OK","OK"]
[null,null,null,null,null,null,null,null,null,null,null,null,null,null,null,null,null,null,0,null,null,null,null,5870000,null,null,null,null,null,null,null,null,null,null,null,null,null,null,null,null,null,null,null,null,null,null,null,null,null,null,null,"OK","OK"]
[null,null,null,null,null,null,null,null,null,null,null,null,null,null,null,null,null,null,0,null,null,null,null,5870000,null,null,null,null,null,null,null,null,null,null,null,null,null,null,null,null,null,null,null,null,null,null,null,null,null,null,null,"OK","OK"]
[null,null,null,null,null,null,null,null,null,null,null,null,null,null,null,null,null,null,0,null,null,null,null,5870000,null,null,null,null,null,null,null,null,null,null,null,null,null,null,null,null,null,null,null,null,null,null,null,null,null,null,null,"OK","OK"]
[null,null,null,null,null,null,null,null,null,null,null,null,null,null,null,null,null,null,0,null,null,null,null,5870000,null,null,null,null,null,null,null,null,null,null,null,null,null,null,null,null,null,null,null,null,null,null,null,null,null,null,null,"OK","OK"]
[null,null,null,null,null,null,null,null,null,null,null,null,null,null,null,null,null,null,0,null,null,null,null,5870000,null,null,null,null,null,null,null,null,null,null,null,null,null,null,null,null,null,null,null,null,null,null,null,null,null,null,null,"OK","OK"]
[null,null,null,null,null,null,null,null,null,null,null,null,null,null,null,null,null,null,0,null,null,null,null,5870000,null,null,null,null,null,null,null,null,null,null,null,null,null,null,null,null,null,null,null,null,null,null,null,null,null,null,null,"OK","OK"]
[null,null,null,null,null,null,null,null,null,null,null,null,null,null,null,null,null,null,0,null,null,null,null,5870000,null,null,null,null,null,null,null,null,null,null,null,null,null,null,null,null,null,null,null,null,null,null,null,null,null,null,null,"OK","OK"]
[null,null,null,null,null,null,null,null,null,null,null,null,null,null,null,null,null,null,0,null,null,null,null,5870000,null,null,null,null,null,null,null,null,null,null,null,null,null,null,null,null,null,null,null,null,null,null,null,null,null,null,null,"OK","OK"]
[null,null,null,null,null,null,null,null,null,null,null,null,null,null,null,null,null,null,0,null,null,null,null,5870000,null,null,null,null,null,null,null,null,null,null,null,null,null,null,null,null,null,null,null,null,null,null,null,null,null,null,null,"OK","OK"]
[null,null,null,null,null,null,null,null,null,null,null,null,null,null,null,null,null,null,0,null,null,null,null,5870000,null,null,null,null,null,null,null,null,null,null,null,null,null,null,null,null,null,null,null,null,null,null,null,null,null,null,null,"OK","OK"]
[null,null,null,null,null,null,null,null,null,null,null,null,null,null,null,null,null,null,0,null,null,null,null,5870000,null,null,null,null,null,null,null,null,null,null,null,null,null,null,null,null,null,null,null,null,null,null,null,null,null,null,null,"OK","OK"]
[null,null,null,null,null,null,null,null,null,null,null,null,null,null,null,null,null,null,0,null,null,null,null,5870000,null,null,null,null,null,null,null,null,null,null,null,null,null,null,null,null,null,null,null,null,null,null,null,null,null,null,null,"OK","OK"]
[null,null,null,null,null,null,null,null,null,null,null,null,null,null,null,null,null,null,0,null,null,null,null,5870000,null,null,null,null,null,null,null,null,null,null,null,null,null,null,null,null,null,null,null,null,null,null,null,null,null,null,null,"OK","OK"]
[null,null,null,null,null,null,null,null,null,null,null,null,null,null,null,null,null,null,0,null,null,null,null,5870000,null,null,null,null,null,null,null,null,null,null,null,null,null,null,null,null,null,null,null,null,null,null,null,null,null,null,null,"OK","OK"]
[null,null,null,null,null,null,null,null,null,null,null,null,null,null,null,null,null,null,0,null,null,null,null,5870000,null,null,null,null,null,null,null,null,null,null,null,null,null,null,null,null,null,null,null,null,null,null,null,null,null,null,null,"OK","OK"]
[null,null,null,null,null,null,null,null,null,null,null,null,null,null,null,null,null,null,0,null,null,null,null,5870000,null,null,null,null,null,null,null,null,null,null,null,null,null,null,null,null,null,null,null,null,null,null,null,null,null,null,null,"OK","OK"]
[null,null,null,null,null,null,null,null,null,null,null,null,null,null,null,null,null,null,0,null,null,null,null,5870000,null,null,null,null,null,null,null,null,null,null,null,null,null,null,null,null,null,null,null,null,null,null,null,null,null,null,null,"OK","OK"]
[null,null,null,null,null,null,null,null,null,null,null,null,null,null,null,null,null,null,0,null,null,null,null,5870000,null,null,null,null,null,null,null,null,null,null,null,null,null,null,null,null,null,null,null,null,null,null,null,null,null,null,null,"OK","OK"]
[null,null,null,null,null,null,null,null,null,null,null,null,null,null,null,null,null,null,0,null,null,null,null,5870000,null,null,null,null,null,null,null,null,null,null,null,null,null,null,null,null,null,null,null,null,null,null,null,null,null,null,null,"OK","OK"]
[null,null,null,null,null,null,null,null,null,null,null,null,null,null,null,null,null,null,0,null,null,null,null,5870000,null,null,null,null,null,null,null,null,null,null,null,null,null,null,null,null,null,null,null,null,null,null,null,null,null,null,null,"OK","OK"]
[null,null,null,null,null,null,null,null,null,null,null,null,null,null,null,null,null,null,0,null,null,null,null,5870000,null,null,null,null,null,null,null,null,null,null,null,null,null,null,null,null,null,null,null,null,null,null,null,null,null,null,null,"OK","OK"]
[null,null,null,null,null,null,null,null,null,null,null,null,null,null,null,null,null,null,0,null,null,null,null,5870000,null,null,null,null,null,null,null,null,null,null,null,null,null,null,null,null,null,null,null,null,null,null,null,null,null,null,null,"OK","OK"]
[null,null,null,null,null,null,null,null,null,null,null,null,null,null,null,null,null,null,0,null,null,null,null,5870000,null,null,null,null,null,null,null,null,null,null,null,null,null,null,null,null,null,null,null,null,null,null,null,null,null,null,null,"OK","OK"]
[null,null,null,null,null,null,null,null,null,null,null,null,null,null,null,null,null,null,0,null,null,null,null,5870000,null,null,null,null,null,null,null,null,null,null,null,null,null,null,null,null,null,null,null,null,null,null,null,null,null,null,null,"OK","OK"]
[null,null,null,null,null,null,null,null,null,null,null,null,null,null,null,null,null,null,0,null,null,null,null,5870000,null,null,null,null,null,null,null,null,null,null,null,null,null,null,null,null,null,null,null,null,null,null,null,null,null,null,null,"OK","OK"]
[null,null,null,null,null,null,null,null,null,null,null,null,null,null,null,null,null,null,0,null,null,null,null,5870000,null,null,null,null,null,null,null,null,null,null,null,null,null,null,null,null,null,null,null,null,null,null,null,null,null,null,null,"OK","OK"]
[null,null,null,null,null,null,null,null,null,null,null,null,null,null,null,null,null,null,0,null,null,null,null,5870000,null,null,null,null,null,null,null,null,null,null,null,null,null,null,null,null,null,null,null,null,null,null,null,null,null,null,null,"OK","OK"]
[null,null,null,null,null,null,null,null,null,null,null,null,null,null,null,null,null,null,0,null,null,null,null,5870000,null,null,null,null,null,null,null,null,null,null,null,null,null,null,null,null,null,null,null,null,null,null,null,null,null,null,null,{"$f":"IF(S2958-AA2958-AC2958-AE2958-AG2958-AI2958-AK2958-AM2958-AO2958-AQ2958-AS2958-AU2958-AW2958=0,\"OK\",\"Compromisos diferentes al valor estimado en la vigencia actual\")","v":"OK"},{"$f":"IF(S2958-AB2958-AD2958-AF2958-AH2958-AJ2958-AL2958-AN2958-AP2958-AR2958-AT2958-AV2958-AX2958=0,\"OK\",\"Obligaciones diferentes al valor estimado en la vigencia actual\")","v":"OK"}]
[null,null,null,null,null,null,null,null,null,null,null,null,null,null,null,null,null,null,{"$f":"O2959+P2959-Q2959","v":0},null,null,null,null,5870000,null,null,null,null,null,null,null,null,null,null,null,null,null,null,null,null,null,null,null,null,null,null,null,null,null,null,null,"OK","OK"]
[null,null,null,null,null,null,null,null,null,null,null,null,null,null,null,null,null,null,0,null,null,null,null,5870000,null,null,null,null,null,null,null,null,null,null,null,null,null,null,null,null,null,null,null,null,null,null,null,null,null,null,null,"OK","OK"]
[null,null,null,null,null,null,null,null,null,null,null,null,null,null,null,null,null,null,0,null,null,null,null,5870000,null,null,null,null,null,null,null,null,null,null,null,null,null,null,null,null,null,null,null,null,null,null,null,null,null,null,null,"OK","OK"]
[null,null,null,null,null,null,null,null,null,null,null,null,null,null,null,null,null,null,0,null,null,null,null,5870000,null,null,null,null,null,null,null,null,null,null,null,null,null,null,null,null,null,null,null,null,null,null,null,null,null,null,null,"OK","OK"]
[null,null,null,null,null,null,null,null,null,null,null,null,null,null,null,null,null,null,0,null,null,null,null,5870000,null,null,null,null,null,null,null,null,null,null,null,null,null,null,null,null,null,null,null,null,null,null,null,null,null,null,null,"OK","OK"]
[null,null,null,null,null,null,null,null,null,null,null,null,null,null,null,null,null,null,0,null,null,null,null,5870000,null,null,null,null,null,null,null,null,null,null,null,null,null,null,null,null,null,null,null,null,null,null,null,null,null,null,null,"OK","OK"]
[null,null,null,null,null,null,null,null,null,null,null,null,null,null,null,null,null,null,0,null,null,null,null,5870000,null,null,null,null,null,null,null,null,null,null,null,null,null,null,null,null,null,null,null,null,null,null,null,null,null,null,null,"OK","OK"]
[null,null,null,null,null,null,null,null,null,null,null,null,null,null,null,null,null,null,0,null,null,null,null,5870000,null,null,null,null,null,null,null,null,null,null,null,null,null,null,null,null,null,null,null,null,null,null,null,null,null,null,null,"OK","OK"]
[null,null,null,null,null,null,null,null,null,null,null,null,null,null,null,null,null,null,0,null,null,null,null,5870000,null,null,null,null,null,null,null,null,null,null,null,null,null,null,null,null,null,null,null,null,null,null,null,null,null,null,null,"OK","OK"]
[null,null,null,null,null,null,null,null,null,null,null,null,null,null,null,null,null,null,0,null,null,null,null,5870000,null,null,null,null,null,null,null,null,null,null,null,null,null,null,null,null,null,null,null,null,null,null,null,null,null,null,null,"OK","OK"]
[null,null,null,null,null,null,null,null,null,null,null,null,null,null,null,null,null,null,0,null,null,null,null,5870000,null,null,null,null,null,null,null,null,null,null,null,null,null,null,null,null,null,null,null,null,null,null,null,null,null,null,null,"OK","OK"]
[null,null,null,null,null,null,null,null,null,null,null,null,null,null,null,null,null,null,0,null,null,null,null,5870000,null,null,null,null,null,null,null,null,null,null,null,null,null,null,null,null,null,null,null,null,null,null,null,null,null,null,null,"OK","OK"]
[null,null,null,null,null,null,null,null,null,null,null,null,null,null,null,null,null,null,0,null,null,null,null,5870000,null,null,null,null,null,null,null,null,null,null,null,null,null,null,null,null,null,null,null,null,null,null,null,null,null,null,null,"OK","OK"]
[null,null,null,null,null,null,null,null,null,null,null,null,null,null,null,null,null,null,0,null,null,null,null,5870000,null,null,null,null,null,null,null,null,null,null,null,null,null,null,null,null,null,null,null,null,null,null,null,null,null,null,null,"OK","OK"]
[null,null,null,null,null,null,null,null,null,null,null,null,null,null,null,null,null,null,0,null,null,null,null,5870000,null,null,null,null,null,null,null,null,null,null,null,null,null,null,null,null,null,null,null,null,null,null,null,null,null,null,null,"OK","OK"]
[null,null,null,null,null,null,null,null,null,null,null,null,null,null,null,null,null,null,0,null,null,null,null,5870000,null,null,null,null,null,null,null,null,null,null,null,null,null,null,null,null,null,null,null,null,null,null,null,null,null,null,null,"OK","OK"]
[null,null,null,null,null,null,null,null,null,null,null,null,null,null,null,null,null,null,0,null,null,null,null,5870000,null,null,null,null,null,null,null,null,null,null,null,null,null,null,null,null,null,null,null,null,null,null,null,null,null,null,null,"OK","OK"]
[null,null,null,null,null,null,null,null,null,null,null,null,null,null,null,null,null,null,0,null,null,null,null,5870000,null,null,null,null,null,null,null,null,null,null,null,null,null,null,null,null,null,null,null,null,null,null,null,null,null,null,null,"OK","OK"]
[null,null,null,null,null,null,null,null,null,null,null,null,null,null,null,null,null,null,0,null,null,null,null,5870000,null,null,null,null,null,null,null,null,null,null,null,null,null,null,null,null,null,null,null,null,null,null,null,null,null,null,null,"OK","OK"]
[null,null,null,null,null,null,null,null,null,null,null,null,null,null,null,null,null,null,0,null,null,null,null,5870000,null,null,null,null,null,null,null,null,null,null,null,null,null,null,null,null,null,null,null,null,null,null,null,null,null,null,null,"OK","OK"]
[null,null,null,null,null,null,null,null,null,null,null,null,null,null,null,null,null,null,0,null,null,null,null,5870000,null,null,null,null,null,null,null,null,null,null,null,null,null,null,null,null,null,null,null,null,null,null,null,null,null,null,null,"OK","OK"]
[null,null,null,null,null,null,null,null,null,null,null,null,null,null,null,null,null,null,0,null,null,null,null,5870000,null,null,null,null,null,null,null,null,null,null,null,null,null,null,null,null,null,null,null,null,null,null,null,null,null,null,null,"OK","OK"]
[null,null,null,null,null,null,null,null,null,null,null,null,null,null,null,null,null,null,0,null,null,null,null,5870000,null,null,null,null,null,null,null,null,null,null,null,null,null,null,null,null,null,null,null,null,null,null,null,null,null,null,null,"OK","OK"]
[null,null,null,null,null,null,null,null,null,null,null,null,null,null,null,null,null,null,0,null,null,null,null,5870000,null,null,null,null,null,null,null,null,null,null,null,null,null,null,null,null,null,null,null,null,null,null,null,null,null,null,null,"OK","OK"]
[null,null,null,null,null,null,null,null,null,null,null,null,null,null,null,null,null,null,0,null,null,null,null,5870000,null,null,null,null,null,null,null,null,null,null,null,null,null,null,null,null,null,null,null,null,null,null,null,null,null,null,null,"OK","OK"]
[null,null,null,null,null,null,null,null,null,null,null,null,null,null,null,null,null,null,0,null,null,null,null,5870000,null,null,null,null,null,null,null,null,null,null,null,null,null,null,null,null,null,null,null,null,null,null,null,null,null,null,null,"OK","OK"]
[null,null,null,null,null,null,null,null,null,null,null,null,null,null,null,null,null,null,0,null,null,null,null,5870000,null,null,null,null,null,null,null,null,null,null,null,null,null,null,null,null,null,null,null,null,null,null,null,null,null,null,null,"OK","OK"]
[null,null,null,null,null,null,null,null,null,null,null,null,null,null,null,null,null,null,0,null,null,null,null,5870000,null,null,null,null,null,null,null,null,null,null,null,null,null,null,null,null,null,null,null,null,null,null,null,null,null,null,null,"OK","OK"]
[null,null,null,null,null,null,null,null,null,null,null,null,null,null,null,null,null,null,0,null,null,null,null,5870000,null,null,null,null,null,null,null,null,null,null,null,null,null,null,null,null,null,null,null,null,null,null,null,null,null,null,null,"OK","OK"]
[null,null,null,null,null,null,null,null,null,null,null,null,null,null,null,null,null,null,0,null,null,null,null,5870000,null,null,null,null,null,null,null,null,null,null,null,null,null,null,null,null,null,null,null,null,null,null,null,null,null,null,null,"OK","OK"]
[null,null,null,null,null,null,null,null,null,null,null,null,null,null,null,null,null,null,0,null,null,null,null,5870000,null,null,null,null,null,null,null,null,null,null,null,null,null,null,null,null,null,null,null,null,null,null,null,null,null,null,null,"OK","OK"]
[null,null,null,null,null,null,null,null,null,null,null,null,null,null,null,null,null,null,0,null,null,null,null,5870000,null,null,null,null,null,null,null,null,null,null,null,null,null,null,null,null,null,null,null,null,null,null,null,null,null,null,null,"OK","OK"]
[null,null,null,null,null,null,null,null,null,null,null,null,null,null,null,null,null,null,0,null,null,null,null,5870000,null,null,null,null,null,null,null,null,null,null,null,null,null,null,null,null,null,null,null,null,null,null,null,null,null,null,null,"OK","OK"]
[null,null,null,null,null,null,null,null,null,null,null,null,null,null,null,null,null,null,0,null,null,null,null,5870000,null,null,null,null,null,null,null,null,null,null,null,null,null,null,null,null,null,null,null,null,null,null,null,null,null,null,null,"OK","OK"]
[null,null,null,null,null,null,null,null,null,null,null,null,null,null,null,null,null,null,0,null,null,null,null,5870000,null,null,null,null,null,null,null,null,null,null,null,null,null,null,null,null,null,null,null,null,null,null,null,null,null,null,null,"OK","OK"]
[null,null,null,null,null,null,null,null,null,null,null,null,null,null,null,null,null,null,0,null,null,null,null,5870000,null,null,null,null,null,null,null,null,null,null,null,null,null,null,null,null,null,null,null,null,null,null,null,null,null,null,null,"OK","OK"]
[null,null,null,null,null,null,null,null,null,null,null,null,null,null,null,null,null,null,0,null,null,null,null,5870000,null,null,null,null,null,null,null,null,null,null,null,null,null,null,null,null,null,null,null,null,null,null,null,null,null,null,null,"OK","OK"]
[null,null,null,null,null,null,null,null,null,null,null,null,null,null,null,null,null,null,0,null,null,null,null,5870000,null,null,null,null,null,null,null,null,null,null,null,null,null,null,null,null,null,null,null,null,null,null,null,null,null,null,null,"OK","OK"]
[null,null,null,null,null,null,null,null,null,null,null,null,null,null,null,null,null,null,0,null,null,null,null,5870000,null,null,null,null,null,null,null,null,null,null,null,null,null,null,null,null,null,null,null,null,null,null,null,null,null,null,null,"OK","OK"]
[null,null,null,null,null,null,null,null,null,null,null,null,null,null,null,null,null,null,0,null,null,null,null,5870000,null,null,null,null,null,null,null,null,null,null,null,null,null,null,null,null,null,null,null,null,null,null,null,null,null,null,null,"OK","OK"]
[null,null,null,null,null,null,null,null,null,null,null,null,null,null,null,null,null,null,0,null,null,null,null,5870000,null,null,null,null,null,null,null,null,null,null,null,null,null,null,null,null,null,null,null,null,null,null,null,null,null,null,null,"OK","OK"]
[null,null,null,null,null,null,null,null,null,null,null,null,null,null,null,null,null,null,0,null,null,null,null,5870000,null,null,null,null,null,null,null,null,null,null,null,null,null,null,null,null,null,null,null,null,null,null,null,null,null,null,null,"OK","OK"]

{"sheet":"TABLA DINÁMICA","index":2,"n_rows":10,"n_cols":7,"rows_kept":10,"cut":false,"hidden":false,"merged":[[9,0,9,3]]}
[]
[]
[]
[]
[]
[]
[null,null,null,null,"Valores"]
["Fuente de los recursos","Objetivo especifico del proyecto de inversión","Producto del proyecto de inversión","Actividad del proyecto de inversión","Suma de Adiciones","Suma de Reducciones","Suma de Valor estimado en la vigencia actual"]
["(en blanco)","(en blanco)","(en blanco)","(en blanco)",0,0,0]
["Total general",null,null,null,0,0,0]

{"sheet":"Hoja1","index":3,"n_rows":3000,"n_cols":5,"rows_kept":3000,"cut":false,"hidden":false,"merged":[]}
["Fuente de los recursos","Códigos CCP a nivel de cuenta"," Adiciones"," Reducciones","Vr. estimado en la vigencia actual"]
[{"$f":"IF(ISBLANK('DE01-F12'!N14),\"\",('DE01-F12'!N14))","v":""},{"$f":"MID('DE01-F12'!G14,1,18)","v":""},{"$f":"IF(ISBLANK('DE01-F12'!P14),\"\",('DE01-F12'!P14))","v":""},{"$f":"IF(ISBLANK('DE01-F12'!Q14),\"\",('DE01-F12'!Q14))","v":""},{"$f":"IF(ISBLANK('DE01-F12'!S14),\"\",('DE01-F12'!S14))","v":0}]
[{"$f":"IF(ISBLANK('DE01-F12'!N15),\"\",('DE01-F12'!N15))","v":""},{"$f":"MID('DE01-F12'!G15,1,18)","v":""},{"$f":"IF(ISBLANK('DE01-F12'!P15),\"\",('DE01-F12'!P15))","v":""},{"$f":"IF(ISBLANK('DE01-F12'!Q15),\"\",('DE01-F12'!Q15))","v":""},{"$f":"IF(ISBLANK('DE01-F12'!S15),\"\",('DE01-F12'!S15))","v":0}]
[{"$f":"IF(ISBLANK('DE01-F12'!N16),\"\",('DE01-F12'!N16))","v":""},{"$f":"MID('DE01-F12'!G16,1,18)","v":""},{"$f":"IF(ISBLANK('DE01-F12'!P16),\"\",('DE01-F12'!P16))","v":""},{"$f":"IF(ISBLANK('DE01-F12'!Q16),\"\",('DE01-F12'!Q16))","v":""},{"$f":"IF(ISBLANK('DE01-F12'!S16),\"\",('DE01-F12'!S16))","v":0}]
[{"$f":"IF(ISBLANK('DE01-F12'!N17),\"\",('DE01-F12'!N17))","v":""},{"$f":"MID('DE01-F12'!G17,1,18)","v":""},{"$f":"IF(ISBLANK('DE01-F12'!P17),\"\",('DE01-F12'!P17))","v":""},{"$f":"IF(ISBLANK('DE01-F12'!Q17),\"\",('DE01-F12'!Q17))","v":""},{"$f":"IF(ISBLANK('DE01-F12'!S17),\"\",('DE01-F12'!S17))","v":0}]
[{"$f":"IF(ISBLANK('DE01-F12'!N18),\"\",('DE01-F12'!N18))","v":""},{"$f":"MID('DE01-F12'!G18,1,18)","v":""},{"$f":"IF(ISBLANK('DE01-F12'!P18),\"\",('DE01-F12'!P18))","v":""},{"$f":"IF(ISBLANK('DE01-F12'!Q18),\"\",('DE01-F12'!Q18))","v":""},{"$f":"IF(ISBLANK('DE01-F12'!S18),\"\",('DE01-F12'!S18))","v":0}]
[{"$f":"IF(ISBLANK('DE01-F12'!N19),\"\",('DE01-F12'!N19))","v":""},{"$f":"MID('DE01-F12'!G19,1,18)","v":""},{"$f":"IF(ISBLANK('DE01-F12'!P19),\"\",('DE01-F12'!P19))","v":""},{"$f":"IF(ISBLANK('DE01-F12'!Q19),\"\",('DE01-F12'!Q19))","v":""},{"$f":"IF(ISBLANK('DE01-F12'!S19),\"\",('DE01-F12'!S19))","v":0}]
[{"$f":"IF(ISBLANK('DE01-F12'!N20),\"\",('DE01-F12'!N20))","v":""},{"$f":"MID('DE01-F12'!G20,1,18)","v":""},{"$f":"IF(ISBLANK('DE01-F12'!P20),\"\",('DE01-F12'!P20))","v":""},{"$f":"IF(ISBLANK('DE01-F12'!Q20),\"\",('DE01-F12'!Q20))","v":""},{"$f":"IF(ISBLANK('DE01-F12'!S20),\"\",('DE01-F12'!S20))","v":0}]
[{"$f":"IF(ISBLANK('DE01-F12'!N21),\"\",('DE01-F12'!N21))","v":""},{"$f":"MID('DE01-F12'!G21,1,18)","v":""},{"$f":"IF(ISBLANK('DE01-F12'!P21),\"\",('DE01-F12'!P21))","v":""},{"$f":"IF(ISBLANK('DE01-F12'!Q21),\"\",('DE01-F12'!Q21))","v":""},{"$f":"IF(ISBLANK('DE01-F12'!S21),\"\",('DE01-F12'!S21))","v":0}]
[{"$f":"IF(ISBLANK('DE01-F12'!N22),\"\",('DE01-F12'!N22))","v":""},{"$f":"MID('DE01-F12'!G22,1,18)","v":""},{"$f":"IF(ISBLANK('DE01-F12'!P22),\"\",('DE01-F12'!P22))","v":""},{"$f":"IF(ISBLANK('DE01-F12'!Q22),\"\",('DE01-F12'!Q22))","v":""},{"$f":"IF(ISBLANK('DE01-F12'!S22),\"\",('DE01-F12'!S22))","v":0}]
[{"$f":"IF(ISBLANK('DE01-F12'!N23),\"\",('DE01-F12'!N23))","v":""},{"$f":"MID('DE01-F12'!G23,1,18)","v":""},{"$f":"IF(ISBLANK('DE01-F12'!P23),\"\",('DE01-F12'!P23))","v":""},{"$f":"IF(ISBLANK('DE01-F12'!Q23),\"\",('DE01-F12'!Q23))","v":""},{"$f":"IF(ISBLANK('DE01-F12'!S23),\"\",('DE01-F12'!S23))","v":0}]
[{"$f":"IF(ISBLANK('DE01-F12'!N24),\"\",('DE01-F12'!N24))","v":""},{"$f":"MID('DE01-F12'!G24,1,18)","v":""},{"$f":"IF(ISBLANK('DE01-F12'!P24),\"\",('DE01-F12'!P24))","v":""},{"$f":"IF(ISBLANK('DE01-F12'!Q24),\"\",('DE01-F12'!Q24))","v":""},{"$f":"IF(ISBLANK('DE01-F12'!S24),\"\",('DE01-F12'!S24))","v":0}]
[{"$f":"IF(ISBLANK('DE01-F12'!N25),\"\",('DE01-F12'!N25))","v":""},{"$f":"MID('DE01-F12'!G25,1,18)","v":""},{"$f":"IF(ISBLANK('DE01-F12'!P25),\"\",('DE01-F12'!P25))","v":""},{"$f":"IF(ISBLANK('DE01-F12'!Q25),\"\",('DE01-F12'!Q25))","v":""},{"$f":"IF(ISBLANK('DE01-F12'!S25),\"\",('DE01-F12'!S25))","v":0}]
[{"$f":"IF(ISBLANK('DE01-F12'!N26),\"\",('DE01-F12'!N26))","v":""},{"$f":"MID('DE01-F12'!G26,1,18)","v":""},{"$f":"IF(ISBLANK('DE01-F12'!P26),\"\",('DE01-F12'!P26))","v":""},{"$f":"IF(ISBLANK('DE01-F12'!Q26),\"\",('DE01-F12'!Q26))","v":""},{"$f":"IF(ISBLANK('DE01-F12'!S26),\"\",('DE01-F12'!S26))","v":0}]
[{"$f":"IF(ISBLANK('DE01-F12'!N27),\"\",('DE01-F12'!N27))","v":""},{"$f":"MID('DE01-F12'!G27,1,18)","v":""},{"$f":"IF(ISBLANK('DE01-F12'!P27),\"\",('DE01-F12'!P27))","v":""},{"$f":"IF(ISBLANK('DE01-F12'!Q27),\"\",('DE01-F12'!Q27))","v":""},{"$f":"IF(ISBLANK('DE01-F12'!S27),\"\",('DE01-F12'!S27))","v":0}]
[{"$f":"IF(ISBLANK('DE01-F12'!N28),\"\",('DE01-F12'!N28))","v":""},{"$f":"MID('DE01-F12'!G28,1,18)","v":""},{"$f":"IF(ISBLANK('DE01-F12'!P28),\"\",('DE01-F12'!P28))","v":""},{"$f":"IF(ISBLANK('DE01-F12'!Q28),\"\",('DE01-F12'!Q28))","v":""},{"$f":"IF(ISBLANK('DE01-F12'!S28),\"\",('DE01-F12'!S28))","v":0}]
[{"$f":"IF(ISBLANK('DE01-F12'!N29),\"\",('DE01-F12'!N29))","v":""},{"$f":"MID('DE01-F12'!G29,1,18)","v":""},{"$f":"IF(ISBLANK('DE01-F12'!P29),\"\",('DE01-F12'!P29))","v":""},{"$f":"IF(ISBLANK('DE01-F12'!Q29),\"\",('DE01-F12'!Q29))","v":""},{"$f":"IF(ISBLANK('DE01-F12'!S29),\"\",('DE01-F12'!S29))","v":0}]
[{"$f":"IF(ISBLANK('DE01-F12'!N30),\"\",('DE01-F12'!N30))","v":""},{"$f":"MID('DE01-F12'!G30,1,18)","v":""},{"$f":"IF(ISBLANK('DE01-F12'!P30),\"\",('DE01-F12'!P30))","v":""},{"$f":"IF(ISBLANK('DE01-F12'!Q30),\"\",('DE01-F12'!Q30))","v":""},{"$f":"IF(ISBLANK('DE01-F12'!S30),\"\",('DE01-F12'!S30))","v":0}]
[{"$f":"IF(ISBLANK('DE01-F12'!N31),\"\",('DE01-F12'!N31))","v":""},{"$f":"MID('DE01-F12'!G31,1,18)","v":""},{"$f":"IF(ISBLANK('DE01-F12'!P31),\"\",('DE01-F12'!P31))","v":""},{"$f":"IF(ISBLANK('DE01-F12'!Q31),\"\",('DE01-F12'!Q31))","v":""},{"$f":"IF(ISBLANK('DE01-F12'!S31),\"\",('DE01-F12'!S31))","v":0}]
[{"$f":"IF(ISBLANK('DE01-F12'!N32),\"\",('DE01-F12'!N32))","v":""},{"$f":"MID('DE01-F12'!G32,1,18)","v":""},{"$f":"IF(ISBLANK('DE01-F12'!P32),\"\",('DE01-F12'!P32))","v":""},{"$f":"IF(ISBLANK('DE01-F12'!Q32),\"\",('DE01-F12'!Q32))","v":""},{"$f":"IF(ISBLANK('DE01-F12'!S32),\"\",('DE01-F12'!S32))","v":0}]
[{"$f":"IF(ISBLANK('DE01-F12'!N33),\"\",('DE01-F12'!N33))","v":""},{"$f":"MID('DE01-F12'!G33,1,18)","v":""},{"$f":"IF(ISBLANK('DE01-F12'!P33),\"\",('DE01-F12'!P33))","v":""},{"$f":"IF(ISBLANK('DE01-F12'!Q33),\"\",('DE01-F12'!Q33))","v":""},{"$f":"IF(ISBLANK('DE01-F12'!S33),\"\",('DE01-F12'!S33))","v":0}]
[{"$f":"IF(ISBLANK('DE01-F12'!N34),\"\",('DE01-F12'!N34))","v":""},{"$f":"MID('DE01-F12'!G34,1,18)","v":""},{"$f":"IF(ISBLANK('DE01-F12'!P34),\"\",('DE01-F12'!P34))","v":""},{"$f":"IF(ISBLANK('DE01-F12'!Q34),\"\",('DE01-F12'!Q34))","v":""},{"$f":"IF(ISBLANK('DE01-F12'!S34),\"\",('DE01-F12'!S34))","v":0}]
[{"$f":"IF(ISBLANK('DE01-F12'!N35),\"\",('DE01-F12'!N35))","v":""},{"$f":"MID('DE01-F12'!G35,1,18)","v":""},{"$f":"IF(ISBLANK('DE01-F12'!P35),\"\",('DE01-F12'!P35))","v":""},{"$f":"IF(ISBLANK('DE01-F12'!Q35),\"\",('DE01-F12'!Q35))","v":""},{"$f":"IF(ISBLANK('DE01-F12'!S35),\"\",('DE01-F12'!S35))","v":0}]
[{"$f":"IF(ISBLANK('DE01-F12'!N36),\"\",('DE01-F12'!N36))","v":""},{"$f":"MID('DE01-F12'!G36,1,18)","v":""},{"$f":"IF(ISBLANK('DE01-F12'!P36),\"\",('DE01-F12'!P36))","v":""},{"$f":"IF(ISBLANK('DE01-F12'!Q36),\"\",('DE01-F12'!Q36))","v":""},{"$f":"IF(ISBLANK('DE01-F12'!S36),\"\",('DE01-F12'!S36))","v":0}]
[{"$f":"IF(ISBLANK('DE01-F12'!N37),\"\",('DE01-F12'!N37))","v":""},{"$f":"MID('DE01-F12'!G37,1,18)","v":""},{"$f":"IF(ISBLANK('DE01-F12'!P37),\"\",('DE01-F12'!P37))","v":""},{"$f":"IF(ISBLANK('DE01-F12'!Q37),\"\",('DE01-F12'!Q37))","v":""},{"$f":"IF(ISBLANK('DE01-F12'!S37),\"\",('DE01-F12'!S37))","v":0}]
[{"$f":"IF(ISBLANK('DE01-F12'!N38),\"\",('DE01-F12'!N38))","v":""},{"$f":"MID('DE01-F12'!G38,1,18)","v":""},{"$f":"IF(ISBLANK('DE01-F12'!P38),\"\",('DE01-F12'!P38))","v":""},{"$f":"IF(ISBLANK('DE01-F12'!Q38),\"\",('DE01-F12'!Q38))","v":""},{"$f":"IF(ISBLANK('DE01-F12'!S38),\"\",('DE01-F12'!S38))","v":0}]
[{"$f":"IF(ISBLANK('DE01-F12'!N39),\"\",('DE01-F12'!N39))","v":""},{"$f":"MID('DE01-F12'!G39,1,18)","v":""},{"$f":"IF(ISBLANK('DE01-F12'!P39),\"\",('DE01-F12'!P39))","v":""},{"$f":"IF(ISBLANK('DE01-F12'!Q39),\"\",('DE01-F12'!Q39))","v":""},{"$f":"IF(ISBLANK('DE01-F12'!S39),\"\",('DE01-F12'!S39))","v":0}]
[{"$f":"IF(ISBLANK('DE01-F12'!N40),\"\",('DE01-F12'!N40))","v":""},{"$f":"MID('DE01-F12'!G40,1,18)","v":""},{"$f":"IF(ISBLANK('DE01-F12'!P40),\"\",('DE01-F12'!P40))","v":""},{"$f":"IF(ISBLANK('DE01-F12'!Q40),\"\",('DE01-F12'!Q40))","v":""},{"$f":"IF(ISBLANK('DE01-F12'!S40),\"\",('DE01-F12'!S40))","v":0}]
[{"$f":"IF(ISBLANK('DE01-F12'!N41),\"\",('DE01-F12'!N41))","v":""},{"$f":"MID('DE01-F12'!G41,1,18)","v":""},{"$f":"IF(ISBLANK('DE01-F12'!P41),\"\",('DE01-F12'!P41))","v":""},{"$f":"IF(ISBLANK('DE01-F12'!Q41),\"\",('DE01-F12'!Q41))","v":""},{"$f":"IF(ISBLANK('DE01-F12'!S41),\"\",('DE01-F12'!S41))","v":0}]
[{"$f":"IF(ISBLANK('DE01-F12'!N42),\"\",('DE01-F12'!N42))","v":""},{"$f":"MID('DE01-F12'!G42,1,18)","v":""},{"$f":"IF(ISBLANK('DE01-F12'!P42),\"\",('DE01-F12'!P42))","v":""},{"$f":"IF(ISBLANK('DE01-F12'!Q42),\"\",('DE01-F12'!Q42))","v":""},{"$f":"IF(ISBLANK('DE01-F12'!S42),\"\",('DE01-F12'!S42))","v":0}]
[{"$f":"IF(ISBLANK('DE01-F12'!N43),\"\",('DE01-F12'!N43))","v":""},{"$f":"MID('DE01-F12'!G43,1,18)","v":""},{"$f":"IF(ISBLANK('DE01-F12'!P43),\"\",('DE01-F12'!P43))","v":""},{"$f":"IF(ISBLANK('DE01-F12'!Q43),\"\",('DE01-F12'!Q43))","v":""},{"$f":"IF(ISBLANK('DE01-F12'!S43),\"\",('DE01-F12'!S43))","v":0}]
[{"$f":"IF(ISBLANK('DE01-F12'!N44),\"\",('DE01-F12'!N44))","v":""},{"$f":"MID('DE01-F12'!G44,1,18)","v":""},{"$f":"IF(ISBLANK('DE01-F12'!P44),\"\",('DE01-F12'!P44))","v":""},{"$f":"IF(ISBLANK('DE01-F12'!Q44),\"\",('DE01-F12'!Q44))","v":""},{"$f":"IF(ISBLANK('DE01-F12'!S44),\"\",('DE01-F12'!S44))","v":0}]
[{"$f":"IF(ISBLANK('DE01-F12'!N45),\"\",('DE01-F12'!N45))","v":""},{"$f":"MID('DE01-F12'!G45,1,18)","v":""},{"$f":"IF(ISBLANK('DE01-F12'!P45),\"\",('DE01-F12'!P45))","v":""},{"$f":"IF(ISBLANK('DE01-F12'!Q45),\"\",('DE01-F12'!Q45))","v":""},{"$f":"IF(ISBLANK('DE01-F12'!S45),\"\",('DE01-F12'!S45))","v":0}]
[{"$f":"IF(ISBLANK('DE01-F12'!N46),\"\",('DE01-F12'!N46))","v":""},{"$f":"MID('DE01-F12'!G46,1,18)","v":""},{"$f":"IF(ISBLANK('DE01-F12'!P46),\"\",('DE01-F12'!P46))","v":""},{"$f":"IF(ISBLANK('DE01-F12'!Q46),\"\",('DE01-F12'!Q46))","v":""},{"$f":"IF(ISBLANK('DE01-F12'!S46),\"\",('DE01-F12'!S46))","v":0}]
[{"$f":"IF(ISBLANK('DE01-F12'!N47),\"\",('DE01-F12'!N47))","v":""},{"$f":"MID('DE01-F12'!G47,1,18)","v":""},{"$f":"IF(ISBLANK('DE01-F12'!P47),\"\",('DE01-F12'!P47))","v":""},{"$f":"IF(ISBLANK('DE01-F12'!Q47),\"\",('DE01-F12'!Q47))","v":""},{"$f":"IF(ISBLANK('DE01-F12'!S47),\"\",('DE01-F12'!S47))","v":0}]
[{"$f":"IF(ISBLANK('DE01-F12'!N48),\"\",('DE01-F12'!N48))","v":""},{"$f":"MID('DE01-F12'!G48,1,18)","v":""},{"$f":"IF(ISBLANK('DE01-F12'!P48),\"\",('DE01-F12'!P48))","v":""},{"$f":"IF(ISBLANK('DE01-F12'!Q48),\"\",('DE01-F12'!Q48))","v":""},{"$f":"IF(ISBLANK('DE01-F12'!S48),\"\",('DE01-F12'!S48))","v":0}]
[{"$f":"IF(ISBLANK('DE01-F12'!N49),\"\",('DE01-F12'!N49))","v":""},{"$f":"MID('DE01-F12'!G49,1,18)","v":""},{"$f":"IF(ISBLANK('DE01-F12'!P49),\"\",('DE01-F12'!P49))","v":""},{"$f":"IF(ISBLANK('DE01-F12'!Q49),\"\",('DE01-F12'!Q49))","v":""},{"$f":"IF(ISBLANK('DE01-F12'!S49),\"\",('DE01-F12'!S49))","v":0}]
[{"$f":"IF(ISBLANK('DE01-F12'!N50),\"\",('DE01-F12'!N50))","v":""},{"$f":"MID('DE01-F12'!G50,1,18)","v":""},{"$f":"IF(ISBLANK('DE01-F12'!P50),\"\",('DE01-F12'!P50))","v":""},{"$f":"IF(ISBLANK('DE01-F12'!Q50),\"\",('DE01-F12'!Q50))","v":""},{"$f":"IF(ISBLANK('DE01-F12'!S50),\"\",('DE01-F12'!S50))","v":0}]
[{"$f":"IF(ISBLANK('DE01-F12'!N51),\"\",('DE01-F12'!N51))","v":""},{"$f":"MID('DE01-F12'!G51,1,18)","v":""},{"$f":"IF(ISBLANK('DE01-F12'!P51),\"\",('DE01-F12'!P51))","v":""},{"$f":"IF(ISBLANK('DE01-F12'!Q51),\"\",('DE01-F12'!Q51))","v":""},{"$f":"IF(ISBLANK('DE01-F12'!S51),\"\",('DE01-F12'!S51))","v":0}]
[{"$f":"IF(ISBLANK('DE01-F12'!N52),\"\",('DE01-F12'!N52))","v":""},{"$f":"MID('DE01-F12'!G52,1,18)","v":""},{"$f":"IF(ISBLANK('DE01-F12'!P52),\"\",('DE01-F12'!P52))","v":""},{"$f":"IF(ISBLANK('DE01-F12'!Q52),\"\",('DE01-F12'!Q52))","v":""},{"$f":"IF(ISBLANK('DE01-F12'!S52),\"\",('DE01-F12'!S52))","v":0}]
[{"$f":"IF(ISBLANK('DE01-F12'!N53),\"\",('DE01-F12'!N53))","v":""},{"$f":"MID('DE01-F12'!G53,1,18)","v":""},{"$f":"IF(ISBLANK('DE01-F12'!P53),\"\",('DE01-F12'!P53))","v":""},{"$f":"IF(ISBLANK('DE01-F12'!Q53),\"\",('DE01-F12'!Q53))","v":""},{"$f":"IF(ISBLANK('DE01-F12'!S53),\"\",('DE01-F12'!S53))","v":0}]
[{"$f":"IF(ISBLANK('DE01-F12'!N54),\"\",('DE01-F12'!N54))","v":""},{"$f":"MID('DE01-F12'!G54,1,18)","v":""},{"$f":"IF(ISBLANK('DE01-F12'!P54),\"\",('DE01-F12'!P54))","v":""},{"$f":"IF(ISBLANK('DE01-F12'!Q54),\"\",('DE01-F12'!Q54))","v":""},{"$f":"IF(ISBLANK('DE01-F12'!S54),\"\",('DE01-F12'!S54))","v":0}]
[{"$f":"IF(ISBLANK('DE01-F12'!N55),\"\",('DE01-F12'!N55))","v":""},{"$f":"MID('DE01-F12'!G55,1,18)","v":""},{"$f":"IF(ISBLANK('DE01-F12'!P55),\"\",('DE01-F12'!P55))","v":""},{"$f":"IF(ISBLANK('DE01-F12'!Q55),\"\",('DE01-F12'!Q55))","v":""},{"$f":"IF(ISBLANK('DE01-F12'!S55),\"\",('DE01-F12'!S55))","v":0}]
[{"$f":"IF(ISBLANK('DE01-F12'!N56),\"\",('DE01-F12'!N56))","v":""},{"$f":"MID('DE01-F12'!G56,1,18)","v":""},{"$f":"IF(ISBLANK('DE01-F12'!P56),\"\",('DE01-F12'!P56))","v":""},{"$f":"IF(ISBLANK('DE01-F12'!Q56),\"\",('DE01-F12'!Q56))","v":""},{"$f":"IF(ISBLANK('DE01-F12'!S56),\"\",('DE01-F12'!S56))","v":0}]
[{"$f":"IF(ISBLANK('DE01-F12'!N57),\"\",('DE01-F12'!N57))","v":""},{"$f":"MID('DE01-F12'!G57,1,18)","v":""},{"$f":"IF(ISBLANK('DE01-F12'!P57),\"\",('DE01-F12'!P57))","v":""},{"$f":"IF(ISBLANK('DE01-F12'!Q57),\"\",('DE01-F12'!Q57))","v":""},{"$f":"IF(ISBLANK('DE01-F12'!S57),\"\",('DE01-F12'!S57))","v":0}]
[{"$f":"IF(ISBLANK('DE01-F12'!N58),\"\",('DE01-F12'!N58))","v":""},{"$f":"MID('DE01-F12'!G58,1,18)","v":""},{"$f":"IF(ISBLANK('DE01-F12'!P58),\"\",('DE01-F12'!P58))","v":""},{"$f":"IF(ISBLANK('DE01-F12'!Q58),\"\",('DE01-F12'!Q58))","v":""},{"$f":"IF(ISBLANK('DE01-F12'!S58),\"\",('DE01-F12'!S58))","v":0}]
[{"$f":"IF(ISBLANK('DE01-F12'!N59),\"\",('DE01-F12'!N59))","v":""},{"$f":"MID('DE01-F12'!G59,1,18)","v":""},{"$f":"IF(ISBLANK('DE01-F12'!P59),\"\",('DE01-F12'!P59))","v":""},{"$f":"IF(ISBLANK('DE01-F12'!Q59),\"\",('DE01-F12'!Q59))","v":""},{"$f":"IF(ISBLANK('DE01-F12'!S59),\"\",('DE01-F12'!S59))","v":0}]
[{"$f":"IF(ISBLANK('DE01-F12'!N60),\"\",('DE01-F12'!N60))","v":""},{"$f":"MID('DE01-F12'!G60,1,18)","v":""},{"$f":"IF(ISBLANK('DE01-F12'!P60),\"\",('DE01-F12'!P60))","v":""},{"$f":"IF(ISBLANK('DE01-F12'!Q60),\"\",('DE01-F12'!Q60))","v":""},{"$f":"IF(ISBLANK('DE01-F12'!S60),\"\",('DE01-F12'!S60))","v":0}]
[{"$f":"IF(ISBLANK('DE01-F12'!N61),\"\",('DE01-F12'!N61))","v":""},{"$f":"MID('DE01-F12'!G61,1,18)","v":""},{"$f":"IF(ISBLANK('DE01-F12'!P61),\"\",('DE01-F12'!P61))","v":""},{"$f":"IF(ISBLANK('DE01-F12'!Q61),\"\",('DE01-F12'!Q61))","v":""},{"$f":"IF(ISBLANK('DE01-F12'!S61),\"\",('DE01-F12'!S61))","v":0}]
[{"$f":"IF(ISBLANK('DE01-F12'!N62),\"\",('DE01-F12'!N62))","v":""},{"$f":"MID('DE01-F12'!G62,1,18)","v":""},{"$f":"IF(ISBLANK('DE01-F12'!P62),\"\",('DE01-F12'!P62))","v":""},{"$f":"IF(ISBLANK('DE01-F12'!Q62),\"\",('DE01-F12'!Q62))","v":""},{"$f":"IF(ISBLANK('DE01-F12'!S62),\"\",('DE01-F12'!S62))","v":0}]
[{"$f":"IF(ISBLANK('DE01-F12'!N63),\"\",('DE01-F12'!N63))","v":""},{"$f":"MID('DE01-F12'!G63,1,18)","v":""},{"$f":"IF(ISBLANK('DE01-F12'!P63),\"\",('DE01-F12'!P63))","v":""},{"$f":"IF(ISBLANK('DE01-F12'!Q63),\"\",('DE01-F12'!Q63))","v":""},{"$f":"IF(ISBLANK('DE01-F12'!S63),\"\",('DE01-F12'!S63))","v":0}]
[{"$f":"IF(ISBLANK('DE01-F12'!N64),\"\",('DE01-F12'!N64))","v":""},{"$f":"MID('DE01-F12'!G64,1,18)","v":""},{"$f":"IF(ISBLANK('DE01-F12'!P64),\"\",('DE01-F12'!P64))","v":""},{"$f":"IF(ISBLANK('DE01-F12'!Q64),\"\",('DE01-F12'!Q64))","v":""},{"$f":"IF(ISBLANK('DE01-F12'!S64),\"\",('DE01-F12'!S64))","v":0}]
[{"$f":"IF(ISBLANK('DE01-F12'!N65),\"\",('DE01-F12'!N65))","v":""},{"$f":"MID('DE01-F12'!G65,1,18)","v":""},{"$f":"IF(ISBLANK('DE01-F12'!P65),\"\",('DE01-F12'!P65))","v":""},{"$f":"IF(ISBLANK('DE01-F12'!Q65),\"\",('DE01-F12'!Q65))","v":""},{"$f":"IF(ISBLANK('DE01-F12'!S65),\"\",('DE01-F12'!S65))","v":0}]
[{"$f":"IF(ISBLANK('DE01-F12'!N66),\"\",('DE01-F12'!N66))","v":""},{"$f":"MID('DE01-F12'!G66,1,18)","v":""},{"$f":"IF(ISBLANK('DE01-F12'!P66),\"\",('DE01-F12'!P66))","v":""},{"$f":"IF(ISBLANK('DE01-F12'!Q66),\"\",('DE01-F12'!Q66))","v":""},{"$f":"IF(ISBLANK('DE01-F12'!S66),\"\",('DE01-F12'!S66))","v":0}]
[{"$f":"IF(ISBLANK('DE01-F12'!N67),\"\",('DE01-F12'!N67))","v":""},{"$f":"MID('DE01-F12'!G67,1,18)","v":""},{"$f":"IF(ISBLANK('DE01-F12'!P67),\"\",('DE01-F12'!P67))","v":""},{"$f":"IF(ISBLANK('DE01-F12'!Q67),\"\",('DE01-F12'!Q67))","v":""},{"$f":"IF(ISBLANK('DE01-F12'!S67),\"\",('DE01-F12'!S67))","v":0}]
[{"$f":"IF(ISBLANK('DE01-F12'!N68),\"\",('DE01-F12'!N68))","v":""},{"$f":"MID('DE01-F12'!G68,1,18)","v":""},{"$f":"IF(ISBLANK('DE01-F12'!P68),\"\",('DE01-F12'!P68))","v":""},{"$f":"IF(ISBLANK('DE01-F12'!Q68),\"\",('DE01-F12'!Q68))","v":""},{"$f":"IF(ISBLANK('DE01-F12'!S68),\"\",('DE01-F12'!S68))","v":0}]
[{"$f":"IF(ISBLANK('DE01-F12'!N69),\"\",('DE01-F12'!N69))","v":""},{"$f":"MID('DE01-F12'!G69,1,18)","v":""},{"$f":"IF(ISBLANK('DE01-F12'!P69),\"\",('DE01-F12'!P69))","v":""},{"$f":"IF(ISBLANK('DE01-F12'!Q69),\"\",('DE01-F12'!Q69))","v":""},{"$f":"IF(ISBLANK('DE01-F12'!S69),\"\",('DE01-F12'!S69))","v":0}]
[{"$f":"IF(ISBLANK('DE01-F12'!N70),\"\",('DE01-F12'!N70))","v":""},{"$f":"MID('DE01-F12'!G70,1,18)","v":""},{"$f":"IF(ISBLANK('DE01-F12'!P70),\"\",('DE01-F12'!P70))","v":""},{"$f":"IF(ISBLANK('DE01-F12'!Q70),\"\",('DE01-F12'!Q70))","v":""},{"$f":"IF(ISBLANK('DE01-F12'!S70),\"\",('DE01-F12'!S70))","v":0}]
[{"$f":"IF(ISBLANK('DE01-F12'!N71),\"\",('DE01-F12'!N71))","v":""},{"$f":"MID('DE01-F12'!G71,1,18)","v":""},{"$f":"IF(ISBLANK('DE01-F12'!P71),\"\",('DE01-F12'!P71))","v":""},{"$f":"IF(ISBLANK('DE01-F12'!Q71),\"\",('DE01-F12'!Q71))","v":""},{"$f":"IF(ISBLANK('DE01-F12'!S71),\"\",('DE01-F12'!S71))","v":0}]
[{"$f":"IF(ISBLANK('DE01-F12'!N72),\"\",('DE01-F12'!N72))","v":""},{"$f":"MID('DE01-F12'!G72,1,18)","v":""},{"$f":"IF(ISBLANK('DE01-F12'!P72),\"\",('DE01-F12'!P72))","v":""},{"$f":"IF(ISBLANK('DE01-F12'!Q72),\"\",('DE01-F12'!Q72))","v":""},{"$f":"IF(ISBLANK('DE01-F12'!S72),\"\",('DE01-F12'!S72))","v":0}]
[{"$f":"IF(ISBLANK('DE01-F12'!N73),\"\",('DE01-F12'!N73))","v":""},{"$f":"MID('DE01-F12'!G73,1,18)","v":""},{"$f":"IF(ISBLANK('DE01-F12'!P73),\"\",('DE01-F12'!P73))","v":""},{"$f":"IF(ISBLANK('DE01-F12'!Q73),\"\",('DE01-F12'!Q73))","v":""},{"$f":"IF(ISBLANK('DE01-F12'!S73),\"\",('DE01-F12'!S73))","v":0}]
[{"$f":"IF(ISBLANK('DE01-F12'!N74),\"\",('DE01-F12'!N74))","v":""},{"$f":"MID('DE01-F12'!G74,1,18)","v":""},{"$f":"IF(ISBLANK('DE01-F12'!P74),\"\",('DE01-F12'!P74))","v":""},{"$f":"IF(ISBLANK('DE01-F12'!Q74),\"\",('DE01-F12'!Q74))","v":""},{"$f":"IF(ISBLANK('DE01-F12'!S74),\"\",('DE01-F12'!S74))","v":0}]
[{"$f":"IF(ISBLANK('DE01-F12'!N75),\"\",('DE01-F12'!N75))","v":""},{"$f":"MID('DE01-F12'!G75,1,18)","v":""},{"$f":"IF(ISBLANK('DE01-F12'!P75),\"\",('DE01-F12'!P75))","v":""},{"$f":"IF(ISBLANK('DE01-F12'!Q75),\"\",('DE01-F12'!Q75))","v":""},{"$f":"IF(ISBLANK('DE01-F12'!S75),\"\",('DE01-F12'!S75))","v":0}]
[{"$f":"IF(ISBLANK('DE01-F12'!N76),\"\",('DE01-F12'!N76))","v":""},{"$f":"MID('DE01-F12'!G76,1,18)","v":""},{"$f":"IF(ISBLANK('DE01-F12'!P76),\"\",('DE01-F12'!P76))","v":""},{"$f":"IF(ISBLANK('DE01-F12'!Q76),\"\",('DE01-F12'!Q76))","v":""},{"$f":"IF(ISBLANK('DE01-F12'!S76),\"\",('DE01-F12'!S76))","v":0}]
[{"$f":"IF(ISBLANK('DE01-F12'!N77),\"\",('DE01-F12'!N77))","v":""},{"$f":"MID('DE01-F12'!G77,1,18)","v":""},{"$f":"IF(ISBLANK('DE01-F12'!P77),\"\",('DE01-F12'!P77))","v":""},{"$f":"IF(ISBLANK('DE01-F12'!Q77),\"\",('DE01-F12'!Q77))","v":""},{"$f":"IF(ISBLANK('DE01-F12'!S77),\"\",('DE01-F12'!S77))","v":0}]
[{"$f":"IF(ISBLANK('DE01-F12'!N78),\"\",('DE01-F12'!N78))","v":""},{"$f":"MID('DE01-F12'!G78,1,18)","v":""},{"$f":"IF(ISBLANK('DE01-F12'!P78),\"\",('DE01-F12'!P78))","v":""},{"$f":"IF(ISBLANK('DE01-F12'!Q78),\"\",('DE01-F12'!Q78))","v":""},{"$f":"IF(ISBLANK('DE01-F12'!S78),\"\",('DE01-F12'!S78))","v":0}]
[{"$f":"IF(ISBLANK('DE01-F12'!N79),\"\",('DE01-F12'!N79))","v":""},{"$f":"MID('DE01-F12'!G79,1,18)","v":""},{"$f":"IF(ISBLANK('DE01-F12'!P79),\"\",('DE01-F12'!P79))","v":""},{"$f":"IF(ISBLANK('DE01-F12'!Q79),\"\",('DE01-F12'!Q79))","v":""},{"$f":"IF(ISBLANK('DE01-F12'!S79),\"\",('DE01-F12'!S79))","v":0}]
[{"$f":"IF(ISBLANK('DE01-F12'!N80),\"\",('DE01-F12'!N80))","v":""},{"$f":"MID('DE01-F12'!G80,1,18)","v":""},{"$f":"IF(ISBLANK('DE01-F12'!P80),\"\",('DE01-F12'!P80))","v":""},{"$f":"IF(ISBLANK('DE01-F12'!Q80),\"\",('DE01-F12'!Q80))","v":""},{"$f":"IF(ISBLANK('DE01-F12'!S80),\"\",('DE01-F12'!S80))","v":0}]
[{"$f":"IF(ISBLANK('DE01-F12'!N81),\"\",('DE01-F12'!N81))","v":""},{"$f":"MID('DE01-F12'!G81,1,18)","v":""},{"$f":"IF(ISBLANK('DE01-F12'!P81),\"\",('DE01-F12'!P81))","v":""},{"$f":"IF(ISBLANK('DE01-F12'!Q81),\"\",('DE01-F12'!Q81))","v":""},{"$f":"IF(ISBLANK('DE01-F12'!S81),\"\",('DE01-F12'!S81))","v":0}]
[{"$f":"IF(ISBLANK('DE01-F12'!N82),\"\",('DE01-F12'!N82))","v":""},{"$f":"MID('DE01-F12'!G82,1,18)","v":""},{"$f":"IF(ISBLANK('DE01-F12'!P82),\"\",('DE01-F12'!P82))","v":""},{"$f":"IF(ISBLANK('DE01-F12'!Q82),\"\",('DE01-F12'!Q82))","v":""},{"$f":"IF(ISBLANK('DE01-F12'!S82),\"\",('DE01-F12'!S82))","v":0}]
[{"$f":"IF(ISBLANK('DE01-F12'!N83),\"\",('DE01-F12'!N83))","v":""},{"$f":"MID('DE01-F12'!G83,1,18)","v":""},{"$f":"IF(ISBLANK('DE01-F12'!P83),\"\",('DE01-F12'!P83))","v":""},{"$f":"IF(ISBLANK('DE01-F12'!Q83),\"\",('DE01-F12'!Q83))","v":""},{"$f":"IF(ISBLANK('DE01-F12'!S83),\"\",('DE01-F12'!S83))","v":0}]
[{"$f":"IF(ISBLANK('DE01-F12'!N84),\"\",('DE01-F12'!N84))","v":""},{"$f":"MID('DE01-F12'!G84,1,18)","v":""},{"$f":"IF(ISBLANK('DE01-F12'!P84),\"\",('DE01-F12'!P84))","v":""},{"$f":"IF(ISBLANK('DE01-F12'!Q84),\"\",('DE01-F12'!Q84))","v":""},{"$f":"IF(ISBLANK('DE01-F12'!S84),\"\",('DE01-F12'!S84))","v":0}]
[{"$f":"IF(ISBLANK('DE01-F12'!N85),\"\",('DE01-F12'!N85))","v":""},{"$f":"MID('DE01-F12'!G85,1,18)","v":""},{"$f":"IF(ISBLANK('DE01-F12'!P85),\"\",('DE01-F12'!P85))","v":""},{"$f":"IF(ISBLANK('DE01-F12'!Q85),\"\",('DE01-F12'!Q85))","v":""},{"$f":"IF(ISBLANK('DE01-F12'!S85),\"\",('DE01-F12'!S85))","v":0}]
[{"$f":"IF(ISBLANK('DE01-F12'!N86),\"\",('DE01-F12'!N86))","v":""},{"$f":"MID('DE01-F12'!G86,1,18)","v":""},{"$f":"IF(ISBLANK('DE01-F12'!P86),\"\",('DE01-F12'!P86))","v":""},{"$f":"IF(ISBLANK('DE01-F12'!Q86),\"\",('DE01-F12'!Q86))","v":""},{"$f":"IF(ISBLANK('DE01-F12'!S86),\"\",('DE01-F12'!S86))","v":0}]
[{"$f":"IF(ISBLANK('DE01-F12'!N87),\"\",('DE01-F12'!N87))","v":""},{"$f":"MID('DE01-F12'!G87,1,18)","v":""},{"$f":"IF(ISBLANK('DE01-F12'!P87),\"\",('DE01-F12'!P87))","v":""},{"$f":"IF(ISBLANK('DE01-F12'!Q87),\"\",('DE01-F12'!Q87))","v":""},{"$f":"IF(ISBLANK('DE01-F12'!S87),\"\",('DE01-F12'!S87))","v":0}]
[{"$f":"IF(ISBLANK('DE01-F12'!N88),\"\",('DE01-F12'!N88))","v":""},{"$f":"MID('DE01-F12'!G88,1,18)","v":""},{"$f":"IF(ISBLANK('DE01-F12'!P88),\"\",('DE01-F12'!P88))","v":""},{"$f":"IF(ISBLANK('DE01-F12'!Q88),\"\",('DE01-F12'!Q88))","v":""},{"$f":"IF(ISBLANK('DE01-F12'!S88),\"\",('DE01-F12'!S88))","v":0}]
[{"$f":"IF(ISBLANK('DE01-F12'!N89),\"\",('DE01-F12'!N89))","v":""},{"$f":"MID('DE01-F12'!G89,1,18)","v":""},{"$f":"IF(ISBLANK('DE01-F12'!P89),\"\",('DE01-F12'!P89))","v":""},{"$f":"IF(ISBLANK('DE01-F12'!Q89),\"\",('DE01-F12'!Q89))","v":""},{"$f":"IF(ISBLANK('DE01-F12'!S89),\"\",('DE01-F12'!S89))","v":0}]
[{"$f":"IF(ISBLANK('DE01-F12'!N90),\"\",('DE01-F12'!N90))","v":""},{"$f":"MID('DE01-F12'!G90,1,18)","v":""},{"$f":"IF(ISBLANK('DE01-F12'!P90),\"\",('DE01-F12'!P90))","v":""},{"$f":"IF(ISBLANK('DE01-F12'!Q90),\"\",('DE01-F12'!Q90))","v":""},{"$f":"IF(ISBLANK('DE01-F12'!S90),\"\",('DE01-F12'!S90))","v":0}]
[{"$f":"IF(ISBLANK('DE01-F12'!N91),\"\",('DE01-F12'!N91))","v":""},{"$f":"MID('DE01-F12'!G91,1,18)","v":""},{"$f":"IF(ISBLANK('DE01-F12'!P91),\"\",('DE01-F12'!P91))","v":""},{"$f":"IF(ISBLANK('DE01-F12'!Q91),\"\",('DE01-F12'!Q91))","v":""},{"$f":"IF(ISBLANK('DE01-F12'!S91),\"\",('DE01-F12'!S91))","v":0}]
[{"$f":"IF(ISBLANK('DE01-F12'!N92),\"\",('DE01-F12'!N92))","v":""},{"$f":"MID('DE01-F12'!G92,1,18)","v":""},{"$f":"IF(ISBLANK('DE01-F12'!P92),\"\",('DE01-F12'!P92))","v":""},{"$f":"IF(ISBLANK('DE01-F12'!Q92),\"\",('DE01-F12'!Q92))","v":""},{"$f":"IF(ISBLANK('DE01-F12'!S92),\"\",('DE01-F12'!S92))","v":0}]
[{"$f":"IF(ISBLANK('DE01-F12'!N93),\"\",('DE01-F12'!N93))","v":""},{"$f":"MID('DE01-F12'!G93,1,18)","v":""},{"$f":"IF(ISBLANK('DE01-F12'!P93),\"\",('DE01-F12'!P93))","v":""},{"$f":"IF(ISBLANK('DE01-F12'!Q93),\"\",('DE01-F12'!Q93))","v":""},{"$f":"IF(ISBLANK('DE01-F12'!S93),\"\",('DE01-F12'!S93))","v":0}]
[{"$f":"IF(ISBLANK('DE01-F12'!N94),\"\",('DE01-F12'!N94))","v":""},{"$f":"MID('DE01-F12'!G94,1,18)","v":""},{"$f":"IF(ISBLANK('DE01-F12'!P94),\"\",('DE01-F12'!P94))","v":""},{"$f":"IF(ISBLANK('DE01-F12'!Q94),\"\",('DE01-F12'!Q94))","v":""},{"$f":"IF(ISBLANK('DE01-F12'!S94),\"\",('DE01-F12'!S94))","v":0}]
[{"$f":"IF(ISBLANK('DE01-F12'!N95),\"\",('DE01-F12'!N95))","v":""},{"$f":"MID('DE01-F12'!G95,1,18)","v":""},{"$f":"IF(ISBLANK('DE01-F12'!P95),\"\",('DE01-F12'!P95))","v":""},{"$f":"IF(ISBLANK('DE01-F12'!Q95),\"\",('DE01-F12'!Q95))","v":""},{"$f":"IF(ISBLANK('DE01-F12'!S95),\"\",('DE01-F12'!S95))","v":0}]
[{"$f":"IF(ISBLANK('DE01-F12'!N96),\"\",('DE01-F12'!N96))","v":""},{"$f":"MID('DE01-F12'!G96,1,18)","v":""},{"$f":"IF(ISBLANK('DE01-F12'!P96),\"\",('DE01-F12'!P96))","v":""},{"$f":"IF(ISBLANK('DE01-F12'!Q96),\"\",('DE01-F12'!Q96))","v":""},{"$f":"IF(ISBLANK('DE01-F12'!S96),\"\",('DE01-F12'!S96))","v":0}]
[{"$f":"IF(ISBLANK('DE01-F12'!N97),\"\",('DE01-F12'!N97))","v":""},{"$f":"MID('DE01-F12'!G97,1,18)","v":""},{"$f":"IF(ISBLANK('DE01-F12'!P97),\"\",('DE01-F12'!P97))","v":""},{"$f":"IF(ISBLANK('DE01-F12'!Q97),\"\",('DE01-F12'!Q97))","v":""},{"$f":"IF(ISBLANK('DE01-F12'!S97),\"\",('DE01-F12'!S97))","v":0}]
[{"$f":"IF(ISBLANK('DE01-F12'!N98),\"\",('DE01-F12'!N98))","v":""},{"$f":"MID('DE01-F12'!G98,1,18)","v":""},{"$f":"IF(ISBLANK('DE01-F12'!P98),\"\",('DE01-F12'!P98))","v":""},{"$f":"IF(ISBLANK('DE01-F12'!Q98),\"\",('DE01-F12'!Q98))","v":""},{"$f":"IF(ISBLANK('DE01-F12'!S98),\"\",('DE01-F12'!S98))","v":0}]
[{"$f":"IF(ISBLANK('DE01-F12'!N99),\"\",('DE01-F12'!N99))","v":""},{"$f":"MID('DE01-F12'!G99,1,18)","v":""},{"$f":"IF(ISBLANK('DE01-F12'!P99),\"\",('DE01-F12'!P99))","v":""},{"$f":"IF(ISBLANK('DE01-F12'!Q99),\"\",('DE01-F12'!Q99))","v":""},{"$f":"IF(ISBLANK('DE01-F12'!S99),\"\",('DE01-F12'!S99))","v":0}]
[{"$f":"IF(ISBLANK('DE01-F12'!N100),\"\",('DE01-F12'!N100))","v":""},{"$f":"MID('DE01-F12'!G100,1,18)","v":""},{"$f":"IF(ISBLANK('DE01-F12'!P100),\"\",('DE01-F12'!P100))","v":""},{"$f":"IF(ISBLANK('DE01-F12'!Q100),\"\",('DE01-F12'!Q100))","v":""},{"$f":"IF(ISBLANK('DE01-F12'!S100),\"\",('DE01-F12'!S100))","v":0}]
[{"$f":"IF(ISBLANK('DE01-F12'!N101),\"\",('DE01-F12'!N101))","v":""},{"$f":"MID('DE01-F12'!G101,1,18)","v":""},{"$f":"IF(ISBLANK('DE01-F12'!P101),\"\",('DE01-F12'!P101))","v":""},{"$f":"IF(ISBLANK('DE01-F12'!Q101),\"\",('DE01-F12'!Q101))","v":""},{"$f":"IF(ISBLANK('DE01-F12'!S101),\"\",('DE01-F12'!S101))","v":0}]
[{"$f":"IF(ISBLANK('DE01-F12'!N102),\"\",('DE01-F12'!N102))","v":""},{"$f":"MID('DE01-F12'!G102,1,18)","v":""},{"$f":"IF(ISBLANK('DE01-F12'!P102),\"\",('DE01-F12'!P102))","v":""},{"$f":"IF(ISBLANK('DE01-F12'!Q102),\"\",('DE01-F12'!Q102))","v":""},{"$f":"IF(ISBLANK('DE01-F12'!S102),\"\",('DE01-F12'!S102))","v":0}]
[{"$f":"IF(ISBLANK('DE01-F12'!N103),\"\",('DE01-F12'!N103))","v":""},{"$f":"MID('DE01-F12'!G103,1,18)","v":""},{"$f":"IF(ISBLANK('DE01-F12'!P103),\"\",('DE01-F12'!P103))","v":""},{"$f":"IF(ISBLANK('DE01-F12'!Q103),\"\",('DE01-F12'!Q103))","v":""},{"$f":"IF(ISBLANK('DE01-F12'!S103),\"\",('DE01-F12'!S103))","v":0}]
[{"$f":"IF(ISBLANK('DE01-F12'!N104),\"\",('DE01-F12'!N104))","v":""},{"$f":"MID('DE01-F12'!G104,1,18)","v":""},{"$f":"IF(ISBLANK('DE01-F12'!P104),\"\",('DE01-F12'!P104))","v":""},{"$f":"IF(ISBLANK('DE01-F12'!Q104),\"\",('DE01-F12'!Q104))","v":""},{"$f":"IF(ISBLANK('DE01-F12'!S104),\"\",('DE01-F12'!S104))","v":0}]
[{"$f":"IF(ISBLANK('DE01-F12'!N105),\"\",('DE01-F12'!N105))","v":""},{"$f":"MID('DE01-F12'!G105,1,18)","v":""},{"$f":"IF(ISBLANK('DE01-F12'!P105),\"\",('DE01-F12'!P105))","v":""},{"$f":"IF(ISBLANK('DE01-F12'!Q105),\"\",('DE01-F12'!Q105))","v":""},{"$f":"IF(ISBLANK('DE01-F12'!S105),\"\",('DE01-F12'!S105))","v":0}]
[{"$f":"IF(ISBLANK('DE01-F12'!N106),\"\",('DE01-F12'!N106))","v":""},{"$f":"MID('DE01-F12'!G106,1,18)","v":""},{"$f":"IF(ISBLANK('DE01-F12'!P106),\"\",('DE01-F12'!P106))","v":""},{"$f":"IF(ISBLANK('DE01-F12'!Q106),\"\",('DE01-F12'!Q106))","v":""},{"$f":"IF(ISBLANK('DE01-F12'!S106),\"\",('DE01-F12'!S106))","v":0}]
[{"$f":"IF(ISBLANK('DE01-F12'!N107),\"\",('DE01-F12'!N107))","v":""},{"$f":"MID('DE01-F12'!G107,1,18)","v":""},{"$f":"IF(ISBLANK('DE01-F12'!P107),\"\",('DE01-F12'!P107))","v":""},{"$f":"IF(ISBLANK('DE01-F12'!Q107),\"\",('DE01-F12'!Q107))","v":""},{"$f":"IF(ISBLANK('DE01-F12'!S107),\"\",('DE01-F12'!S107))","v":0}]
[{"$f":"IF(ISBLANK('DE01-F12'!N108),\"\",('DE01-F12'!N108))","v":""},{"$f":"MID('DE01-F12'!G108,1,18)","v":""},{"$f":"IF(ISBLANK('DE01-F12'!P108),\"\",('DE01-F12'!P108))","v":""},{"$f":"IF(ISBLANK('DE01-F12'!Q108),\"\",('DE01-F12'!Q108))","v":""},{"$f":"IF(ISBLANK('DE01-F12'!S108),\"\",('DE01-F12'!S108))","v":0}]
[{"$f":"IF(ISBLANK('DE01-F12'!N109),\"\",('DE01-F12'!N109))","v":""},{"$f":"MID('DE01-F12'!G109,1,18)","v":""},{"$f":"IF(ISBLANK('DE01-F12'!P109),\"\",('DE01-F12'!P109))","v":""},{"$f":"IF(ISBLANK('DE01-F12'!Q109),\"\",('DE01-F12'!Q109))","v":""},{"$f":"IF(ISBLANK('DE01-F12'!S109),\"\",('DE01-F12'!S109))","v":0}]
[{"$f":"IF(ISBLANK('DE01-F12'!N110),\"\",('DE01-F12'!N110))","v":""},{"$f":"MID('DE01-F12'!G110,1,18)","v":""},{"$f":"IF(ISBLANK('DE01-F12'!P110),\"\",('DE01-F12'!P110))","v":""},{"$f":"IF(ISBLANK('DE01-F12'!Q110),\"\",('DE01-F12'!Q110))","v":""},{"$f":"IF(ISBLANK('DE01-F12'!S110),\"\",('DE01-F12'!S110))","v":0}]
[{"$f":"IF(ISBLANK('DE01-F12'!N111),\"\",('DE01-F12'!N111))","v":""},{"$f":"MID('DE01-F12'!G111,1,18)","v":""},{"$f":"IF(ISBLANK('DE01-F12'!P111),\"\",('DE01-F12'!P111))","v":""},{"$f":"IF(ISBLANK('DE01-F12'!Q111),\"\",('DE01-F12'!Q111))","v":""},{"$f":"IF(ISBLANK('DE01-F12'!S111),\"\",('DE01-F12'!S111))","v":0}]
[{"$f":"IF(ISBLANK('DE01-F12'!N112),\"\",('DE01-F12'!N112))","v":""},{"$f":"MID('DE01-F12'!G112,1,18)","v":""},{"$f":"IF(ISBLANK('DE01-F12'!P112),\"\",('DE01-F12'!P112))","v":""},{"$f":"IF(ISBLANK('DE01-F12'!Q112),\"\",('DE01-F12'!Q112))","v":""},{"$f":"IF(ISBLANK('DE01-F12'!S112),\"\",('DE01-F12'!S112))","v":0}]
[{"$f":"IF(ISBLANK('DE01-F12'!N113),\"\",('DE01-F12'!N113))","v":""},{"$f":"MID('DE01-F12'!G113,1,18)","v":""},{"$f":"IF(ISBLANK('DE01-F12'!P113),\"\",('DE01-F12'!P113))","v":""},{"$f":"IF(ISBLANK('DE01-F12'!Q113),\"\",('DE01-F12'!Q113))","v":""},{"$f":"IF(ISBLANK('DE01-F12'!S113),\"\",('DE01-F12'!S113))","v":0}]
[{"$f":"IF(ISBLANK('DE01-F12'!N114),\"\",('DE01-F12'!N114))","v":""},{"$f":"MID('DE01-F12'!G114,1,18)","v":""},{"$f":"IF(ISBLANK('DE01-F12'!P114),\"\",('DE01-F12'!P114))","v":""},{"$f":"IF(ISBLANK('DE01-F12'!Q114),\"\",('DE01-F12'!Q114))","v":""},{"$f":"IF(ISBLANK('DE01-F12'!S114),\"\",('DE01-F12'!S114))","v":0}]
[{"$f":"IF(ISBLANK('DE01-F12'!N115),\"\",('DE01-F12'!N115))","v":""},{"$f":"MID('DE01-F12'!G115,1,18)","v":""},{"$f":"IF(ISBLANK('DE01-F12'!P115),\"\",('DE01-F12'!P115))","v":""},{"$f":"IF(ISBLANK('DE01-F12'!Q115),\"\",('DE01-F12'!Q115))","v":""},{"$f":"IF(ISBLANK('DE01-F12'!S115),\"\",('DE01-F12'!S115))","v":0}]
[{"$f":"IF(ISBLANK('DE01-F12'!N116),\"\",('DE01-F12'!N116))","v":""},{"$f":"MID('DE01-F12'!G116,1,18)","v":""},{"$f":"IF(ISBLANK('DE01-F12'!P116),\"\",('DE01-F12'!P116))","v":""},{"$f":"IF(ISBLANK('DE01-F12'!Q116),\"\",('DE01-F12'!Q116))","v":""},{"$f":"IF(ISBLANK('DE01-F12'!S116),\"\",('DE01-F12'!S116))","v":0}]
[{"$f":"IF(ISBLANK('DE01-F12'!N117),\"\",('DE01-F12'!N117))","v":""},{"$f":"MID('DE01-F12'!G117,1,18)","v":""},{"$f":"IF(ISBLANK('DE01-F12'!P117),\"\",('DE01-F12'!P117))","v":""},{"$f":"IF(ISBLANK('DE01-F12'!Q117),\"\",('DE01-F12'!Q117))","v":""},{"$f":"IF(ISBLANK('DE01-F12'!S117),\"\",('DE01-F12'!S117))","v":0}]
[{"$f":"IF(ISBLANK('DE01-F12'!N118),\"\",('DE01-F12'!N118))","v":""},{"$f":"MID('DE01-F12'!G118,1,18)","v":""},{"$f":"IF(ISBLANK('DE01-F12'!P118),\"\",('DE01-F12'!P118))","v":""},{"$f":"IF(ISBLANK('DE01-F12'!Q118),\"\",('DE01-F12'!Q118))","v":""},{"$f":"IF(ISBLANK('DE01-F12'!S118),\"\",('DE01-F12'!S118))","v":0}]
[{"$f":"IF(ISBLANK('DE01-F12'!N119),\"\",('DE01-F12'!N119))","v":""},{"$f":"MID('DE01-F12'!G119,1,18)","v":""},{"$f":"IF(ISBLANK('DE01-F12'!P119),\"\",('DE01-F12'!P119))","v":""},{"$f":"IF(ISBLANK('DE01-F12'!Q119),\"\",('DE01-F12'!Q119))","v":""},{"$f":"IF(ISBLANK('DE01-F12'!S119),\"\",('DE01-F12'!S119))","v":0}]
[{"$f":"IF(ISBLANK('DE01-F12'!N120),\"\",('DE01-F12'!N120))","v":""},{"$f":"MID('DE01-F12'!G120,1,18)","v":""},{"$f":"IF(ISBLANK('DE01-F12'!P120),\"\",('DE01-F12'!P120))","v":""},{"$f":"IF(ISBLANK('DE01-F12'!Q120),\"\",('DE01-F12'!Q120))","v":""},{"$f":"IF(ISBLANK('DE01-F12'!S120),\"\",('DE01-F12'!S120))","v":0}]
[{"$f":"IF(ISBLANK('DE01-F12'!N121),\"\",('DE01-F12'!N121))","v":""},{"$f":"MID('DE01-F12'!G121,1,18)","v":""},{"$f":"IF(ISBLANK('DE01-F12'!P121),\"\",('DE01-F12'!P121))","v":""},{"$f":"IF(ISBLANK('DE01-F12'!Q121),\"\",('DE01-F12'!Q121))","v":""},{"$f":"IF(ISBLANK('DE01-F12'!S121),\"\",('DE01-F12'!S121))","v":0}]
[{"$f":"IF(ISBLANK('DE01-F12'!N122),\"\",('DE01-F12'!N122))","v":""},{"$f":"MID('DE01-F12'!G122,1,18)","v":""},{"$f":"IF(ISBLANK('DE01-F12'!P122),\"\",('DE01-F12'!P122))","v":""},{"$f":"IF(ISBLANK('DE01-F12'!Q122),\"\",('DE01-F12'!Q122))","v":""},{"$f":"IF(ISBLANK('DE01-F12'!S122),\"\",('DE01-F12'!S122))","v":0}]
[{"$f":"IF(ISBLANK('DE01-F12'!N123),\"\",('DE01-F12'!N123))","v":""},{"$f":"MID('DE01-F12'!G123,1,18)","v":""},{"$f":"IF(ISBLANK('DE01-F12'!P123),\"\",('DE01-F12'!P123))","v":""},{"$f":"IF(ISBLANK('DE01-F12'!Q123),\"\",('DE01-F12'!Q123))","v":""},{"$f":"IF(ISBLANK('DE01-F12'!S123),\"\",('DE01-F12'!S123))","v":0}]
[{"$f":"IF(ISBLANK('DE01-F12'!N124),\"\",('DE01-F12'!N124))","v":""},{"$f":"MID('DE01-F12'!G124,1,18)","v":""},{"$f":"IF(ISBLANK('DE01-F12'!P124),\"\",('DE01-F12'!P124))","v":""},{"$f":"IF(ISBLANK('DE01-F12'!Q124),\"\",('DE01-F12'!Q124))","v":""},{"$f":"IF(ISBLANK('DE01-F12'!S124),\"\",('DE01-F12'!S124))","v":0}]
[{"$f":"IF(ISBLANK('DE01-F12'!N125),\"\",('DE01-F12'!N125))","v":""},{"$f":"MID('DE01-F12'!G125,1,18)","v":""},{"$f":"IF(ISBLANK('DE01-F12'!P125),\"\",('DE01-F12'!P125))","v":""},{"$f":"IF(ISBLANK('DE01-F12'!Q125),\"\",('DE01-F12'!Q125))","v":""},{"$f":"IF(ISBLANK('DE01-F12'!S125),\"\",('DE01-F12'!S125))","v":0}]
[{"$f":"IF(ISBLANK('DE01-F12'!N126),\"\",('DE01-F12'!N126))","v":""},{"$f":"MID('DE01-F12'!G126,1,18)","v":""},{"$f":"IF(ISBLANK('DE01-F12'!P126),\"\",('DE01-F12'!P126))","v":""},{"$f":"IF(ISBLANK('DE01-F12'!Q126),\"\",('DE01-F12'!Q126))","v":""},{"$f":"IF(ISBLANK('DE01-F12'!S126),\"\",('DE01-F12'!S126))","v":0}]
[{"$f":"IF(ISBLANK('DE01-F12'!N127),\"\",('DE01-F12'!N127))","v":""},{"$f":"MID('DE01-F12'!G127,1,18)","v":""},{"$f":"IF(ISBLANK('DE01-F12'!P127),\"\",('DE01-F12'!P127))","v":""},{"$f":"IF(ISBLANK('DE01-F12'!Q127),\"\",('DE01-F12'!Q127))","v":""},{"$f":"IF(ISBLANK('DE01-F12'!S127),\"\",('DE01-F12'!S127))","v":0}]
[{"$f":"IF(ISBLANK('DE01-F12'!N128),\"\",('DE01-F12'!N128))","v":""},{"$f":"MID('DE01-F12'!G128,1,18)","v":""},{"$f":"IF(ISBLANK('DE01-F12'!P128),\"\",('DE01-F12'!P128))","v":""},{"$f":"IF(ISBLANK('DE01-F12'!Q128),\"\",('DE01-F12'!Q128))","v":""},{"$f":"IF(ISBLANK('DE01-F12'!S128),\"\",('DE01-F12'!S128))","v":0}]
[{"$f":"IF(ISBLANK('DE01-F12'!N129),\"\",('DE01-F12'!N129))","v":""},{"$f":"MID('DE01-F12'!G129,1,18)","v":""},{"$f":"IF(ISBLANK('DE01-F12'!P129),\"\",('DE01-F12'!P129))","v":""},{"$f":"IF(ISBLANK('DE01-F12'!Q129),\"\",('DE01-F12'!Q129))","v":""},{"$f":"IF(ISBLANK('DE01-F12'!S129),\"\",('DE01-F12'!S129))","v":0}]
[{"$f":"IF(ISBLANK('DE01-F12'!N130),\"\",('DE01-F12'!N130))","v":""},{"$f":"MID('DE01-F12'!G130,1,18)","v":""},{"$f":"IF(ISBLANK('DE01-F12'!P130),\"\",('DE01-F12'!P130))","v":""},{"$f":"IF(ISBLANK('DE01-F12'!Q130),\"\",('DE01-F12'!Q130))","v":""},{"$f":"IF(ISBLANK('DE01-F12'!S130),\"\",('DE01-F12'!S130))","v":0}]
[{"$f":"IF(ISBLANK('DE01-F12'!N131),\"\",('DE01-F12'!N131))","v":""},{"$f":"MID('DE01-F12'!G131,1,18)","v":""},{"$f":"IF(ISBLANK('DE01-F12'!P131),\"\",('DE01-F12'!P131))","v":""},{"$f":"IF(ISBLANK('DE01-F12'!Q131),\"\",('DE01-F12'!Q131))","v":""},{"$f":"IF(ISBLANK('DE01-F12'!S131),\"\",('DE01-F12'!S131))","v":0}]
[{"$f":"IF(ISBLANK('DE01-F12'!N132),\"\",('DE01-F12'!N132))","v":""},{"$f":"MID('DE01-F12'!G132,1,18)","v":""},{"$f":"IF(ISBLANK('DE01-F12'!P132),\"\",('DE01-F12'!P132))","v":""},{"$f":"IF(ISBLANK('DE01-F12'!Q132),\"\",('DE01-F12'!Q132))","v":""},{"$f":"IF(ISBLANK('DE01-F12'!S132),\"\",('DE01-F12'!S132))","v":0}]
[{"$f":"IF(ISBLANK('DE01-F12'!N133),\"\",('DE01-F12'!N133))","v":""},{"$f":"MID('DE01-F12'!G133,1,18)","v":""},{"$f":"IF(ISBLANK('DE01-F12'!P133),\"\",('DE01-F12'!P133))","v":""},{"$f":"IF(ISBLANK('DE01-F12'!Q133),\"\",('DE01-F12'!Q133))","v":""},{"$f":"IF(ISBLANK('DE01-F12'!S133),\"\",('DE01-F12'!S133))","v":0}]
[{"$f":"IF(ISBLANK('DE01-F12'!N134),\"\",('DE01-F12'!N134))","v":""},{"$f":"MID('DE01-F12'!G134,1,18)","v":""},{"$f":"IF(ISBLANK('DE01-F12'!P134),\"\",('DE01-F12'!P134))","v":""},{"$f":"IF(ISBLANK('DE01-F12'!Q134),\"\",('DE01-F12'!Q134))","v":""},{"$f":"IF(ISBLANK('DE01-F12'!S134),\"\",('DE01-F12'!S134))","v":0}]
[{"$f":"IF(ISBLANK('DE01-F12'!N135),\"\",('DE01-F12'!N135))","v":""},{"$f":"MID('DE01-F12'!G135,1,18)","v":""},{"$f":"IF(ISBLANK('DE01-F12'!P135),\"\",('DE01-F12'!P135))","v":""},{"$f":"IF(ISBLANK('DE01-F12'!Q135),\"\",('DE01-F12'!Q135))","v":""},{"$f":"IF(ISBLANK('DE01-F12'!S135),\"\",('DE01-F12'!S135))","v":0}]
[{"$f":"IF(ISBLANK('DE01-F12'!N136),\"\",('DE01-F12'!N136))","v":""},{"$f":"MID('DE01-F12'!G136,1,18)","v":""},{"$f":"IF(ISBLANK('DE01-F12'!P136),\"\",('DE01-F12'!P136))","v":""},{"$f":"IF(ISBLANK('DE01-F12'!Q136),\"\",('DE01-F12'!Q136))","v":""},{"$f":"IF(ISBLANK('DE01-F12'!S136),\"\",('DE01-F12'!S136))","v":0}]
[{"$f":"IF(ISBLANK('DE01-F12'!N137),\"\",('DE01-F12'!N137))","v":""},{"$f":"MID('DE01-F12'!G137,1,18)","v":""},{"$f":"IF(ISBLANK('DE01-F12'!P137),\"\",('DE01-F12'!P137))","v":""},{"$f":"IF(ISBLANK('DE01-F12'!Q137),\"\",('DE01-F12'!Q137))","v":""},{"$f":"IF(ISBLANK('DE01-F12'!S137),\"\",('DE01-F12'!S137))","v":0}]
[{"$f":"IF(ISBLANK('DE01-F12'!N138),\"\",('DE01-F12'!N138))","v":""},{"$f":"MID('DE01-F12'!G138,1,18)","v":""},{"$f":"IF(ISBLANK('DE01-F12'!P138),\"\",('DE01-F12'!P138))","v":""},{"$f":"IF(ISBLANK('DE01-F12'!Q138),\"\",('DE01-F12'!Q138))","v":""},{"$f":"IF(ISBLANK('DE01-F12'!S138),\"\",('DE01-F12'!S138))","v":0}]
[{"$f":"IF(ISBLANK('DE01-F12'!N139),\"\",('DE01-F12'!N139))","v":""},{"$f":"MID('DE01-F12'!G139,1,18)","v":""},{"$f":"IF(ISBLANK('DE01-F12'!P139),\"\",('DE01-F12'!P139))","v":""},{"$f":"IF(ISBLANK('DE01-F12'!Q139),\"\",('DE01-F12'!Q139))","v":""},{"$f":"IF(ISBLANK('DE01-F12'!S139),\"\",('DE01-F12'!S139))","v":0}]
[{"$f":"IF(ISBLANK('DE01-F12'!N140),\"\",('DE01-F12'!N140))","v":""},{"$f":"MID('DE01-F12'!G140,1,18)","v":""},{"$f":"IF(ISBLANK('DE01-F12'!P140),\"\",('DE01-F12'!P140))","v":""},{"$f":"IF(ISBLANK('DE01-F12'!Q140),\"\",('DE01-F12'!Q140))","v":""},{"$f":"IF(ISBLANK('DE01-F12'!S140),\"\",('DE01-F12'!S140))","v":0}]
[{"$f":"IF(ISBLANK('DE01-F12'!N141),\"\",('DE01-F12'!N141))","v":""},{"$f":"MID('DE01-F12'!G141,1,18)","v":""},{"$f":"IF(ISBLANK('DE01-F12'!P141),\"\",('DE01-F12'!P141))","v":""},{"$f":"IF(ISBLANK('DE01-F12'!Q141),\"\",('DE01-F12'!Q141))","v":""},{"$f":"IF(ISBLANK('DE01-F12'!S141),\"\",('DE01-F12'!S141))","v":0}]
[{"$f":"IF(ISBLANK('DE01-F12'!N142),\"\",('DE01-F12'!N142))","v":""},{"$f":"MID('DE01-F12'!G142,1,18)","v":""},{"$f":"IF(ISBLANK('DE01-F12'!P142),\"\",('DE01-F12'!P142))","v":""},{"$f":"IF(ISBLANK('DE01-F12'!Q142),\"\",('DE01-F12'!Q142))","v":""},{"$f":"IF(ISBLANK('DE01-F12'!S142),\"\",('DE01-F12'!S142))","v":0}]
[{"$f":"IF(ISBLANK('DE01-F12'!N143),\"\",('DE01-F12'!N143))","v":""},{"$f":"MID('DE01-F12'!G143,1,18)","v":""},{"$f":"IF(ISBLANK('DE01-F12'!P143),\"\",('DE01-F12'!P143))","v":""},{"$f":"IF(ISBLANK('DE01-F12'!Q143),\"\",('DE01-F12'!Q143))","v":""},{"$f":"IF(ISBLANK('DE01-F12'!S143),\"\",('DE01-F12'!S143))","v":0}]
[{"$f":"IF(ISBLANK('DE01-F12'!N144),\"\",('DE01-F12'!N144))","v":""},{"$f":"MID('DE01-F12'!G144,1,18)","v":""},{"$f":"IF(ISBLANK('DE01-F12'!P144),\"\",('DE01-F12'!P144))","v":""},{"$f":"IF(ISBLANK('DE01-F12'!Q144),\"\",('DE01-F12'!Q144))","v":""},{"$f":"IF(ISBLANK('DE01-F12'!S144),\"\",('DE01-F12'!S144))","v":0}]
[{"$f":"IF(ISBLANK('DE01-F12'!N145),\"\",('DE01-F12'!N145))","v":""},{"$f":"MID('DE01-F12'!G145,1,18)","v":""},{"$f":"IF(ISBLANK('DE01-F12'!P145),\"\",('DE01-F12'!P145))","v":""},{"$f":"IF(ISBLANK('DE01-F12'!Q145),\"\",('DE01-F12'!Q145))","v":""},{"$f":"IF(ISBLANK('DE01-F12'!S145),\"\",('DE01-F12'!S145))","v":0}]
[{"$f":"IF(ISBLANK('DE01-F12'!N146),\"\",('DE01-F12'!N146))","v":""},{"$f":"MID('DE01-F12'!G146,1,18)","v":""},{"$f":"IF(ISBLANK('DE01-F12'!P146),\"\",('DE01-F12'!P146))","v":""},{"$f":"IF(ISBLANK('DE01-F12'!Q146),\"\",('DE01-F12'!Q146))","v":""},{"$f":"IF(ISBLANK('DE01-F12'!S146),\"\",('DE01-F12'!S146))","v":0}]
[{"$f":"IF(ISBLANK('DE01-F12'!N147),\"\",('DE01-F12'!N147))","v":""},{"$f":"MID('DE01-F12'!G147,1,18)","v":""},{"$f":"IF(ISBLANK('DE01-F12'!P147),\"\",('DE01-F12'!P147))","v":""},{"$f":"IF(ISBLANK('DE01-F12'!Q147),\"\",('DE01-F12'!Q147))","v":""},{"$f":"IF(ISBLANK('DE01-F12'!S147),\"\",('DE01-F12'!S147))","v":0}]
[{"$f":"IF(ISBLANK('DE01-F12'!N148),\"\",('DE01-F12'!N148))","v":""},{"$f":"MID('DE01-F12'!G148,1,18)","v":""},{"$f":"IF(ISBLANK('DE01-F12'!P148),\"\",('DE01-F12'!P148))","v":""},{"$f":"IF(ISBLANK('DE01-F12'!Q148),\"\",('DE01-F12'!Q148))","v":""},{"$f":"IF(ISBLANK('DE01-F12'!S148),\"\",('DE01-F12'!S148))","v":0}]
[{"$f":"IF(ISBLANK('DE01-F12'!N149),\"\",('DE01-F12'!N149))","v":""},{"$f":"MID('DE01-F12'!G149,1,18)","v":""},{"$f":"IF(ISBLANK('DE01-F12'!P149),\"\",('DE01-F12'!P149))","v":""},{"$f":"IF(ISBLANK('DE01-F12'!Q149),\"\",('DE01-F12'!Q149))","v":""},{"$f":"IF(ISBLANK('DE01-F12'!S149),\"\",('DE01-F12'!S149))","v":0}]
[{"$f":"IF(ISBLANK('DE01-F12'!N150),\"\",('DE01-F12'!N150))","v":""},{"$f":"MID('DE01-F12'!G150,1,18)","v":""},{"$f":"IF(ISBLANK('DE01-F12'!P150),\"\",('DE01-F12'!P150))","v":""},{"$f":"IF(ISBLANK('DE01-F12'!Q150),\"\",('DE01-F12'!Q150))","v":""},{"$f":"IF(ISBLANK('DE01-F12'!S150),\"\",('DE01-F12'!S150))","v":0}]
[{"$f":"IF(ISBLANK('DE01-F12'!N151),\"\",('DE01-F12'!N151))","v":""},{"$f":"MID('DE01-F12'!G151,1,18)","v":""},{"$f":"IF(ISBLANK('DE01-F12'!P151),\"\",('DE01-F12'!P151))","v":""},{"$f":"IF(ISBLANK('DE01-F12'!Q151),\"\",('DE01-F12'!Q151))","v":""},{"$f":"IF(ISBLANK('DE01-F12'!S151),\"\",('DE01-F12'!S151))","v":0}]
[{"$f":"IF(ISBLANK('DE01-F12'!N152),\"\",('DE01-F12'!N152))","v":""},{"$f":"MID('DE01-F12'!G152,1,18)","v":""},{"$f":"IF(ISBLANK('DE01-F12'!P152),\"\",('DE01-F12'!P152))","v":""},{"$f":"IF(ISBLANK('DE01-F12'!Q152),\"\",('DE01-F12'!Q152))","v":""},{"$f":"IF(ISBLANK('DE01-F12'!S152),\"\",('DE01-F12'!S152))","v":0}]
[{"$f":"IF(ISBLANK('DE01-F12'!N153),\"\",('DE01-F12'!N153))","v":""},{"$f":"MID('DE01-F12'!G153,1,18)","v":""},{"$f":"IF(ISBLANK('DE01-F12'!P153),\"\",('DE01-F12'!P153))","v":""},{"$f":"IF(ISBLANK('DE01-F12'!Q153),\"\",('DE01-F12'!Q153))","v":""},{"$f":"IF(ISBLANK('DE01-F12'!S153),\"\",('DE01-F12'!S153))","v":0}]
[{"$f":"IF(ISBLANK('DE01-F12'!N154),\"\",('DE01-F12'!N154))","v":""},{"$f":"MID('DE01-F12'!G154,1,18)","v":""},{"$f":"IF(ISBLANK('DE01-F12'!P154),\"\",('DE01-F12'!P154))","v":""},{"$f":"IF(ISBLANK('DE01-F12'!Q154),\"\",('DE01-F12'!Q154))","v":""},{"$f":"IF(ISBLANK('DE01-F12'!S154),\"\",('DE01-F12'!S154))","v":0}]
[{"$f":"IF(ISBLANK('DE01-F12'!N155),\"\",('DE01-F12'!N155))","v":""},{"$f":"MID('DE01-F12'!G155,1,18)","v":""},{"$f":"IF(ISBLANK('DE01-F12'!P155),\"\",('DE01-F12'!P155))","v":""},{"$f":"IF(ISBLANK('DE01-F12'!Q155),\"\",('DE01-F12'!Q155))","v":""},{"$f":"IF(ISBLANK('DE01-F12'!S155),\"\",('DE01-F12'!S155))","v":0}]
[{"$f":"IF(ISBLANK('DE01-F12'!N156),\"\",('DE01-F12'!N156))","v":""},{"$f":"MID('DE01-F12'!G156,1,18)","v":""},{"$f":"IF(ISBLANK('DE01-F12'!P156),\"\",('DE01-F12'!P156))","v":""},{"$f":"IF(ISBLANK('DE01-F12'!Q156),\"\",('DE01-F12'!Q156))","v":""},{"$f":"IF(ISBLANK('DE01-F12'!S156),\"\",('DE01-F12'!S156))","v":0}]
[{"$f":"IF(ISBLANK('DE01-F12'!N157),\"\",('DE01-F12'!N157))","v":""},{"$f":"MID('DE01-F12'!G157,1,18)","v":""},{"$f":"IF(ISBLANK('DE01-F12'!P157),\"\",('DE01-F12'!P157))","v":""},{"$f":"IF(ISBLANK('DE01-F12'!Q157),\"\",('DE01-F12'!Q157))","v":""},{"$f":"IF(ISBLANK('DE01-F12'!S157),\"\",('DE01-F12'!S157))","v":0}]
[{"$f":"IF(ISBLANK('DE01-F12'!N158),\"\",('DE01-F12'!N158))","v":""},{"$f":"MID('DE01-F12'!G158,1,18)","v":""},{"$f":"IF(ISBLANK('DE01-F12'!P158),\"\",('DE01-F12'!P158))","v":""},{"$f":"IF(ISBLANK('DE01-F12'!Q158),\"\",('DE01-F12'!Q158))","v":""},{"$f":"IF(ISBLANK('DE01-F12'!S158),\"\",('DE01-F12'!S158))","v":0}]
[{"$f":"IF(ISBLANK('DE01-F12'!N159),\"\",('DE01-F12'!N159))","v":""},{"$f":"MID('DE01-F12'!G159,1,18)","v":""},{"$f":"IF(ISBLANK('DE01-F12'!P159),\"\",('DE01-F12'!P159))","v":""},{"$f":"IF(ISBLANK('DE01-F12'!Q159),\"\",('DE01-F12'!Q159))","v":""},{"$f":"IF(ISBLANK('DE01-F12'!S159),\"\",('DE01-F12'!S159))","v":0}]
[{"$f":"IF(ISBLANK('DE01-F12'!N160),\"\",('DE01-F12'!N160))","v":""},{"$f":"MID('DE01-F12'!G160,1,18)","v":""},{"$f":"IF(ISBLANK('DE01-F12'!P160),\"\",('DE01-F12'!P160))","v":""},{"$f":"IF(ISBLANK('DE01-F12'!Q160),\"\",('DE01-F12'!Q160))","v":""},{"$f":"IF(ISBLANK('DE01-F12'!S160),\"\",('DE01-F12'!S160))","v":0}]
[{"$f":"IF(ISBLANK('DE01-F12'!N161),\"\",('DE01-F12'!N161))","v":""},{"$f":"MID('DE01-F12'!G161,1,18)","v":""},{"$f":"IF(ISBLANK('DE01-F12'!P161),\"\",('DE01-F12'!P161))","v":""},{"$f":"IF(ISBLANK('DE01-F12'!Q161),\"\",('DE01-F12'!Q161))","v":""},{"$f":"IF(ISBLANK('DE01-F12'!S161),\"\",('DE01-F12'!S161))","v":0}]
[{"$f":"IF(ISBLANK('DE01-F12'!N162),\"\",('DE01-F12'!N162))","v":""},{"$f":"MID('DE01-F12'!G162,1,18)","v":""},{"$f":"IF(ISBLANK('DE01-F12'!P162),\"\",('DE01-F12'!P162))","v":""},{"$f":"IF(ISBLANK('DE01-F12'!Q162),\"\",('DE01-F12'!Q162))","v":""},{"$f":"IF(ISBLANK('DE01-F12'!S162),\"\",('DE01-F12'!S162))","v":0}]
[{"$f":"IF(ISBLANK('DE01-F12'!N163),\"\",('DE01-F12'!N163))","v":""},{"$f":"MID('DE01-F12'!G163,1,18)","v":""},{"$f":"IF(ISBLANK('DE01-F12'!P163),\"\",('DE01-F12'!P163))","v":""},{"$f":"IF(ISBLANK('DE01-F12'!Q163),\"\",('DE01-F12'!Q163))","v":""},{"$f":"IF(ISBLANK('DE01-F12'!S163),\"\",('DE01-F12'!S163))","v":0}]
[{"$f":"IF(ISBLANK('DE01-F12'!N164),\"\",('DE01-F12'!N164))","v":""},{"$f":"MID('DE01-F12'!G164,1,18)","v":""},{"$f":"IF(ISBLANK('DE01-F12'!P164),\"\",('DE01-F12'!P164))","v":""},{"$f":"IF(ISBLANK('DE01-F12'!Q164),\"\",('DE01-F12'!Q164))","v":""},{"$f":"IF(ISBLANK('DE01-F12'!S164),\"\",('DE01-F12'!S164))","v":0}]
[{"$f":"IF(ISBLANK('DE01-F12'!N165),\"\",('DE01-F12'!N165))","v":""},{"$f":"MID('DE01-F12'!G165,1,18)","v":""},{"$f":"IF(ISBLANK('DE01-F12'!P165),\"\",('DE01-F12'!P165))","v":""},{"$f":"IF(ISBLANK('DE01-F12'!Q165),\"\",('DE01-F12'!Q165))","v":""},{"$f":"IF(ISBLANK('DE01-F12'!S165),\"\",('DE01-F12'!S165))","v":0}]
[{"$f":"IF(ISBLANK('DE01-F12'!N166),\"\",('DE01-F12'!N166))","v":""},{"$f":"MID('DE01-F12'!G166,1,18)","v":""},{"$f":"IF(ISBLANK('DE01-F12'!P166),\"\",('DE01-F12'!P166))","v":""},{"$f":"IF(ISBLANK('DE01-F12'!Q166),\"\",('DE01-F12'!Q166))","v":""},{"$f":"IF(ISBLANK('DE01-F12'!S166),\"\",('DE01-F12'!S166))","v":0}]
[{"$f":"IF(ISBLANK('DE01-F12'!N167),\"\",('DE01-F12'!N167))","v":""},{"$f":"MID('DE01-F12'!G167,1,18)","v":""},{"$f":"IF(ISBLANK('DE01-F12'!P167),\"\",('DE01-F12'!P167))","v":""},{"$f":"IF(ISBLANK('DE01-F12'!Q167),\"\",('DE01-F12'!Q167))","v":""},{"$f":"IF(ISBLANK('DE01-F12'!S167),\"\",('DE01-F12'!S167))","v":0}]
[{"$f":"IF(ISBLANK('DE01-F12'!N168),\"\",('DE01-F12'!N168))","v":""},{"$f":"MID('DE01-F12'!G168,1,18)","v":""},{"$f":"IF(ISBLANK('DE01-F12'!P168),\"\",('DE01-F12'!P168))","v":""},{"$f":"IF(ISBLANK('DE01-F12'!Q168),\"\",('DE01-F12'!Q168))","v":""},{"$f":"IF(ISBLANK('DE01-F12'!S168),\"\",('DE01-F12'!S168))","v":0}]
[{"$f":"IF(ISBLANK('DE01-F12'!N169),\"\",('DE01-F12'!N169))","v":""},{"$f":"MID('DE01-F12'!G169,1,18)","v":""},{"$f":"IF(ISBLANK('DE01-F12'!P169),\"\",('DE01-F12'!P169))","v":""},{"$f":"IF(ISBLANK('DE01-F12'!Q169),\"\",('DE01-F12'!Q169))","v":""},{"$f":"IF(ISBLANK('DE01-F12'!S169),\"\",('DE01-F12'!S169))","v":0}]
[{"$f":"IF(ISBLANK('DE01-F12'!N170),\"\",('DE01-F12'!N170))","v":""},{"$f":"MID('DE01-F12'!G170,1,18)","v":""},{"$f":"IF(ISBLANK('DE01-F12'!P170),\"\",('DE01-F12'!P170))","v":""},{"$f":"IF(ISBLANK('DE01-F12'!Q170),\"\",('DE01-F12'!Q170))","v":""},{"$f":"IF(ISBLANK('DE01-F12'!S170),\"\",('DE01-F12'!S170))","v":0}]
[{"$f":"IF(ISBLANK('DE01-F12'!N171),\"\",('DE01-F12'!N171))","v":""},{"$f":"MID('DE01-F12'!G171,1,18)","v":""},{"$f":"IF(ISBLANK('DE01-F12'!P171),\"\",('DE01-F12'!P171))","v":""},{"$f":"IF(ISBLANK('DE01-F12'!Q171),\"\",('DE01-F12'!Q171))","v":""},{"$f":"IF(ISBLANK('DE01-F12'!S171),\"\",('DE01-F12'!S171))","v":0}]
[{"$f":"IF(ISBLANK('DE01-F12'!N172),\"\",('DE01-F12'!N172))","v":""},{"$f":"MID('DE01-F12'!G172,1,18)","v":""},{"$f":"IF(ISBLANK('DE01-F12'!P172),\"\",('DE01-F12'!P172))","v":""},{"$f":"IF(ISBLANK('DE01-F12'!Q172),\"\",('DE01-F12'!Q172))","v":""},{"$f":"IF(ISBLANK('DE01-F12'!S172),\"\",('DE01-F12'!S172))","v":0}]
[{"$f":"IF(ISBLANK('DE01-F12'!N173),\"\",('DE01-F12'!N173))","v":""},{"$f":"MID('DE01-F12'!G173,1,18)","v":""},{"$f":"IF(ISBLANK('DE01-F12'!P173),\"\",('DE01-F12'!P173))","v":""},{"$f":"IF(ISBLANK('DE01-F12'!Q173),\"\",('DE01-F12'!Q173))","v":""},{"$f":"IF(ISBLANK('DE01-F12'!S173),\"\",('DE01-F12'!S173))","v":0}]
[{"$f":"IF(ISBLANK('DE01-F12'!N174),\"\",('DE01-F12'!N174))","v":""},{"$f":"MID('DE01-F12'!G174,1,18)","v":""},{"$f":"IF(ISBLANK('DE01-F12'!P174),\"\",('DE01-F12'!P174))","v":""},{"$f":"IF(ISBLANK('DE01-F12'!Q174),\"\",('DE01-F12'!Q174))","v":""},{"$f":"IF(ISBLANK('DE01-F12'!S174),\"\",('DE01-F12'!S174))","v":0}]
[{"$f":"IF(ISBLANK('DE01-F12'!N175),\"\",('DE01-F12'!N175))","v":""},{"$f":"MID('DE01-F12'!G175,1,18)","v":""},{"$f":"IF(ISBLANK('DE01-F12'!P175),\"\",('DE01-F12'!P175))","v":""},{"$f":"IF(ISBLANK('DE01-F12'!Q175),\"\",('DE01-F12'!Q175))","v":""},{"$f":"IF(ISBLANK('DE01-F12'!S175),\"\",('DE01-F12'!S175))","v":0}]
[{"$f":"IF(ISBLANK('DE01-F12'!N176),\"\",('DE01-F12'!N176))","v":""},{"$f":"MID('DE01-F12'!G176,1,18)","v":""},{"$f":"IF(ISBLANK('DE01-F12'!P176),\"\",('DE01-F12'!P176))","v":""},{"$f":"IF(ISBLANK('DE01-F12'!Q176),\"\",('DE01-F12'!Q176))","v":""},{"$f":"IF(ISBLANK('DE01-F12'!S176),\"\",('DE01-F12'!S176))","v":0}]
[{"$f":"IF(ISBLANK('DE01-F12'!N177),\"\",('DE01-F12'!N177))","v":""},{"$f":"MID('DE01-F12'!G177,1,18)","v":""},{"$f":"IF(ISBLANK('DE01-F12'!P177),\"\",('DE01-F12'!P177))","v":""},{"$f":"IF(ISBLANK('DE01-F12'!Q177),\"\",('DE01-F12'!Q177))","v":""},{"$f":"IF(ISBLANK('DE01-F12'!S177),\"\",('DE01-F12'!S177))","v":0}]
[{"$f":"IF(ISBLANK('DE01-F12'!N178),\"\",('DE01-F12'!N178))","v":""},{"$f":"MID('DE01-F12'!G178,1,18)","v":""},{"$f":"IF(ISBLANK('DE01-F12'!P178),\"\",('DE01-F12'!P178))","v":""},{"$f":"IF(ISBLANK('DE01-F12'!Q178),\"\",('DE01-F12'!Q178))","v":""},{"$f":"IF(ISBLANK('DE01-F12'!S178),\"\",('DE01-F12'!S178))","v":0}]
[{"$f":"IF(ISBLANK('DE01-F12'!N179),\"\",('DE01-F12'!N179))","v":""},{"$f":"MID('DE01-F12'!G179,1,18)","v":""},{"$f":"IF(ISBLANK('DE01-F12'!P179),\"\",('DE01-F12'!P179))","v":""},{"$f":"IF(ISBLANK('DE01-F12'!Q179),\"\",('DE01-F12'!Q179))","v":""},{"$f":"IF(ISBLANK('DE01-F12'!S179),\"\",('DE01-F12'!S179))","v":0}]
[{"$f":"IF(ISBLANK('DE01-F12'!N180),\"\",('DE01-F12'!N180))","v":""},{"$f":"MID('DE01-F12'!G180,1,18)","v":""},{"$f":"IF(ISBLANK('DE01-F12'!P180),\"\",('DE01-F12'!P180))","v":""},{"$f":"IF(ISBLANK('DE01-F12'!Q180),\"\",('DE01-F12'!Q180))","v":""},{"$f":"IF(ISBLANK('DE01-F12'!S180),\"\",('DE01-F12'!S180))","v":0}]
[{"$f":"IF(ISBLANK('DE01-F12'!N181),\"\",('DE01-F12'!N181))","v":""},{"$f":"MID('DE01-F12'!G181,1,18)","v":""},{"$f":"IF(ISBLANK('DE01-F12'!P181),\"\",('DE01-F12'!P181))","v":""},{"$f":"IF(ISBLANK('DE01-F12'!Q181),\"\",('DE01-F12'!Q181))","v":""},{"$f":"IF(ISBLANK('DE01-F12'!S181),\"\",('DE01-F12'!S181))","v":0}]
[{"$f":"IF(ISBLANK('DE01-F12'!N182),\"\",('DE01-F12'!N182))","v":""},{"$f":"MID('DE01-F12'!G182,1,18)","v":""},{"$f":"IF(ISBLANK('DE01-F12'!P182),\"\",('DE01-F12'!P182))","v":""},{"$f":"IF(ISBLANK('DE01-F12'!Q182),\"\",('DE01-F12'!Q182))","v":""},{"$f":"IF(ISBLANK('DE01-F12'!S182),\"\",('DE01-F12'!S182))","v":0}]
[{"$f":"IF(ISBLANK('DE01-F12'!N183),\"\",('DE01-F12'!N183))","v":""},{"$f":"MID('DE01-F12'!G183,1,18)","v":""},{"$f":"IF(ISBLANK('DE01-F12'!P183),\"\",('DE01-F12'!P183))","v":""},{"$f":"IF(ISBLANK('DE01-F12'!Q183),\"\",('DE01-F12'!Q183))","v":""},{"$f":"IF(ISBLANK('DE01-F12'!S183),\"\",('DE01-F12'!S183))","v":0}]
[{"$f":"IF(ISBLANK('DE01-F12'!N184),\"\",('DE01-F12'!N184))","v":""},{"$f":"MID('DE01-F12'!G184,1,18)","v":""},{"$f":"IF(ISBLANK('DE01-F12'!P184),\"\",('DE01-F12'!P184))","v":""},{"$f":"IF(ISBLANK('DE01-F12'!Q184),\"\",('DE01-F12'!Q184))","v":""},{"$f":"IF(ISBLANK('DE01-F12'!S184),\"\",('DE01-F12'!S184))","v":0}]
[{"$f":"IF(ISBLANK('DE01-F12'!N185),\"\",('DE01-F12'!N185))","v":""},{"$f":"MID('DE01-F12'!G185,1,18)","v":""},{"$f":"IF(ISBLANK('DE01-F12'!P185),\"\",('DE01-F12'!P185))","v":""},{"$f":"IF(ISBLANK('DE01-F12'!Q185),\"\",('DE01-F12'!Q185))","v":""},{"$f":"IF(ISBLANK('DE01-F12'!S185),\"\",('DE01-F12'!S185))","v":0}]
[{"$f":"IF(ISBLANK('DE01-F12'!N186),\"\",('DE01-F12'!N186))","v":""},{"$f":"MID('DE01-F12'!G186,1,18)","v":""},{"$f":"IF(ISBLANK('DE01-F12'!P186),\"\",('DE01-F12'!P186))","v":""},{"$f":"IF(ISBLANK('DE01-F12'!Q186),\"\",('DE01-F12'!Q186))","v":""},{"$f":"IF(ISBLANK('DE01-F12'!S186),\"\",('DE01-F12'!S186))","v":0}]
[{"$f":"IF(ISBLANK('DE01-F12'!N187),\"\",('DE01-F12'!N187))","v":""},{"$f":"MID('DE01-F12'!G187,1,18)","v":""},{"$f":"IF(ISBLANK('DE01-F12'!P187),\"\",('DE01-F12'!P187))","v":""},{"$f":"IF(ISBLANK('DE01-F12'!Q187),\"\",('DE01-F12'!Q187))","v":""},{"$f":"IF(ISBLANK('DE01-F12'!S187),\"\",('DE01-F12'!S187))","v":0}]
[{"$f":"IF(ISBLANK('DE01-F12'!N188),\"\",('DE01-F12'!N188))","v":""},{"$f":"MID('DE01-F12'!G188,1,18)","v":""},{"$f":"IF(ISBLANK('DE01-F12'!P188),\"\",('DE01-F12'!P188))","v":""},{"$f":"IF(ISBLANK('DE01-F12'!Q188),\"\",('DE01-F12'!Q188))","v":""},{"$f":"IF(ISBLANK('DE01-F12'!S188),\"\",('DE01-F12'!S188))","v":0}]
[{"$f":"IF(ISBLANK('DE01-F12'!N189),\"\",('DE01-F12'!N189))","v":""},{"$f":"MID('DE01-F12'!G189,1,18)","v":""},{"$f":"IF(ISBLANK('DE01-F12'!P189),\"\",('DE01-F12'!P189))","v":""},{"$f":"IF(ISBLANK('DE01-F12'!Q189),\"\",('DE01-F12'!Q189))","v":""},{"$f":"IF(ISBLANK('DE01-F12'!S189),\"\",('DE01-F12'!S189))","v":0}]
[{"$f":"IF(ISBLANK('DE01-F12'!N190),\"\",('DE01-F12'!N190))","v":""},{"$f":"MID('DE01-F12'!G190,1,18)","v":""},{"$f":"IF(ISBLANK('DE01-F12'!P190),\"\",('DE01-F12'!P190))","v":""},{"$f":"IF(ISBLANK('DE01-F12'!Q190),\"\",('DE01-F12'!Q190))","v":""},{"$f":"IF(ISBLANK('DE01-F12'!S190),\"\",('DE01-F12'!S190))","v":0}]
[{"$f":"IF(ISBLANK('DE01-F12'!N191),\"\",('DE01-F12'!N191))","v":""},{"$f":"MID('DE01-F12'!G191,1,18)","v":""},{"$f":"IF(ISBLANK('DE01-F12'!P191),\"\",('DE01-F12'!P191))","v":""},{"$f":"IF(ISBLANK('DE01-F12'!Q191),\"\",('DE01-F12'!Q191))","v":""},{"$f":"IF(ISBLANK('DE01-F12'!S191),\"\",('DE01-F12'!S191))","v":0}]
[{"$f":"IF(ISBLANK('DE01-F12'!N192),\"\",('DE01-F12'!N192))","v":""},{"$f":"MID('DE01-F12'!G192,1,18)","v":""},{"$f":"IF(ISBLANK('DE01-F12'!P192),\"\",('DE01-F12'!P192))","v":""},{"$f":"IF(ISBLANK('DE01-F12'!Q192),\"\",('DE01-F12'!Q192))","v":""},{"$f":"IF(ISBLANK('DE01-F12'!S192),\"\",('DE01-F12'!S192))","v":0}]
[{"$f":"IF(ISBLANK('DE01-F12'!N193),\"\",('DE01-F12'!N193))","v":""},{"$f":"MID('DE01-F12'!G193,1,18)","v":""},{"$f":"IF(ISBLANK('DE01-F12'!P193),\"\",('DE01-F12'!P193))","v":""},{"$f":"IF(ISBLANK('DE01-F12'!Q193),\"\",('DE01-F12'!Q193))","v":""},{"$f":"IF(ISBLANK('DE01-F12'!S193),\"\",('DE01-F12'!S193))","v":0}]
[{"$f":"IF(ISBLANK('DE01-F12'!N194),\"\",('DE01-F12'!N194))","v":""},{"$f":"MID('DE01-F12'!G194,1,18)","v":""},{"$f":"IF(ISBLANK('DE01-F12'!P194),\"\",('DE01-F12'!P194))","v":""},{"$f":"IF(ISBLANK('DE01-F12'!Q194),\"\",('DE01-F12'!Q194))","v":""},{"$f":"IF(ISBLANK('DE01-F12'!S194),\"\",('DE01-F12'!S194))","v":0}]
[{"$f":"IF(ISBLANK('DE01-F12'!N195),\"\",('DE01-F12'!N195))","v":""},{"$f":"MID('DE01-F12'!G195,1,18)","v":""},{"$f":"IF(ISBLANK('DE01-F12'!P195),\"\",('DE01-F12'!P195))","v":""},{"$f":"IF(ISBLANK('DE01-F12'!Q195),\"\",('DE01-F12'!Q195))","v":""},{"$f":"IF(ISBLANK('DE01-F12'!S195),\"\",('DE01-F12'!S195))","v":0}]
[{"$f":"IF(ISBLANK('DE01-F12'!N196),\"\",('DE01-F12'!N196))","v":""},{"$f":"MID('DE01-F12'!G196,1,18)","v":""},{"$f":"IF(ISBLANK('DE01-F12'!P196),\"\",('DE01-F12'!P196))","v":""},{"$f":"IF(ISBLANK('DE01-F12'!Q196),\"\",('DE01-F12'!Q196))","v":""},{"$f":"IF(ISBLANK('DE01-F12'!S196),\"\",('DE01-F12'!S196))","v":0}]
[{"$f":"IF(ISBLANK('DE01-F12'!N197),\"\",('DE01-F12'!N197))","v":""},{"$f":"MID('DE01-F12'!G197,1,18)","v":""},{"$f":"IF(ISBLANK('DE01-F12'!P197),\"\",('DE01-F12'!P197))","v":""},{"$f":"IF(ISBLANK('DE01-F12'!Q197),\"\",('DE01-F12'!Q197))","v":""},{"$f":"IF(ISBLANK('DE01-F12'!S197),\"\",('DE01-F12'!S197))","v":0}]
[{"$f":"IF(ISBLANK('DE01-F12'!N198),\"\",('DE01-F12'!N198))","v":""},{"$f":"MID('DE01-F12'!G198,1,18)","v":""},{"$f":"IF(ISBLANK('DE01-F12'!P198),\"\",('DE01-F12'!P198))","v":""},{"$f":"IF(ISBLANK('DE01-F12'!Q198),\"\",('DE01-F12'!Q198))","v":""},{"$f":"IF(ISBLANK('DE01-F12'!S198),\"\",('DE01-F12'!S198))","v":0}]
[{"$f":"IF(ISBLANK('DE01-F12'!N199),\"\",('DE01-F12'!N199))","v":""},{"$f":"MID('DE01-F12'!G199,1,18)","v":""},{"$f":"IF(ISBLANK('DE01-F12'!P199),\"\",('DE01-F12'!P199))","v":""},{"$f":"IF(ISBLANK('DE01-F12'!Q199),\"\",('DE01-F12'!Q199))","v":""},{"$f":"IF(ISBLANK('DE01-F12'!S199),\"\",('DE01-F12'!S199))","v":0}]
[{"$f":"IF(ISBLANK('DE01-F12'!N200),\"\",('DE01-F12'!N200))","v":""},{"$f":"MID('DE01-F12'!G200,1,18)","v":""},{"$f":"IF(ISBLANK('DE01-F12'!P200),\"\",('DE01-F12'!P200))","v":""},{"$f":"IF(ISBLANK('DE01-F12'!Q200),\"\",('DE01-F12'!Q200))","v":""},{"$f":"IF(ISBLANK('DE01-F12'!S200),\"\",('DE01-F12'!S200))","v":0}]
[{"$f":"IF(ISBLANK('DE01-F12'!N201),\"\",('DE01-F12'!N201))","v":""},{"$f":"MID('DE01-F12'!G201,1,18)","v":""},{"$f":"IF(ISBLANK('DE01-F12'!P201),\"\",('DE01-F12'!P201))","v":""},{"$f":"IF(ISBLANK('DE01-F12'!Q201),\"\",('DE01-F12'!Q201))","v":""},{"$f":"IF(ISBLANK('DE01-F12'!S201),\"\",('DE01-F12'!S201))","v":0}]
[{"$f":"IF(ISBLANK('DE01-F12'!N202),\"\",('DE01-F12'!N202))","v":""},{"$f":"MID('DE01-F12'!G202,1,18)","v":""},{"$f":"IF(ISBLANK('DE01-F12'!P202),\"\",('DE01-F12'!P202))","v":""},{"$f":"IF(ISBLANK('DE01-F12'!Q202),\"\",('DE01-F12'!Q202))","v":""},{"$f":"IF(ISBLANK('DE01-F12'!S202),\"\",('DE01-F12'!S202))","v":0}]
[{"$f":"IF(ISBLANK('DE01-F12'!N203),\"\",('DE01-F12'!N203))","v":""},{"$f":"MID('DE01-F12'!G203,1,18)","v":""},{"$f":"IF(ISBLANK('DE01-F12'!P203),\"\",('DE01-F12'!P203))","v":""},{"$f":"IF(ISBLANK('DE01-F12'!Q203),\"\",('DE01-F12'!Q203))","v":""},{"$f":"IF(ISBLANK('DE01-F12'!S203),\"\",('DE01-F12'!S203))","v":0}]
[{"$f":"IF(ISBLANK('DE01-F12'!N204),\"\",('DE01-F12'!N204))","v":""},{"$f":"MID('DE01-F12'!G204,1,18)","v":""},{"$f":"IF(ISBLANK('DE01-F12'!P204),\"\",('DE01-F12'!P204))","v":""},{"$f":"IF(ISBLANK('DE01-F12'!Q204),\"\",('DE01-F12'!Q204))","v":""},{"$f":"IF(ISBLANK('DE01-F12'!S204),\"\",('DE01-F12'!S204))","v":0}]
[{"$f":"IF(ISBLANK('DE01-F12'!N205),\"\",('DE01-F12'!N205))","v":""},{"$f":"MID('DE01-F12'!G205,1,18)","v":""},{"$f":"IF(ISBLANK('DE01-F12'!P205),\"\",('DE01-F12'!P205))","v":""},{"$f":"IF(ISBLANK('DE01-F12'!Q205),\"\",('DE01-F12'!Q205))","v":""},{"$f":"IF(ISBLANK('DE01-F12'!S205),\"\",('DE01-F12'!S205))","v":0}]
[{"$f":"IF(ISBLANK('DE01-F12'!N206),\"\",('DE01-F12'!N206))","v":""},{"$f":"MID('DE01-F12'!G206,1,18)","v":""},{"$f":"IF(ISBLANK('DE01-F12'!P206),\"\",('DE01-F12'!P206))","v":""},{"$f":"IF(ISBLANK('DE01-F12'!Q206),\"\",('DE01-F12'!Q206))","v":""},{"$f":"IF(ISBLANK('DE01-F12'!S206),\"\",('DE01-F12'!S206))","v":0}]
[{"$f":"IF(ISBLANK('DE01-F12'!N207),\"\",('DE01-F12'!N207))","v":""},{"$f":"MID('DE01-F12'!G207,1,18)","v":""},{"$f":"IF(ISBLANK('DE01-F12'!P207),\"\",('DE01-F12'!P207))","v":""},{"$f":"IF(ISBLANK('DE01-F12'!Q207),\"\",('DE01-F12'!Q207))","v":""},{"$f":"IF(ISBLANK('DE01-F12'!S207),\"\",('DE01-F12'!S207))","v":0}]
[{"$f":"IF(ISBLANK('DE01-F12'!N208),\"\",('DE01-F12'!N208))","v":""},{"$f":"MID('DE01-F12'!G208,1,18)","v":""},{"$f":"IF(ISBLANK('DE01-F12'!P208),\"\",('DE01-F12'!P208))","v":""},{"$f":"IF(ISBLANK('DE01-F12'!Q208),\"\",('DE01-F12'!Q208))","v":""},{"$f":"IF(ISBLANK('DE01-F12'!S208),\"\",('DE01-F12'!S208))","v":0}]
[{"$f":"IF(ISBLANK('DE01-F12'!N209),\"\",('DE01-F12'!N209))","v":""},{"$f":"MID('DE01-F12'!G209,1,18)","v":""},{"$f":"IF(ISBLANK('DE01-F12'!P209),\"\",('DE01-F12'!P209))","v":""},{"$f":"IF(ISBLANK('DE01-F12'!Q209),\"\",('DE01-F12'!Q209))","v":""},{"$f":"IF(ISBLANK('DE01-F12'!S209),\"\",('DE01-F12'!S209))","v":0}]
[{"$f":"IF(ISBLANK('DE01-F12'!N210),\"\",('DE01-F12'!N210))","v":""},{"$f":"MID('DE01-F12'!G210,1,18)","v":""},{"$f":"IF(ISBLANK('DE01-F12'!P210),\"\",('DE01-F12'!P210))","v":""},{"$f":"IF(ISBLANK('DE01-F12'!Q210),\"\",('DE01-F12'!Q210))","v":""},{"$f":"IF(ISBLANK('DE01-F12'!S210),\"\",('DE01-F12'!S210))","v":0}]
[{"$f":"IF(ISBLANK('DE01-F12'!N211),\"\",('DE01-F12'!N211))","v":""},{"$f":"MID('DE01-F12'!G211,1,18)","v":""},{"$f":"IF(ISBLANK('DE01-F12'!P211),\"\",('DE01-F12'!P211))","v":""},{"$f":"IF(ISBLANK('DE01-F12'!Q211),\"\",('DE01-F12'!Q211))","v":""},{"$f":"IF(ISBLANK('DE01-F12'!S211),\"\",('DE01-F12'!S211))","v":0}]
[{"$f":"IF(ISBLANK('DE01-F12'!N212),\"\",('DE01-F12'!N212))","v":""},{"$f":"MID('DE01-F12'!G212,1,18)","v":""},{"$f":"IF(ISBLANK('DE01-F12'!P212),\"\",('DE01-F12'!P212))","v":""},{"$f":"IF(ISBLANK('DE01-F12'!Q212),\"\",('DE01-F12'!Q212))","v":""},{"$f":"IF(ISBLANK('DE01-F12'!S212),\"\",('DE01-F12'!S212))","v":0}]
[{"$f":"IF(ISBLANK('DE01-F12'!N213),\"\",('DE01-F12'!N213))","v":""},{"$f":"MID('DE01-F12'!G213,1,18)","v":""},{"$f":"IF(ISBLANK('DE01-F12'!P213),\"\",('DE01-F12'!P213))","v":""},{"$f":"IF(ISBLANK('DE01-F12'!Q213),\"\",('DE01-F12'!Q213))","v":""},{"$f":"IF(ISBLANK('DE01-F12'!S213),\"\",('DE01-F12'!S213))","v":0}]
[{"$f":"IF(ISBLANK('DE01-F12'!N214),\"\",('DE01-F12'!N214))","v":""},{"$f":"MID('DE01-F12'!G214,1,18)","v":""},{"$f":"IF(ISBLANK('DE01-F12'!P214),\"\",('DE01-F12'!P214))","v":""},{"$f":"IF(ISBLANK('DE01-F12'!Q214),\"\",('DE01-F12'!Q214))","v":""},{"$f":"IF(ISBLANK('DE01-F12'!S214),\"\",('DE01-F12'!S214))","v":0}]
[{"$f":"IF(ISBLANK('DE01-F12'!N215),\"\",('DE01-F12'!N215))","v":""},{"$f":"MID('DE01-F12'!G215,1,18)","v":""},{"$f":"IF(ISBLANK('DE01-F12'!P215),\"\",('DE01-F12'!P215))","v":""},{"$f":"IF(ISBLANK('DE01-F12'!Q215),\"\",('DE01-F12'!Q215))","v":""},{"$f":"IF(ISBLANK('DE01-F12'!S215),\"\",('DE01-F12'!S215))","v":0}]
[{"$f":"IF(ISBLANK('DE01-F12'!N216),\"\",('DE01-F12'!N216))","v":""},{"$f":"MID('DE01-F12'!G216,1,18)","v":""},{"$f":"IF(ISBLANK('DE01-F12'!P216),\"\",('DE01-F12'!P216))","v":""},{"$f":"IF(ISBLANK('DE01-F12'!Q216),\"\",('DE01-F12'!Q216))","v":""},{"$f":"IF(ISBLANK('DE01-F12'!S216),\"\",('DE01-F12'!S216))","v":0}]
[{"$f":"IF(ISBLANK('DE01-F12'!N217),\"\",('DE01-F12'!N217))","v":""},{"$f":"MID('DE01-F12'!G217,1,18)","v":""},{"$f":"IF(ISBLANK('DE01-F12'!P217),\"\",('DE01-F12'!P217))","v":""},{"$f":"IF(ISBLANK('DE01-F12'!Q217),\"\",('DE01-F12'!Q217))","v":""},{"$f":"IF(ISBLANK('DE01-F12'!S217),\"\",('DE01-F12'!S217))","v":0}]
[{"$f":"IF(ISBLANK('DE01-F12'!N218),\"\",('DE01-F12'!N218))","v":""},{"$f":"MID('DE01-F12'!G218,1,18)","v":""},{"$f":"IF(ISBLANK('DE01-F12'!P218),\"\",('DE01-F12'!P218))","v":""},{"$f":"IF(ISBLANK('DE01-F12'!Q218),\"\",('DE01-F12'!Q218))","v":""},{"$f":"IF(ISBLANK('DE01-F12'!S218),\"\",('DE01-F12'!S218))","v":0}]
[{"$f":"IF(ISBLANK('DE01-F12'!N219),\"\",('DE01-F12'!N219))","v":""},{"$f":"MID('DE01-F12'!G219,1,18)","v":""},{"$f":"IF(ISBLANK('DE01-F12'!P219),\"\",('DE01-F12'!P219))","v":""},{"$f":"IF(ISBLANK('DE01-F12'!Q219),\"\",('DE01-F12'!Q219))","v":""},{"$f":"IF(ISBLANK('DE01-F12'!S219),\"\",('DE01-F12'!S219))","v":0}]
[{"$f":"IF(ISBLANK('DE01-F12'!N220),\"\",('DE01-F12'!N220))","v":""},{"$f":"MID('DE01-F12'!G220,1,18)","v":""},{"$f":"IF(ISBLANK('DE01-F12'!P220),\"\",('DE01-F12'!P220))","v":""},{"$f":"IF(ISBLANK('DE01-F12'!Q220),\"\",('DE01-F12'!Q220))","v":""},{"$f":"IF(ISBLANK('DE01-F12'!S220),\"\",('DE01-F12'!S220))","v":0}]
[{"$f":"IF(ISBLANK('DE01-F12'!N221),\"\",('DE01-F12'!N221))","v":""},{"$f":"MID('DE01-F12'!G221,1,18)","v":""},{"$f":"IF(ISBLANK('DE01-F12'!P221),\"\",('DE01-F12'!P221))","v":""},{"$f":"IF(ISBLANK('DE01-F12'!Q221),\"\",('DE01-F12'!Q221))","v":""},{"$f":"IF(ISBLANK('DE01-F12'!S221),\"\",('DE01-F12'!S221))","v":0}]
[{"$f":"IF(ISBLANK('DE01-F12'!N222),\"\",('DE01-F12'!N222))","v":""},{"$f":"MID('DE01-F12'!G222,1,18)","v":""},{"$f":"IF(ISBLANK('DE01-F12'!P222),\"\",('DE01-F12'!P222))","v":""},{"$f":"IF(ISBLANK('DE01-F12'!Q222),\"\",('DE01-F12'!Q222))","v":""},{"$f":"IF(ISBLANK('DE01-F12'!S222),\"\",('DE01-F12'!S222))","v":0}]
[{"$f":"IF(ISBLANK('DE01-F12'!N223),\"\",('DE01-F12'!N223))","v":""},{"$f":"MID('DE01-F12'!G223,1,18)","v":""},{"$f":"IF(ISBLANK('DE01-F12'!P223),\"\",('DE01-F12'!P223))","v":""},{"$f":"IF(ISBLANK('DE01-F12'!Q223),\"\",('DE01-F12'!Q223))","v":""},{"$f":"IF(ISBLANK('DE01-F12'!S223),\"\",('DE01-F12'!S223))","v":0}]
[{"$f":"IF(ISBLANK('DE01-F12'!N224),\"\",('DE01-F12'!N224))","v":""},{"$f":"MID('DE01-F12'!G224,1,18)","v":""},{"$f":"IF(ISBLANK('DE01-F12'!P224),\"\",('DE01-F12'!P224))","v":""},{"$f":"IF(ISBLANK('DE01-F12'!Q224),\"\",('DE01-F12'!Q224))","v":""},{"$f":"IF(ISBLANK('DE01-F12'!S224),\"\",('DE01-F12'!S224))","v":0}]
[{"$f":"IF(ISBLANK('DE01-F12'!N225),\"\",('DE01-F12'!N225))","v":""},{"$f":"MID('DE01-F12'!G225,1,18)","v":""},{"$f":"IF(ISBLANK('DE01-F12'!P225),\"\",('DE01-F12'!P225))","v":""},{"$f":"IF(ISBLANK('DE01-F12'!Q225),\"\",('DE01-F12'!Q225))","v":""},{"$f":"IF(ISBLANK('DE01-F12'!S225),\"\",('DE01-F12'!S225))","v":0}]
[{"$f":"IF(ISBLANK('DE01-F12'!N226),\"\",('DE01-F12'!N226))","v":""},{"$f":"MID('DE01-F12'!G226,1,18)","v":""},{"$f":"IF(ISBLANK('DE01-F12'!P226),\"\",('DE01-F12'!P226))","v":""},{"$f":"IF(ISBLANK('DE01-F12'!Q226),\"\",('DE01-F12'!Q226))","v":""},{"$f":"IF(ISBLANK('DE01-F12'!S226),\"\",('DE01-F12'!S226))","v":0}]
[{"$f":"IF(ISBLANK('DE01-F12'!N227),\"\",('DE01-F12'!N227))","v":""},{"$f":"MID('DE01-F12'!G227,1,18)","v":""},{"$f":"IF(ISBLANK('DE01-F12'!P227),\"\",('DE01-F12'!P227))","v":""},{"$f":"IF(ISBLANK('DE01-F12'!Q227),\"\",('DE01-F12'!Q227))","v":""},{"$f":"IF(ISBLANK('DE01-F12'!S227),\"\",('DE01-F12'!S227))","v":0}]
[{"$f":"IF(ISBLANK('DE01-F12'!N228),\"\",('DE01-F12'!N228))","v":""},{"$f":"MID('DE01-F12'!G228,1,18)","v":""},{"$f":"IF(ISBLANK('DE01-F12'!P228),\"\",('DE01-F12'!P228))","v":""},{"$f":"IF(ISBLANK('DE01-F12'!Q228),\"\",('DE01-F12'!Q228))","v":""},{"$f":"IF(ISBLANK('DE01-F12'!S228),\"\",('DE01-F12'!S228))","v":0}]
[{"$f":"IF(ISBLANK('DE01-F12'!N229),\"\",('DE01-F12'!N229))","v":""},{"$f":"MID('DE01-F12'!G229,1,18)","v":""},{"$f":"IF(ISBLANK('DE01-F12'!P229),\"\",('DE01-F12'!P229))","v":""},{"$f":"IF(ISBLANK('DE01-F12'!Q229),\"\",('DE01-F12'!Q229))","v":""},{"$f":"IF(ISBLANK('DE01-F12'!S229),\"\",('DE01-F12'!S229))","v":0}]
[{"$f":"IF(ISBLANK('DE01-F12'!N230),\"\",('DE01-F12'!N230))","v":""},{"$f":"MID('DE01-F12'!G230,1,18)","v":""},{"$f":"IF(ISBLANK('DE01-F12'!P230),\"\",('DE01-F12'!P230))","v":""},{"$f":"IF(ISBLANK('DE01-F12'!Q230),\"\",('DE01-F12'!Q230))","v":""},{"$f":"IF(ISBLANK('DE01-F12'!S230),\"\",('DE01-F12'!S230))","v":0}]
[{"$f":"IF(ISBLANK('DE01-F12'!N231),\"\",('DE01-F12'!N231))","v":""},{"$f":"MID('DE01-F12'!G231,1,18)","v":""},{"$f":"IF(ISBLANK('DE01-F12'!P231),\"\",('DE01-F12'!P231))","v":""},{"$f":"IF(ISBLANK('DE01-F12'!Q231),\"\",('DE01-F12'!Q231))","v":""},{"$f":"IF(ISBLANK('DE01-F12'!S231),\"\",('DE01-F12'!S231))","v":0}]
[{"$f":"IF(ISBLANK('DE01-F12'!N232),\"\",('DE01-F12'!N232))","v":""},{"$f":"MID('DE01-F12'!G232,1,18)","v":""},{"$f":"IF(ISBLANK('DE01-F12'!P232),\"\",('DE01-F12'!P232))","v":""},{"$f":"IF(ISBLANK('DE01-F12'!Q232),\"\",('DE01-F12'!Q232))","v":""},{"$f":"IF(ISBLANK('DE01-F12'!S232),\"\",('DE01-F12'!S232))","v":0}]
[{"$f":"IF(ISBLANK('DE01-F12'!N233),\"\",('DE01-F12'!N233))","v":""},{"$f":"MID('DE01-F12'!G233,1,18)","v":""},{"$f":"IF(ISBLANK('DE01-F12'!P233),\"\",('DE01-F12'!P233))","v":""},{"$f":"IF(ISBLANK('DE01-F12'!Q233),\"\",('DE01-F12'!Q233))","v":""},{"$f":"IF(ISBLANK('DE01-F12'!S233),\"\",('DE01-F12'!S233))","v":0}]
[{"$f":"IF(ISBLANK('DE01-F12'!N234),\"\",('DE01-F12'!N234))","v":""},{"$f":"MID('DE01-F12'!G234,1,18)","v":""},{"$f":"IF(ISBLANK('DE01-F12'!P234),\"\",('DE01-F12'!P234))","v":""},{"$f":"IF(ISBLANK('DE01-F12'!Q234),\"\",('DE01-F12'!Q234))","v":""},{"$f":"IF(ISBLANK('DE01-F12'!S234),\"\",('DE01-F12'!S234))","v":0}]
[{"$f":"IF(ISBLANK('DE01-F12'!N235),\"\",('DE01-F12'!N235))","v":""},{"$f":"MID('DE01-F12'!G235,1,18)","v":""},{"$f":"IF(ISBLANK('DE01-F12'!P235),\"\",('DE01-F12'!P235))","v":""},{"$f":"IF(ISBLANK('DE01-F12'!Q235),\"\",('DE01-F12'!Q235))","v":""},{"$f":"IF(ISBLANK('DE01-F12'!S235),\"\",('DE01-F12'!S235))","v":0}]
[{"$f":"IF(ISBLANK('DE01-F12'!N236),\"\",('DE01-F12'!N236))","v":""},{"$f":"MID('DE01-F12'!G236,1,18)","v":""},{"$f":"IF(ISBLANK('DE01-F12'!P236),\"\",('DE01-F12'!P236))","v":""},{"$f":"IF(ISBLANK('DE01-F12'!Q236),\"\",('DE01-F12'!Q236))","v":""},{"$f":"IF(ISBLANK('DE01-F12'!S236),\"\",('DE01-F12'!S236))","v":0}]
[{"$f":"IF(ISBLANK('DE01-F12'!N237),\"\",('DE01-F12'!N237))","v":""},{"$f":"MID('DE01-F12'!G237,1,18)","v":""},{"$f":"IF(ISBLANK('DE01-F12'!P237),\"\",('DE01-F12'!P237))","v":""},{"$f":"IF(ISBLANK('DE01-F12'!Q237),\"\",('DE01-F12'!Q237))","v":""},{"$f":"IF(ISBLANK('DE01-F12'!S237),\"\",('DE01-F12'!S237))","v":0}]
[{"$f":"IF(ISBLANK('DE01-F12'!N238),\"\",('DE01-F12'!N238))","v":""},{"$f":"MID('DE01-F12'!G238,1,18)","v":""},{"$f":"IF(ISBLANK('DE01-F12'!P238),\"\",('DE01-F12'!P238))","v":""},{"$f":"IF(ISBLANK('DE01-F12'!Q238),\"\",('DE01-F12'!Q238))","v":""},{"$f":"IF(ISBLANK('DE01-F12'!S238),\"\",('DE01-F12'!S238))","v":0}]
[{"$f":"IF(ISBLANK('DE01-F12'!N239),\"\",('DE01-F12'!N239))","v":""},{"$f":"MID('DE01-F12'!G239,1,18)","v":""},{"$f":"IF(ISBLANK('DE01-F12'!P239),\"\",('DE01-F12'!P239))","v":""},{"$f":"IF(ISBLANK('DE01-F12'!Q239),\"\",('DE01-F12'!Q239))","v":""},{"$f":"IF(ISBLANK('DE01-F12'!S239),\"\",('DE01-F12'!S239))","v":0}]
[{"$f":"IF(ISBLANK('DE01-F12'!N240),\"\",('DE01-F12'!N240))","v":""},{"$f":"MID('DE01-F12'!G240,1,18)","v":""},{"$f":"IF(ISBLANK('DE01-F12'!P240),\"\",('DE01-F12'!P240))","v":""},{"$f":"IF(ISBLANK('DE01-F12'!Q240),\"\",('DE01-F12'!Q240))","v":""},{"$f":"IF(ISBLANK('DE01-F12'!S240),\"\",('DE01-F12'!S240))","v":0}]
[{"$f":"IF(ISBLANK('DE01-F12'!N241),\"\",('DE01-F12'!N241))","v":""},{"$f":"MID('DE01-F12'!G241,1,18)","v":""},{"$f":"IF(ISBLANK('DE01-F12'!P241),\"\",('DE01-F12'!P241))","v":""},{"$f":"IF(ISBLANK('DE01-F12'!Q241),\"\",('DE01-F12'!Q241))","v":""},{"$f":"IF(ISBLANK('DE01-F12'!S241),\"\",('DE01-F12'!S241))","v":0}]
[{"$f":"IF(ISBLANK('DE01-F12'!N242),\"\",('DE01-F12'!N242))","v":""},{"$f":"MID('DE01-F12'!G242,1,18)","v":""},{"$f":"IF(ISBLANK('DE01-F12'!P242),\"\",('DE01-F12'!P242))","v":""},{"$f":"IF(ISBLANK('DE01-F12'!Q242),\"\",('DE01-F12'!Q242))","v":""},{"$f":"IF(ISBLANK('DE01-F12'!S242),\"\",('DE01-F12'!S242))","v":0}]
[{"$f":"IF(ISBLANK('DE01-F12'!N243),\"\",('DE01-F12'!N243))","v":""},{"$f":"MID('DE01-F12'!G243,1,18)","v":""},{"$f":"IF(ISBLANK('DE01-F12'!P243),\"\",('DE01-F12'!P243))","v":""},{"$f":"IF(ISBLANK('DE01-F12'!Q243),\"\",('DE01-F12'!Q243))","v":""},{"$f":"IF(ISBLANK('DE01-F12'!S243),\"\",('DE01-F12'!S243))","v":0}]
[{"$f":"IF(ISBLANK('DE01-F12'!N244),\"\",('DE01-F12'!N244))","v":""},{"$f":"MID('DE01-F12'!G244,1,18)","v":""},{"$f":"IF(ISBLANK('DE01-F12'!P244),\"\",('DE01-F12'!P244))","v":""},{"$f":"IF(ISBLANK('DE01-F12'!Q244),\"\",('DE01-F12'!Q244))","v":""},{"$f":"IF(ISBLANK('DE01-F12'!S244),\"\",('DE01-F12'!S244))","v":0}]
[{"$f":"IF(ISBLANK('DE01-F12'!N245),\"\",('DE01-F12'!N245))","v":""},{"$f":"MID('DE01-F12'!G245,1,18)","v":""},{"$f":"IF(ISBLANK('DE01-F12'!P245),\"\",('DE01-F12'!P245))","v":""},{"$f":"IF(ISBLANK('DE01-F12'!Q245),\"\",('DE01-F12'!Q245))","v":""},{"$f":"IF(ISBLANK('DE01-F12'!S245),\"\",('DE01-F12'!S245))","v":0}]
[{"$f":"IF(ISBLANK('DE01-F12'!N246),\"\",('DE01-F12'!N246))","v":""},{"$f":"MID('DE01-F12'!G246,1,18)","v":""},{"$f":"IF(ISBLANK('DE01-F12'!P246),\"\",('DE01-F12'!P246))","v":""},{"$f":"IF(ISBLANK('DE01-F12'!Q246),\"\",('DE01-F12'!Q246))","v":""},{"$f":"IF(ISBLANK('DE01-F12'!S246),\"\",('DE01-F12'!S246))","v":0}]
[{"$f":"IF(ISBLANK('DE01-F12'!N247),\"\",('DE01-F12'!N247))","v":""},{"$f":"MID('DE01-F12'!G247,1,18)","v":""},{"$f":"IF(ISBLANK('DE01-F12'!P247),\"\",('DE01-F12'!P247))","v":""},{"$f":"IF(ISBLANK('DE01-F12'!Q247),\"\",('DE01-F12'!Q247))","v":""},{"$f":"IF(ISBLANK('DE01-F12'!S247),\"\",('DE01-F12'!S247))","v":0}]
[{"$f":"IF(ISBLANK('DE01-F12'!N248),\"\",('DE01-F12'!N248))","v":""},{"$f":"MID('DE01-F12'!G248,1,18)","v":""},{"$f":"IF(ISBLANK('DE01-F12'!P248),\"\",('DE01-F12'!P248))","v":""},{"$f":"IF(ISBLANK('DE01-F12'!Q248),\"\",('DE01-F12'!Q248))","v":""},{"$f":"IF(ISBLANK('DE01-F12'!S248),\"\",('DE01-F12'!S248))","v":0}]
[{"$f":"IF(ISBLANK('DE01-F12'!N249),\"\",('DE01-F12'!N249))","v":""},{"$f":"MID('DE01-F12'!G249,1,18)","v":""},{"$f":"IF(ISBLANK('DE01-F12'!P249),\"\",('DE01-F12'!P249))","v":""},{"$f":"IF(ISBLANK('DE01-F12'!Q249),\"\",('DE01-F12'!Q249))","v":""},{"$f":"IF(ISBLANK('DE01-F12'!S249),\"\",('DE01-F12'!S249))","v":0}]
[{"$f":"IF(ISBLANK('DE01-F12'!N250),\"\",('DE01-F12'!N250))","v":""},{"$f":"MID('DE01-F12'!G250,1,18)","v":""},{"$f":"IF(ISBLANK('DE01-F12'!P250),\"\",('DE01-F12'!P250))","v":""},{"$f":"IF(ISBLANK('DE01-F12'!Q250),\"\",('DE01-F12'!Q250))","v":""},{"$f":"IF(ISBLANK('DE01-F12'!S250),\"\",('DE01-F12'!S250))","v":0}]
[{"$f":"IF(ISBLANK('DE01-F12'!N251),\"\",('DE01-F12'!N251))","v":""},{"$f":"MID('DE01-F12'!G251,1,18)","v":""},{"$f":"IF(ISBLANK('DE01-F12'!P251),\"\",('DE01-F12'!P251))","v":""},{"$f":"IF(ISBLANK('DE01-F12'!Q251),\"\",('DE01-F12'!Q251))","v":""},{"$f":"IF(ISBLANK('DE01-F12'!S251),\"\",('DE01-F12'!S251))","v":0}]
[{"$f":"IF(ISBLANK('DE01-F12'!N252),\"\",('DE01-F12'!N252))","v":""},{"$f":"MID('DE01-F12'!G252,1,18)","v":""},{"$f":"IF(ISBLANK('DE01-F12'!P252),\"\",('DE01-F12'!P252))","v":""},{"$f":"IF(ISBLANK('DE01-F12'!Q252),\"\",('DE01-F12'!Q252))","v":""},{"$f":"IF(ISBLANK('DE01-F12'!S252),\"\",('DE01-F12'!S252))","v":0}]
[{"$f":"IF(ISBLANK('DE01-F12'!N253),\"\",('DE01-F12'!N253))","v":""},{"$f":"MID('DE01-F12'!G253,1,18)","v":""},{"$f":"IF(ISBLANK('DE01-F12'!P253),\"\",('DE01-F12'!P253))","v":""},{"$f":"IF(ISBLANK('DE01-F12'!Q253),\"\",('DE01-F12'!Q253))","v":""},{"$f":"IF(ISBLANK('DE01-F12'!S253),\"\",('DE01-F12'!S253))","v":0}]
[{"$f":"IF(ISBLANK('DE01-F12'!N254),\"\",('DE01-F12'!N254))","v":""},{"$f":"MID('DE01-F12'!G254,1,18)","v":""},{"$f":"IF(ISBLANK('DE01-F12'!P254),\"\",('DE01-F12'!P254))","v":""},{"$f":"IF(ISBLANK('DE01-F12'!Q254),\"\",('DE01-F12'!Q254))","v":""},{"$f":"IF(ISBLANK('DE01-F12'!S254),\"\",('DE01-F12'!S254))","v":0}]
[{"$f":"IF(ISBLANK('DE01-F12'!N255),\"\",('DE01-F12'!N255))","v":""},{"$f":"MID('DE01-F12'!G255,1,18)","v":""},{"$f":"IF(ISBLANK('DE01-F12'!P255),\"\",('DE01-F12'!P255))","v":""},{"$f":"IF(ISBLANK('DE01-F12'!Q255),\"\",('DE01-F12'!Q255))","v":""},{"$f":"IF(ISBLANK('DE01-F12'!S255),\"\",('DE01-F12'!S255))","v":0}]
[{"$f":"IF(ISBLANK('DE01-F12'!N256),\"\",('DE01-F12'!N256))","v":""},{"$f":"MID('DE01-F12'!G256,1,18)","v":""},{"$f":"IF(ISBLANK('DE01-F12'!P256),\"\",('DE01-F12'!P256))","v":""},{"$f":"IF(ISBLANK('DE01-F12'!Q256),\"\",('DE01-F12'!Q256))","v":""},{"$f":"IF(ISBLANK('DE01-F12'!S256),\"\",('DE01-F12'!S256))","v":0}]
[{"$f":"IF(ISBLANK('DE01-F12'!N257),\"\",('DE01-F12'!N257))","v":""},{"$f":"MID('DE01-F12'!G257,1,18)","v":""},{"$f":"IF(ISBLANK('DE01-F12'!P257),\"\",('DE01-F12'!P257))","v":""},{"$f":"IF(ISBLANK('DE01-F12'!Q257),\"\",('DE01-F12'!Q257))","v":""},{"$f":"IF(ISBLANK('DE01-F12'!S257),\"\",('DE01-F12'!S257))","v":0}]
[{"$f":"IF(ISBLANK('DE01-F12'!N258),\"\",('DE01-F12'!N258))","v":""},{"$f":"MID('DE01-F12'!G258,1,18)","v":""},{"$f":"IF(ISBLANK('DE01-F12'!P258),\"\",('DE01-F12'!P258))","v":""},{"$f":"IF(ISBLANK('DE01-F12'!Q258),\"\",('DE01-F12'!Q258))","v":""},{"$f":"IF(ISBLANK('DE01-F12'!S258),\"\",('DE01-F12'!S258))","v":0}]
[{"$f":"IF(ISBLANK('DE01-F12'!N259),\"\",('DE01-F12'!N259))","v":""},{"$f":"MID('DE01-F12'!G259,1,18)","v":""},{"$f":"IF(ISBLANK('DE01-F12'!P259),\"\",('DE01-F12'!P259))","v":""},{"$f":"IF(ISBLANK('DE01-F12'!Q259),\"\",('DE01-F12'!Q259))","v":""},{"$f":"IF(ISBLANK('DE01-F12'!S259),\"\",('DE01-F12'!S259))","v":0}]
[{"$f":"IF(ISBLANK('DE01-F12'!N260),\"\",('DE01-F12'!N260))","v":""},{"$f":"MID('DE01-F12'!G260,1,18)","v":""},{"$f":"IF(ISBLANK('DE01-F12'!P260),\"\",('DE01-F12'!P260))","v":""},{"$f":"IF(ISBLANK('DE01-F12'!Q260),\"\",('DE01-F12'!Q260))","v":""},{"$f":"IF(ISBLANK('DE01-F12'!S260),\"\",('DE01-F12'!S260))","v":0}]
[{"$f":"IF(ISBLANK('DE01-F12'!N261),\"\",('DE01-F12'!N261))","v":""},{"$f":"MID('DE01-F12'!G261,1,18)","v":""},{"$f":"IF(ISBLANK('DE01-F12'!P261),\"\",('DE01-F12'!P261))","v":""},{"$f":"IF(ISBLANK('DE01-F12'!Q261),\"\",('DE01-F12'!Q261))","v":""},{"$f":"IF(ISBLANK('DE01-F12'!S261),\"\",('DE01-F12'!S261))","v":0}]
[{"$f":"IF(ISBLANK('DE01-F12'!N262),\"\",('DE01-F12'!N262))","v":""},{"$f":"MID('DE01-F12'!G262,1,18)","v":""},{"$f":"IF(ISBLANK('DE01-F12'!P262),\"\",('DE01-F12'!P262))","v":""},{"$f":"IF(ISBLANK('DE01-F12'!Q262),\"\",('DE01-F12'!Q262))","v":""},{"$f":"IF(ISBLANK('DE01-F12'!S262),\"\",('DE01-F12'!S262))","v":0}]
[{"$f":"IF(ISBLANK('DE01-F12'!N263),\"\",('DE01-F12'!N263))","v":""},{"$f":"MID('DE01-F12'!G263,1,18)","v":""},{"$f":"IF(ISBLANK('DE01-F12'!P263),\"\",('DE01-F12'!P263))","v":""},{"$f":"IF(ISBLANK('DE01-F12'!Q263),\"\",('DE01-F12'!Q263))","v":""},{"$f":"IF(ISBLANK('DE01-F12'!S263),\"\",('DE01-F12'!S263))","v":0}]
[{"$f":"IF(ISBLANK('DE01-F12'!N264),\"\",('DE01-F12'!N264))","v":""},{"$f":"MID('DE01-F12'!G264,1,18)","v":""},{"$f":"IF(ISBLANK('DE01-F12'!P264),\"\",('DE01-F12'!P264))","v":""},{"$f":"IF(ISBLANK('DE01-F12'!Q264),\"\",('DE01-F12'!Q264))","v":""},{"$f":"IF(ISBLANK('DE01-F12'!S264),\"\",('DE01-F12'!S264))","v":0}]
[{"$f":"IF(ISBLANK('DE01-F12'!N265),\"\",('DE01-F12'!N265))","v":""},{"$f":"MID('DE01-F12'!G265,1,18)","v":""},{"$f":"IF(ISBLANK('DE01-F12'!P265),\"\",('DE01-F12'!P265))","v":""},{"$f":"IF(ISBLANK('DE01-F12'!Q265),\"\",('DE01-F12'!Q265))","v":""},{"$f":"IF(ISBLANK('DE01-F12'!S265),\"\",('DE01-F12'!S265))","v":0}]
[{"$f":"IF(ISBLANK('DE01-F12'!N266),\"\",('DE01-F12'!N266))","v":""},{"$f":"MID('DE01-F12'!G266,1,18)","v":""},{"$f":"IF(ISBLANK('DE01-F12'!P266),\"\",('DE01-F12'!P266))","v":""},{"$f":"IF(ISBLANK('DE01-F12'!Q266),\"\",('DE01-F12'!Q266))","v":""},{"$f":"IF(ISBLANK('DE01-F12'!S266),\"\",('DE01-F12'!S266))","v":0}]
[{"$f":"IF(ISBLANK('DE01-F12'!N267),\"\",('DE01-F12'!N267))","v":""},{"$f":"MID('DE01-F12'!G267,1,18)","v":""},{"$f":"IF(ISBLANK('DE01-F12'!P267),\"\",('DE01-F12'!P267))","v":""},{"$f":"IF(ISBLANK('DE01-F12'!Q267),\"\",('DE01-F12'!Q267))","v":""},{"$f":"IF(ISBLANK('DE01-F12'!S267),\"\",('DE01-F12'!S267))","v":0}]
[{"$f":"IF(ISBLANK('DE01-F12'!N268),\"\",('DE01-F12'!N268))","v":""},{"$f":"MID('DE01-F12'!G268,1,18)","v":""},{"$f":"IF(ISBLANK('DE01-F12'!P268),\"\",('DE01-F12'!P268))","v":""},{"$f":"IF(ISBLANK('DE01-F12'!Q268),\"\",('DE01-F12'!Q268))","v":""},{"$f":"IF(ISBLANK('DE01-F12'!S268),\"\",('DE01-F12'!S268))","v":0}]
[{"$f":"IF(ISBLANK('DE01-F12'!N269),\"\",('DE01-F12'!N269))","v":""},{"$f":"MID('DE01-F12'!G269,1,18)","v":""},{"$f":"IF(ISBLANK('DE01-F12'!P269),\"\",('DE01-F12'!P269))","v":""},{"$f":"IF(ISBLANK('DE01-F12'!Q269),\"\",('DE01-F12'!Q269))","v":""},{"$f":"IF(ISBLANK('DE01-F12'!S269),\"\",('DE01-F12'!S269))","v":0}]
[{"$f":"IF(ISBLANK('DE01-F12'!N270),\"\",('DE01-F12'!N270))","v":""},{"$f":"MID('DE01-F12'!G270,1,18)","v":""},{"$f":"IF(ISBLANK('DE01-F12'!P270),\"\",('DE01-F12'!P270))","v":""},{"$f":"IF(ISBLANK('DE01-F12'!Q270),\"\",('DE01-F12'!Q270))","v":""},{"$f":"IF(ISBLANK('DE01-F12'!S270),\"\",('DE01-F12'!S270))","v":0}]
[{"$f":"IF(ISBLANK('DE01-F12'!N271),\"\",('DE01-F12'!N271))","v":""},{"$f":"MID('DE01-F12'!G271,1,18)","v":""},{"$f":"IF(ISBLANK('DE01-F12'!P271),\"\",('DE01-F12'!P271))","v":""},{"$f":"IF(ISBLANK('DE01-F12'!Q271),\"\",('DE01-F12'!Q271))","v":""},{"$f":"IF(ISBLANK('DE01-F12'!S271),\"\",('DE01-F12'!S271))","v":0}]
[{"$f":"IF(ISBLANK('DE01-F12'!N272),\"\",('DE01-F12'!N272))","v":""},{"$f":"MID('DE01-F12'!G272,1,18)","v":""},{"$f":"IF(ISBLANK('DE01-F12'!P272),\"\",('DE01-F12'!P272))","v":""},{"$f":"IF(ISBLANK('DE01-F12'!Q272),\"\",('DE01-F12'!Q272))","v":""},{"$f":"IF(ISBLANK('DE01-F12'!S272),\"\",('DE01-F12'!S272))","v":0}]
[{"$f":"IF(ISBLANK('DE01-F12'!N273),\"\",('DE01-F12'!N273))","v":""},{"$f":"MID('DE01-F12'!G273,1,18)","v":""},{"$f":"IF(ISBLANK('DE01-F12'!P273),\"\",('DE01-F12'!P273))","v":""},{"$f":"IF(ISBLANK('DE01-F12'!Q273),\"\",('DE01-F12'!Q273))","v":""},{"$f":"IF(ISBLANK('DE01-F12'!S273),\"\",('DE01-F12'!S273))","v":0}]
[{"$f":"IF(ISBLANK('DE01-F12'!N274),\"\",('DE01-F12'!N274))","v":""},{"$f":"MID('DE01-F12'!G274,1,18)","v":""},{"$f":"IF(ISBLANK('DE01-F12'!P274),\"\",('DE01-F12'!P274))","v":""},{"$f":"IF(ISBLANK('DE01-F12'!Q274),\"\",('DE01-F12'!Q274))","v":""},{"$f":"IF(ISBLANK('DE01-F12'!S274),\"\",('DE01-F12'!S274))","v":0}]
[{"$f":"IF(ISBLANK('DE01-F12'!N275),\"\",('DE01-F12'!N275))","v":""},{"$f":"MID('DE01-F12'!G275,1,18)","v":""},{"$f":"IF(ISBLANK('DE01-F12'!P275),\"\",('DE01-F12'!P275))","v":""},{"$f":"IF(ISBLANK('DE01-F12'!Q275),\"\",('DE01-F12'!Q275))","v":""},{"$f":"IF(ISBLANK('DE01-F12'!S275),\"\",('DE01-F12'!S275))","v":0}]
[{"$f":"IF(ISBLANK('DE01-F12'!N276),\"\",('DE01-F12'!N276))","v":""},{"$f":"MID('DE01-F12'!G276,1,18)","v":""},{"$f":"IF(ISBLANK('DE01-F12'!P276),\"\",('DE01-F12'!P276))","v":""},{"$f":"IF(ISBLANK('DE01-F12'!Q276),\"\",('DE01-F12'!Q276))","v":""},{"$f":"IF(ISBLANK('DE01-F12'!S276),\"\",('DE01-F12'!S276))","v":0}]
[{"$f":"IF(ISBLANK('DE01-F12'!N277),\"\",('DE01-F12'!N277))","v":""},{"$f":"MID('DE01-F12'!G277,1,18)","v":""},{"$f":"IF(ISBLANK('DE01-F12'!P277),\"\",('DE01-F12'!P277))","v":""},{"$f":"IF(ISBLANK('DE01-F12'!Q277),\"\",('DE01-F12'!Q277))","v":""},{"$f":"IF(ISBLANK('DE01-F12'!S277),\"\",('DE01-F12'!S277))","v":0}]
[{"$f":"IF(ISBLANK('DE01-F12'!N278),\"\",('DE01-F12'!N278))","v":""},{"$f":"MID('DE01-F12'!G278,1,18)","v":""},{"$f":"IF(ISBLANK('DE01-F12'!P278),\"\",('DE01-F12'!P278))","v":""},{"$f":"IF(ISBLANK('DE01-F12'!Q278),\"\",('DE01-F12'!Q278))","v":""},{"$f":"IF(ISBLANK('DE01-F12'!S278),\"\",('DE01-F12'!S278))","v":0}]
[{"$f":"IF(ISBLANK('DE01-F12'!N279),\"\",('DE01-F12'!N279))","v":""},{"$f":"MID('DE01-F12'!G279,1,18)","v":""},{"$f":"IF(ISBLANK('DE01-F12'!P279),\"\",('DE01-F12'!P279))","v":""},{"$f":"IF(ISBLANK('DE01-F12'!Q279),\"\",('DE01-F12'!Q279))","v":""},{"$f":"IF(ISBLANK('DE01-F12'!S279),\"\",('DE01-F12'!S279))","v":0}]
[{"$f":"IF(ISBLANK('DE01-F12'!N280),\"\",('DE01-F12'!N280))","v":""},{"$f":"MID('DE01-F12'!G280,1,18)","v":""},{"$f":"IF(ISBLANK('DE01-F12'!P280),\"\",('DE01-F12'!P280))","v":""},{"$f":"IF(ISBLANK('DE01-F12'!Q280),\"\",('DE01-F12'!Q280))","v":""},{"$f":"IF(ISBLANK('DE01-F12'!S280),\"\",('DE01-F12'!S280))","v":0}]
[{"$f":"IF(ISBLANK('DE01-F12'!N281),\"\",('DE01-F12'!N281))","v":""},{"$f":"MID('DE01-F12'!G281,1,18)","v":""},{"$f":"IF(ISBLANK('DE01-F12'!P281),\"\",('DE01-F12'!P281))","v":""},{"$f":"IF(ISBLANK('DE01-F12'!Q281),\"\",('DE01-F12'!Q281))","v":""},{"$f":"IF(ISBLANK('DE01-F12'!S281),\"\",('DE01-F12'!S281))","v":0}]
[{"$f":"IF(ISBLANK('DE01-F12'!N282),\"\",('DE01-F12'!N282))","v":""},{"$f":"MID('DE01-F12'!G282,1,18)","v":""},{"$f":"IF(ISBLANK('DE01-F12'!P282),\"\",('DE01-F12'!P282))","v":""},{"$f":"IF(ISBLANK('DE01-F12'!Q282),\"\",('DE01-F12'!Q282))","v":""},{"$f":"IF(ISBLANK('DE01-F12'!S282),\"\",('DE01-F12'!S282))","v":0}]
[{"$f":"IF(ISBLANK('DE01-F12'!N283),\"\",('DE01-F12'!N283))","v":""},{"$f":"MID('DE01-F12'!G283,1,18)","v":""},{"$f":"IF(ISBLANK('DE01-F12'!P283),\"\",('DE01-F12'!P283))","v":""},{"$f":"IF(ISBLANK('DE01-F12'!Q283),\"\",('DE01-F12'!Q283))","v":""},{"$f":"IF(ISBLANK('DE01-F12'!S283),\"\",('DE01-F12'!S283))","v":0}]
[{"$f":"IF(ISBLANK('DE01-F12'!N284),\"\",('DE01-F12'!N284))","v":""},{"$f":"MID('DE01-F12'!G284,1,18)","v":""},{"$f":"IF(ISBLANK('DE01-F12'!P284),\"\",('DE01-F12'!P284))","v":""},{"$f":"IF(ISBLANK('DE01-F12'!Q284),\"\",('DE01-F12'!Q284))","v":""},{"$f":"IF(ISBLANK('DE01-F12'!S284),\"\",('DE01-F12'!S284))","v":0}]
[{"$f":"IF(ISBLANK('DE01-F12'!N285),\"\",('DE01-F12'!N285))","v":""},{"$f":"MID('DE01-F12'!G285,1,18)","v":""},{"$f":"IF(ISBLANK('DE01-F12'!P285),\"\",('DE01-F12'!P285))","v":""},{"$f":"IF(ISBLANK('DE01-F12'!Q285),\"\",('DE01-F12'!Q285))","v":""},{"$f":"IF(ISBLANK('DE01-F12'!S285),\"\",('DE01-F12'!S285))","v":0}]
[{"$f":"IF(ISBLANK('DE01-F12'!N286),\"\",('DE01-F12'!N286))","v":""},{"$f":"MID('DE01-F12'!G286,1,18)","v":""},{"$f":"IF(ISBLANK('DE01-F12'!P286),\"\",('DE01-F12'!P286))","v":""},{"$f":"IF(ISBLANK('DE01-F12'!Q286),\"\",('DE01-F12'!Q286))","v":""},{"$f":"IF(ISBLANK('DE01-F12'!S286),\"\",('DE01-F12'!S286))","v":0}]
[{"$f":"IF(ISBLANK('DE01-F12'!N287),\"\",('DE01-F12'!N287))","v":""},{"$f":"MID('DE01-F12'!G287,1,18)","v":""},{"$f":"IF(ISBLANK('DE01-F12'!P287),\"\",('DE01-F12'!P287))","v":""},{"$f":"IF(ISBLANK('DE01-F12'!Q287),\"\",('DE01-F12'!Q287))","v":""},{"$f":"IF(ISBLANK('DE01-F12'!S287),\"\",('DE01-F12'!S287))","v":0}]
[{"$f":"IF(ISBLANK('DE01-F12'!N288),\"\",('DE01-F12'!N288))","v":""},{"$f":"MID('DE01-F12'!G288,1,18)","v":""},{"$f":"IF(ISBLANK('DE01-F12'!P288),\"\",('DE01-F12'!P288))","v":""},{"$f":"IF(ISBLANK('DE01-F12'!Q288),\"\",('DE01-F12'!Q288))","v":""},{"$f":"IF(ISBLANK('DE01-F12'!S288),\"\",('DE01-F12'!S288))","v":0}]
[{"$f":"IF(ISBLANK('DE01-F12'!N289),\"\",('DE01-F12'!N289))","v":""},{"$f":"MID('DE01-F12'!G289,1,18)","v":""},{"$f":"IF(ISBLANK('DE01-F12'!P289),\"\",('DE01-F12'!P289))","v":""},{"$f":"IF(ISBLANK('DE01-F12'!Q289),\"\",('DE01-F12'!Q289))","v":""},{"$f":"IF(ISBLANK('DE01-F12'!S289),\"\",('DE01-F12'!S289))","v":0}]
[{"$f":"IF(ISBLANK('DE01-F12'!N290),\"\",('DE01-F12'!N290))","v":""},{"$f":"MID('DE01-F12'!G290,1,18)","v":""},{"$f":"IF(ISBLANK('DE01-F12'!P290),\"\",('DE01-F12'!P290))","v":""},{"$f":"IF(ISBLANK('DE01-F12'!Q290),\"\",('DE01-F12'!Q290))","v":""},{"$f":"IF(ISBLANK('DE01-F12'!S290),\"\",('DE01-F12'!S290))","v":0}]
[{"$f":"IF(ISBLANK('DE01-F12'!N291),\"\",('DE01-F12'!N291))","v":""},{"$f":"MID('DE01-F12'!G291,1,18)","v":""},{"$f":"IF(ISBLANK('DE01-F12'!P291),\"\",('DE01-F12'!P291))","v":""},{"$f":"IF(ISBLANK('DE01-F12'!Q291),\"\",('DE01-F12'!Q291))","v":""},{"$f":"IF(ISBLANK('DE01-F12'!S291),\"\",('DE01-F12'!S291))","v":0}]
[{"$f":"IF(ISBLANK('DE01-F12'!N292),\"\",('DE01-F12'!N292))","v":""},{"$f":"MID('DE01-F12'!G292,1,18)","v":""},{"$f":"IF(ISBLANK('DE01-F12'!P292),\"\",('DE01-F12'!P292))","v":""},{"$f":"IF(ISBLANK('DE01-F12'!Q292),\"\",('DE01-F12'!Q292))","v":""},{"$f":"IF(ISBLANK('DE01-F12'!S292),\"\",('DE01-F12'!S292))","v":0}]
[{"$f":"IF(ISBLANK('DE01-F12'!N293),\"\",('DE01-F12'!N293))","v":""},{"$f":"MID('DE01-F12'!G293,1,18)","v":""},{"$f":"IF(ISBLANK('DE01-F12'!P293),\"\",('DE01-F12'!P293))","v":""},{"$f":"IF(ISBLANK('DE01-F12'!Q293),\"\",('DE01-F12'!Q293))","v":""},{"$f":"IF(ISBLANK('DE01-F12'!S293),\"\",('DE01-F12'!S293))","v":0}]
[{"$f":"IF(ISBLANK('DE01-F12'!N294),\"\",('DE01-F12'!N294))","v":""},{"$f":"MID('DE01-F12'!G294,1,18)","v":""},{"$f":"IF(ISBLANK('DE01-F12'!P294),\"\",('DE01-F12'!P294))","v":""},{"$f":"IF(ISBLANK('DE01-F12'!Q294),\"\",('DE01-F12'!Q294))","v":""},{"$f":"IF(ISBLANK('DE01-F12'!S294),\"\",('DE01-F12'!S294))","v":0}]
[{"$f":"IF(ISBLANK('DE01-F12'!N295),\"\",('DE01-F12'!N295))","v":""},{"$f":"MID('DE01-F12'!G295,1,18)","v":""},{"$f":"IF(ISBLANK('DE01-F12'!P295),\"\",('DE01-F12'!P295))","v":""},{"$f":"IF(ISBLANK('DE01-F12'!Q295),\"\",('DE01-F12'!Q295))","v":""},{"$f":"IF(ISBLANK('DE01-F12'!S295),\"\",('DE01-F12'!S295))","v":0}]
[{"$f":"IF(ISBLANK('DE01-F12'!N296),\"\",('DE01-F12'!N296))","v":""},{"$f":"MID('DE01-F12'!G296,1,18)","v":""},{"$f":"IF(ISBLANK('DE01-F12'!P296),\"\",('DE01-F12'!P296))","v":""},{"$f":"IF(ISBLANK('DE01-F12'!Q296),\"\",('DE01-F12'!Q296))","v":""},{"$f":"IF(ISBLANK('DE01-F12'!S296),\"\",('DE01-F12'!S296))","v":0}]
[{"$f":"IF(ISBLANK('DE01-F12'!N297),\"\",('DE01-F12'!N297))","v":""},{"$f":"MID('DE01-F12'!G297,1,18)","v":""},{"$f":"IF(ISBLANK('DE01-F12'!P297),\"\",('DE01-F12'!P297))","v":""},{"$f":"IF(ISBLANK('DE01-F12'!Q297),\"\",('DE01-F12'!Q297))","v":""},{"$f":"IF(ISBLANK('DE01-F12'!S297),\"\",('DE01-F12'!S297))","v":0}]
[{"$f":"IF(ISBLANK('DE01-F12'!N298),\"\",('DE01-F12'!N298))","v":""},{"$f":"MID('DE01-F12'!G298,1,18)","v":""},{"$f":"IF(ISBLANK('DE01-F12'!P298),\"\",('DE01-F12'!P298))","v":""},{"$f":"IF(ISBLANK('DE01-F12'!Q298),\"\",('DE01-F12'!Q298))","v":""},{"$f":"IF(ISBLANK('DE01-F12'!S298),\"\",('DE01-F12'!S298))","v":0}]
[{"$f":"IF(ISBLANK('DE01-F12'!N299),\"\",('DE01-F12'!N299))","v":""},{"$f":"MID('DE01-F12'!G299,1,18)","v":""},{"$f":"IF(ISBLANK('DE01-F12'!P299),\"\",('DE01-F12'!P299))","v":""},{"$f":"IF(ISBLANK('DE01-F12'!Q299),\"\",('DE01-F12'!Q299))","v":""},{"$f":"IF(ISBLANK('DE01-F12'!S299),\"\",('DE01-F12'!S299))","v":0}]
[{"$f":"IF(ISBLANK('DE01-F12'!N300),\"\",('DE01-F12'!N300))","v":""},{"$f":"MID('DE01-F12'!G300,1,18)","v":""},{"$f":"IF(ISBLANK('DE01-F12'!P300),\"\",('DE01-F12'!P300))","v":""},{"$f":"IF(ISBLANK('DE01-F12'!Q300),\"\",('DE01-F12'!Q300))","v":""},{"$f":"IF(ISBLANK('DE01-F12'!S300),\"\",('DE01-F12'!S300))","v":0}]
[{"$f":"IF(ISBLANK('DE01-F12'!N301),\"\",('DE01-F12'!N301))","v":""},{"$f":"MID('DE01-F12'!G301,1,18)","v":""},{"$f":"IF(ISBLANK('DE01-F12'!P301),\"\",('DE01-F12'!P301))","v":""},{"$f":"IF(ISBLANK('DE01-F12'!Q301),\"\",('DE01-F12'!Q301))","v":""},{"$f":"IF(ISBLANK('DE01-F12'!S301),\"\",('DE01-F12'!S301))","v":0}]
[{"$f":"IF(ISBLANK('DE01-F12'!N302),\"\",('DE01-F12'!N302))","v":""},{"$f":"MID('DE01-F12'!G302,1,18)","v":""},{"$f":"IF(ISBLANK('DE01-F12'!P302),\"\",('DE01-F12'!P302))","v":""},{"$f":"IF(ISBLANK('DE01-F12'!Q302),\"\",('DE01-F12'!Q302))","v":""},{"$f":"IF(ISBLANK('DE01-F12'!S302),\"\",('DE01-F12'!S302))","v":0}]
[{"$f":"IF(ISBLANK('DE01-F12'!N303),\"\",('DE01-F12'!N303))","v":""},{"$f":"MID('DE01-F12'!G303,1,18)","v":""},{"$f":"IF(ISBLANK('DE01-F12'!P303),\"\",('DE01-F12'!P303))","v":""},{"$f":"IF(ISBLANK('DE01-F12'!Q303),\"\",('DE01-F12'!Q303))","v":""},{"$f":"IF(ISBLANK('DE01-F12'!S303),\"\",('DE01-F12'!S303))","v":0}]
[{"$f":"IF(ISBLANK('DE01-F12'!N304),\"\",('DE01-F12'!N304))","v":""},{"$f":"MID('DE01-F12'!G304,1,18)","v":""},{"$f":"IF(ISBLANK('DE01-F12'!P304),\"\",('DE01-F12'!P304))","v":""},{"$f":"IF(ISBLANK('DE01-F12'!Q304),\"\",('DE01-F12'!Q304))","v":""},{"$f":"IF(ISBLANK('DE01-F12'!S304),\"\",('DE01-F12'!S304))","v":0}]
[{"$f":"IF(ISBLANK('DE01-F12'!N305),\"\",('DE01-F12'!N305))","v":""},{"$f":"MID('DE01-F12'!G305,1,18)","v":""},{"$f":"IF(ISBLANK('DE01-F12'!P305),\"\",('DE01-F12'!P305))","v":""},{"$f":"IF(ISBLANK('DE01-F12'!Q305),\"\",('DE01-F12'!Q305))","v":""},{"$f":"IF(ISBLANK('DE01-F12'!S305),\"\",('DE01-F12'!S305))","v":0}]
[{"$f":"IF(ISBLANK('DE01-F12'!N306),\"\",('DE01-F12'!N306))","v":""},{"$f":"MID('DE01-F12'!G306,1,18)","v":""},{"$f":"IF(ISBLANK('DE01-F12'!P306),\"\",('DE01-F12'!P306))","v":""},{"$f":"IF(ISBLANK('DE01-F12'!Q306),\"\",('DE01-F12'!Q306))","v":""},{"$f":"IF(ISBLANK('DE01-F12'!S306),\"\",('DE01-F12'!S306))","v":0}]
[{"$f":"IF(ISBLANK('DE01-F12'!N307),\"\",('DE01-F12'!N307))","v":""},{"$f":"MID('DE01-F12'!G307,1,18)","v":""},{"$f":"IF(ISBLANK('DE01-F12'!P307),\"\",('DE01-F12'!P307))","v":""},{"$f":"IF(ISBLANK('DE01-F12'!Q307),\"\",('DE01-F12'!Q307))","v":""},{"$f":"IF(ISBLANK('DE01-F12'!S307),\"\",('DE01-F12'!S307))","v":0}]
[{"$f":"IF(ISBLANK('DE01-F12'!N308),\"\",('DE01-F12'!N308))","v":""},{"$f":"MID('DE01-F12'!G308,1,18)","v":""},{"$f":"IF(ISBLANK('DE01-F12'!P308),\"\",('DE01-F12'!P308))","v":""},{"$f":"IF(ISBLANK('DE01-F12'!Q308),\"\",('DE01-F12'!Q308))","v":""},{"$f":"IF(ISBLANK('DE01-F12'!S308),\"\",('DE01-F12'!S308))","v":0}]
[{"$f":"IF(ISBLANK('DE01-F12'!N309),\"\",('DE01-F12'!N309))","v":""},{"$f":"MID('DE01-F12'!G309,1,18)","v":""},{"$f":"IF(ISBLANK('DE01-F12'!P309),\"\",('DE01-F12'!P309))","v":""},{"$f":"IF(ISBLANK('DE01-F12'!Q309),\"\",('DE01-F12'!Q309))","v":""},{"$f":"IF(ISBLANK('DE01-F12'!S309),\"\",('DE01-F12'!S309))","v":0}]
[{"$f":"IF(ISBLANK('DE01-F12'!N310),\"\",('DE01-F12'!N310))","v":""},{"$f":"MID('DE01-F12'!G310,1,18)","v":""},{"$f":"IF(ISBLANK('DE01-F12'!P310),\"\",('DE01-F12'!P310))","v":""},{"$f":"IF(ISBLANK('DE01-F12'!Q310),\"\",('DE01-F12'!Q310))","v":""},{"$f":"IF(ISBLANK('DE01-F12'!S310),\"\",('DE01-F12'!S310))","v":0}]
[{"$f":"IF(ISBLANK('DE01-F12'!N311),\"\",('DE01-F12'!N311))","v":""},{"$f":"MID('DE01-F12'!G311,1,18)","v":""},{"$f":"IF(ISBLANK('DE01-F12'!P311),\"\",('DE01-F12'!P311))","v":""},{"$f":"IF(ISBLANK('DE01-F12'!Q311),\"\",('DE01-F12'!Q311))","v":""},{"$f":"IF(ISBLANK('DE01-F12'!S311),\"\",('DE01-F12'!S311))","v":0}]
[{"$f":"IF(ISBLANK('DE01-F12'!N312),\"\",('DE01-F12'!N312))","v":""},{"$f":"MID('DE01-F12'!G312,1,18)","v":""},{"$f":"IF(ISBLANK('DE01-F12'!P312),\"\",('DE01-F12'!P312))","v":""},{"$f":"IF(ISBLANK('DE01-F12'!Q312),\"\",('DE01-F12'!Q312))","v":""},{"$f":"IF(ISBLANK('DE01-F12'!S312),\"\",('DE01-F12'!S312))","v":0}]
[{"$f":"IF(ISBLANK('DE01-F12'!N313),\"\",('DE01-F12'!N313))","v":""},{"$f":"MID('DE01-F12'!G313,1,18)","v":""},{"$f":"IF(ISBLANK('DE01-F12'!P313),\"\",('DE01-F12'!P313))","v":""},{"$f":"IF(ISBLANK('DE01-F12'!Q313),\"\",('DE01-F12'!Q313))","v":""},{"$f":"IF(ISBLANK('DE01-F12'!S313),\"\",('DE01-F12'!S313))","v":0}]
[{"$f":"IF(ISBLANK('DE01-F12'!N314),\"\",('DE01-F12'!N314))","v":""},{"$f":"MID('DE01-F12'!G314,1,18)","v":""},{"$f":"IF(ISBLANK('DE01-F12'!P314),\"\",('DE01-F12'!P314))","v":""},{"$f":"IF(ISBLANK('DE01-F12'!Q314),\"\",('DE01-F12'!Q314))","v":""},{"$f":"IF(ISBLANK('DE01-F12'!S314),\"\",('DE01-F12'!S314))","v":0}]
[{"$f":"IF(ISBLANK('DE01-F12'!N315),\"\",('DE01-F12'!N315))","v":""},{"$f":"MID('DE01-F12'!G315,1,18)","v":""},{"$f":"IF(ISBLANK('DE01-F12'!P315),\"\",('DE01-F12'!P315))","v":""},{"$f":"IF(ISBLANK('DE01-F12'!Q315),\"\",('DE01-F12'!Q315))","v":""},{"$f":"IF(ISBLANK('DE01-F12'!S315),\"\",('DE01-F12'!S315))","v":0}]
[{"$f":"IF(ISBLANK('DE01-F12'!N316),\"\",('DE01-F12'!N316))","v":""},{"$f":"MID('DE01-F12'!G316,1,18)","v":""},{"$f":"IF(ISBLANK('DE01-F12'!P316),\"\",('DE01-F12'!P316))","v":""},{"$f":"IF(ISBLANK('DE01-F12'!Q316),\"\",('DE01-F12'!Q316))","v":""},{"$f":"IF(ISBLANK('DE01-F12'!S316),\"\",('DE01-F12'!S316))","v":0}]
[{"$f":"IF(ISBLANK('DE01-F12'!N317),\"\",('DE01-F12'!N317))","v":""},{"$f":"MID('DE01-F12'!G317,1,18)","v":""},{"$f":"IF(ISBLANK('DE01-F12'!P317),\"\",('DE01-F12'!P317))","v":""},{"$f":"IF(ISBLANK('DE01-F12'!Q317),\"\",('DE01-F12'!Q317))","v":""},{"$f":"IF(ISBLANK('DE01-F12'!S317),\"\",('DE01-F12'!S317))","v":0}]
[{"$f":"IF(ISBLANK('DE01-F12'!N318),\"\",('DE01-F12'!N318))","v":""},{"$f":"MID('DE01-F12'!G318,1,18)","v":""},{"$f":"IF(ISBLANK('DE01-F12'!P318),\"\",('DE01-F12'!P318))","v":""},{"$f":"IF(ISBLANK('DE01-F12'!Q318),\"\",('DE01-F12'!Q318))","v":""},{"$f":"IF(ISBLANK('DE01-F12'!S318),\"\",('DE01-F12'!S318))","v":0}]
[{"$f":"IF(ISBLANK('DE01-F12'!N319),\"\",('DE01-F12'!N319))","v":""},{"$f":"MID('DE01-F12'!G319,1,18)","v":""},{"$f":"IF(ISBLANK('DE01-F12'!P319),\"\",('DE01-F12'!P319))","v":""},{"$f":"IF(ISBLANK('DE01-F12'!Q319),\"\",('DE01-F12'!Q319))","v":""},{"$f":"IF(ISBLANK('DE01-F12'!S319),\"\",('DE01-F12'!S319))","v":0}]
[{"$f":"IF(ISBLANK('DE01-F12'!N320),\"\",('DE01-F12'!N320))","v":""},{"$f":"MID('DE01-F12'!G320,1,18)","v":""},{"$f":"IF(ISBLANK('DE01-F12'!P320),\"\",('DE01-F12'!P320))","v":""},{"$f":"IF(ISBLANK('DE01-F12'!Q320),\"\",('DE01-F12'!Q320))","v":""},{"$f":"IF(ISBLANK('DE01-F12'!S320),\"\",('DE01-F12'!S320))","v":0}]
[{"$f":"IF(ISBLANK('DE01-F12'!N321),\"\",('DE01-F12'!N321))","v":""},{"$f":"MID('DE01-F12'!G321,1,18)","v":""},{"$f":"IF(ISBLANK('DE01-F12'!P321),\"\",('DE01-F12'!P321))","v":""},{"$f":"IF(ISBLANK('DE01-F12'!Q321),\"\",('DE01-F12'!Q321))","v":""},{"$f":"IF(ISBLANK('DE01-F12'!S321),\"\",('DE01-F12'!S321))","v":0}]
[{"$f":"IF(ISBLANK('DE01-F12'!N322),\"\",('DE01-F12'!N322))","v":""},{"$f":"MID('DE01-F12'!G322,1,18)","v":""},{"$f":"IF(ISBLANK('DE01-F12'!P322),\"\",('DE01-F12'!P322))","v":""},{"$f":"IF(ISBLANK('DE01-F12'!Q322),\"\",('DE01-F12'!Q322))","v":""},{"$f":"IF(ISBLANK('DE01-F12'!S322),\"\",('DE01-F12'!S322))","v":0}]
[{"$f":"IF(ISBLANK('DE01-F12'!N323),\"\",('DE01-F12'!N323))","v":""},{"$f":"MID('DE01-F12'!G323,1,18)","v":""},{"$f":"IF(ISBLANK('DE01-F12'!P323),\"\",('DE01-F12'!P323))","v":""},{"$f":"IF(ISBLANK('DE01-F12'!Q323),\"\",('DE01-F12'!Q323))","v":""},{"$f":"IF(ISBLANK('DE01-F12'!S323),\"\",('DE01-F12'!S323))","v":0}]
[{"$f":"IF(ISBLANK('DE01-F12'!N324),\"\",('DE01-F12'!N324))","v":""},{"$f":"MID('DE01-F12'!G324,1,18)","v":""},{"$f":"IF(ISBLANK('DE01-F12'!P324),\"\",('DE01-F12'!P324))","v":""},{"$f":"IF(ISBLANK('DE01-F12'!Q324),\"\",('DE01-F12'!Q324))","v":""},{"$f":"IF(ISBLANK('DE01-F12'!S324),\"\",('DE01-F12'!S324))","v":0}]
[{"$f":"IF(ISBLANK('DE01-F12'!N325),\"\",('DE01-F12'!N325))","v":""},{"$f":"MID('DE01-F12'!G325,1,18)","v":""},{"$f":"IF(ISBLANK('DE01-F12'!P325),\"\",('DE01-F12'!P325))","v":""},{"$f":"IF(ISBLANK('DE01-F12'!Q325),\"\",('DE01-F12'!Q325))","v":""},{"$f":"IF(ISBLANK('DE01-F12'!S325),\"\",('DE01-F12'!S325))","v":0}]
[{"$f":"IF(ISBLANK('DE01-F12'!N326),\"\",('DE01-F12'!N326))","v":""},{"$f":"MID('DE01-F12'!G326,1,18)","v":""},{"$f":"IF(ISBLANK('DE01-F12'!P326),\"\",('DE01-F12'!P326))","v":""},{"$f":"IF(ISBLANK('DE01-F12'!Q326),\"\",('DE01-F12'!Q326))","v":""},{"$f":"IF(ISBLANK('DE01-F12'!S326),\"\",('DE01-F12'!S326))","v":0}]
[{"$f":"IF(ISBLANK('DE01-F12'!N327),\"\",('DE01-F12'!N327))","v":""},{"$f":"MID('DE01-F12'!G327,1,18)","v":""},{"$f":"IF(ISBLANK('DE01-F12'!P327),\"\",('DE01-F12'!P327))","v":""},{"$f":"IF(ISBLANK('DE01-F12'!Q327),\"\",('DE01-F12'!Q327))","v":""},{"$f":"IF(ISBLANK('DE01-F12'!S327),\"\",('DE01-F12'!S327))","v":0}]
[{"$f":"IF(ISBLANK('DE01-F12'!N328),\"\",('DE01-F12'!N328))","v":""},{"$f":"MID('DE01-F12'!G328,1,18)","v":""},{"$f":"IF(ISBLANK('DE01-F12'!P328),\"\",('DE01-F12'!P328))","v":""},{"$f":"IF(ISBLANK('DE01-F12'!Q328),\"\",('DE01-F12'!Q328))","v":""},{"$f":"IF(ISBLANK('DE01-F12'!S328),\"\",('DE01-F12'!S328))","v":0}]
[{"$f":"IF(ISBLANK('DE01-F12'!N329),\"\",('DE01-F12'!N329))","v":""},{"$f":"MID('DE01-F12'!G329,1,18)","v":""},{"$f":"IF(ISBLANK('DE01-F12'!P329),\"\",('DE01-F12'!P329))","v":""},{"$f":"IF(ISBLANK('DE01-F12'!Q329),\"\",('DE01-F12'!Q329))","v":""},{"$f":"IF(ISBLANK('DE01-F12'!S329),\"\",('DE01-F12'!S329))","v":0}]
[{"$f":"IF(ISBLANK('DE01-F12'!N330),\"\",('DE01-F12'!N330))","v":""},{"$f":"MID('DE01-F12'!G330,1,18)","v":""},{"$f":"IF(ISBLANK('DE01-F12'!P330),\"\",('DE01-F12'!P330))","v":""},{"$f":"IF(ISBLANK('DE01-F12'!Q330),\"\",('DE01-F12'!Q330))","v":""},{"$f":"IF(ISBLANK('DE01-F12'!S330),\"\",('DE01-F12'!S330))","v":0}]
[{"$f":"IF(ISBLANK('DE01-F12'!N331),\"\",('DE01-F12'!N331))","v":""},{"$f":"MID('DE01-F12'!G331,1,18)","v":""},{"$f":"IF(ISBLANK('DE01-F12'!P331),\"\",('DE01-F12'!P331))","v":""},{"$f":"IF(ISBLANK('DE01-F12'!Q331),\"\",('DE01-F12'!Q331))","v":""},{"$f":"IF(ISBLANK('DE01-F12'!S331),\"\",('DE01-F12'!S331))","v":0}]
[{"$f":"IF(ISBLANK('DE01-F12'!N332),\"\",('DE01-F12'!N332))","v":""},{"$f":"MID('DE01-F12'!G332,1,18)","v":""},{"$f":"IF(ISBLANK('DE01-F12'!P332),\"\",('DE01-F12'!P332))","v":""},{"$f":"IF(ISBLANK('DE01-F12'!Q332),\"\",('DE01-F12'!Q332))","v":""},{"$f":"IF(ISBLANK('DE01-F12'!S332),\"\",('DE01-F12'!S332))","v":0}]
[{"$f":"IF(ISBLANK('DE01-F12'!N333),\"\",('DE01-F12'!N333))","v":""},{"$f":"MID('DE01-F12'!G333,1,18)","v":""},{"$f":"IF(ISBLANK('DE01-F12'!P333),\"\",('DE01-F12'!P333))","v":""},{"$f":"IF(ISBLANK('DE01-F12'!Q333),\"\",('DE01-F12'!Q333))","v":""},{"$f":"IF(ISBLANK('DE01-F12'!S333),\"\",('DE01-F12'!S333))","v":0}]
[{"$f":"IF(ISBLANK('DE01-F12'!N334),\"\",('DE01-F12'!N334))","v":""},{"$f":"MID('DE01-F12'!G334,1,18)","v":""},{"$f":"IF(ISBLANK('DE01-F12'!P334),\"\",('DE01-F12'!P334))","v":""},{"$f":"IF(ISBLANK('DE01-F12'!Q334),\"\",('DE01-F12'!Q334))","v":""},{"$f":"IF(ISBLANK('DE01-F12'!S334),\"\",('DE01-F12'!S334))","v":0}]
[{"$f":"IF(ISBLANK('DE01-F12'!N335),\"\",('DE01-F12'!N335))","v":""},{"$f":"MID('DE01-F12'!G335,1,18)","v":""},{"$f":"IF(ISBLANK('DE01-F12'!P335),\"\",('DE01-F12'!P335))","v":""},{"$f":"IF(ISBLANK('DE01-F12'!Q335),\"\",('DE01-F12'!Q335))","v":""},{"$f":"IF(ISBLANK('DE01-F12'!S335),\"\",('DE01-F12'!S335))","v":0}]
[{"$f":"IF(ISBLANK('DE01-F12'!N336),\"\",('DE01-F12'!N336))","v":""},{"$f":"MID('DE01-F12'!G336,1,18)","v":""},{"$f":"IF(ISBLANK('DE01-F12'!P336),\"\",('DE01-F12'!P336))","v":""},{"$f":"IF(ISBLANK('DE01-F12'!Q336),\"\",('DE01-F12'!Q336))","v":""},{"$f":"IF(ISBLANK('DE01-F12'!S336),\"\",('DE01-F12'!S336))","v":0}]
[{"$f":"IF(ISBLANK('DE01-F12'!N337),\"\",('DE01-F12'!N337))","v":""},{"$f":"MID('DE01-F12'!G337,1,18)","v":""},{"$f":"IF(ISBLANK('DE01-F12'!P337),\"\",('DE01-F12'!P337))","v":""},{"$f":"IF(ISBLANK('DE01-F12'!Q337),\"\",('DE01-F12'!Q337))","v":""},{"$f":"IF(ISBLANK('DE01-F12'!S337),\"\",('DE01-F12'!S337))","v":0}]
[{"$f":"IF(ISBLANK('DE01-F12'!N338),\"\",('DE01-F12'!N338))","v":""},{"$f":"MID('DE01-F12'!G338,1,18)","v":""},{"$f":"IF(ISBLANK('DE01-F12'!P338),\"\",('DE01-F12'!P338))","v":""},{"$f":"IF(ISBLANK('DE01-F12'!Q338),\"\",('DE01-F12'!Q338))","v":""},{"$f":"IF(ISBLANK('DE01-F12'!S338),\"\",('DE01-F12'!S338))","v":0}]
[{"$f":"IF(ISBLANK('DE01-F12'!N339),\"\",('DE01-F12'!N339))","v":""},{"$f":"MID('DE01-F12'!G339,1,18)","v":""},{"$f":"IF(ISBLANK('DE01-F12'!P339),\"\",('DE01-F12'!P339))","v":""},{"$f":"IF(ISBLANK('DE01-F12'!Q339),\"\",('DE01-F12'!Q339))","v":""},{"$f":"IF(ISBLANK('DE01-F12'!S339),\"\",('DE01-F12'!S339))","v":0}]
[{"$f":"IF(ISBLANK('DE01-F12'!N340),\"\",('DE01-F12'!N340))","v":""},{"$f":"MID('DE01-F12'!G340,1,18)","v":""},{"$f":"IF(ISBLANK('DE01-F12'!P340),\"\",('DE01-F12'!P340))","v":""},{"$f":"IF(ISBLANK('DE01-F12'!Q340),\"\",('DE01-F12'!Q340))","v":""},{"$f":"IF(ISBLANK('DE01-F12'!S340),\"\",('DE01-F12'!S340))","v":0}]
[{"$f":"IF(ISBLANK('DE01-F12'!N341),\"\",('DE01-F12'!N341))","v":""},{"$f":"MID('DE01-F12'!G341,1,18)","v":""},{"$f":"IF(ISBLANK('DE01-F12'!P341),\"\",('DE01-F12'!P341))","v":""},{"$f":"IF(ISBLANK('DE01-F12'!Q341),\"\",('DE01-F12'!Q341))","v":""},{"$f":"IF(ISBLANK('DE01-F12'!S341),\"\",('DE01-F12'!S341))","v":0}]
[{"$f":"IF(ISBLANK('DE01-F12'!N342),\"\",('DE01-F12'!N342))","v":""},{"$f":"MID('DE01-F12'!G342,1,18)","v":""},{"$f":"IF(ISBLANK('DE01-F12'!P342),\"\",('DE01-F12'!P342))","v":""},{"$f":"IF(ISBLANK('DE01-F12'!Q342),\"\",('DE01-F12'!Q342))","v":""},{"$f":"IF(ISBLANK('DE01-F12'!S342),\"\",('DE01-F12'!S342))","v":0}]
[{"$f":"IF(ISBLANK('DE01-F12'!N343),\"\",('DE01-F12'!N343))","v":""},{"$f":"MID('DE01-F12'!G343,1,18)","v":""},{"$f":"IF(ISBLANK('DE01-F12'!P343),\"\",('DE01-F12'!P343))","v":""},{"$f":"IF(ISBLANK('DE01-F12'!Q343),\"\",('DE01-F12'!Q343))","v":""},{"$f":"IF(ISBLANK('DE01-F12'!S343),\"\",('DE01-F12'!S343))","v":0}]
[{"$f":"IF(ISBLANK('DE01-F12'!N344),\"\",('DE01-F12'!N344))","v":""},{"$f":"MID('DE01-F12'!G344,1,18)","v":""},{"$f":"IF(ISBLANK('DE01-F12'!P344),\"\",('DE01-F12'!P344))","v":""},{"$f":"IF(ISBLANK('DE01-F12'!Q344),\"\",('DE01-F12'!Q344))","v":""},{"$f":"IF(ISBLANK('DE01-F12'!S344),\"\",('DE01-F12'!S344))","v":0}]
[{"$f":"IF(ISBLANK('DE01-F12'!N345),\"\",('DE01-F12'!N345))","v":""},{"$f":"MID('DE01-F12'!G345,1,18)","v":""},{"$f":"IF(ISBLANK('DE01-F12'!P345),\"\",('DE01-F12'!P345))","v":""},{"$f":"IF(ISBLANK('DE01-F12'!Q345),\"\",('DE01-F12'!Q345))","v":""},{"$f":"IF(ISBLANK('DE01-F12'!S345),\"\",('DE01-F12'!S345))","v":0}]
[{"$f":"IF(ISBLANK('DE01-F12'!N346),\"\",('DE01-F12'!N346))","v":""},{"$f":"MID('DE01-F12'!G346,1,18)","v":""},{"$f":"IF(ISBLANK('DE01-F12'!P346),\"\",('DE01-F12'!P346))","v":""},{"$f":"IF(ISBLANK('DE01-F12'!Q346),\"\",('DE01-F12'!Q346))","v":""},{"$f":"IF(ISBLANK('DE01-F12'!S346),\"\",('DE01-F12'!S346))","v":0}]
[{"$f":"IF(ISBLANK('DE01-F12'!N347),\"\",('DE01-F12'!N347))","v":""},{"$f":"MID('DE01-F12'!G347,1,18)","v":""},{"$f":"IF(ISBLANK('DE01-F12'!P347),\"\",('DE01-F12'!P347))","v":""},{"$f":"IF(ISBLANK('DE01-F12'!Q347),\"\",('DE01-F12'!Q347))","v":""},{"$f":"IF(ISBLANK('DE01-F12'!S347),\"\",('DE01-F12'!S347))","v":0}]
[{"$f":"IF(ISBLANK('DE01-F12'!N348),\"\",('DE01-F12'!N348))","v":""},{"$f":"MID('DE01-F12'!G348,1,18)","v":""},{"$f":"IF(ISBLANK('DE01-F12'!P348),\"\",('DE01-F12'!P348))","v":""},{"$f":"IF(ISBLANK('DE01-F12'!Q348),\"\",('DE01-F12'!Q348))","v":""},{"$f":"IF(ISBLANK('DE01-F12'!S348),\"\",('DE01-F12'!S348))","v":0}]
[{"$f":"IF(ISBLANK('DE01-F12'!N349),\"\",('DE01-F12'!N349))","v":""},{"$f":"MID('DE01-F12'!G349,1,18)","v":""},{"$f":"IF(ISBLANK('DE01-F12'!P349),\"\",('DE01-F12'!P349))","v":""},{"$f":"IF(ISBLANK('DE01-F12'!Q349),\"\",('DE01-F12'!Q349))","v":""},{"$f":"IF(ISBLANK('DE01-F12'!S349),\"\",('DE01-F12'!S349))","v":0}]
[{"$f":"IF(ISBLANK('DE01-F12'!N350),\"\",('DE01-F12'!N350))","v":""},{"$f":"MID('DE01-F12'!G350,1,18)","v":""},{"$f":"IF(ISBLANK('DE01-F12'!P350),\"\",('DE01-F12'!P350))","v":""},{"$f":"IF(ISBLANK('DE01-F12'!Q350),\"\",('DE01-F12'!Q350))","v":""},{"$f":"IF(ISBLANK('DE01-F12'!S350),\"\",('DE01-F12'!S350))","v":0}]
[{"$f":"IF(ISBLANK('DE01-F12'!N351),\"\",('DE01-F12'!N351))","v":""},{"$f":"MID('DE01-F12'!G351,1,18)","v":""},{"$f":"IF(ISBLANK('DE01-F12'!P351),\"\",('DE01-F12'!P351))","v":""},{"$f":"IF(ISBLANK('DE01-F12'!Q351),\"\",('DE01-F12'!Q351))","v":""},{"$f":"IF(ISBLANK('DE01-F12'!S351),\"\",('DE01-F12'!S351))","v":0}]
[{"$f":"IF(ISBLANK('DE01-F12'!N352),\"\",('DE01-F12'!N352))","v":""},{"$f":"MID('DE01-F12'!G352,1,18)","v":""},{"$f":"IF(ISBLANK('DE01-F12'!P352),\"\",('DE01-F12'!P352))","v":""},{"$f":"IF(ISBLANK('DE01-F12'!Q352),\"\",('DE01-F12'!Q352))","v":""},{"$f":"IF(ISBLANK('DE01-F12'!S352),\"\",('DE01-F12'!S352))","v":0}]
[{"$f":"IF(ISBLANK('DE01-F12'!N353),\"\",('DE01-F12'!N353))","v":""},{"$f":"MID('DE01-F12'!G353,1,18)","v":""},{"$f":"IF(ISBLANK('DE01-F12'!P353),\"\",('DE01-F12'!P353))","v":""},{"$f":"IF(ISBLANK('DE01-F12'!Q353),\"\",('DE01-F12'!Q353))","v":""},{"$f":"IF(ISBLANK('DE01-F12'!S353),\"\",('DE01-F12'!S353))","v":0}]
[{"$f":"IF(ISBLANK('DE01-F12'!N354),\"\",('DE01-F12'!N354))","v":""},{"$f":"MID('DE01-F12'!G354,1,18)","v":""},{"$f":"IF(ISBLANK('DE01-F12'!P354),\"\",('DE01-F12'!P354))","v":""},{"$f":"IF(ISBLANK('DE01-F12'!Q354),\"\",('DE01-F12'!Q354))","v":""},{"$f":"IF(ISBLANK('DE01-F12'!S354),\"\",('DE01-F12'!S354))","v":0}]
[{"$f":"IF(ISBLANK('DE01-F12'!N355),\"\",('DE01-F12'!N355))","v":""},{"$f":"MID('DE01-F12'!G355,1,18)","v":""},{"$f":"IF(ISBLANK('DE01-F12'!P355),\"\",('DE01-F12'!P355))","v":""},{"$f":"IF(ISBLANK('DE01-F12'!Q355),\"\",('DE01-F12'!Q355))","v":""},{"$f":"IF(ISBLANK('DE01-F12'!S355),\"\",('DE01-F12'!S355))","v":0}]
[{"$f":"IF(ISBLANK('DE01-F12'!N356),\"\",('DE01-F12'!N356))","v":""},{"$f":"MID('DE01-F12'!G356,1,18)","v":""},{"$f":"IF(ISBLANK('DE01-F12'!P356),\"\",('DE01-F12'!P356))","v":""},{"$f":"IF(ISBLANK('DE01-F12'!Q356),\"\",('DE01-F12'!Q356))","v":""},{"$f":"IF(ISBLANK('DE01-F12'!S356),\"\",('DE01-F12'!S356))","v":0}]
[{"$f":"IF(ISBLANK('DE01-F12'!N357),\"\",('DE01-F12'!N357))","v":""},{"$f":"MID('DE01-F12'!G357,1,18)","v":""},{"$f":"IF(ISBLANK('DE01-F12'!P357),\"\",('DE01-F12'!P357))","v":""},{"$f":"IF(ISBLANK('DE01-F12'!Q357),\"\",('DE01-F12'!Q357))","v":""},{"$f":"IF(ISBLANK('DE01-F12'!S357),\"\",('DE01-F12'!S357))","v":0}]
[{"$f":"IF(ISBLANK('DE01-F12'!N358),\"\",('DE01-F12'!N358))","v":""},{"$f":"MID('DE01-F12'!G358,1,18)","v":""},{"$f":"IF(ISBLANK('DE01-F12'!P358),\"\",('DE01-F12'!P358))","v":""},{"$f":"IF(ISBLANK('DE01-F12'!Q358),\"\",('DE01-F12'!Q358))","v":""},{"$f":"IF(ISBLANK('DE01-F12'!S358),\"\",('DE01-F12'!S358))","v":0}]
[{"$f":"IF(ISBLANK('DE01-F12'!N359),\"\",('DE01-F12'!N359))","v":""},{"$f":"MID('DE01-F12'!G359,1,18)","v":""},{"$f":"IF(ISBLANK('DE01-F12'!P359),\"\",('DE01-F12'!P359))","v":""},{"$f":"IF(ISBLANK('DE01-F12'!Q359),\"\",('DE01-F12'!Q359))","v":""},{"$f":"IF(ISBLANK('DE01-F12'!S359),\"\",('DE01-F12'!S359))","v":0}]
[{"$f":"IF(ISBLANK('DE01-F12'!N360),\"\",('DE01-F12'!N360))","v":""},{"$f":"MID('DE01-F12'!G360,1,18)","v":""},{"$f":"IF(ISBLANK('DE01-F12'!P360),\"\",('DE01-F12'!P360))","v":""},{"$f":"IF(ISBLANK('DE01-F12'!Q360),\"\",('DE01-F12'!Q360))","v":""},{"$f":"IF(ISBLANK('DE01-F12'!S360),\"\",('DE01-F12'!S360))","v":0}]
[{"$f":"IF(ISBLANK('DE01-F12'!N361),\"\",('DE01-F12'!N361))","v":""},{"$f":"MID('DE01-F12'!G361,1,18)","v":""},{"$f":"IF(ISBLANK('DE01-F12'!P361),\"\",('DE01-F12'!P361))","v":""},{"$f":"IF(ISBLANK('DE01-F12'!Q361),\"\",('DE01-F12'!Q361))","v":""},{"$f":"IF(ISBLANK('DE01-F12'!S361),\"\",('DE01-F12'!S361))","v":0}]
[{"$f":"IF(ISBLANK('DE01-F12'!N362),\"\",('DE01-F12'!N362))","v":""},{"$f":"MID('DE01-F12'!G362,1,18)","v":""},{"$f":"IF(ISBLANK('DE01-F12'!P362),\"\",('DE01-F12'!P362))","v":""},{"$f":"IF(ISBLANK('DE01-F12'!Q362),\"\",('DE01-F12'!Q362))","v":""},{"$f":"IF(ISBLANK('DE01-F12'!S362),\"\",('DE01-F12'!S362))","v":0}]
[{"$f":"IF(ISBLANK('DE01-F12'!N363),\"\",('DE01-F12'!N363))","v":""},{"$f":"MID('DE01-F12'!G363,1,18)","v":""},{"$f":"IF(ISBLANK('DE01-F12'!P363),\"\",('DE01-F12'!P363))","v":""},{"$f":"IF(ISBLANK('DE01-F12'!Q363),\"\",('DE01-F12'!Q363))","v":""},{"$f":"IF(ISBLANK('DE01-F12'!S363),\"\",('DE01-F12'!S363))","v":0}]
[{"$f":"IF(ISBLANK('DE01-F12'!N364),\"\",('DE01-F12'!N364))","v":""},{"$f":"MID('DE01-F12'!G364,1,18)","v":""},{"$f":"IF(ISBLANK('DE01-F12'!P364),\"\",('DE01-F12'!P364))","v":""},{"$f":"IF(ISBLANK('DE01-F12'!Q364),\"\",('DE01-F12'!Q364))","v":""},{"$f":"IF(ISBLANK('DE01-F12'!S364),\"\",('DE01-F12'!S364))","v":0}]
[{"$f":"IF(ISBLANK('DE01-F12'!N365),\"\",('DE01-F12'!N365))","v":""},{"$f":"MID('DE01-F12'!G365,1,18)","v":""},{"$f":"IF(ISBLANK('DE01-F12'!P365),\"\",('DE01-F12'!P365))","v":""},{"$f":"IF(ISBLANK('DE01-F12'!Q365),\"\",('DE01-F12'!Q365))","v":""},{"$f":"IF(ISBLANK('DE01-F12'!S365),\"\",('DE01-F12'!S365))","v":0}]
[{"$f":"IF(ISBLANK('DE01-F12'!N366),\"\",('DE01-F12'!N366))","v":""},{"$f":"MID('DE01-F12'!G366,1,18)","v":""},{"$f":"IF(ISBLANK('DE01-F12'!P366),\"\",('DE01-F12'!P366))","v":""},{"$f":"IF(ISBLANK('DE01-F12'!Q366),\"\",('DE01-F12'!Q366))","v":""},{"$f":"IF(ISBLANK('DE01-F12'!S366),\"\",('DE01-F12'!S366))","v":0}]
[{"$f":"IF(ISBLANK('DE01-F12'!N367),\"\",('DE01-F12'!N367))","v":""},{"$f":"MID('DE01-F12'!G367,1,18)","v":""},{"$f":"IF(ISBLANK('DE01-F12'!P367),\"\",('DE01-F12'!P367))","v":""},{"$f":"IF(ISBLANK('DE01-F12'!Q367),\"\",('DE01-F12'!Q367))","v":""},{"$f":"IF(ISBLANK('DE01-F12'!S367),\"\",('DE01-F12'!S367))","v":0}]
[{"$f":"IF(ISBLANK('DE01-F12'!N368),\"\",('DE01-F12'!N368))","v":""},{"$f":"MID('DE01-F12'!G368,1,18)","v":""},{"$f":"IF(ISBLANK('DE01-F12'!P368),\"\",('DE01-F12'!P368))","v":""},{"$f":"IF(ISBLANK('DE01-F12'!Q368),\"\",('DE01-F12'!Q368))","v":""},{"$f":"IF(ISBLANK('DE01-F12'!S368),\"\",('DE01-F12'!S368))","v":0}]
[{"$f":"IF(ISBLANK('DE01-F12'!N369),\"\",('DE01-F12'!N369))","v":""},{"$f":"MID('DE01-F12'!G369,1,18)","v":""},{"$f":"IF(ISBLANK('DE01-F12'!P369),\"\",('DE01-F12'!P369))","v":""},{"$f":"IF(ISBLANK('DE01-F12'!Q369),\"\",('DE01-F12'!Q369))","v":""},{"$f":"IF(ISBLANK('DE01-F12'!S369),\"\",('DE01-F12'!S369))","v":0}]
[{"$f":"IF(ISBLANK('DE01-F12'!N370),\"\",('DE01-F12'!N370))","v":""},{"$f":"MID('DE01-F12'!G370,1,18)","v":""},{"$f":"IF(ISBLANK('DE01-F12'!P370),\"\",('DE01-F12'!P370))","v":""},{"$f":"IF(ISBLANK('DE01-F12'!Q370),\"\",('DE01-F12'!Q370))","v":""},{"$f":"IF(ISBLANK('DE01-F12'!S370),\"\",('DE01-F12'!S370))","v":0}]
[{"$f":"IF(ISBLANK('DE01-F12'!N371),\"\",('DE01-F12'!N371))","v":""},{"$f":"MID('DE01-F12'!G371,1,18)","v":""},{"$f":"IF(ISBLANK('DE01-F12'!P371),\"\",('DE01-F12'!P371))","v":""},{"$f":"IF(ISBLANK('DE01-F12'!Q371),\"\",('DE01-F12'!Q371))","v":""},{"$f":"IF(ISBLANK('DE01-F12'!S371),\"\",('DE01-F12'!S371))","v":0}]
[{"$f":"IF(ISBLANK('DE01-F12'!N372),\"\",('DE01-F12'!N372))","v":""},{"$f":"MID('DE01-F12'!G372,1,18)","v":""},{"$f":"IF(ISBLANK('DE01-F12'!P372),\"\",('DE01-F12'!P372))","v":""},{"$f":"IF(ISBLANK('DE01-F12'!Q372),\"\",('DE01-F12'!Q372))","v":""},{"$f":"IF(ISBLANK('DE01-F12'!S372),\"\",('DE01-F12'!S372))","v":0}]
[{"$f":"IF(ISBLANK('DE01-F12'!N373),\"\",('DE01-F12'!N373))","v":""},{"$f":"MID('DE01-F12'!G373,1,18)","v":""},{"$f":"IF(ISBLANK('DE01-F12'!P373),\"\",('DE01-F12'!P373))","v":""},{"$f":"IF(ISBLANK('DE01-F12'!Q373),\"\",('DE01-F12'!Q373))","v":""},{"$f":"IF(ISBLANK('DE01-F12'!S373),\"\",('DE01-F12'!S373))","v":0}]
[{"$f":"IF(ISBLANK('DE01-F12'!N374),\"\",('DE01-F12'!N374))","v":""},{"$f":"MID('DE01-F12'!G374,1,18)","v":""},{"$f":"IF(ISBLANK('DE01-F12'!P374),\"\",('DE01-F12'!P374))","v":""},{"$f":"IF(ISBLANK('DE01-F12'!Q374),\"\",('DE01-F12'!Q374))","v":""},{"$f":"IF(ISBLANK('DE01-F12'!S374),\"\",('DE01-F12'!S374))","v":0}]
[{"$f":"IF(ISBLANK('DE01-F12'!N375),\"\",('DE01-F12'!N375))","v":""},{"$f":"MID('DE01-F12'!G375,1,18)","v":""},{"$f":"IF(ISBLANK('DE01-F12'!P375),\"\",('DE01-F12'!P375))","v":""},{"$f":"IF(ISBLANK('DE01-F12'!Q375),\"\",('DE01-F12'!Q375))","v":""},{"$f":"IF(ISBLANK('DE01-F12'!S375),\"\",('DE01-F12'!S375))","v":0}]
[{"$f":"IF(ISBLANK('DE01-F12'!N376),\"\",('DE01-F12'!N376))","v":""},{"$f":"MID('DE01-F12'!G376,1,18)","v":""},{"$f":"IF(ISBLANK('DE01-F12'!P376),\"\",('DE01-F12'!P376))","v":""},{"$f":"IF(ISBLANK('DE01-F12'!Q376),\"\",('DE01-F12'!Q376))","v":""},{"$f":"IF(ISBLANK('DE01-F12'!S376),\"\",('DE01-F12'!S376))","v":0}]
[{"$f":"IF(ISBLANK('DE01-F12'!N377),\"\",('DE01-F12'!N377))","v":""},{"$f":"MID('DE01-F12'!G377,1,18)","v":""},{"$f":"IF(ISBLANK('DE01-F12'!P377),\"\",('DE01-F12'!P377))","v":""},{"$f":"IF(ISBLANK('DE01-F12'!Q377),\"\",('DE01-F12'!Q377))","v":""},{"$f":"IF(ISBLANK('DE01-F12'!S377),\"\",('DE01-F12'!S377))","v":0}]
[{"$f":"IF(ISBLANK('DE01-F12'!N378),\"\",('DE01-F12'!N378))","v":""},{"$f":"MID('DE01-F12'!G378,1,18)","v":""},{"$f":"IF(ISBLANK('DE01-F12'!P378),\"\",('DE01-F12'!P378))","v":""},{"$f":"IF(ISBLANK('DE01-F12'!Q378),\"\",('DE01-F12'!Q378))","v":""},{"$f":"IF(ISBLANK('DE01-F12'!S378),\"\",('DE01-F12'!S378))","v":0}]
[{"$f":"IF(ISBLANK('DE01-F12'!N379),\"\",('DE01-F12'!N379))","v":""},{"$f":"MID('DE01-F12'!G379,1,18)","v":""},{"$f":"IF(ISBLANK('DE01-F12'!P379),\"\",('DE01-F12'!P379))","v":""},{"$f":"IF(ISBLANK('DE01-F12'!Q379),\"\",('DE01-F12'!Q379))","v":""},{"$f":"IF(ISBLANK('DE01-F12'!S379),\"\",('DE01-F12'!S379))","v":0}]
[{"$f":"IF(ISBLANK('DE01-F12'!N380),\"\",('DE01-F12'!N380))","v":""},{"$f":"MID('DE01-F12'!G380,1,18)","v":""},{"$f":"IF(ISBLANK('DE01-F12'!P380),\"\",('DE01-F12'!P380))","v":""},{"$f":"IF(ISBLANK('DE01-F12'!Q380),\"\",('DE01-F12'!Q380))","v":""},{"$f":"IF(ISBLANK('DE01-F12'!S380),\"\",('DE01-F12'!S380))","v":0}]
[{"$f":"IF(ISBLANK('DE01-F12'!N381),\"\",('DE01-F12'!N381))","v":""},{"$f":"MID('DE01-F12'!G381,1,18)","v":""},{"$f":"IF(ISBLANK('DE01-F12'!P381),\"\",('DE01-F12'!P381))","v":""},{"$f":"IF(ISBLANK('DE01-F12'!Q381),\"\",('DE01-F12'!Q381))","v":""},{"$f":"IF(ISBLANK('DE01-F12'!S381),\"\",('DE01-F12'!S381))","v":0}]
[{"$f":"IF(ISBLANK('DE01-F12'!N382),\"\",('DE01-F12'!N382))","v":""},{"$f":"MID('DE01-F12'!G382,1,18)","v":""},{"$f":"IF(ISBLANK('DE01-F12'!P382),\"\",('DE01-F12'!P382))","v":""},{"$f":"IF(ISBLANK('DE01-F12'!Q382),\"\",('DE01-F12'!Q382))","v":""},{"$f":"IF(ISBLANK('DE01-F12'!S382),\"\",('DE01-F12'!S382))","v":0}]
[{"$f":"IF(ISBLANK('DE01-F12'!N383),\"\",('DE01-F12'!N383))","v":""},{"$f":"MID('DE01-F12'!G383,1,18)","v":""},{"$f":"IF(ISBLANK('DE01-F12'!P383),\"\",('DE01-F12'!P383))","v":""},{"$f":"IF(ISBLANK('DE01-F12'!Q383),\"\",('DE01-F12'!Q383))","v":""},{"$f":"IF(ISBLANK('DE01-F12'!S383),\"\",('DE01-F12'!S383))","v":0}]
[{"$f":"IF(ISBLANK('DE01-F12'!N384),\"\",('DE01-F12'!N384))","v":""},{"$f":"MID('DE01-F12'!G384,1,18)","v":""},{"$f":"IF(ISBLANK('DE01-F12'!P384),\"\",('DE01-F12'!P384))","v":""},{"$f":"IF(ISBLANK('DE01-F12'!Q384),\"\",('DE01-F12'!Q384))","v":""},{"$f":"IF(ISBLANK('DE01-F12'!S384),\"\",('DE01-F12'!S384))","v":0}]
[{"$f":"IF(ISBLANK('DE01-F12'!N385),\"\",('DE01-F12'!N385))","v":""},{"$f":"MID('DE01-F12'!G385,1,18)","v":""},{"$f":"IF(ISBLANK('DE01-F12'!P385),\"\",('DE01-F12'!P385))","v":""},{"$f":"IF(ISBLANK('DE01-F12'!Q385),\"\",('DE01-F12'!Q385))","v":""},{"$f":"IF(ISBLANK('DE01-F12'!S385),\"\",('DE01-F12'!S385))","v":0}]
[{"$f":"IF(ISBLANK('DE01-F12'!N386),\"\",('DE01-F12'!N386))","v":""},{"$f":"MID('DE01-F12'!G386,1,18)","v":""},{"$f":"IF(ISBLANK('DE01-F12'!P386),\"\",('DE01-F12'!P386))","v":""},{"$f":"IF(ISBLANK('DE01-F12'!Q386),\"\",('DE01-F12'!Q386))","v":""},{"$f":"IF(ISBLANK('DE01-F12'!S386),\"\",('DE01-F12'!S386))","v":0}]
[{"$f":"IF(ISBLANK('DE01-F12'!N387),\"\",('DE01-F12'!N387))","v":""},{"$f":"MID('DE01-F12'!G387,1,18)","v":""},{"$f":"IF(ISBLANK('DE01-F12'!P387),\"\",('DE01-F12'!P387))","v":""},{"$f":"IF(ISBLANK('DE01-F12'!Q387),\"\",('DE01-F12'!Q387))","v":""},{"$f":"IF(ISBLANK('DE01-F12'!S387),\"\",('DE01-F12'!S387))","v":0}]
[{"$f":"IF(ISBLANK('DE01-F12'!N388),\"\",('DE01-F12'!N388))","v":""},{"$f":"MID('DE01-F12'!G388,1,18)","v":""},{"$f":"IF(ISBLANK('DE01-F12'!P388),\"\",('DE01-F12'!P388))","v":""},{"$f":"IF(ISBLANK('DE01-F12'!Q388),\"\",('DE01-F12'!Q388))","v":""},{"$f":"IF(ISBLANK('DE01-F12'!S388),\"\",('DE01-F12'!S388))","v":0}]
[{"$f":"IF(ISBLANK('DE01-F12'!N389),\"\",('DE01-F12'!N389))","v":""},{"$f":"MID('DE01-F12'!G389,1,18)","v":""},{"$f":"IF(ISBLANK('DE01-F12'!P389),\"\",('DE01-F12'!P389))","v":""},{"$f":"IF(ISBLANK('DE01-F12'!Q389),\"\",('DE01-F12'!Q389))","v":""},{"$f":"IF(ISBLANK('DE01-F12'!S389),\"\",('DE01-F12'!S389))","v":0}]
[{"$f":"IF(ISBLANK('DE01-F12'!N390),\"\",('DE01-F12'!N390))","v":""},{"$f":"MID('DE01-F12'!G390,1,18)","v":""},{"$f":"IF(ISBLANK('DE01-F12'!P390),\"\",('DE01-F12'!P390))","v":""},{"$f":"IF(ISBLANK('DE01-F12'!Q390),\"\",('DE01-F12'!Q390))","v":""},{"$f":"IF(ISBLANK('DE01-F12'!S390),\"\",('DE01-F12'!S390))","v":0}]
[{"$f":"IF(ISBLANK('DE01-F12'!N391),\"\",('DE01-F12'!N391))","v":""},{"$f":"MID('DE01-F12'!G391,1,18)","v":""},{"$f":"IF(ISBLANK('DE01-F12'!P391),\"\",('DE01-F12'!P391))","v":""},{"$f":"IF(ISBLANK('DE01-F12'!Q391),\"\",('DE01-F12'!Q391))","v":""},{"$f":"IF(ISBLANK('DE01-F12'!S391),\"\",('DE01-F12'!S391))","v":0}]
[{"$f":"IF(ISBLANK('DE01-F12'!N392),\"\",('DE01-F12'!N392))","v":""},{"$f":"MID('DE01-F12'!G392,1,18)","v":""},{"$f":"IF(ISBLANK('DE01-F12'!P392),\"\",('DE01-F12'!P392))","v":""},{"$f":"IF(ISBLANK('DE01-F12'!Q392),\"\",('DE01-F12'!Q392))","v":""},{"$f":"IF(ISBLANK('DE01-F12'!S392),\"\",('DE01-F12'!S392))","v":0}]
[{"$f":"IF(ISBLANK('DE01-F12'!N393),\"\",('DE01-F12'!N393))","v":""},{"$f":"MID('DE01-F12'!G393,1,18)","v":""},{"$f":"IF(ISBLANK('DE01-F12'!P393),\"\",('DE01-F12'!P393))","v":""},{"$f":"IF(ISBLANK('DE01-F12'!Q393),\"\",('DE01-F12'!Q393))","v":""},{"$f":"IF(ISBLANK('DE01-F12'!S393),\"\",('DE01-F12'!S393))","v":0}]
[{"$f":"IF(ISBLANK('DE01-F12'!N394),\"\",('DE01-F12'!N394))","v":""},{"$f":"MID('DE01-F12'!G394,1,18)","v":""},{"$f":"IF(ISBLANK('DE01-F12'!P394),\"\",('DE01-F12'!P394))","v":""},{"$f":"IF(ISBLANK('DE01-F12'!Q394),\"\",('DE01-F12'!Q394))","v":""},{"$f":"IF(ISBLANK('DE01-F12'!S394),\"\",('DE01-F12'!S394))","v":0}]
[{"$f":"IF(ISBLANK('DE01-F12'!N395),\"\",('DE01-F12'!N395))","v":""},{"$f":"MID('DE01-F12'!G395,1,18)","v":""},{"$f":"IF(ISBLANK('DE01-F12'!P395),\"\",('DE01-F12'!P395))","v":""},{"$f":"IF(ISBLANK('DE01-F12'!Q395),\"\",('DE01-F12'!Q395))","v":""},{"$f":"IF(ISBLANK('DE01-F12'!S395),\"\",('DE01-F12'!S395))","v":0}]
[{"$f":"IF(ISBLANK('DE01-F12'!N396),\"\",('DE01-F12'!N396))","v":""},{"$f":"MID('DE01-F12'!G396,1,18)","v":""},{"$f":"IF(ISBLANK('DE01-F12'!P396),\"\",('DE01-F12'!P396))","v":""},{"$f":"IF(ISBLANK('DE01-F12'!Q396),\"\",('DE01-F12'!Q396))","v":""},{"$f":"IF(ISBLANK('DE01-F12'!S396),\"\",('DE01-F12'!S396))","v":0}]
[{"$f":"IF(ISBLANK('DE01-F12'!N397),\"\",('DE01-F12'!N397))","v":""},{"$f":"MID('DE01-F12'!G397,1,18)","v":""},{"$f":"IF(ISBLANK('DE01-F12'!P397),\"\",('DE01-F12'!P397))","v":""},{"$f":"IF(ISBLANK('DE01-F12'!Q397),\"\",('DE01-F12'!Q397))","v":""},{"$f":"IF(ISBLANK('DE01-F12'!S397),\"\",('DE01-F12'!S397))","v":0}]
[{"$f":"IF(ISBLANK('DE01-F12'!N398),\"\",('DE01-F12'!N398))","v":""},{"$f":"MID('DE01-F12'!G398,1,18)","v":""},{"$f":"IF(ISBLANK('DE01-F12'!P398),\"\",('DE01-F12'!P398))","v":""},{"$f":"IF(ISBLANK('DE01-F12'!Q398),\"\",('DE01-F12'!Q398))","v":""},{"$f":"IF(ISBLANK('DE01-F12'!S398),\"\",('DE01-F12'!S398))","v":0}]
[{"$f":"IF(ISBLANK('DE01-F12'!N399),\"\",('DE01-F12'!N399))","v":""},{"$f":"MID('DE01-F12'!G399,1,18)","v":""},{"$f":"IF(ISBLANK('DE01-F12'!P399),\"\",('DE01-F12'!P399))","v":""},{"$f":"IF(ISBLANK('DE01-F12'!Q399),\"\",('DE01-F12'!Q399))","v":""},{"$f":"IF(ISBLANK('DE01-F12'!S399),\"\",('DE01-F12'!S399))","v":0}]
[{"$f":"IF(ISBLANK('DE01-F12'!N400),\"\",('DE01-F12'!N400))","v":""},{"$f":"MID('DE01-F12'!G400,1,18)","v":""},{"$f":"IF(ISBLANK('DE01-F12'!P400),\"\",('DE01-F12'!P400))","v":""},{"$f":"IF(ISBLANK('DE01-F12'!Q400),\"\",('DE01-F12'!Q400))","v":""},{"$f":"IF(ISBLANK('DE01-F12'!S400),\"\",('DE01-F12'!S400))","v":0}]
[{"$f":"IF(ISBLANK('DE01-F12'!N401),\"\",('DE01-F12'!N401))","v":""},{"$f":"MID('DE01-F12'!G401,1,18)","v":""},{"$f":"IF(ISBLANK('DE01-F12'!P401),\"\",('DE01-F12'!P401))","v":""},{"$f":"IF(ISBLANK('DE01-F12'!Q401),\"\",('DE01-F12'!Q401))","v":""},{"$f":"IF(ISBLANK('DE01-F12'!S401),\"\",('DE01-F12'!S401))","v":0}]
[{"$f":"IF(ISBLANK('DE01-F12'!N402),\"\",('DE01-F12'!N402))","v":""},{"$f":"MID('DE01-F12'!G402,1,18)","v":""},{"$f":"IF(ISBLANK('DE01-F12'!P402),\"\",('DE01-F12'!P402))","v":""},{"$f":"IF(ISBLANK('DE01-F12'!Q402),\"\",('DE01-F12'!Q402))","v":""},{"$f":"IF(ISBLANK('DE01-F12'!S402),\"\",('DE01-F12'!S402))","v":0}]
[{"$f":"IF(ISBLANK('DE01-F12'!N403),\"\",('DE01-F12'!N403))","v":""},{"$f":"MID('DE01-F12'!G403,1,18)","v":""},{"$f":"IF(ISBLANK('DE01-F12'!P403),\"\",('DE01-F12'!P403))","v":""},{"$f":"IF(ISBLANK('DE01-F12'!Q403),\"\",('DE01-F12'!Q403))","v":""},{"$f":"IF(ISBLANK('DE01-F12'!S403),\"\",('DE01-F12'!S403))","v":0}]
[{"$f":"IF(ISBLANK('DE01-F12'!N404),\"\",('DE01-F12'!N404))","v":""},{"$f":"MID('DE01-F12'!G404,1,18)","v":""},{"$f":"IF(ISBLANK('DE01-F12'!P404),\"\",('DE01-F12'!P404))","v":""},{"$f":"IF(ISBLANK('DE01-F12'!Q404),\"\",('DE01-F12'!Q404))","v":""},{"$f":"IF(ISBLANK('DE01-F12'!S404),\"\",('DE01-F12'!S404))","v":0}]
[{"$f":"IF(ISBLANK('DE01-F12'!N405),\"\",('DE01-F12'!N405))","v":""},{"$f":"MID('DE01-F12'!G405,1,18)","v":""},{"$f":"IF(ISBLANK('DE01-F12'!P405),\"\",('DE01-F12'!P405))","v":""},{"$f":"IF(ISBLANK('DE01-F12'!Q405),\"\",('DE01-F12'!Q405))","v":""},{"$f":"IF(ISBLANK('DE01-F12'!S405),\"\",('DE01-F12'!S405))","v":0}]
[{"$f":"IF(ISBLANK('DE01-F12'!N406),\"\",('DE01-F12'!N406))","v":""},{"$f":"MID('DE01-F12'!G406,1,18)","v":""},{"$f":"IF(ISBLANK('DE01-F12'!P406),\"\",('DE01-F12'!P406))","v":""},{"$f":"IF(ISBLANK('DE01-F12'!Q406),\"\",('DE01-F12'!Q406))","v":""},{"$f":"IF(ISBLANK('DE01-F12'!S406),\"\",('DE01-F12'!S406))","v":0}]
[{"$f":"IF(ISBLANK('DE01-F12'!N407),\"\",('DE01-F12'!N407))","v":""},{"$f":"MID('DE01-F12'!G407,1,18)","v":""},{"$f":"IF(ISBLANK('DE01-F12'!P407),\"\",('DE01-F12'!P407))","v":""},{"$f":"IF(ISBLANK('DE01-F12'!Q407),\"\",('DE01-F12'!Q407))","v":""},{"$f":"IF(ISBLANK('DE01-F12'!S407),\"\",('DE01-F12'!S407))","v":0}]
[{"$f":"IF(ISBLANK('DE01-F12'!N408),\"\",('DE01-F12'!N408))","v":""},{"$f":"MID('DE01-F12'!G408,1,18)","v":""},{"$f":"IF(ISBLANK('DE01-F12'!P408),\"\",('DE01-F12'!P408))","v":""},{"$f":"IF(ISBLANK('DE01-F12'!Q408),\"\",('DE01-F12'!Q408))","v":""},{"$f":"IF(ISBLANK('DE01-F12'!S408),\"\",('DE01-F12'!S408))","v":0}]
[{"$f":"IF(ISBLANK('DE01-F12'!N409),\"\",('DE01-F12'!N409))","v":""},{"$f":"MID('DE01-F12'!G409,1,18)","v":""},{"$f":"IF(ISBLANK('DE01-F12'!P409),\"\",('DE01-F12'!P409))","v":""},{"$f":"IF(ISBLANK('DE01-F12'!Q409),\"\",('DE01-F12'!Q409))","v":""},{"$f":"IF(ISBLANK('DE01-F12'!S409),\"\",('DE01-F12'!S409))","v":0}]
[{"$f":"IF(ISBLANK('DE01-F12'!N410),\"\",('DE01-F12'!N410))","v":""},{"$f":"MID('DE01-F12'!G410,1,18)","v":""},{"$f":"IF(ISBLANK('DE01-F12'!P410),\"\",('DE01-F12'!P410))","v":""},{"$f":"IF(ISBLANK('DE01-F12'!Q410),\"\",('DE01-F12'!Q410))","v":""},{"$f":"IF(ISBLANK('DE01-F12'!S410),\"\",('DE01-F12'!S410))","v":0}]
[{"$f":"IF(ISBLANK('DE01-F12'!N411),\"\",('DE01-F12'!N411))","v":""},{"$f":"MID('DE01-F12'!G411,1,18)","v":""},{"$f":"IF(ISBLANK('DE01-F12'!P411),\"\",('DE01-F12'!P411))","v":""},{"$f":"IF(ISBLANK('DE01-F12'!Q411),\"\",('DE01-F12'!Q411))","v":""},{"$f":"IF(ISBLANK('DE01-F12'!S411),\"\",('DE01-F12'!S411))","v":0}]
[{"$f":"IF(ISBLANK('DE01-F12'!N412),\"\",('DE01-F12'!N412))","v":""},{"$f":"MID('DE01-F12'!G412,1,18)","v":""},{"$f":"IF(ISBLANK('DE01-F12'!P412),\"\",('DE01-F12'!P412))","v":""},{"$f":"IF(ISBLANK('DE01-F12'!Q412),\"\",('DE01-F12'!Q412))","v":""},{"$f":"IF(ISBLANK('DE01-F12'!S412),\"\",('DE01-F12'!S412))","v":0}]
[{"$f":"IF(ISBLANK('DE01-F12'!N413),\"\",('DE01-F12'!N413))","v":""},{"$f":"MID('DE01-F12'!G413,1,18)","v":""},{"$f":"IF(ISBLANK('DE01-F12'!P413),\"\",('DE01-F12'!P413))","v":""},{"$f":"IF(ISBLANK('DE01-F12'!Q413),\"\",('DE01-F12'!Q413))","v":""},{"$f":"IF(ISBLANK('DE01-F12'!S413),\"\",('DE01-F12'!S413))","v":0}]
[{"$f":"IF(ISBLANK('DE01-F12'!N414),\"\",('DE01-F12'!N414))","v":""},{"$f":"MID('DE01-F12'!G414,1,18)","v":""},{"$f":"IF(ISBLANK('DE01-F12'!P414),\"\",('DE01-F12'!P414))","v":""},{"$f":"IF(ISBLANK('DE01-F12'!Q414),\"\",('DE01-F12'!Q414))","v":""},{"$f":"IF(ISBLANK('DE01-F12'!S414),\"\",('DE01-F12'!S414))","v":0}]
[{"$f":"IF(ISBLANK('DE01-F12'!N415),\"\",('DE01-F12'!N415))","v":""},{"$f":"MID('DE01-F12'!G415,1,18)","v":""},{"$f":"IF(ISBLANK('DE01-F12'!P415),\"\",('DE01-F12'!P415))","v":""},{"$f":"IF(ISBLANK('DE01-F12'!Q415),\"\",('DE01-F12'!Q415))","v":""},{"$f":"IF(ISBLANK('DE01-F12'!S415),\"\",('DE01-F12'!S415))","v":0}]
[{"$f":"IF(ISBLANK('DE01-F12'!N416),\"\",('DE01-F12'!N416))","v":""},{"$f":"MID('DE01-F12'!G416,1,18)","v":""},{"$f":"IF(ISBLANK('DE01-F12'!P416),\"\",('DE01-F12'!P416))","v":""},{"$f":"IF(ISBLANK('DE01-F12'!Q416),\"\",('DE01-F12'!Q416))","v":""},{"$f":"IF(ISBLANK('DE01-F12'!S416),\"\",('DE01-F12'!S416))","v":0}]
[{"$f":"IF(ISBLANK('DE01-F12'!N417),\"\",('DE01-F12'!N417))","v":""},{"$f":"MID('DE01-F12'!G417,1,18)","v":""},{"$f":"IF(ISBLANK('DE01-F12'!P417),\"\",('DE01-F12'!P417))","v":""},{"$f":"IF(ISBLANK('DE01-F12'!Q417),\"\",('DE01-F12'!Q417))","v":""},{"$f":"IF(ISBLANK('DE01-F12'!S417),\"\",('DE01-F12'!S417))","v":0}]
[{"$f":"IF(ISBLANK('DE01-F12'!N418),\"\",('DE01-F12'!N418))","v":""},{"$f":"MID('DE01-F12'!G418,1,18)","v":""},{"$f":"IF(ISBLANK('DE01-F12'!P418),\"\",('DE01-F12'!P418))","v":""},{"$f":"IF(ISBLANK('DE01-F12'!Q418),\"\",('DE01-F12'!Q418))","v":""},{"$f":"IF(ISBLANK('DE01-F12'!S418),\"\",('DE01-F12'!S418))","v":0}]
[{"$f":"IF(ISBLANK('DE01-F12'!N419),\"\",('DE01-F12'!N419))","v":""},{"$f":"MID('DE01-F12'!G419,1,18)","v":""},{"$f":"IF(ISBLANK('DE01-F12'!P419),\"\",('DE01-F12'!P419))","v":""},{"$f":"IF(ISBLANK('DE01-F12'!Q419),\"\",('DE01-F12'!Q419))","v":""},{"$f":"IF(ISBLANK('DE01-F12'!S419),\"\",('DE01-F12'!S419))","v":0}]
[{"$f":"IF(ISBLANK('DE01-F12'!N420),\"\",('DE01-F12'!N420))","v":""},{"$f":"MID('DE01-F12'!G420,1,18)","v":""},{"$f":"IF(ISBLANK('DE01-F12'!P420),\"\",('DE01-F12'!P420))","v":""},{"$f":"IF(ISBLANK('DE01-F12'!Q420),\"\",('DE01-F12'!Q420))","v":""},{"$f":"IF(ISBLANK('DE01-F12'!S420),\"\",('DE01-F12'!S420))","v":0}]
[{"$f":"IF(ISBLANK('DE01-F12'!N421),\"\",('DE01-F12'!N421))","v":""},{"$f":"MID('DE01-F12'!G421,1,18)","v":""},{"$f":"IF(ISBLANK('DE01-F12'!P421),\"\",('DE01-F12'!P421))","v":""},{"$f":"IF(ISBLANK('DE01-F12'!Q421),\"\",('DE01-F12'!Q421))","v":""},{"$f":"IF(ISBLANK('DE01-F12'!S421),\"\",('DE01-F12'!S421))","v":0}]
[{"$f":"IF(ISBLANK('DE01-F12'!N422),\"\",('DE01-F12'!N422))","v":""},{"$f":"MID('DE01-F12'!G422,1,18)","v":""},{"$f":"IF(ISBLANK('DE01-F12'!P422),\"\",('DE01-F12'!P422))","v":""},{"$f":"IF(ISBLANK('DE01-F12'!Q422),\"\",('DE01-F12'!Q422))","v":""},{"$f":"IF(ISBLANK('DE01-F12'!S422),\"\",('DE01-F12'!S422))","v":0}]
[{"$f":"IF(ISBLANK('DE01-F12'!N423),\"\",('DE01-F12'!N423))","v":""},{"$f":"MID('DE01-F12'!G423,1,18)","v":""},{"$f":"IF(ISBLANK('DE01-F12'!P423),\"\",('DE01-F12'!P423))","v":""},{"$f":"IF(ISBLANK('DE01-F12'!Q423),\"\",('DE01-F12'!Q423))","v":""},{"$f":"IF(ISBLANK('DE01-F12'!S423),\"\",('DE01-F12'!S423))","v":0}]
[{"$f":"IF(ISBLANK('DE01-F12'!N424),\"\",('DE01-F12'!N424))","v":""},{"$f":"MID('DE01-F12'!G424,1,18)","v":""},{"$f":"IF(ISBLANK('DE01-F12'!P424),\"\",('DE01-F12'!P424))","v":""},{"$f":"IF(ISBLANK('DE01-F12'!Q424),\"\",('DE01-F12'!Q424))","v":""},{"$f":"IF(ISBLANK('DE01-F12'!S424),\"\",('DE01-F12'!S424))","v":0}]
[{"$f":"IF(ISBLANK('DE01-F12'!N425),\"\",('DE01-F12'!N425))","v":""},{"$f":"MID('DE01-F12'!G425,1,18)","v":""},{"$f":"IF(ISBLANK('DE01-F12'!P425),\"\",('DE01-F12'!P425))","v":""},{"$f":"IF(ISBLANK('DE01-F12'!Q425),\"\",('DE01-F12'!Q425))","v":""},{"$f":"IF(ISBLANK('DE01-F12'!S425),\"\",('DE01-F12'!S425))","v":0}]
[{"$f":"IF(ISBLANK('DE01-F12'!N426),\"\",('DE01-F12'!N426))","v":""},{"$f":"MID('DE01-F12'!G426,1,18)","v":""},{"$f":"IF(ISBLANK('DE01-F12'!P426),\"\",('DE01-F12'!P426))","v":""},{"$f":"IF(ISBLANK('DE01-F12'!Q426),\"\",('DE01-F12'!Q426))","v":""},{"$f":"IF(ISBLANK('DE01-F12'!S426),\"\",('DE01-F12'!S426))","v":0}]
[{"$f":"IF(ISBLANK('DE01-F12'!N427),\"\",('DE01-F12'!N427))","v":""},{"$f":"MID('DE01-F12'!G427,1,18)","v":""},{"$f":"IF(ISBLANK('DE01-F12'!P427),\"\",('DE01-F12'!P427))","v":""},{"$f":"IF(ISBLANK('DE01-F12'!Q427),\"\",('DE01-F12'!Q427))","v":""},{"$f":"IF(ISBLANK('DE01-F12'!S427),\"\",('DE01-F12'!S427))","v":0}]
[{"$f":"IF(ISBLANK('DE01-F12'!N428),\"\",('DE01-F12'!N428))","v":""},{"$f":"MID('DE01-F12'!G428,1,18)","v":""},{"$f":"IF(ISBLANK('DE01-F12'!P428),\"\",('DE01-F12'!P428))","v":""},{"$f":"IF(ISBLANK('DE01-F12'!Q428),\"\",('DE01-F12'!Q428))","v":""},{"$f":"IF(ISBLANK('DE01-F12'!S428),\"\",('DE01-F12'!S428))","v":0}]
[{"$f":"IF(ISBLANK('DE01-F12'!N429),\"\",('DE01-F12'!N429))","v":""},{"$f":"MID('DE01-F12'!G429,1,18)","v":""},{"$f":"IF(ISBLANK('DE01-F12'!P429),\"\",('DE01-F12'!P429))","v":""},{"$f":"IF(ISBLANK('DE01-F12'!Q429),\"\",('DE01-F12'!Q429))","v":""},{"$f":"IF(ISBLANK('DE01-F12'!S429),\"\",('DE01-F12'!S429))","v":0}]
[{"$f":"IF(ISBLANK('DE01-F12'!N430),\"\",('DE01-F12'!N430))","v":""},{"$f":"MID('DE01-F12'!G430,1,18)","v":""},{"$f":"IF(ISBLANK('DE01-F12'!P430),\"\",('DE01-F12'!P430))","v":""},{"$f":"IF(ISBLANK('DE01-F12'!Q430),\"\",('DE01-F12'!Q430))","v":""},{"$f":"IF(ISBLANK('DE01-F12'!S430),\"\",('DE01-F12'!S430))","v":0}]
[{"$f":"IF(ISBLANK('DE01-F12'!N431),\"\",('DE01-F12'!N431))","v":""},{"$f":"MID('DE01-F12'!G431,1,18)","v":""},{"$f":"IF(ISBLANK('DE01-F12'!P431),\"\",('DE01-F12'!P431))","v":""},{"$f":"IF(ISBLANK('DE01-F12'!Q431),\"\",('DE01-F12'!Q431))","v":""},{"$f":"IF(ISBLANK('DE01-F12'!S431),\"\",('DE01-F12'!S431))","v":0}]
[{"$f":"IF(ISBLANK('DE01-F12'!N432),\"\",('DE01-F12'!N432))","v":""},{"$f":"MID('DE01-F12'!G432,1,18)","v":""},{"$f":"IF(ISBLANK('DE01-F12'!P432),\"\",('DE01-F12'!P432))","v":""},{"$f":"IF(ISBLANK('DE01-F12'!Q432),\"\",('DE01-F12'!Q432))","v":""},{"$f":"IF(ISBLANK('DE01-F12'!S432),\"\",('DE01-F12'!S432))","v":0}]
[{"$f":"IF(ISBLANK('DE01-F12'!N433),\"\",('DE01-F12'!N433))","v":""},{"$f":"MID('DE01-F12'!G433,1,18)","v":""},{"$f":"IF(ISBLANK('DE01-F12'!P433),\"\",('DE01-F12'!P433))","v":""},{"$f":"IF(ISBLANK('DE01-F12'!Q433),\"\",('DE01-F12'!Q433))","v":""},{"$f":"IF(ISBLANK('DE01-F12'!S433),\"\",('DE01-F12'!S433))","v":0}]
[{"$f":"IF(ISBLANK('DE01-F12'!N434),\"\",('DE01-F12'!N434))","v":""},{"$f":"MID('DE01-F12'!G434,1,18)","v":""},{"$f":"IF(ISBLANK('DE01-F12'!P434),\"\",('DE01-F12'!P434))","v":""},{"$f":"IF(ISBLANK('DE01-F12'!Q434),\"\",('DE01-F12'!Q434))","v":""},{"$f":"IF(ISBLANK('DE01-F12'!S434),\"\",('DE01-F12'!S434))","v":0}]
[{"$f":"IF(ISBLANK('DE01-F12'!N435),\"\",('DE01-F12'!N435))","v":""},{"$f":"MID('DE01-F12'!G435,1,18)","v":""},{"$f":"IF(ISBLANK('DE01-F12'!P435),\"\",('DE01-F12'!P435))","v":""},{"$f":"IF(ISBLANK('DE01-F12'!Q435),\"\",('DE01-F12'!Q435))","v":""},{"$f":"IF(ISBLANK('DE01-F12'!S435),\"\",('DE01-F12'!S435))","v":0}]
[{"$f":"IF(ISBLANK('DE01-F12'!N436),\"\",('DE01-F12'!N436))","v":""},{"$f":"MID('DE01-F12'!G436,1,18)","v":""},{"$f":"IF(ISBLANK('DE01-F12'!P436),\"\",('DE01-F12'!P436))","v":""},{"$f":"IF(ISBLANK('DE01-F12'!Q436),\"\",('DE01-F12'!Q436))","v":""},{"$f":"IF(ISBLANK('DE01-F12'!S436),\"\",('DE01-F12'!S436))","v":0}]
[{"$f":"IF(ISBLANK('DE01-F12'!N437),\"\",('DE01-F12'!N437))","v":""},{"$f":"MID('DE01-F12'!G437,1,18)","v":""},{"$f":"IF(ISBLANK('DE01-F12'!P437),\"\",('DE01-F12'!P437))","v":""},{"$f":"IF(ISBLANK('DE01-F12'!Q437),\"\",('DE01-F12'!Q437))","v":""},{"$f":"IF(ISBLANK('DE01-F12'!S437),\"\",('DE01-F12'!S437))","v":0}]
[{"$f":"IF(ISBLANK('DE01-F12'!N438),\"\",('DE01-F12'!N438))","v":""},{"$f":"MID('DE01-F12'!G438,1,18)","v":""},{"$f":"IF(ISBLANK('DE01-F12'!P438),\"\",('DE01-F12'!P438))","v":""},{"$f":"IF(ISBLANK('DE01-F12'!Q438),\"\",('DE01-F12'!Q438))","v":""},{"$f":"IF(ISBLANK('DE01-F12'!S438),\"\",('DE01-F12'!S438))","v":0}]
[{"$f":"IF(ISBLANK('DE01-F12'!N439),\"\",('DE01-F12'!N439))","v":""},{"$f":"MID('DE01-F12'!G439,1,18)","v":""},{"$f":"IF(ISBLANK('DE01-F12'!P439),\"\",('DE01-F12'!P439))","v":""},{"$f":"IF(ISBLANK('DE01-F12'!Q439),\"\",('DE01-F12'!Q439))","v":""},{"$f":"IF(ISBLANK('DE01-F12'!S439),\"\",('DE01-F12'!S439))","v":0}]
[{"$f":"IF(ISBLANK('DE01-F12'!N440),\"\",('DE01-F12'!N440))","v":""},{"$f":"MID('DE01-F12'!G440,1,18)","v":""},{"$f":"IF(ISBLANK('DE01-F12'!P440),\"\",('DE01-F12'!P440))","v":""},{"$f":"IF(ISBLANK('DE01-F12'!Q440),\"\",('DE01-F12'!Q440))","v":""},{"$f":"IF(ISBLANK('DE01-F12'!S440),\"\",('DE01-F12'!S440))","v":0}]
[{"$f":"IF(ISBLANK('DE01-F12'!N441),\"\",('DE01-F12'!N441))","v":""},{"$f":"MID('DE01-F12'!G441,1,18)","v":""},{"$f":"IF(ISBLANK('DE01-F12'!P441),\"\",('DE01-F12'!P441))","v":""},{"$f":"IF(ISBLANK('DE01-F12'!Q441),\"\",('DE01-F12'!Q441))","v":""},{"$f":"IF(ISBLANK('DE01-F12'!S441),\"\",('DE01-F12'!S441))","v":0}]
[{"$f":"IF(ISBLANK('DE01-F12'!N442),\"\",('DE01-F12'!N442))","v":""},{"$f":"MID('DE01-F12'!G442,1,18)","v":""},{"$f":"IF(ISBLANK('DE01-F12'!P442),\"\",('DE01-F12'!P442))","v":""},{"$f":"IF(ISBLANK('DE01-F12'!Q442),\"\",('DE01-F12'!Q442))","v":""},{"$f":"IF(ISBLANK('DE01-F12'!S442),\"\",('DE01-F12'!S442))","v":0}]
[{"$f":"IF(ISBLANK('DE01-F12'!N443),\"\",('DE01-F12'!N443))","v":""},{"$f":"MID('DE01-F12'!G443,1,18)","v":""},{"$f":"IF(ISBLANK('DE01-F12'!P443),\"\",('DE01-F12'!P443))","v":""},{"$f":"IF(ISBLANK('DE01-F12'!Q443),\"\",('DE01-F12'!Q443))","v":""},{"$f":"IF(ISBLANK('DE01-F12'!S443),\"\",('DE01-F12'!S443))","v":0}]
[{"$f":"IF(ISBLANK('DE01-F12'!N444),\"\",('DE01-F12'!N444))","v":""},{"$f":"MID('DE01-F12'!G444,1,18)","v":""},{"$f":"IF(ISBLANK('DE01-F12'!P444),\"\",('DE01-F12'!P444))","v":""},{"$f":"IF(ISBLANK('DE01-F12'!Q444),\"\",('DE01-F12'!Q444))","v":""},{"$f":"IF(ISBLANK('DE01-F12'!S444),\"\",('DE01-F12'!S444))","v":0}]
[{"$f":"IF(ISBLANK('DE01-F12'!N445),\"\",('DE01-F12'!N445))","v":""},{"$f":"MID('DE01-F12'!G445,1,18)","v":""},{"$f":"IF(ISBLANK('DE01-F12'!P445),\"\",('DE01-F12'!P445))","v":""},{"$f":"IF(ISBLANK('DE01-F12'!Q445),\"\",('DE01-F12'!Q445))","v":""},{"$f":"IF(ISBLANK('DE01-F12'!S445),\"\",('DE01-F12'!S445))","v":0}]
[{"$f":"IF(ISBLANK('DE01-F12'!N446),\"\",('DE01-F12'!N446))","v":""},{"$f":"MID('DE01-F12'!G446,1,18)","v":""},{"$f":"IF(ISBLANK('DE01-F12'!P446),\"\",('DE01-F12'!P446))","v":""},{"$f":"IF(ISBLANK('DE01-F12'!Q446),\"\",('DE01-F12'!Q446))","v":""},{"$f":"IF(ISBLANK('DE01-F12'!S446),\"\",('DE01-F12'!S446))","v":0}]
[{"$f":"IF(ISBLANK('DE01-F12'!N447),\"\",('DE01-F12'!N447))","v":""},{"$f":"MID('DE01-F12'!G447,1,18)","v":""},{"$f":"IF(ISBLANK('DE01-F12'!P447),\"\",('DE01-F12'!P447))","v":""},{"$f":"IF(ISBLANK('DE01-F12'!Q447),\"\",('DE01-F12'!Q447))","v":""},{"$f":"IF(ISBLANK('DE01-F12'!S447),\"\",('DE01-F12'!S447))","v":0}]
[{"$f":"IF(ISBLANK('DE01-F12'!N448),\"\",('DE01-F12'!N448))","v":""},{"$f":"MID('DE01-F12'!G448,1,18)","v":""},{"$f":"IF(ISBLANK('DE01-F12'!P448),\"\",('DE01-F12'!P448))","v":""},{"$f":"IF(ISBLANK('DE01-F12'!Q448),\"\",('DE01-F12'!Q448))","v":""},{"$f":"IF(ISBLANK('DE01-F12'!S448),\"\",('DE01-F12'!S448))","v":0}]
[{"$f":"IF(ISBLANK('DE01-F12'!N449),\"\",('DE01-F12'!N449))","v":""},{"$f":"MID('DE01-F12'!G449,1,18)","v":""},{"$f":"IF(ISBLANK('DE01-F12'!P449),\"\",('DE01-F12'!P449))","v":""},{"$f":"IF(ISBLANK('DE01-F12'!Q449),\"\",('DE01-F12'!Q449))","v":""},{"$f":"IF(ISBLANK('DE01-F12'!S449),\"\",('DE01-F12'!S449))","v":0}]
[{"$f":"IF(ISBLANK('DE01-F12'!N450),\"\",('DE01-F12'!N450))","v":""},{"$f":"MID('DE01-F12'!G450,1,18)","v":""},{"$f":"IF(ISBLANK('DE01-F12'!P450),\"\",('DE01-F12'!P450))","v":""},{"$f":"IF(ISBLANK('DE01-F12'!Q450),\"\",('DE01-F12'!Q450))","v":""},{"$f":"IF(ISBLANK('DE01-F12'!S450),\"\",('DE01-F12'!S450))","v":0}]
[{"$f":"IF(ISBLANK('DE01-F12'!N451),\"\",('DE01-F12'!N451))","v":""},{"$f":"MID('DE01-F12'!G451,1,18)","v":""},{"$f":"IF(ISBLANK('DE01-F12'!P451),\"\",('DE01-F12'!P451))","v":""},{"$f":"IF(ISBLANK('DE01-F12'!Q451),\"\",('DE01-F12'!Q451))","v":""},{"$f":"IF(ISBLANK('DE01-F12'!S451),\"\",('DE01-F12'!S451))","v":0}]
[{"$f":"IF(ISBLANK('DE01-F12'!N452),\"\",('DE01-F12'!N452))","v":""},{"$f":"MID('DE01-F12'!G452,1,18)","v":""},{"$f":"IF(ISBLANK('DE01-F12'!P452),\"\",('DE01-F12'!P452))","v":""},{"$f":"IF(ISBLANK('DE01-F12'!Q452),\"\",('DE01-F12'!Q452))","v":""},{"$f":"IF(ISBLANK('DE01-F12'!S452),\"\",('DE01-F12'!S452))","v":0}]
[{"$f":"IF(ISBLANK('DE01-F12'!N453),\"\",('DE01-F12'!N453))","v":""},{"$f":"MID('DE01-F12'!G453,1,18)","v":""},{"$f":"IF(ISBLANK('DE01-F12'!P453),\"\",('DE01-F12'!P453))","v":""},{"$f":"IF(ISBLANK('DE01-F12'!Q453),\"\",('DE01-F12'!Q453))","v":""},{"$f":"IF(ISBLANK('DE01-F12'!S453),\"\",('DE01-F12'!S453))","v":0}]
[{"$f":"IF(ISBLANK('DE01-F12'!N454),\"\",('DE01-F12'!N454))","v":""},{"$f":"MID('DE01-F12'!G454,1,18)","v":""},{"$f":"IF(ISBLANK('DE01-F12'!P454),\"\",('DE01-F12'!P454))","v":""},{"$f":"IF(ISBLANK('DE01-F12'!Q454),\"\",('DE01-F12'!Q454))","v":""},{"$f":"IF(ISBLANK('DE01-F12'!S454),\"\",('DE01-F12'!S454))","v":0}]
[{"$f":"IF(ISBLANK('DE01-F12'!N455),\"\",('DE01-F12'!N455))","v":""},{"$f":"MID('DE01-F12'!G455,1,18)","v":""},{"$f":"IF(ISBLANK('DE01-F12'!P455),\"\",('DE01-F12'!P455))","v":""},{"$f":"IF(ISBLANK('DE01-F12'!Q455),\"\",('DE01-F12'!Q455))","v":""},{"$f":"IF(ISBLANK('DE01-F12'!S455),\"\",('DE01-F12'!S455))","v":0}]
[{"$f":"IF(ISBLANK('DE01-F12'!N456),\"\",('DE01-F12'!N456))","v":""},{"$f":"MID('DE01-F12'!G456,1,18)","v":""},{"$f":"IF(ISBLANK('DE01-F12'!P456),\"\",('DE01-F12'!P456))","v":""},{"$f":"IF(ISBLANK('DE01-F12'!Q456),\"\",('DE01-F12'!Q456))","v":""},{"$f":"IF(ISBLANK('DE01-F12'!S456),\"\",('DE01-F12'!S456))","v":0}]
[{"$f":"IF(ISBLANK('DE01-F12'!N457),\"\",('DE01-F12'!N457))","v":""},{"$f":"MID('DE01-F12'!G457,1,18)","v":""},{"$f":"IF(ISBLANK('DE01-F12'!P457),\"\",('DE01-F12'!P457))","v":""},{"$f":"IF(ISBLANK('DE01-F12'!Q457),\"\",('DE01-F12'!Q457))","v":""},{"$f":"IF(ISBLANK('DE01-F12'!S457),\"\",('DE01-F12'!S457))","v":0}]
[{"$f":"IF(ISBLANK('DE01-F12'!N458),\"\",('DE01-F12'!N458))","v":""},{"$f":"MID('DE01-F12'!G458,1,18)","v":""},{"$f":"IF(ISBLANK('DE01-F12'!P458),\"\",('DE01-F12'!P458))","v":""},{"$f":"IF(ISBLANK('DE01-F12'!Q458),\"\",('DE01-F12'!Q458))","v":""},{"$f":"IF(ISBLANK('DE01-F12'!S458),\"\",('DE01-F12'!S458))","v":0}]
[{"$f":"IF(ISBLANK('DE01-F12'!N459),\"\",('DE01-F12'!N459))","v":""},{"$f":"MID('DE01-F12'!G459,1,18)","v":""},{"$f":"IF(ISBLANK('DE01-F12'!P459),\"\",('DE01-F12'!P459))","v":""},{"$f":"IF(ISBLANK('DE01-F12'!Q459),\"\",('DE01-F12'!Q459))","v":""},{"$f":"IF(ISBLANK('DE01-F12'!S459),\"\",('DE01-F12'!S459))","v":0}]
[{"$f":"IF(ISBLANK('DE01-F12'!N460),\"\",('DE01-F12'!N460))","v":""},{"$f":"MID('DE01-F12'!G460,1,18)","v":""},{"$f":"IF(ISBLANK('DE01-F12'!P460),\"\",('DE01-F12'!P460))","v":""},{"$f":"IF(ISBLANK('DE01-F12'!Q460),\"\",('DE01-F12'!Q460))","v":""},{"$f":"IF(ISBLANK('DE01-F12'!S460),\"\",('DE01-F12'!S460))","v":0}]
[{"$f":"IF(ISBLANK('DE01-F12'!N461),\"\",('DE01-F12'!N461))","v":""},{"$f":"MID('DE01-F12'!G461,1,18)","v":""},{"$f":"IF(ISBLANK('DE01-F12'!P461),\"\",('DE01-F12'!P461))","v":""},{"$f":"IF(ISBLANK('DE01-F12'!Q461),\"\",('DE01-F12'!Q461))","v":""},{"$f":"IF(ISBLANK('DE01-F12'!S461),\"\",('DE01-F12'!S461))","v":0}]
[{"$f":"IF(ISBLANK('DE01-F12'!N462),\"\",('DE01-F12'!N462))","v":""},{"$f":"MID('DE01-F12'!G462,1,18)","v":""},{"$f":"IF(ISBLANK('DE01-F12'!P462),\"\",('DE01-F12'!P462))","v":""},{"$f":"IF(ISBLANK('DE01-F12'!Q462),\"\",('DE01-F12'!Q462))","v":""},{"$f":"IF(ISBLANK('DE01-F12'!S462),\"\",('DE01-F12'!S462))","v":0}]
[{"$f":"IF(ISBLANK('DE01-F12'!N463),\"\",('DE01-F12'!N463))","v":""},{"$f":"MID('DE01-F12'!G463,1,18)","v":""},{"$f":"IF(ISBLANK('DE01-F12'!P463),\"\",('DE01-F12'!P463))","v":""},{"$f":"IF(ISBLANK('DE01-F12'!Q463),\"\",('DE01-F12'!Q463))","v":""},{"$f":"IF(ISBLANK('DE01-F12'!S463),\"\",('DE01-F12'!S463))","v":0}]
[{"$f":"IF(ISBLANK('DE01-F12'!N464),\"\",('DE01-F12'!N464))","v":""},{"$f":"MID('DE01-F12'!G464,1,18)","v":""},{"$f":"IF(ISBLANK('DE01-F12'!P464),\"\",('DE01-F12'!P464))","v":""},{"$f":"IF(ISBLANK('DE01-F12'!Q464),\"\",('DE01-F12'!Q464))","v":""},{"$f":"IF(ISBLANK('DE01-F12'!S464),\"\",('DE01-F12'!S464))","v":0}]
[{"$f":"IF(ISBLANK('DE01-F12'!N465),\"\",('DE01-F12'!N465))","v":""},{"$f":"MID('DE01-F12'!G465,1,18)","v":""},{"$f":"IF(ISBLANK('DE01-F12'!P465),\"\",('DE01-F12'!P465))","v":""},{"$f":"IF(ISBLANK('DE01-F12'!Q465),\"\",('DE01-F12'!Q465))","v":""},{"$f":"IF(ISBLANK('DE01-F12'!S465),\"\",('DE01-F12'!S465))","v":0}]
[{"$f":"IF(ISBLANK('DE01-F12'!N466),\"\",('DE01-F12'!N466))","v":""},{"$f":"MID('DE01-F12'!G466,1,18)","v":""},{"$f":"IF(ISBLANK('DE01-F12'!P466),\"\",('DE01-F12'!P466))","v":""},{"$f":"IF(ISBLANK('DE01-F12'!Q466),\"\",('DE01-F12'!Q466))","v":""},{"$f":"IF(ISBLANK('DE01-F12'!S466),\"\",('DE01-F12'!S466))","v":0}]
[{"$f":"IF(ISBLANK('DE01-F12'!N467),\"\",('DE01-F12'!N467))","v":""},{"$f":"MID('DE01-F12'!G467,1,18)","v":""},{"$f":"IF(ISBLANK('DE01-F12'!P467),\"\",('DE01-F12'!P467))","v":""},{"$f":"IF(ISBLANK('DE01-F12'!Q467),\"\",('DE01-F12'!Q467))","v":""},{"$f":"IF(ISBLANK('DE01-F12'!S467),\"\",('DE01-F12'!S467))","v":0}]
[{"$f":"IF(ISBLANK('DE01-F12'!N468),\"\",('DE01-F12'!N468))","v":""},{"$f":"MID('DE01-F12'!G468,1,18)","v":""},{"$f":"IF(ISBLANK('DE01-F12'!P468),\"\",('DE01-F12'!P468))","v":""},{"$f":"IF(ISBLANK('DE01-F12'!Q468),\"\",('DE01-F12'!Q468))","v":""},{"$f":"IF(ISBLANK('DE01-F12'!S468),\"\",('DE01-F12'!S468))","v":0}]
[{"$f":"IF(ISBLANK('DE01-F12'!N469),\"\",('DE01-F12'!N469))","v":""},{"$f":"MID('DE01-F12'!G469,1,18)","v":""},{"$f":"IF(ISBLANK('DE01-F12'!P469),\"\",('DE01-F12'!P469))","v":""},{"$f":"IF(ISBLANK('DE01-F12'!Q469),\"\",('DE01-F12'!Q469))","v":""},{"$f":"IF(ISBLANK('DE01-F12'!S469),\"\",('DE01-F12'!S469))","v":0}]
[{"$f":"IF(ISBLANK('DE01-F12'!N470),\"\",('DE01-F12'!N470))","v":""},{"$f":"MID('DE01-F12'!G470,1,18)","v":""},{"$f":"IF(ISBLANK('DE01-F12'!P470),\"\",('DE01-F12'!P470))","v":""},{"$f":"IF(ISBLANK('DE01-F12'!Q470),\"\",('DE01-F12'!Q470))","v":""},{"$f":"IF(ISBLANK('DE01-F12'!S470),\"\",('DE01-F12'!S470))","v":0}]
[{"$f":"IF(ISBLANK('DE01-F12'!N471),\"\",('DE01-F12'!N471))","v":""},{"$f":"MID('DE01-F12'!G471,1,18)","v":""},{"$f":"IF(ISBLANK('DE01-F12'!P471),\"\",('DE01-F12'!P471))","v":""},{"$f":"IF(ISBLANK('DE01-F12'!Q471),\"\",('DE01-F12'!Q471))","v":""},{"$f":"IF(ISBLANK('DE01-F12'!S471),\"\",('DE01-F12'!S471))","v":0}]
[{"$f":"IF(ISBLANK('DE01-F12'!N472),\"\",('DE01-F12'!N472))","v":""},{"$f":"MID('DE01-F12'!G472,1,18)","v":""},{"$f":"IF(ISBLANK('DE01-F12'!P472),\"\",('DE01-F12'!P472))","v":""},{"$f":"IF(ISBLANK('DE01-F12'!Q472),\"\",('DE01-F12'!Q472))","v":""},{"$f":"IF(ISBLANK('DE01-F12'!S472),\"\",('DE01-F12'!S472))","v":0}]
[{"$f":"IF(ISBLANK('DE01-F12'!N473),\"\",('DE01-F12'!N473))","v":""},{"$f":"MID('DE01-F12'!G473,1,18)","v":""},{"$f":"IF(ISBLANK('DE01-F12'!P473),\"\",('DE01-F12'!P473))","v":""},{"$f":"IF(ISBLANK('DE01-F12'!Q473),\"\",('DE01-F12'!Q473))","v":""},{"$f":"IF(ISBLANK('DE01-F12'!S473),\"\",('DE01-F12'!S473))","v":0}]
[{"$f":"IF(ISBLANK('DE01-F12'!N474),\"\",('DE01-F12'!N474))","v":""},{"$f":"MID('DE01-F12'!G474,1,18)","v":""},{"$f":"IF(ISBLANK('DE01-F12'!P474),\"\",('DE01-F12'!P474))","v":""},{"$f":"IF(ISBLANK('DE01-F12'!Q474),\"\",('DE01-F12'!Q474))","v":""},{"$f":"IF(ISBLANK('DE01-F12'!S474),\"\",('DE01-F12'!S474))","v":0}]
[{"$f":"IF(ISBLANK('DE01-F12'!N475),\"\",('DE01-F12'!N475))","v":""},{"$f":"MID('DE01-F12'!G475,1,18)","v":""},{"$f":"IF(ISBLANK('DE01-F12'!P475),\"\",('DE01-F12'!P475))","v":""},{"$f":"IF(ISBLANK('DE01-F12'!Q475),\"\",('DE01-F12'!Q475))","v":""},{"$f":"IF(ISBLANK('DE01-F12'!S475),\"\",('DE01-F12'!S475))","v":0}]
[{"$f":"IF(ISBLANK('DE01-F12'!N476),\"\",('DE01-F12'!N476))","v":""},{"$f":"MID('DE01-F12'!G476,1,18)","v":""},{"$f":"IF(ISBLANK('DE01-F12'!P476),\"\",('DE01-F12'!P476))","v":""},{"$f":"IF(ISBLANK('DE01-F12'!Q476),\"\",('DE01-F12'!Q476))","v":""},{"$f":"IF(ISBLANK('DE01-F12'!S476),\"\",('DE01-F12'!S476))","v":0}]
[{"$f":"IF(ISBLANK('DE01-F12'!N477),\"\",('DE01-F12'!N477))","v":""},{"$f":"MID('DE01-F12'!G477,1,18)","v":""},{"$f":"IF(ISBLANK('DE01-F12'!P477),\"\",('DE01-F12'!P477))","v":""},{"$f":"IF(ISBLANK('DE01-F12'!Q477),\"\",('DE01-F12'!Q477))","v":""},{"$f":"IF(ISBLANK('DE01-F12'!S477),\"\",('DE01-F12'!S477))","v":0}]
[{"$f":"IF(ISBLANK('DE01-F12'!N478),\"\",('DE01-F12'!N478))","v":""},{"$f":"MID('DE01-F12'!G478,1,18)","v":""},{"$f":"IF(ISBLANK('DE01-F12'!P478),\"\",('DE01-F12'!P478))","v":""},{"$f":"IF(ISBLANK('DE01-F12'!Q478),\"\",('DE01-F12'!Q478))","v":""},{"$f":"IF(ISBLANK('DE01-F12'!S478),\"\",('DE01-F12'!S478))","v":0}]
[{"$f":"IF(ISBLANK('DE01-F12'!N479),\"\",('DE01-F12'!N479))","v":""},{"$f":"MID('DE01-F12'!G479,1,18)","v":""},{"$f":"IF(ISBLANK('DE01-F12'!P479),\"\",('DE01-F12'!P479))","v":""},{"$f":"IF(ISBLANK('DE01-F12'!Q479),\"\",('DE01-F12'!Q479))","v":""},{"$f":"IF(ISBLANK('DE01-F12'!S479),\"\",('DE01-F12'!S479))","v":0}]
[{"$f":"IF(ISBLANK('DE01-F12'!N480),\"\",('DE01-F12'!N480))","v":""},{"$f":"MID('DE01-F12'!G480,1,18)","v":""},{"$f":"IF(ISBLANK('DE01-F12'!P480),\"\",('DE01-F12'!P480))","v":""},{"$f":"IF(ISBLANK('DE01-F12'!Q480),\"\",('DE01-F12'!Q480))","v":""},{"$f":"IF(ISBLANK('DE01-F12'!S480),\"\",('DE01-F12'!S480))","v":0}]
[{"$f":"IF(ISBLANK('DE01-F12'!N481),\"\",('DE01-F12'!N481))","v":""},{"$f":"MID('DE01-F12'!G481,1,18)","v":""},{"$f":"IF(ISBLANK('DE01-F12'!P481),\"\",('DE01-F12'!P481))","v":""},{"$f":"IF(ISBLANK('DE01-F12'!Q481),\"\",('DE01-F12'!Q481))","v":""},{"$f":"IF(ISBLANK('DE01-F12'!S481),\"\",('DE01-F12'!S481))","v":0}]
[{"$f":"IF(ISBLANK('DE01-F12'!N482),\"\",('DE01-F12'!N482))","v":""},{"$f":"MID('DE01-F12'!G482,1,18)","v":""},{"$f":"IF(ISBLANK('DE01-F12'!P482),\"\",('DE01-F12'!P482))","v":""},{"$f":"IF(ISBLANK('DE01-F12'!Q482),\"\",('DE01-F12'!Q482))","v":""},{"$f":"IF(ISBLANK('DE01-F12'!S482),\"\",('DE01-F12'!S482))","v":0}]
[{"$f":"IF(ISBLANK('DE01-F12'!N483),\"\",('DE01-F12'!N483))","v":""},{"$f":"MID('DE01-F12'!G483,1,18)","v":""},{"$f":"IF(ISBLANK('DE01-F12'!P483),\"\",('DE01-F12'!P483))","v":""},{"$f":"IF(ISBLANK('DE01-F12'!Q483),\"\",('DE01-F12'!Q483))","v":""},{"$f":"IF(ISBLANK('DE01-F12'!S483),\"\",('DE01-F12'!S483))","v":0}]
[{"$f":"IF(ISBLANK('DE01-F12'!N484),\"\",('DE01-F12'!N484))","v":""},{"$f":"MID('DE01-F12'!G484,1,18)","v":""},{"$f":"IF(ISBLANK('DE01-F12'!P484),\"\",('DE01-F12'!P484))","v":""},{"$f":"IF(ISBLANK('DE01-F12'!Q484),\"\",('DE01-F12'!Q484))","v":""},{"$f":"IF(ISBLANK('DE01-F12'!S484),\"\",('DE01-F12'!S484))","v":0}]
[{"$f":"IF(ISBLANK('DE01-F12'!N485),\"\",('DE01-F12'!N485))","v":""},{"$f":"MID('DE01-F12'!G485,1,18)","v":""},{"$f":"IF(ISBLANK('DE01-F12'!P485),\"\",('DE01-F12'!P485))","v":""},{"$f":"IF(ISBLANK('DE01-F12'!Q485),\"\",('DE01-F12'!Q485))","v":""},{"$f":"IF(ISBLANK('DE01-F12'!S485),\"\",('DE01-F12'!S485))","v":0}]
[{"$f":"IF(ISBLANK('DE01-F12'!N486),\"\",('DE01-F12'!N486))","v":""},{"$f":"MID('DE01-F12'!G486,1,18)","v":""},{"$f":"IF(ISBLANK('DE01-F12'!P486),\"\",('DE01-F12'!P486))","v":""},{"$f":"IF(ISBLANK('DE01-F12'!Q486),\"\",('DE01-F12'!Q486))","v":""},{"$f":"IF(ISBLANK('DE01-F12'!S486),\"\",('DE01-F12'!S486))","v":0}]
[{"$f":"IF(ISBLANK('DE01-F12'!N487),\"\",('DE01-F12'!N487))","v":""},{"$f":"MID('DE01-F12'!G487,1,18)","v":""},{"$f":"IF(ISBLANK('DE01-F12'!P487),\"\",('DE01-F12'!P487))","v":""},{"$f":"IF(ISBLANK('DE01-F12'!Q487),\"\",('DE01-F12'!Q487))","v":""},{"$f":"IF(ISBLANK('DE01-F12'!S487),\"\",('DE01-F12'!S487))","v":0}]
[{"$f":"IF(ISBLANK('DE01-F12'!N488),\"\",('DE01-F12'!N488))","v":""},{"$f":"MID('DE01-F12'!G488,1,18)","v":""},{"$f":"IF(ISBLANK('DE01-F12'!P488),\"\",('DE01-F12'!P488))","v":""},{"$f":"IF(ISBLANK('DE01-F12'!Q488),\"\",('DE01-F12'!Q488))","v":""},{"$f":"IF(ISBLANK('DE01-F12'!S488),\"\",('DE01-F12'!S488))","v":0}]
[{"$f":"IF(ISBLANK('DE01-F12'!N489),\"\",('DE01-F12'!N489))","v":""},{"$f":"MID('DE01-F12'!G489,1,18)","v":""},{"$f":"IF(ISBLANK('DE01-F12'!P489),\"\",('DE01-F12'!P489))","v":""},{"$f":"IF(ISBLANK('DE01-F12'!Q489),\"\",('DE01-F12'!Q489))","v":""},{"$f":"IF(ISBLANK('DE01-F12'!S489),\"\",('DE01-F12'!S489))","v":0}]
[{"$f":"IF(ISBLANK('DE01-F12'!N490),\"\",('DE01-F12'!N490))","v":""},{"$f":"MID('DE01-F12'!G490,1,18)","v":""},{"$f":"IF(ISBLANK('DE01-F12'!P490),\"\",('DE01-F12'!P490))","v":""},{"$f":"IF(ISBLANK('DE01-F12'!Q490),\"\",('DE01-F12'!Q490))","v":""},{"$f":"IF(ISBLANK('DE01-F12'!S490),\"\",('DE01-F12'!S490))","v":0}]
[{"$f":"IF(ISBLANK('DE01-F12'!N491),\"\",('DE01-F12'!N491))","v":""},{"$f":"MID('DE01-F12'!G491,1,18)","v":""},{"$f":"IF(ISBLANK('DE01-F12'!P491),\"\",('DE01-F12'!P491))","v":""},{"$f":"IF(ISBLANK('DE01-F12'!Q491),\"\",('DE01-F12'!Q491))","v":""},{"$f":"IF(ISBLANK('DE01-F12'!S491),\"\",('DE01-F12'!S491))","v":0}]
[{"$f":"IF(ISBLANK('DE01-F12'!N492),\"\",('DE01-F12'!N492))","v":""},{"$f":"MID('DE01-F12'!G492,1,18)","v":""},{"$f":"IF(ISBLANK('DE01-F12'!P492),\"\",('DE01-F12'!P492))","v":""},{"$f":"IF(ISBLANK('DE01-F12'!Q492),\"\",('DE01-F12'!Q492))","v":""},{"$f":"IF(ISBLANK('DE01-F12'!S492),\"\",('DE01-F12'!S492))","v":0}]
[{"$f":"IF(ISBLANK('DE01-F12'!N493),\"\",('DE01-F12'!N493))","v":""},{"$f":"MID('DE01-F12'!G493,1,18)","v":""},{"$f":"IF(ISBLANK('DE01-F12'!P493),\"\",('DE01-F12'!P493))","v":""},{"$f":"IF(ISBLANK('DE01-F12'!Q493),\"\",('DE01-F12'!Q493))","v":""},{"$f":"IF(ISBLANK('DE01-F12'!S493),\"\",('DE01-F12'!S493))","v":0}]
[{"$f":"IF(ISBLANK('DE01-F12'!N494),\"\",('DE01-F12'!N494))","v":""},{"$f":"MID('DE01-F12'!G494,1,18)","v":""},{"$f":"IF(ISBLANK('DE01-F12'!P494),\"\",('DE01-F12'!P494))","v":""},{"$f":"IF(ISBLANK('DE01-F12'!Q494),\"\",('DE01-F12'!Q494))","v":""},{"$f":"IF(ISBLANK('DE01-F12'!S494),\"\",('DE01-F12'!S494))","v":0}]
[{"$f":"IF(ISBLANK('DE01-F12'!N495),\"\",('DE01-F12'!N495))","v":""},{"$f":"MID('DE01-F12'!G495,1,18)","v":""},{"$f":"IF(ISBLANK('DE01-F12'!P495),\"\",('DE01-F12'!P495))","v":""},{"$f":"IF(ISBLANK('DE01-F12'!Q495),\"\",('DE01-F12'!Q495))","v":""},{"$f":"IF(ISBLANK('DE01-F12'!S495),\"\",('DE01-F12'!S495))","v":0}]
[{"$f":"IF(ISBLANK('DE01-F12'!N496),\"\",('DE01-F12'!N496))","v":""},{"$f":"MID('DE01-F12'!G496,1,18)","v":""},{"$f":"IF(ISBLANK('DE01-F12'!P496),\"\",('DE01-F12'!P496))","v":""},{"$f":"IF(ISBLANK('DE01-F12'!Q496),\"\",('DE01-F12'!Q496))","v":""},{"$f":"IF(ISBLANK('DE01-F12'!S496),\"\",('DE01-F12'!S496))","v":0}]
[{"$f":"IF(ISBLANK('DE01-F12'!N497),\"\",('DE01-F12'!N497))","v":""},{"$f":"MID('DE01-F12'!G497,1,18)","v":""},{"$f":"IF(ISBLANK('DE01-F12'!P497),\"\",('DE01-F12'!P497))","v":""},{"$f":"IF(ISBLANK('DE01-F12'!Q497),\"\",('DE01-F12'!Q497))","v":""},{"$f":"IF(ISBLANK('DE01-F12'!S497),\"\",('DE01-F12'!S497))","v":0}]
[{"$f":"IF(ISBLANK('DE01-F12'!N498),\"\",('DE01-F12'!N498))","v":""},{"$f":"MID('DE01-F12'!G498,1,18)","v":""},{"$f":"IF(ISBLANK('DE01-F12'!P498),\"\",('DE01-F12'!P498))","v":""},{"$f":"IF(ISBLANK('DE01-F12'!Q498),\"\",('DE01-F12'!Q498))","v":""},{"$f":"IF(ISBLANK('DE01-F12'!S498),\"\",('DE01-F12'!S498))","v":0}]
[{"$f":"IF(ISBLANK('DE01-F12'!N499),\"\",('DE01-F12'!N499))","v":""},{"$f":"MID('DE01-F12'!G499,1,18)","v":""},{"$f":"IF(ISBLANK('DE01-F12'!P499),\"\",('DE01-F12'!P499))","v":""},{"$f":"IF(ISBLANK('DE01-F12'!Q499),\"\",('DE01-F12'!Q499))","v":""},{"$f":"IF(ISBLANK('DE01-F12'!S499),\"\",('DE01-F12'!S499))","v":0}]
[{"$f":"IF(ISBLANK('DE01-F12'!N500),\"\",('DE01-F12'!N500))","v":""},{"$f":"MID('DE01-F12'!G500,1,18)","v":""},{"$f":"IF(ISBLANK('DE01-F12'!P500),\"\",('DE01-F12'!P500))","v":""},{"$f":"IF(ISBLANK('DE01-F12'!Q500),\"\",('DE01-F12'!Q500))","v":""},{"$f":"IF(ISBLANK('DE01-F12'!S500),\"\",('DE01-F12'!S500))","v":0}]
[{"$f":"IF(ISBLANK('DE01-F12'!N501),\"\",('DE01-F12'!N501))","v":""},{"$f":"MID('DE01-F12'!G501,1,18)","v":""},{"$f":"IF(ISBLANK('DE01-F12'!P501),\"\",('DE01-F12'!P501))","v":""},{"$f":"IF(ISBLANK('DE01-F12'!Q501),\"\",('DE01-F12'!Q501))","v":""},{"$f":"IF(ISBLANK('DE01-F12'!S501),\"\",('DE01-F12'!S501))","v":0}]
[{"$f":"IF(ISBLANK('DE01-F12'!N502),\"\",('DE01-F12'!N502))","v":""},{"$f":"MID('DE01-F12'!G502,1,18)","v":""},{"$f":"IF(ISBLANK('DE01-F12'!P502),\"\",('DE01-F12'!P502))","v":""},{"$f":"IF(ISBLANK('DE01-F12'!Q502),\"\",('DE01-F12'!Q502))","v":""},{"$f":"IF(ISBLANK('DE01-F12'!S502),\"\",('DE01-F12'!S502))","v":0}]
[{"$f":"IF(ISBLANK('DE01-F12'!N503),\"\",('DE01-F12'!N503))","v":""},{"$f":"MID('DE01-F12'!G503,1,18)","v":""},{"$f":"IF(ISBLANK('DE01-F12'!P503),\"\",('DE01-F12'!P503))","v":""},{"$f":"IF(ISBLANK('DE01-F12'!Q503),\"\",('DE01-F12'!Q503))","v":""},{"$f":"IF(ISBLANK('DE01-F12'!S503),\"\",('DE01-F12'!S503))","v":0}]
[{"$f":"IF(ISBLANK('DE01-F12'!N504),\"\",('DE01-F12'!N504))","v":""},{"$f":"MID('DE01-F12'!G504,1,18)","v":""},{"$f":"IF(ISBLANK('DE01-F12'!P504),\"\",('DE01-F12'!P504))","v":""},{"$f":"IF(ISBLANK('DE01-F12'!Q504),\"\",('DE01-F12'!Q504))","v":""},{"$f":"IF(ISBLANK('DE01-F12'!S504),\"\",('DE01-F12'!S504))","v":0}]
[{"$f":"IF(ISBLANK('DE01-F12'!N505),\"\",('DE01-F12'!N505))","v":""},{"$f":"MID('DE01-F12'!G505,1,18)","v":""},{"$f":"IF(ISBLANK('DE01-F12'!P505),\"\",('DE01-F12'!P505))","v":""},{"$f":"IF(ISBLANK('DE01-F12'!Q505),\"\",('DE01-F12'!Q505))","v":""},{"$f":"IF(ISBLANK('DE01-F12'!S505),\"\",('DE01-F12'!S505))","v":0}]
[{"$f":"IF(ISBLANK('DE01-F12'!N506),\"\",('DE01-F12'!N506))","v":""},{"$f":"MID('DE01-F12'!G506,1,18)","v":""},{"$f":"IF(ISBLANK('DE01-F12'!P506),\"\",('DE01-F12'!P506))","v":""},{"$f":"IF(ISBLANK('DE01-F12'!Q506),\"\",('DE01-F12'!Q506))","v":""},{"$f":"IF(ISBLANK('DE01-F12'!S506),\"\",('DE01-F12'!S506))","v":0}]
[{"$f":"IF(ISBLANK('DE01-F12'!N507),\"\",('DE01-F12'!N507))","v":""},{"$f":"MID('DE01-F12'!G507,1,18)","v":""},{"$f":"IF(ISBLANK('DE01-F12'!P507),\"\",('DE01-F12'!P507))","v":""},{"$f":"IF(ISBLANK('DE01-F12'!Q507),\"\",('DE01-F12'!Q507))","v":""},{"$f":"IF(ISBLANK('DE01-F12'!S507),\"\",('DE01-F12'!S507))","v":0}]
[{"$f":"IF(ISBLANK('DE01-F12'!N508),\"\",('DE01-F12'!N508))","v":""},{"$f":"MID('DE01-F12'!G508,1,18)","v":""},{"$f":"IF(ISBLANK('DE01-F12'!P508),\"\",('DE01-F12'!P508))","v":""},{"$f":"IF(ISBLANK('DE01-F12'!Q508),\"\",('DE01-F12'!Q508))","v":""},{"$f":"IF(ISBLANK('DE01-F12'!S508),\"\",('DE01-F12'!S508))","v":0}]
[{"$f":"IF(ISBLANK('DE01-F12'!N509),\"\",('DE01-F12'!N509))","v":""},{"$f":"MID('DE01-F12'!G509,1,18)","v":""},{"$f":"IF(ISBLANK('DE01-F12'!P509),\"\",('DE01-F12'!P509))","v":""},{"$f":"IF(ISBLANK('DE01-F12'!Q509),\"\",('DE01-F12'!Q509))","v":""},{"$f":"IF(ISBLANK('DE01-F12'!S509),\"\",('DE01-F12'!S509))","v":0}]
[{"$f":"IF(ISBLANK('DE01-F12'!N510),\"\",('DE01-F12'!N510))","v":""},{"$f":"MID('DE01-F12'!G510,1,18)","v":""},{"$f":"IF(ISBLANK('DE01-F12'!P510),\"\",('DE01-F12'!P510))","v":""},{"$f":"IF(ISBLANK('DE01-F12'!Q510),\"\",('DE01-F12'!Q510))","v":""},{"$f":"IF(ISBLANK('DE01-F12'!S510),\"\",('DE01-F12'!S510))","v":0}]
[{"$f":"IF(ISBLANK('DE01-F12'!N511),\"\",('DE01-F12'!N511))","v":""},{"$f":"MID('DE01-F12'!G511,1,18)","v":""},{"$f":"IF(ISBLANK('DE01-F12'!P511),\"\",('DE01-F12'!P511))","v":""},{"$f":"IF(ISBLANK('DE01-F12'!Q511),\"\",('DE01-F12'!Q511))","v":""},{"$f":"IF(ISBLANK('DE01-F12'!S511),\"\",('DE01-F12'!S511))","v":0}]
[{"$f":"IF(ISBLANK('DE01-F12'!N512),\"\",('DE01-F12'!N512))","v":""},{"$f":"MID('DE01-F12'!G512,1,18)","v":""},{"$f":"IF(ISBLANK('DE01-F12'!P512),\"\",('DE01-F12'!P512))","v":""},{"$f":"IF(ISBLANK('DE01-F12'!Q512),\"\",('DE01-F12'!Q512))","v":""},{"$f":"IF(ISBLANK('DE01-F12'!S512),\"\",('DE01-F12'!S512))","v":0}]
[{"$f":"IF(ISBLANK('DE01-F12'!N513),\"\",('DE01-F12'!N513))","v":""},{"$f":"MID('DE01-F12'!G513,1,18)","v":""},{"$f":"IF(ISBLANK('DE01-F12'!P513),\"\",('DE01-F12'!P513))","v":""},{"$f":"IF(ISBLANK('DE01-F12'!Q513),\"\",('DE01-F12'!Q513))","v":""},{"$f":"IF(ISBLANK('DE01-F12'!S513),\"\",('DE01-F12'!S513))","v":0}]
[{"$f":"IF(ISBLANK('DE01-F12'!N514),\"\",('DE01-F12'!N514))","v":""},{"$f":"MID('DE01-F12'!G514,1,18)","v":""},{"$f":"IF(ISBLANK('DE01-F12'!P514),\"\",('DE01-F12'!P514))","v":""},{"$f":"IF(ISBLANK('DE01-F12'!Q514),\"\",('DE01-F12'!Q514))","v":""},{"$f":"IF(ISBLANK('DE01-F12'!S514),\"\",('DE01-F12'!S514))","v":0}]
[{"$f":"IF(ISBLANK('DE01-F12'!N515),\"\",('DE01-F12'!N515))","v":""},{"$f":"MID('DE01-F12'!G515,1,18)","v":""},{"$f":"IF(ISBLANK('DE01-F12'!P515),\"\",('DE01-F12'!P515))","v":""},{"$f":"IF(ISBLANK('DE01-F12'!Q515),\"\",('DE01-F12'!Q515))","v":""},{"$f":"IF(ISBLANK('DE01-F12'!S515),\"\",('DE01-F12'!S515))","v":0}]
[{"$f":"IF(ISBLANK('DE01-F12'!N516),\"\",('DE01-F12'!N516))","v":""},{"$f":"MID('DE01-F12'!G516,1,18)","v":""},{"$f":"IF(ISBLANK('DE01-F12'!P516),\"\",('DE01-F12'!P516))","v":""},{"$f":"IF(ISBLANK('DE01-F12'!Q516),\"\",('DE01-F12'!Q516))","v":""},{"$f":"IF(ISBLANK('DE01-F12'!S516),\"\",('DE01-F12'!S516))","v":0}]
[{"$f":"IF(ISBLANK('DE01-F12'!N517),\"\",('DE01-F12'!N517))","v":""},{"$f":"MID('DE01-F12'!G517,1,18)","v":""},{"$f":"IF(ISBLANK('DE01-F12'!P517),\"\",('DE01-F12'!P517))","v":""},{"$f":"IF(ISBLANK('DE01-F12'!Q517),\"\",('DE01-F12'!Q517))","v":""},{"$f":"IF(ISBLANK('DE01-F12'!S517),\"\",('DE01-F12'!S517))","v":0}]
[{"$f":"IF(ISBLANK('DE01-F12'!N518),\"\",('DE01-F12'!N518))","v":""},{"$f":"MID('DE01-F12'!G518,1,18)","v":""},{"$f":"IF(ISBLANK('DE01-F12'!P518),\"\",('DE01-F12'!P518))","v":""},{"$f":"IF(ISBLANK('DE01-F12'!Q518),\"\",('DE01-F12'!Q518))","v":""},{"$f":"IF(ISBLANK('DE01-F12'!S518),\"\",('DE01-F12'!S518))","v":0}]
[{"$f":"IF(ISBLANK('DE01-F12'!N519),\"\",('DE01-F12'!N519))","v":""},{"$f":"MID('DE01-F12'!G519,1,18)","v":""},{"$f":"IF(ISBLANK('DE01-F12'!P519),\"\",('DE01-F12'!P519))","v":""},{"$f":"IF(ISBLANK('DE01-F12'!Q519),\"\",('DE01-F12'!Q519))","v":""},{"$f":"IF(ISBLANK('DE01-F12'!S519),\"\",('DE01-F12'!S519))","v":0}]
[{"$f":"IF(ISBLANK('DE01-F12'!N520),\"\",('DE01-F12'!N520))","v":""},{"$f":"MID('DE01-F12'!G520,1,18)","v":""},{"$f":"IF(ISBLANK('DE01-F12'!P520),\"\",('DE01-F12'!P520))","v":""},{"$f":"IF(ISBLANK('DE01-F12'!Q520),\"\",('DE01-F12'!Q520))","v":""},{"$f":"IF(ISBLANK('DE01-F12'!S520),\"\",('DE01-F12'!S520))","v":0}]
[{"$f":"IF(ISBLANK('DE01-F12'!N521),\"\",('DE01-F12'!N521))","v":""},{"$f":"MID('DE01-F12'!G521,1,18)","v":""},{"$f":"IF(ISBLANK('DE01-F12'!P521),\"\",('DE01-F12'!P521))","v":""},{"$f":"IF(ISBLANK('DE01-F12'!Q521),\"\",('DE01-F12'!Q521))","v":""},{"$f":"IF(ISBLANK('DE01-F12'!S521),\"\",('DE01-F12'!S521))","v":0}]
[{"$f":"IF(ISBLANK('DE01-F12'!N522),\"\",('DE01-F12'!N522))","v":""},{"$f":"MID('DE01-F12'!G522,1,18)","v":""},{"$f":"IF(ISBLANK('DE01-F12'!P522),\"\",('DE01-F12'!P522))","v":""},{"$f":"IF(ISBLANK('DE01-F12'!Q522),\"\",('DE01-F12'!Q522))","v":""},{"$f":"IF(ISBLANK('DE01-F12'!S522),\"\",('DE01-F12'!S522))","v":0}]
[{"$f":"IF(ISBLANK('DE01-F12'!N523),\"\",('DE01-F12'!N523))","v":""},{"$f":"MID('DE01-F12'!G523,1,18)","v":""},{"$f":"IF(ISBLANK('DE01-F12'!P523),\"\",('DE01-F12'!P523))","v":""},{"$f":"IF(ISBLANK('DE01-F12'!Q523),\"\",('DE01-F12'!Q523))","v":""},{"$f":"IF(ISBLANK('DE01-F12'!S523),\"\",('DE01-F12'!S523))","v":0}]
[{"$f":"IF(ISBLANK('DE01-F12'!N524),\"\",('DE01-F12'!N524))","v":""},{"$f":"MID('DE01-F12'!G524,1,18)","v":""},{"$f":"IF(ISBLANK('DE01-F12'!P524),\"\",('DE01-F12'!P524))","v":""},{"$f":"IF(ISBLANK('DE01-F12'!Q524),\"\",('DE01-F12'!Q524))","v":""},{"$f":"IF(ISBLANK('DE01-F12'!S524),\"\",('DE01-F12'!S524))","v":0}]
[{"$f":"IF(ISBLANK('DE01-F12'!N525),\"\",('DE01-F12'!N525))","v":""},{"$f":"MID('DE01-F12'!G525,1,18)","v":""},{"$f":"IF(ISBLANK('DE01-F12'!P525),\"\",('DE01-F12'!P525))","v":""},{"$f":"IF(ISBLANK('DE01-F12'!Q525),\"\",('DE01-F12'!Q525))","v":""},{"$f":"IF(ISBLANK('DE01-F12'!S525),\"\",('DE01-F12'!S525))","v":0}]
[{"$f":"IF(ISBLANK('DE01-F12'!N526),\"\",('DE01-F12'!N526))","v":""},{"$f":"MID('DE01-F12'!G526,1,18)","v":""},{"$f":"IF(ISBLANK('DE01-F12'!P526),\"\",('DE01-F12'!P526))","v":""},{"$f":"IF(ISBLANK('DE01-F12'!Q526),\"\",('DE01-F12'!Q526))","v":""},{"$f":"IF(ISBLANK('DE01-F12'!S526),\"\",('DE01-F12'!S526))","v":0}]
[{"$f":"IF(ISBLANK('DE01-F12'!N527),\"\",('DE01-F12'!N527))","v":""},{"$f":"MID('DE01-F12'!G527,1,18)","v":""},{"$f":"IF(ISBLANK('DE01-F12'!P527),\"\",('DE01-F12'!P527))","v":""},{"$f":"IF(ISBLANK('DE01-F12'!Q527),\"\",('DE01-F12'!Q527))","v":""},{"$f":"IF(ISBLANK('DE01-F12'!S527),\"\",('DE01-F12'!S527))","v":0}]
[{"$f":"IF(ISBLANK('DE01-F12'!N528),\"\",('DE01-F12'!N528))","v":""},{"$f":"MID('DE01-F12'!G528,1,18)","v":""},{"$f":"IF(ISBLANK('DE01-F12'!P528),\"\",('DE01-F12'!P528))","v":""},{"$f":"IF(ISBLANK('DE01-F12'!Q528),\"\",('DE01-F12'!Q528))","v":""},{"$f":"IF(ISBLANK('DE01-F12'!S528),\"\",('DE01-F12'!S528))","v":0}]
[{"$f":"IF(ISBLANK('DE01-F12'!N529),\"\",('DE01-F12'!N529))","v":""},{"$f":"MID('DE01-F12'!G529,1,18)","v":""},{"$f":"IF(ISBLANK('DE01-F12'!P529),\"\",('DE01-F12'!P529))","v":""},{"$f":"IF(ISBLANK('DE01-F12'!Q529),\"\",('DE01-F12'!Q529))","v":""},{"$f":"IF(ISBLANK('DE01-F12'!S529),\"\",('DE01-F12'!S529))","v":0}]
[{"$f":"IF(ISBLANK('DE01-F12'!N530),\"\",('DE01-F12'!N530))","v":""},{"$f":"MID('DE01-F12'!G530,1,18)","v":""},{"$f":"IF(ISBLANK('DE01-F12'!P530),\"\",('DE01-F12'!P530))","v":""},{"$f":"IF(ISBLANK('DE01-F12'!Q530),\"\",('DE01-F12'!Q530))","v":""},{"$f":"IF(ISBLANK('DE01-F12'!S530),\"\",('DE01-F12'!S530))","v":0}]
[{"$f":"IF(ISBLANK('DE01-F12'!N531),\"\",('DE01-F12'!N531))","v":""},{"$f":"MID('DE01-F12'!G531,1,18)","v":""},{"$f":"IF(ISBLANK('DE01-F12'!P531),\"\",('DE01-F12'!P531))","v":""},{"$f":"IF(ISBLANK('DE01-F12'!Q531),\"\",('DE01-F12'!Q531))","v":""},{"$f":"IF(ISBLANK('DE01-F12'!S531),\"\",('DE01-F12'!S531))","v":0}]
[{"$f":"IF(ISBLANK('DE01-F12'!N532),\"\",('DE01-F12'!N532))","v":""},{"$f":"MID('DE01-F12'!G532,1,18)","v":""},{"$f":"IF(ISBLANK('DE01-F12'!P532),\"\",('DE01-F12'!P532))","v":""},{"$f":"IF(ISBLANK('DE01-F12'!Q532),\"\",('DE01-F12'!Q532))","v":""},{"$f":"IF(ISBLANK('DE01-F12'!S532),\"\",('DE01-F12'!S532))","v":0}]
[{"$f":"IF(ISBLANK('DE01-F12'!N533),\"\",('DE01-F12'!N533))","v":""},{"$f":"MID('DE01-F12'!G533,1,18)","v":""},{"$f":"IF(ISBLANK('DE01-F12'!P533),\"\",('DE01-F12'!P533))","v":""},{"$f":"IF(ISBLANK('DE01-F12'!Q533),\"\",('DE01-F12'!Q533))","v":""},{"$f":"IF(ISBLANK('DE01-F12'!S533),\"\",('DE01-F12'!S533))","v":0}]
[{"$f":"IF(ISBLANK('DE01-F12'!N534),\"\",('DE01-F12'!N534))","v":""},{"$f":"MID('DE01-F12'!G534,1,18)","v":""},{"$f":"IF(ISBLANK('DE01-F12'!P534),\"\",('DE01-F12'!P534))","v":""},{"$f":"IF(ISBLANK('DE01-F12'!Q534),\"\",('DE01-F12'!Q534))","v":""},{"$f":"IF(ISBLANK('DE01-F12'!S534),\"\",('DE01-F12'!S534))","v":0}]
[{"$f":"IF(ISBLANK('DE01-F12'!N535),\"\",('DE01-F12'!N535))","v":""},{"$f":"MID('DE01-F12'!G535,1,18)","v":""},{"$f":"IF(ISBLANK('DE01-F12'!P535),\"\",('DE01-F12'!P535))","v":""},{"$f":"IF(ISBLANK('DE01-F12'!Q535),\"\",('DE01-F12'!Q535))","v":""},{"$f":"IF(ISBLANK('DE01-F12'!S535),\"\",('DE01-F12'!S535))","v":0}]
[{"$f":"IF(ISBLANK('DE01-F12'!N536),\"\",('DE01-F12'!N536))","v":""},{"$f":"MID('DE01-F12'!G536,1,18)","v":""},{"$f":"IF(ISBLANK('DE01-F12'!P536),\"\",('DE01-F12'!P536))","v":""},{"$f":"IF(ISBLANK('DE01-F12'!Q536),\"\",('DE01-F12'!Q536))","v":""},{"$f":"IF(ISBLANK('DE01-F12'!S536),\"\",('DE01-F12'!S536))","v":0}]
[{"$f":"IF(ISBLANK('DE01-F12'!N537),\"\",('DE01-F12'!N537))","v":""},{"$f":"MID('DE01-F12'!G537,1,18)","v":""},{"$f":"IF(ISBLANK('DE01-F12'!P537),\"\",('DE01-F12'!P537))","v":""},{"$f":"IF(ISBLANK('DE01-F12'!Q537),\"\",('DE01-F12'!Q537))","v":""},{"$f":"IF(ISBLANK('DE01-F12'!S537),\"\",('DE01-F12'!S537))","v":0}]
[{"$f":"IF(ISBLANK('DE01-F12'!N538),\"\",('DE01-F12'!N538))","v":""},{"$f":"MID('DE01-F12'!G538,1,18)","v":""},{"$f":"IF(ISBLANK('DE01-F12'!P538),\"\",('DE01-F12'!P538))","v":""},{"$f":"IF(ISBLANK('DE01-F12'!Q538),\"\",('DE01-F12'!Q538))","v":""},{"$f":"IF(ISBLANK('DE01-F12'!S538),\"\",('DE01-F12'!S538))","v":0}]
[{"$f":"IF(ISBLANK('DE01-F12'!N539),\"\",('DE01-F12'!N539))","v":""},{"$f":"MID('DE01-F12'!G539,1,18)","v":""},{"$f":"IF(ISBLANK('DE01-F12'!P539),\"\",('DE01-F12'!P539))","v":""},{"$f":"IF(ISBLANK('DE01-F12'!Q539),\"\",('DE01-F12'!Q539))","v":""},{"$f":"IF(ISBLANK('DE01-F12'!S539),\"\",('DE01-F12'!S539))","v":0}]
[{"$f":"IF(ISBLANK('DE01-F12'!N540),\"\",('DE01-F12'!N540))","v":""},{"$f":"MID('DE01-F12'!G540,1,18)","v":""},{"$f":"IF(ISBLANK('DE01-F12'!P540),\"\",('DE01-F12'!P540))","v":""},{"$f":"IF(ISBLANK('DE01-F12'!Q540),\"\",('DE01-F12'!Q540))","v":""},{"$f":"IF(ISBLANK('DE01-F12'!S540),\"\",('DE01-F12'!S540))","v":0}]
[{"$f":"IF(ISBLANK('DE01-F12'!N541),\"\",('DE01-F12'!N541))","v":""},{"$f":"MID('DE01-F12'!G541,1,18)","v":""},{"$f":"IF(ISBLANK('DE01-F12'!P541),\"\",('DE01-F12'!P541))","v":""},{"$f":"IF(ISBLANK('DE01-F12'!Q541),\"\",('DE01-F12'!Q541))","v":""},{"$f":"IF(ISBLANK('DE01-F12'!S541),\"\",('DE01-F12'!S541))","v":0}]
[{"$f":"IF(ISBLANK('DE01-F12'!N542),\"\",('DE01-F12'!N542))","v":""},{"$f":"MID('DE01-F12'!G542,1,18)","v":""},{"$f":"IF(ISBLANK('DE01-F12'!P542),\"\",('DE01-F12'!P542))","v":""},{"$f":"IF(ISBLANK('DE01-F12'!Q542),\"\",('DE01-F12'!Q542))","v":""},{"$f":"IF(ISBLANK('DE01-F12'!S542),\"\",('DE01-F12'!S542))","v":0}]
[{"$f":"IF(ISBLANK('DE01-F12'!N543),\"\",('DE01-F12'!N543))","v":""},{"$f":"MID('DE01-F12'!G543,1,18)","v":""},{"$f":"IF(ISBLANK('DE01-F12'!P543),\"\",('DE01-F12'!P543))","v":""},{"$f":"IF(ISBLANK('DE01-F12'!Q543),\"\",('DE01-F12'!Q543))","v":""},{"$f":"IF(ISBLANK('DE01-F12'!S543),\"\",('DE01-F12'!S543))","v":0}]
[{"$f":"IF(ISBLANK('DE01-F12'!N544),\"\",('DE01-F12'!N544))","v":""},{"$f":"MID('DE01-F12'!G544,1,18)","v":""},{"$f":"IF(ISBLANK('DE01-F12'!P544),\"\",('DE01-F12'!P544))","v":""},{"$f":"IF(ISBLANK('DE01-F12'!Q544),\"\",('DE01-F12'!Q544))","v":""},{"$f":"IF(ISBLANK('DE01-F12'!S544),\"\",('DE01-F12'!S544))","v":0}]
[{"$f":"IF(ISBLANK('DE01-F12'!N545),\"\",('DE01-F12'!N545))","v":""},{"$f":"MID('DE01-F12'!G545,1,18)","v":""},{"$f":"IF(ISBLANK('DE01-F12'!P545),\"\",('DE01-F12'!P545))","v":""},{"$f":"IF(ISBLANK('DE01-F12'!Q545),\"\",('DE01-F12'!Q545))","v":""},{"$f":"IF(ISBLANK('DE01-F12'!S545),\"\",('DE01-F12'!S545))","v":0}]
[{"$f":"IF(ISBLANK('DE01-F12'!N546),\"\",('DE01-F12'!N546))","v":""},{"$f":"MID('DE01-F12'!G546,1,18)","v":""},{"$f":"IF(ISBLANK('DE01-F12'!P546),\"\",('DE01-F12'!P546))","v":""},{"$f":"IF(ISBLANK('DE01-F12'!Q546),\"\",('DE01-F12'!Q546))","v":""},{"$f":"IF(ISBLANK('DE01-F12'!S546),\"\",('DE01-F12'!S546))","v":0}]
[{"$f":"IF(ISBLANK('DE01-F12'!N547),\"\",('DE01-F12'!N547))","v":""},{"$f":"MID('DE01-F12'!G547,1,18)","v":""},{"$f":"IF(ISBLANK('DE01-F12'!P547),\"\",('DE01-F12'!P547))","v":""},{"$f":"IF(ISBLANK('DE01-F12'!Q547),\"\",('DE01-F12'!Q547))","v":""},{"$f":"IF(ISBLANK('DE01-F12'!S547),\"\",('DE01-F12'!S547))","v":0}]
[{"$f":"IF(ISBLANK('DE01-F12'!N548),\"\",('DE01-F12'!N548))","v":""},{"$f":"MID('DE01-F12'!G548,1,18)","v":""},{"$f":"IF(ISBLANK('DE01-F12'!P548),\"\",('DE01-F12'!P548))","v":""},{"$f":"IF(ISBLANK('DE01-F12'!Q548),\"\",('DE01-F12'!Q548))","v":""},{"$f":"IF(ISBLANK('DE01-F12'!S548),\"\",('DE01-F12'!S548))","v":0}]
[{"$f":"IF(ISBLANK('DE01-F12'!N549),\"\",('DE01-F12'!N549))","v":""},{"$f":"MID('DE01-F12'!G549,1,18)","v":""},{"$f":"IF(ISBLANK('DE01-F12'!P549),\"\",('DE01-F12'!P549))","v":""},{"$f":"IF(ISBLANK('DE01-F12'!Q549),\"\",('DE01-F12'!Q549))","v":""},{"$f":"IF(ISBLANK('DE01-F12'!S549),\"\",('DE01-F12'!S549))","v":0}]
[{"$f":"IF(ISBLANK('DE01-F12'!N550),\"\",('DE01-F12'!N550))","v":""},{"$f":"MID('DE01-F12'!G550,1,18)","v":""},{"$f":"IF(ISBLANK('DE01-F12'!P550),\"\",('DE01-F12'!P550))","v":""},{"$f":"IF(ISBLANK('DE01-F12'!Q550),\"\",('DE01-F12'!Q550))","v":""},{"$f":"IF(ISBLANK('DE01-F12'!S550),\"\",('DE01-F12'!S550))","v":0}]
[{"$f":"IF(ISBLANK('DE01-F12'!N551),\"\",('DE01-F12'!N551))","v":""},{"$f":"MID('DE01-F12'!G551,1,18)","v":""},{"$f":"IF(ISBLANK('DE01-F12'!P551),\"\",('DE01-F12'!P551))","v":""},{"$f":"IF(ISBLANK('DE01-F12'!Q551),\"\",('DE01-F12'!Q551))","v":""},{"$f":"IF(ISBLANK('DE01-F12'!S551),\"\",('DE01-F12'!S551))","v":0}]
[{"$f":"IF(ISBLANK('DE01-F12'!N552),\"\",('DE01-F12'!N552))","v":""},{"$f":"MID('DE01-F12'!G552,1,18)","v":""},{"$f":"IF(ISBLANK('DE01-F12'!P552),\"\",('DE01-F12'!P552))","v":""},{"$f":"IF(ISBLANK('DE01-F12'!Q552),\"\",('DE01-F12'!Q552))","v":""},{"$f":"IF(ISBLANK('DE01-F12'!S552),\"\",('DE01-F12'!S552))","v":0}]
[{"$f":"IF(ISBLANK('DE01-F12'!N553),\"\",('DE01-F12'!N553))","v":""},{"$f":"MID('DE01-F12'!G553,1,18)","v":""},{"$f":"IF(ISBLANK('DE01-F12'!P553),\"\",('DE01-F12'!P553))","v":""},{"$f":"IF(ISBLANK('DE01-F12'!Q553),\"\",('DE01-F12'!Q553))","v":""},{"$f":"IF(ISBLANK('DE01-F12'!S553),\"\",('DE01-F12'!S553))","v":0}]
[{"$f":"IF(ISBLANK('DE01-F12'!N554),\"\",('DE01-F12'!N554))","v":""},{"$f":"MID('DE01-F12'!G554,1,18)","v":""},{"$f":"IF(ISBLANK('DE01-F12'!P554),\"\",('DE01-F12'!P554))","v":""},{"$f":"IF(ISBLANK('DE01-F12'!Q554),\"\",('DE01-F12'!Q554))","v":""},{"$f":"IF(ISBLANK('DE01-F12'!S554),\"\",('DE01-F12'!S554))","v":0}]
[{"$f":"IF(ISBLANK('DE01-F12'!N555),\"\",('DE01-F12'!N555))","v":""},{"$f":"MID('DE01-F12'!G555,1,18)","v":""},{"$f":"IF(ISBLANK('DE01-F12'!P555),\"\",('DE01-F12'!P555))","v":""},{"$f":"IF(ISBLANK('DE01-F12'!Q555),\"\",('DE01-F12'!Q555))","v":""},{"$f":"IF(ISBLANK('DE01-F12'!S555),\"\",('DE01-F12'!S555))","v":0}]
[{"$f":"IF(ISBLANK('DE01-F12'!N556),\"\",('DE01-F12'!N556))","v":""},{"$f":"MID('DE01-F12'!G556,1,18)","v":""},{"$f":"IF(ISBLANK('DE01-F12'!P556),\"\",('DE01-F12'!P556))","v":""},{"$f":"IF(ISBLANK('DE01-F12'!Q556),\"\",('DE01-F12'!Q556))","v":""},{"$f":"IF(ISBLANK('DE01-F12'!S556),\"\",('DE01-F12'!S556))","v":0}]
[{"$f":"IF(ISBLANK('DE01-F12'!N557),\"\",('DE01-F12'!N557))","v":""},{"$f":"MID('DE01-F12'!G557,1,18)","v":""},{"$f":"IF(ISBLANK('DE01-F12'!P557),\"\",('DE01-F12'!P557))","v":""},{"$f":"IF(ISBLANK('DE01-F12'!Q557),\"\",('DE01-F12'!Q557))","v":""},{"$f":"IF(ISBLANK('DE01-F12'!S557),\"\",('DE01-F12'!S557))","v":0}]
[{"$f":"IF(ISBLANK('DE01-F12'!N558),\"\",('DE01-F12'!N558))","v":""},{"$f":"MID('DE01-F12'!G558,1,18)","v":""},{"$f":"IF(ISBLANK('DE01-F12'!P558),\"\",('DE01-F12'!P558))","v":""},{"$f":"IF(ISBLANK('DE01-F12'!Q558),\"\",('DE01-F12'!Q558))","v":""},{"$f":"IF(ISBLANK('DE01-F12'!S558),\"\",('DE01-F12'!S558))","v":0}]
[{"$f":"IF(ISBLANK('DE01-F12'!N559),\"\",('DE01-F12'!N559))","v":""},{"$f":"MID('DE01-F12'!G559,1,18)","v":""},{"$f":"IF(ISBLANK('DE01-F12'!P559),\"\",('DE01-F12'!P559))","v":""},{"$f":"IF(ISBLANK('DE01-F12'!Q559),\"\",('DE01-F12'!Q559))","v":""},{"$f":"IF(ISBLANK('DE01-F12'!S559),\"\",('DE01-F12'!S559))","v":0}]
[{"$f":"IF(ISBLANK('DE01-F12'!N560),\"\",('DE01-F12'!N560))","v":""},{"$f":"MID('DE01-F12'!G560,1,18)","v":""},{"$f":"IF(ISBLANK('DE01-F12'!P560),\"\",('DE01-F12'!P560))","v":""},{"$f":"IF(ISBLANK('DE01-F12'!Q560),\"\",('DE01-F12'!Q560))","v":""},{"$f":"IF(ISBLANK('DE01-F12'!S560),\"\",('DE01-F12'!S560))","v":0}]
[{"$f":"IF(ISBLANK('DE01-F12'!N561),\"\",('DE01-F12'!N561))","v":""},{"$f":"MID('DE01-F12'!G561,1,18)","v":""},{"$f":"IF(ISBLANK('DE01-F12'!P561),\"\",('DE01-F12'!P561))","v":""},{"$f":"IF(ISBLANK('DE01-F12'!Q561),\"\",('DE01-F12'!Q561))","v":""},{"$f":"IF(ISBLANK('DE01-F12'!S561),\"\",('DE01-F12'!S561))","v":0}]
[{"$f":"IF(ISBLANK('DE01-F12'!N562),\"\",('DE01-F12'!N562))","v":""},{"$f":"MID('DE01-F12'!G562,1,18)","v":""},{"$f":"IF(ISBLANK('DE01-F12'!P562),\"\",('DE01-F12'!P562))","v":""},{"$f":"IF(ISBLANK('DE01-F12'!Q562),\"\",('DE01-F12'!Q562))","v":""},{"$f":"IF(ISBLANK('DE01-F12'!S562),\"\",('DE01-F12'!S562))","v":0}]
[{"$f":"IF(ISBLANK('DE01-F12'!N563),\"\",('DE01-F12'!N563))","v":""},{"$f":"MID('DE01-F12'!G563,1,18)","v":""},{"$f":"IF(ISBLANK('DE01-F12'!P563),\"\",('DE01-F12'!P563))","v":""},{"$f":"IF(ISBLANK('DE01-F12'!Q563),\"\",('DE01-F12'!Q563))","v":""},{"$f":"IF(ISBLANK('DE01-F12'!S563),\"\",('DE01-F12'!S563))","v":0}]
[{"$f":"IF(ISBLANK('DE01-F12'!N564),\"\",('DE01-F12'!N564))","v":""},{"$f":"MID('DE01-F12'!G564,1,18)","v":""},{"$f":"IF(ISBLANK('DE01-F12'!P564),\"\",('DE01-F12'!P564))","v":""},{"$f":"IF(ISBLANK('DE01-F12'!Q564),\"\",('DE01-F12'!Q564))","v":""},{"$f":"IF(ISBLANK('DE01-F12'!S564),\"\",('DE01-F12'!S564))","v":0}]
[{"$f":"IF(ISBLANK('DE01-F12'!N565),\"\",('DE01-F12'!N565))","v":""},{"$f":"MID('DE01-F12'!G565,1,18)","v":""},{"$f":"IF(ISBLANK('DE01-F12'!P565),\"\",('DE01-F12'!P565))","v":""},{"$f":"IF(ISBLANK('DE01-F12'!Q565),\"\",('DE01-F12'!Q565))","v":""},{"$f":"IF(ISBLANK('DE01-F12'!S565),\"\",('DE01-F12'!S565))","v":0}]
[{"$f":"IF(ISBLANK('DE01-F12'!N566),\"\",('DE01-F12'!N566))","v":""},{"$f":"MID('DE01-F12'!G566,1,18)","v":""},{"$f":"IF(ISBLANK('DE01-F12'!P566),\"\",('DE01-F12'!P566))","v":""},{"$f":"IF(ISBLANK('DE01-F12'!Q566),\"\",('DE01-F12'!Q566))","v":""},{"$f":"IF(ISBLANK('DE01-F12'!S566),\"\",('DE01-F12'!S566))","v":0}]
[{"$f":"IF(ISBLANK('DE01-F12'!N567),\"\",('DE01-F12'!N567))","v":""},{"$f":"MID('DE01-F12'!G567,1,18)","v":""},{"$f":"IF(ISBLANK('DE01-F12'!P567),\"\",('DE01-F12'!P567))","v":""},{"$f":"IF(ISBLANK('DE01-F12'!Q567),\"\",('DE01-F12'!Q567))","v":""},{"$f":"IF(ISBLANK('DE01-F12'!S567),\"\",('DE01-F12'!S567))","v":0}]
[{"$f":"IF(ISBLANK('DE01-F12'!N568),\"\",('DE01-F12'!N568))","v":""},{"$f":"MID('DE01-F12'!G568,1,18)","v":""},{"$f":"IF(ISBLANK('DE01-F12'!P568),\"\",('DE01-F12'!P568))","v":""},{"$f":"IF(ISBLANK('DE01-F12'!Q568),\"\",('DE01-F12'!Q568))","v":""},{"$f":"IF(ISBLANK('DE01-F12'!S568),\"\",('DE01-F12'!S568))","v":0}]
[{"$f":"IF(ISBLANK('DE01-F12'!N569),\"\",('DE01-F12'!N569))","v":""},{"$f":"MID('DE01-F12'!G569,1,18)","v":""},{"$f":"IF(ISBLANK('DE01-F12'!P569),\"\",('DE01-F12'!P569))","v":""},{"$f":"IF(ISBLANK('DE01-F12'!Q569),\"\",('DE01-F12'!Q569))","v":""},{"$f":"IF(ISBLANK('DE01-F12'!S569),\"\",('DE01-F12'!S569))","v":0}]
[{"$f":"IF(ISBLANK('DE01-F12'!N570),\"\",('DE01-F12'!N570))","v":""},{"$f":"MID('DE01-F12'!G570,1,18)","v":""},{"$f":"IF(ISBLANK('DE01-F12'!P570),\"\",('DE01-F12'!P570))","v":""},{"$f":"IF(ISBLANK('DE01-F12'!Q570),\"\",('DE01-F12'!Q570))","v":""},{"$f":"IF(ISBLANK('DE01-F12'!S570),\"\",('DE01-F12'!S570))","v":0}]
[{"$f":"IF(ISBLANK('DE01-F12'!N571),\"\",('DE01-F12'!N571))","v":""},{"$f":"MID('DE01-F12'!G571,1,18)","v":""},{"$f":"IF(ISBLANK('DE01-F12'!P571),\"\",('DE01-F12'!P571))","v":""},{"$f":"IF(ISBLANK('DE01-F12'!Q571),\"\",('DE01-F12'!Q571))","v":""},{"$f":"IF(ISBLANK('DE01-F12'!S571),\"\",('DE01-F12'!S571))","v":0}]
[{"$f":"IF(ISBLANK('DE01-F12'!N572),\"\",('DE01-F12'!N572))","v":""},{"$f":"MID('DE01-F12'!G572,1,18)","v":""},{"$f":"IF(ISBLANK('DE01-F12'!P572),\"\",('DE01-F12'!P572))","v":""},{"$f":"IF(ISBLANK('DE01-F12'!Q572),\"\",('DE01-F12'!Q572))","v":""},{"$f":"IF(ISBLANK('DE01-F12'!S572),\"\",('DE01-F12'!S572))","v":0}]
[{"$f":"IF(ISBLANK('DE01-F12'!N573),\"\",('DE01-F12'!N573))","v":""},{"$f":"MID('DE01-F12'!G573,1,18)","v":""},{"$f":"IF(ISBLANK('DE01-F12'!P573),\"\",('DE01-F12'!P573))","v":""},{"$f":"IF(ISBLANK('DE01-F12'!Q573),\"\",('DE01-F12'!Q573))","v":""},{"$f":"IF(ISBLANK('DE01-F12'!S573),\"\",('DE01-F12'!S573))","v":0}]
[{"$f":"IF(ISBLANK('DE01-F12'!N574),\"\",('DE01-F12'!N574))","v":""},{"$f":"MID('DE01-F12'!G574,1,18)","v":""},{"$f":"IF(ISBLANK('DE01-F12'!P574),\"\",('DE01-F12'!P574))","v":""},{"$f":"IF(ISBLANK('DE01-F12'!Q574),\"\",('DE01-F12'!Q574))","v":""},{"$f":"IF(ISBLANK('DE01-F12'!S574),\"\",('DE01-F12'!S574))","v":0}]
[{"$f":"IF(ISBLANK('DE01-F12'!N575),\"\",('DE01-F12'!N575))","v":""},{"$f":"MID('DE01-F12'!G575,1,18)","v":""},{"$f":"IF(ISBLANK('DE01-F12'!P575),\"\",('DE01-F12'!P575))","v":""},{"$f":"IF(ISBLANK('DE01-F12'!Q575),\"\",('DE01-F12'!Q575))","v":""},{"$f":"IF(ISBLANK('DE01-F12'!S575),\"\",('DE01-F12'!S575))","v":0}]
[{"$f":"IF(ISBLANK('DE01-F12'!N576),\"\",('DE01-F12'!N576))","v":""},{"$f":"MID('DE01-F12'!G576,1,18)","v":""},{"$f":"IF(ISBLANK('DE01-F12'!P576),\"\",('DE01-F12'!P576))","v":""},{"$f":"IF(ISBLANK('DE01-F12'!Q576),\"\",('DE01-F12'!Q576))","v":""},{"$f":"IF(ISBLANK('DE01-F12'!S576),\"\",('DE01-F12'!S576))","v":0}]
[{"$f":"IF(ISBLANK('DE01-F12'!N577),\"\",('DE01-F12'!N577))","v":""},{"$f":"MID('DE01-F12'!G577,1,18)","v":""},{"$f":"IF(ISBLANK('DE01-F12'!P577),\"\",('DE01-F12'!P577))","v":""},{"$f":"IF(ISBLANK('DE01-F12'!Q577),\"\",('DE01-F12'!Q577))","v":""},{"$f":"IF(ISBLANK('DE01-F12'!S577),\"\",('DE01-F12'!S577))","v":0}]
[{"$f":"IF(ISBLANK('DE01-F12'!N578),\"\",('DE01-F12'!N578))","v":""},{"$f":"MID('DE01-F12'!G578,1,18)","v":""},{"$f":"IF(ISBLANK('DE01-F12'!P578),\"\",('DE01-F12'!P578))","v":""},{"$f":"IF(ISBLANK('DE01-F12'!Q578),\"\",('DE01-F12'!Q578))","v":""},{"$f":"IF(ISBLANK('DE01-F12'!S578),\"\",('DE01-F12'!S578))","v":0}]
[{"$f":"IF(ISBLANK('DE01-F12'!N579),\"\",('DE01-F12'!N579))","v":""},{"$f":"MID('DE01-F12'!G579,1,18)","v":""},{"$f":"IF(ISBLANK('DE01-F12'!P579),\"\",('DE01-F12'!P579))","v":""},{"$f":"IF(ISBLANK('DE01-F12'!Q579),\"\",('DE01-F12'!Q579))","v":""},{"$f":"IF(ISBLANK('DE01-F12'!S579),\"\",('DE01-F12'!S579))","v":0}]
[{"$f":"IF(ISBLANK('DE01-F12'!N580),\"\",('DE01-F12'!N580))","v":""},{"$f":"MID('DE01-F12'!G580,1,18)","v":""},{"$f":"IF(ISBLANK('DE01-F12'!P580),\"\",('DE01-F12'!P580))","v":""},{"$f":"IF(ISBLANK('DE01-F12'!Q580),\"\",('DE01-F12'!Q580))","v":""},{"$f":"IF(ISBLANK('DE01-F12'!S580),\"\",('DE01-F12'!S580))","v":0}]
[{"$f":"IF(ISBLANK('DE01-F12'!N581),\"\",('DE01-F12'!N581))","v":""},{"$f":"MID('DE01-F12'!G581,1,18)","v":""},{"$f":"IF(ISBLANK('DE01-F12'!P581),\"\",('DE01-F12'!P581))","v":""},{"$f":"IF(ISBLANK('DE01-F12'!Q581),\"\",('DE01-F12'!Q581))","v":""},{"$f":"IF(ISBLANK('DE01-F12'!S581),\"\",('DE01-F12'!S581))","v":0}]
[{"$f":"IF(ISBLANK('DE01-F12'!N582),\"\",('DE01-F12'!N582))","v":""},{"$f":"MID('DE01-F12'!G582,1,18)","v":""},{"$f":"IF(ISBLANK('DE01-F12'!P582),\"\",('DE01-F12'!P582))","v":""},{"$f":"IF(ISBLANK('DE01-F12'!Q582),\"\",('DE01-F12'!Q582))","v":""},{"$f":"IF(ISBLANK('DE01-F12'!S582),\"\",('DE01-F12'!S582))","v":0}]
[{"$f":"IF(ISBLANK('DE01-F12'!N583),\"\",('DE01-F12'!N583))","v":""},{"$f":"MID('DE01-F12'!G583,1,18)","v":""},{"$f":"IF(ISBLANK('DE01-F12'!P583),\"\",('DE01-F12'!P583))","v":""},{"$f":"IF(ISBLANK('DE01-F12'!Q583),\"\",('DE01-F12'!Q583))","v":""},{"$f":"IF(ISBLANK('DE01-F12'!S583),\"\",('DE01-F12'!S583))","v":0}]
[{"$f":"IF(ISBLANK('DE01-F12'!N584),\"\",('DE01-F12'!N584))","v":""},{"$f":"MID('DE01-F12'!G584,1,18)","v":""},{"$f":"IF(ISBLANK('DE01-F12'!P584),\"\",('DE01-F12'!P584))","v":""},{"$f":"IF(ISBLANK('DE01-F12'!Q584),\"\",('DE01-F12'!Q584))","v":""},{"$f":"IF(ISBLANK('DE01-F12'!S584),\"\",('DE01-F12'!S584))","v":0}]
[{"$f":"IF(ISBLANK('DE01-F12'!N585),\"\",('DE01-F12'!N585))","v":""},{"$f":"MID('DE01-F12'!G585,1,18)","v":""},{"$f":"IF(ISBLANK('DE01-F12'!P585),\"\",('DE01-F12'!P585))","v":""},{"$f":"IF(ISBLANK('DE01-F12'!Q585),\"\",('DE01-F12'!Q585))","v":""},{"$f":"IF(ISBLANK('DE01-F12'!S585),\"\",('DE01-F12'!S585))","v":0}]
[{"$f":"IF(ISBLANK('DE01-F12'!N586),\"\",('DE01-F12'!N586))","v":""},{"$f":"MID('DE01-F12'!G586,1,18)","v":""},{"$f":"IF(ISBLANK('DE01-F12'!P586),\"\",('DE01-F12'!P586))","v":""},{"$f":"IF(ISBLANK('DE01-F12'!Q586),\"\",('DE01-F12'!Q586))","v":""},{"$f":"IF(ISBLANK('DE01-F12'!S586),\"\",('DE01-F12'!S586))","v":0}]
[{"$f":"IF(ISBLANK('DE01-F12'!N587),\"\",('DE01-F12'!N587))","v":""},{"$f":"MID('DE01-F12'!G587,1,18)","v":""},{"$f":"IF(ISBLANK('DE01-F12'!P587),\"\",('DE01-F12'!P587))","v":""},{"$f":"IF(ISBLANK('DE01-F12'!Q587),\"\",('DE01-F12'!Q587))","v":""},{"$f":"IF(ISBLANK('DE01-F12'!S587),\"\",('DE01-F12'!S587))","v":0}]
[{"$f":"IF(ISBLANK('DE01-F12'!N588),\"\",('DE01-F12'!N588))","v":""},{"$f":"MID('DE01-F12'!G588,1,18)","v":""},{"$f":"IF(ISBLANK('DE01-F12'!P588),\"\",('DE01-F12'!P588))","v":""},{"$f":"IF(ISBLANK('DE01-F12'!Q588),\"\",('DE01-F12'!Q588))","v":""},{"$f":"IF(ISBLANK('DE01-F12'!S588),\"\",('DE01-F12'!S588))","v":0}]
[{"$f":"IF(ISBLANK('DE01-F12'!N589),\"\",('DE01-F12'!N589))","v":""},{"$f":"MID('DE01-F12'!G589,1,18)","v":""},{"$f":"IF(ISBLANK('DE01-F12'!P589),\"\",('DE01-F12'!P589))","v":""},{"$f":"IF(ISBLANK('DE01-F12'!Q589),\"\",('DE01-F12'!Q589))","v":""},{"$f":"IF(ISBLANK('DE01-F12'!S589),\"\",('DE01-F12'!S589))","v":0}]
[{"$f":"IF(ISBLANK('DE01-F12'!N590),\"\",('DE01-F12'!N590))","v":""},{"$f":"MID('DE01-F12'!G590,1,18)","v":""},{"$f":"IF(ISBLANK('DE01-F12'!P590),\"\",('DE01-F12'!P590))","v":""},{"$f":"IF(ISBLANK('DE01-F12'!Q590),\"\",('DE01-F12'!Q590))","v":""},{"$f":"IF(ISBLANK('DE01-F12'!S590),\"\",('DE01-F12'!S590))","v":0}]
[{"$f":"IF(ISBLANK('DE01-F12'!N591),\"\",('DE01-F12'!N591))","v":""},{"$f":"MID('DE01-F12'!G591,1,18)","v":""},{"$f":"IF(ISBLANK('DE01-F12'!P591),\"\",('DE01-F12'!P591))","v":""},{"$f":"IF(ISBLANK('DE01-F12'!Q591),\"\",('DE01-F12'!Q591))","v":""},{"$f":"IF(ISBLANK('DE01-F12'!S591),\"\",('DE01-F12'!S591))","v":0}]
[{"$f":"IF(ISBLANK('DE01-F12'!N592),\"\",('DE01-F12'!N592))","v":""},{"$f":"MID('DE01-F12'!G592,1,18)","v":""},{"$f":"IF(ISBLANK('DE01-F12'!P592),\"\",('DE01-F12'!P592))","v":""},{"$f":"IF(ISBLANK('DE01-F12'!Q592),\"\",('DE01-F12'!Q592))","v":""},{"$f":"IF(ISBLANK('DE01-F12'!S592),\"\",('DE01-F12'!S592))","v":0}]
[{"$f":"IF(ISBLANK('DE01-F12'!N593),\"\",('DE01-F12'!N593))","v":""},{"$f":"MID('DE01-F12'!G593,1,18)","v":""},{"$f":"IF(ISBLANK('DE01-F12'!P593),\"\",('DE01-F12'!P593))","v":""},{"$f":"IF(ISBLANK('DE01-F12'!Q593),\"\",('DE01-F12'!Q593))","v":""},{"$f":"IF(ISBLANK('DE01-F12'!S593),\"\",('DE01-F12'!S593))","v":0}]
[{"$f":"IF(ISBLANK('DE01-F12'!N594),\"\",('DE01-F12'!N594))","v":""},{"$f":"MID('DE01-F12'!G594,1,18)","v":""},{"$f":"IF(ISBLANK('DE01-F12'!P594),\"\",('DE01-F12'!P594))","v":""},{"$f":"IF(ISBLANK('DE01-F12'!Q594),\"\",('DE01-F12'!Q594))","v":""},{"$f":"IF(ISBLANK('DE01-F12'!S594),\"\",('DE01-F12'!S594))","v":0}]
[{"$f":"IF(ISBLANK('DE01-F12'!N595),\"\",('DE01-F12'!N595))","v":""},{"$f":"MID('DE01-F12'!G595,1,18)","v":""},{"$f":"IF(ISBLANK('DE01-F12'!P595),\"\",('DE01-F12'!P595))","v":""},{"$f":"IF(ISBLANK('DE01-F12'!Q595),\"\",('DE01-F12'!Q595))","v":""},{"$f":"IF(ISBLANK('DE01-F12'!S595),\"\",('DE01-F12'!S595))","v":0}]
[{"$f":"IF(ISBLANK('DE01-F12'!N596),\"\",('DE01-F12'!N596))","v":""},{"$f":"MID('DE01-F12'!G596,1,18)","v":""},{"$f":"IF(ISBLANK('DE01-F12'!P596),\"\",('DE01-F12'!P596))","v":""},{"$f":"IF(ISBLANK('DE01-F12'!Q596),\"\",('DE01-F12'!Q596))","v":""},{"$f":"IF(ISBLANK('DE01-F12'!S596),\"\",('DE01-F12'!S596))","v":0}]
[{"$f":"IF(ISBLANK('DE01-F12'!N597),\"\",('DE01-F12'!N597))","v":""},{"$f":"MID('DE01-F12'!G597,1,18)","v":""},{"$f":"IF(ISBLANK('DE01-F12'!P597),\"\",('DE01-F12'!P597))","v":""},{"$f":"IF(ISBLANK('DE01-F12'!Q597),\"\",('DE01-F12'!Q597))","v":""},{"$f":"IF(ISBLANK('DE01-F12'!S597),\"\",('DE01-F12'!S597))","v":0}]
[{"$f":"IF(ISBLANK('DE01-F12'!N598),\"\",('DE01-F12'!N598))","v":""},{"$f":"MID('DE01-F12'!G598,1,18)","v":""},{"$f":"IF(ISBLANK('DE01-F12'!P598),\"\",('DE01-F12'!P598))","v":""},{"$f":"IF(ISBLANK('DE01-F12'!Q598),\"\",('DE01-F12'!Q598))","v":""},{"$f":"IF(ISBLANK('DE01-F12'!S598),\"\",('DE01-F12'!S598))","v":0}]
[{"$f":"IF(ISBLANK('DE01-F12'!N599),\"\",('DE01-F12'!N599))","v":""},{"$f":"MID('DE01-F12'!G599,1,18)","v":""},{"$f":"IF(ISBLANK('DE01-F12'!P599),\"\",('DE01-F12'!P599))","v":""},{"$f":"IF(ISBLANK('DE01-F12'!Q599),\"\",('DE01-F12'!Q599))","v":""},{"$f":"IF(ISBLANK('DE01-F12'!S599),\"\",('DE01-F12'!S599))","v":0}]
[{"$f":"IF(ISBLANK('DE01-F12'!N600),\"\",('DE01-F12'!N600))","v":""},{"$f":"MID('DE01-F12'!G600,1,18)","v":""},{"$f":"IF(ISBLANK('DE01-F12'!P600),\"\",('DE01-F12'!P600))","v":""},{"$f":"IF(ISBLANK('DE01-F12'!Q600),\"\",('DE01-F12'!Q600))","v":""},{"$f":"IF(ISBLANK('DE01-F12'!S600),\"\",('DE01-F12'!S600))","v":0}]
[{"$f":"IF(ISBLANK('DE01-F12'!N601),\"\",('DE01-F12'!N601))","v":""},{"$f":"MID('DE01-F12'!G601,1,18)","v":""},{"$f":"IF(ISBLANK('DE01-F12'!P601),\"\",('DE01-F12'!P601))","v":""},{"$f":"IF(ISBLANK('DE01-F12'!Q601),\"\",('DE01-F12'!Q601))","v":""},{"$f":"IF(ISBLANK('DE01-F12'!S601),\"\",('DE01-F12'!S601))","v":0}]
[{"$f":"IF(ISBLANK('DE01-F12'!N602),\"\",('DE01-F12'!N602))","v":""},{"$f":"MID('DE01-F12'!G602,1,18)","v":""},{"$f":"IF(ISBLANK('DE01-F12'!P602),\"\",('DE01-F12'!P602))","v":""},{"$f":"IF(ISBLANK('DE01-F12'!Q602),\"\",('DE01-F12'!Q602))","v":""},{"$f":"IF(ISBLANK('DE01-F12'!S602),\"\",('DE01-F12'!S602))","v":0}]
[{"$f":"IF(ISBLANK('DE01-F12'!N603),\"\",('DE01-F12'!N603))","v":""},{"$f":"MID('DE01-F12'!G603,1,18)","v":""},{"$f":"IF(ISBLANK('DE01-F12'!P603),\"\",('DE01-F12'!P603))","v":""},{"$f":"IF(ISBLANK('DE01-F12'!Q603),\"\",('DE01-F12'!Q603))","v":""},{"$f":"IF(ISBLANK('DE01-F12'!S603),\"\",('DE01-F12'!S603))","v":0}]
[{"$f":"IF(ISBLANK('DE01-F12'!N604),\"\",('DE01-F12'!N604))","v":""},{"$f":"MID('DE01-F12'!G604,1,18)","v":""},{"$f":"IF(ISBLANK('DE01-F12'!P604),\"\",('DE01-F12'!P604))","v":""},{"$f":"IF(ISBLANK('DE01-F12'!Q604),\"\",('DE01-F12'!Q604))","v":""},{"$f":"IF(ISBLANK('DE01-F12'!S604),\"\",('DE01-F12'!S604))","v":0}]
[{"$f":"IF(ISBLANK('DE01-F12'!N605),\"\",('DE01-F12'!N605))","v":""},{"$f":"MID('DE01-F12'!G605,1,18)","v":""},{"$f":"IF(ISBLANK('DE01-F12'!P605),\"\",('DE01-F12'!P605))","v":""},{"$f":"IF(ISBLANK('DE01-F12'!Q605),\"\",('DE01-F12'!Q605))","v":""},{"$f":"IF(ISBLANK('DE01-F12'!S605),\"\",('DE01-F12'!S605))","v":0}]
[{"$f":"IF(ISBLANK('DE01-F12'!N606),\"\",('DE01-F12'!N606))","v":""},{"$f":"MID('DE01-F12'!G606,1,18)","v":""},{"$f":"IF(ISBLANK('DE01-F12'!P606),\"\",('DE01-F12'!P606))","v":""},{"$f":"IF(ISBLANK('DE01-F12'!Q606),\"\",('DE01-F12'!Q606))","v":""},{"$f":"IF(ISBLANK('DE01-F12'!S606),\"\",('DE01-F12'!S606))","v":0}]
[{"$f":"IF(ISBLANK('DE01-F12'!N607),\"\",('DE01-F12'!N607))","v":""},{"$f":"MID('DE01-F12'!G607,1,18)","v":""},{"$f":"IF(ISBLANK('DE01-F12'!P607),\"\",('DE01-F12'!P607))","v":""},{"$f":"IF(ISBLANK('DE01-F12'!Q607),\"\",('DE01-F12'!Q607))","v":""},{"$f":"IF(ISBLANK('DE01-F12'!S607),\"\",('DE01-F12'!S607))","v":0}]
[{"$f":"IF(ISBLANK('DE01-F12'!N608),\"\",('DE01-F12'!N608))","v":""},{"$f":"MID('DE01-F12'!G608,1,18)","v":""},{"$f":"IF(ISBLANK('DE01-F12'!P608),\"\",('DE01-F12'!P608))","v":""},{"$f":"IF(ISBLANK('DE01-F12'!Q608),\"\",('DE01-F12'!Q608))","v":""},{"$f":"IF(ISBLANK('DE01-F12'!S608),\"\",('DE01-F12'!S608))","v":0}]
[{"$f":"IF(ISBLANK('DE01-F12'!N609),\"\",('DE01-F12'!N609))","v":""},{"$f":"MID('DE01-F12'!G609,1,18)","v":""},{"$f":"IF(ISBLANK('DE01-F12'!P609),\"\",('DE01-F12'!P609))","v":""},{"$f":"IF(ISBLANK('DE01-F12'!Q609),\"\",('DE01-F12'!Q609))","v":""},{"$f":"IF(ISBLANK('DE01-F12'!S609),\"\",('DE01-F12'!S609))","v":0}]
[{"$f":"IF(ISBLANK('DE01-F12'!N610),\"\",('DE01-F12'!N610))","v":""},{"$f":"MID('DE01-F12'!G610,1,18)","v":""},{"$f":"IF(ISBLANK('DE01-F12'!P610),\"\",('DE01-F12'!P610))","v":""},{"$f":"IF(ISBLANK('DE01-F12'!Q610),\"\",('DE01-F12'!Q610))","v":""},{"$f":"IF(ISBLANK('DE01-F12'!S610),\"\",('DE01-F12'!S610))","v":0}]
[{"$f":"IF(ISBLANK('DE01-F12'!N611),\"\",('DE01-F12'!N611))","v":""},{"$f":"MID('DE01-F12'!G611,1,18)","v":""},{"$f":"IF(ISBLANK('DE01-F12'!P611),\"\",('DE01-F12'!P611))","v":""},{"$f":"IF(ISBLANK('DE01-F12'!Q611),\"\",('DE01-F12'!Q611))","v":""},{"$f":"IF(ISBLANK('DE01-F12'!S611),\"\",('DE01-F12'!S611))","v":0}]
[{"$f":"IF(ISBLANK('DE01-F12'!N612),\"\",('DE01-F12'!N612))","v":""},{"$f":"MID('DE01-F12'!G612,1,18)","v":""},{"$f":"IF(ISBLANK('DE01-F12'!P612),\"\",('DE01-F12'!P612))","v":""},{"$f":"IF(ISBLANK('DE01-F12'!Q612),\"\",('DE01-F12'!Q612))","v":""},{"$f":"IF(ISBLANK('DE01-F12'!S612),\"\",('DE01-F12'!S612))","v":0}]
[{"$f":"IF(ISBLANK('DE01-F12'!N613),\"\",('DE01-F12'!N613))","v":""},{"$f":"MID('DE01-F12'!G613,1,18)","v":""},{"$f":"IF(ISBLANK('DE01-F12'!P613),\"\",('DE01-F12'!P613))","v":""},{"$f":"IF(ISBLANK('DE01-F12'!Q613),\"\",('DE01-F12'!Q613))","v":""},{"$f":"IF(ISBLANK('DE01-F12'!S613),\"\",('DE01-F12'!S613))","v":0}]
[{"$f":"IF(ISBLANK('DE01-F12'!N614),\"\",('DE01-F12'!N614))","v":""},{"$f":"MID('DE01-F12'!G614,1,18)","v":""},{"$f":"IF(ISBLANK('DE01-F12'!P614),\"\",('DE01-F12'!P614))","v":""},{"$f":"IF(ISBLANK('DE01-F12'!Q614),\"\",('DE01-F12'!Q614))","v":""},{"$f":"IF(ISBLANK('DE01-F12'!S614),\"\",('DE01-F12'!S614))","v":0}]
[{"$f":"IF(ISBLANK('DE01-F12'!N615),\"\",('DE01-F12'!N615))","v":""},{"$f":"MID('DE01-F12'!G615,1,18)","v":""},{"$f":"IF(ISBLANK('DE01-F12'!P615),\"\",('DE01-F12'!P615))","v":""},{"$f":"IF(ISBLANK('DE01-F12'!Q615),\"\",('DE01-F12'!Q615))","v":""},{"$f":"IF(ISBLANK('DE01-F12'!S615),\"\",('DE01-F12'!S615))","v":0}]
[{"$f":"IF(ISBLANK('DE01-F12'!N616),\"\",('DE01-F12'!N616))","v":""},{"$f":"MID('DE01-F12'!G616,1,18)","v":""},{"$f":"IF(ISBLANK('DE01-F12'!P616),\"\",('DE01-F12'!P616))","v":""},{"$f":"IF(ISBLANK('DE01-F12'!Q616),\"\",('DE01-F12'!Q616))","v":""},{"$f":"IF(ISBLANK('DE01-F12'!S616),\"\",('DE01-F12'!S616))","v":0}]
[{"$f":"IF(ISBLANK('DE01-F12'!N617),\"\",('DE01-F12'!N617))","v":""},{"$f":"MID('DE01-F12'!G617,1,18)","v":""},{"$f":"IF(ISBLANK('DE01-F12'!P617),\"\",('DE01-F12'!P617))","v":""},{"$f":"IF(ISBLANK('DE01-F12'!Q617),\"\",('DE01-F12'!Q617))","v":""},{"$f":"IF(ISBLANK('DE01-F12'!S617),\"\",('DE01-F12'!S617))","v":0}]
[{"$f":"IF(ISBLANK('DE01-F12'!N618),\"\",('DE01-F12'!N618))","v":""},{"$f":"MID('DE01-F12'!G618,1,18)","v":""},{"$f":"IF(ISBLANK('DE01-F12'!P618),\"\",('DE01-F12'!P618))","v":""},{"$f":"IF(ISBLANK('DE01-F12'!Q618),\"\",('DE01-F12'!Q618))","v":""},{"$f":"IF(ISBLANK('DE01-F12'!S618),\"\",('DE01-F12'!S618))","v":0}]
[{"$f":"IF(ISBLANK('DE01-F12'!N619),\"\",('DE01-F12'!N619))","v":""},{"$f":"MID('DE01-F12'!G619,1,18)","v":""},{"$f":"IF(ISBLANK('DE01-F12'!P619),\"\",('DE01-F12'!P619))","v":""},{"$f":"IF(ISBLANK('DE01-F12'!Q619),\"\",('DE01-F12'!Q619))","v":""},{"$f":"IF(ISBLANK('DE01-F12'!S619),\"\",('DE01-F12'!S619))","v":0}]
[{"$f":"IF(ISBLANK('DE01-F12'!N620),\"\",('DE01-F12'!N620))","v":""},{"$f":"MID('DE01-F12'!G620,1,18)","v":""},{"$f":"IF(ISBLANK('DE01-F12'!P620),\"\",('DE01-F12'!P620))","v":""},{"$f":"IF(ISBLANK('DE01-F12'!Q620),\"\",('DE01-F12'!Q620))","v":""},{"$f":"IF(ISBLANK('DE01-F12'!S620),\"\",('DE01-F12'!S620))","v":0}]
[{"$f":"IF(ISBLANK('DE01-F12'!N621),\"\",('DE01-F12'!N621))","v":""},{"$f":"MID('DE01-F12'!G621,1,18)","v":""},{"$f":"IF(ISBLANK('DE01-F12'!P621),\"\",('DE01-F12'!P621))","v":""},{"$f":"IF(ISBLANK('DE01-F12'!Q621),\"\",('DE01-F12'!Q621))","v":""},{"$f":"IF(ISBLANK('DE01-F12'!S621),\"\",('DE01-F12'!S621))","v":0}]
[{"$f":"IF(ISBLANK('DE01-F12'!N622),\"\",('DE01-F12'!N622))","v":""},{"$f":"MID('DE01-F12'!G622,1,18)","v":""},{"$f":"IF(ISBLANK('DE01-F12'!P622),\"\",('DE01-F12'!P622))","v":""},{"$f":"IF(ISBLANK('DE01-F12'!Q622),\"\",('DE01-F12'!Q622))","v":""},{"$f":"IF(ISBLANK('DE01-F12'!S622),\"\",('DE01-F12'!S622))","v":0}]
[{"$f":"IF(ISBLANK('DE01-F12'!N623),\"\",('DE01-F12'!N623))","v":""},{"$f":"MID('DE01-F12'!G623,1,18)","v":""},{"$f":"IF(ISBLANK('DE01-F12'!P623),\"\",('DE01-F12'!P623))","v":""},{"$f":"IF(ISBLANK('DE01-F12'!Q623),\"\",('DE01-F12'!Q623))","v":""},{"$f":"IF(ISBLANK('DE01-F12'!S623),\"\",('DE01-F12'!S623))","v":0}]
[{"$f":"IF(ISBLANK('DE01-F12'!N624),\"\",('DE01-F12'!N624))","v":""},{"$f":"MID('DE01-F12'!G624,1,18)","v":""},{"$f":"IF(ISBLANK('DE01-F12'!P624),\"\",('DE01-F12'!P624))","v":""},{"$f":"IF(ISBLANK('DE01-F12'!Q624),\"\",('DE01-F12'!Q624))","v":""},{"$f":"IF(ISBLANK('DE01-F12'!S624),\"\",('DE01-F12'!S624))","v":0}]
[{"$f":"IF(ISBLANK('DE01-F12'!N625),\"\",('DE01-F12'!N625))","v":""},{"$f":"MID('DE01-F12'!G625,1,18)","v":""},{"$f":"IF(ISBLANK('DE01-F12'!P625),\"\",('DE01-F12'!P625))","v":""},{"$f":"IF(ISBLANK('DE01-F12'!Q625),\"\",('DE01-F12'!Q625))","v":""},{"$f":"IF(ISBLANK('DE01-F12'!S625),\"\",('DE01-F12'!S625))","v":0}]
[{"$f":"IF(ISBLANK('DE01-F12'!N626),\"\",('DE01-F12'!N626))","v":""},{"$f":"MID('DE01-F12'!G626,1,18)","v":""},{"$f":"IF(ISBLANK('DE01-F12'!P626),\"\",('DE01-F12'!P626))","v":""},{"$f":"IF(ISBLANK('DE01-F12'!Q626),\"\",('DE01-F12'!Q626))","v":""},{"$f":"IF(ISBLANK('DE01-F12'!S626),\"\",('DE01-F12'!S626))","v":0}]
[{"$f":"IF(ISBLANK('DE01-F12'!N627),\"\",('DE01-F12'!N627))","v":""},{"$f":"MID('DE01-F12'!G627,1,18)","v":""},{"$f":"IF(ISBLANK('DE01-F12'!P627),\"\",('DE01-F12'!P627))","v":""},{"$f":"IF(ISBLANK('DE01-F12'!Q627),\"\",('DE01-F12'!Q627))","v":""},{"$f":"IF(ISBLANK('DE01-F12'!S627),\"\",('DE01-F12'!S627))","v":0}]
[{"$f":"IF(ISBLANK('DE01-F12'!N628),\"\",('DE01-F12'!N628))","v":""},{"$f":"MID('DE01-F12'!G628,1,18)","v":""},{"$f":"IF(ISBLANK('DE01-F12'!P628),\"\",('DE01-F12'!P628))","v":""},{"$f":"IF(ISBLANK('DE01-F12'!Q628),\"\",('DE01-F12'!Q628))","v":""},{"$f":"IF(ISBLANK('DE01-F12'!S628),\"\",('DE01-F12'!S628))","v":0}]
[{"$f":"IF(ISBLANK('DE01-F12'!N629),\"\",('DE01-F12'!N629))","v":""},{"$f":"MID('DE01-F12'!G629,1,18)","v":""},{"$f":"IF(ISBLANK('DE01-F12'!P629),\"\",('DE01-F12'!P629))","v":""},{"$f":"IF(ISBLANK('DE01-F12'!Q629),\"\",('DE01-F12'!Q629))","v":""},{"$f":"IF(ISBLANK('DE01-F12'!S629),\"\",('DE01-F12'!S629))","v":0}]
[{"$f":"IF(ISBLANK('DE01-F12'!N630),\"\",('DE01-F12'!N630))","v":""},{"$f":"MID('DE01-F12'!G630,1,18)","v":""},{"$f":"IF(ISBLANK('DE01-F12'!P630),\"\",('DE01-F12'!P630))","v":""},{"$f":"IF(ISBLANK('DE01-F12'!Q630),\"\",('DE01-F12'!Q630))","v":""},{"$f":"IF(ISBLANK('DE01-F12'!S630),\"\",('DE01-F12'!S630))","v":0}]
[{"$f":"IF(ISBLANK('DE01-F12'!N631),\"\",('DE01-F12'!N631))","v":""},{"$f":"MID('DE01-F12'!G631,1,18)","v":""},{"$f":"IF(ISBLANK('DE01-F12'!P631),\"\",('DE01-F12'!P631))","v":""},{"$f":"IF(ISBLANK('DE01-F12'!Q631),\"\",('DE01-F12'!Q631))","v":""},{"$f":"IF(ISBLANK('DE01-F12'!S631),\"\",('DE01-F12'!S631))","v":0}]
[{"$f":"IF(ISBLANK('DE01-F12'!N632),\"\",('DE01-F12'!N632))","v":""},{"$f":"MID('DE01-F12'!G632,1,18)","v":""},{"$f":"IF(ISBLANK('DE01-F12'!P632),\"\",('DE01-F12'!P632))","v":""},{"$f":"IF(ISBLANK('DE01-F12'!Q632),\"\",('DE01-F12'!Q632))","v":""},{"$f":"IF(ISBLANK('DE01-F12'!S632),\"\",('DE01-F12'!S632))","v":0}]
[{"$f":"IF(ISBLANK('DE01-F12'!N633),\"\",('DE01-F12'!N633))","v":""},{"$f":"MID('DE01-F12'!G633,1,18)","v":""},{"$f":"IF(ISBLANK('DE01-F12'!P633),\"\",('DE01-F12'!P633))","v":""},{"$f":"IF(ISBLANK('DE01-F12'!Q633),\"\",('DE01-F12'!Q633))","v":""},{"$f":"IF(ISBLANK('DE01-F12'!S633),\"\",('DE01-F12'!S633))","v":0}]
[{"$f":"IF(ISBLANK('DE01-F12'!N634),\"\",('DE01-F12'!N634))","v":""},{"$f":"MID('DE01-F12'!G634,1,18)","v":""},{"$f":"IF(ISBLANK('DE01-F12'!P634),\"\",('DE01-F12'!P634))","v":""},{"$f":"IF(ISBLANK('DE01-F12'!Q634),\"\",('DE01-F12'!Q634))","v":""},{"$f":"IF(ISBLANK('DE01-F12'!S634),\"\",('DE01-F12'!S634))","v":0}]
[{"$f":"IF(ISBLANK('DE01-F12'!N635),\"\",('DE01-F12'!N635))","v":""},{"$f":"MID('DE01-F12'!G635,1,18)","v":""},{"$f":"IF(ISBLANK('DE01-F12'!P635),\"\",('DE01-F12'!P635))","v":""},{"$f":"IF(ISBLANK('DE01-F12'!Q635),\"\",('DE01-F12'!Q635))","v":""},{"$f":"IF(ISBLANK('DE01-F12'!S635),\"\",('DE01-F12'!S635))","v":0}]
[{"$f":"IF(ISBLANK('DE01-F12'!N636),\"\",('DE01-F12'!N636))","v":""},{"$f":"MID('DE01-F12'!G636,1,18)","v":""},{"$f":"IF(ISBLANK('DE01-F12'!P636),\"\",('DE01-F12'!P636))","v":""},{"$f":"IF(ISBLANK('DE01-F12'!Q636),\"\",('DE01-F12'!Q636))","v":""},{"$f":"IF(ISBLANK('DE01-F12'!S636),\"\",('DE01-F12'!S636))","v":0}]
[{"$f":"IF(ISBLANK('DE01-F12'!N637),\"\",('DE01-F12'!N637))","v":""},{"$f":"MID('DE01-F12'!G637,1,18)","v":""},{"$f":"IF(ISBLANK('DE01-F12'!P637),\"\",('DE01-F12'!P637))","v":""},{"$f":"IF(ISBLANK('DE01-F12'!Q637),\"\",('DE01-F12'!Q637))","v":""},{"$f":"IF(ISBLANK('DE01-F12'!S637),\"\",('DE01-F12'!S637))","v":0}]
[{"$f":"IF(ISBLANK('DE01-F12'!N638),\"\",('DE01-F12'!N638))","v":""},{"$f":"MID('DE01-F12'!G638,1,18)","v":""},{"$f":"IF(ISBLANK('DE01-F12'!P638),\"\",('DE01-F12'!P638))","v":""},{"$f":"IF(ISBLANK('DE01-F12'!Q638),\"\",('DE01-F12'!Q638))","v":""},{"$f":"IF(ISBLANK('DE01-F12'!S638),\"\",('DE01-F12'!S638))","v":0}]
[{"$f":"IF(ISBLANK('DE01-F12'!N639),\"\",('DE01-F12'!N639))","v":""},{"$f":"MID('DE01-F12'!G639,1,18)","v":""},{"$f":"IF(ISBLANK('DE01-F12'!P639),\"\",('DE01-F12'!P639))","v":""},{"$f":"IF(ISBLANK('DE01-F12'!Q639),\"\",('DE01-F12'!Q639))","v":""},{"$f":"IF(ISBLANK('DE01-F12'!S639),\"\",('DE01-F12'!S639))","v":0}]
[{"$f":"IF(ISBLANK('DE01-F12'!N640),\"\",('DE01-F12'!N640))","v":""},{"$f":"MID('DE01-F12'!G640,1,18)","v":""},{"$f":"IF(ISBLANK('DE01-F12'!P640),\"\",('DE01-F12'!P640))","v":""},{"$f":"IF(ISBLANK('DE01-F12'!Q640),\"\",('DE01-F12'!Q640))","v":""},{"$f":"IF(ISBLANK('DE01-F12'!S640),\"\",('DE01-F12'!S640))","v":0}]
[{"$f":"IF(ISBLANK('DE01-F12'!N641),\"\",('DE01-F12'!N641))","v":""},{"$f":"MID('DE01-F12'!G641,1,18)","v":""},{"$f":"IF(ISBLANK('DE01-F12'!P641),\"\",('DE01-F12'!P641))","v":""},{"$f":"IF(ISBLANK('DE01-F12'!Q641),\"\",('DE01-F12'!Q641))","v":""},{"$f":"IF(ISBLANK('DE01-F12'!S641),\"\",('DE01-F12'!S641))","v":0}]
[{"$f":"IF(ISBLANK('DE01-F12'!N642),\"\",('DE01-F12'!N642))","v":""},{"$f":"MID('DE01-F12'!G642,1,18)","v":""},{"$f":"IF(ISBLANK('DE01-F12'!P642),\"\",('DE01-F12'!P642))","v":""},{"$f":"IF(ISBLANK('DE01-F12'!Q642),\"\",('DE01-F12'!Q642))","v":""},{"$f":"IF(ISBLANK('DE01-F12'!S642),\"\",('DE01-F12'!S642))","v":0}]
[{"$f":"IF(ISBLANK('DE01-F12'!N643),\"\",('DE01-F12'!N643))","v":""},{"$f":"MID('DE01-F12'!G643,1,18)","v":""},{"$f":"IF(ISBLANK('DE01-F12'!P643),\"\",('DE01-F12'!P643))","v":""},{"$f":"IF(ISBLANK('DE01-F12'!Q643),\"\",('DE01-F12'!Q643))","v":""},{"$f":"IF(ISBLANK('DE01-F12'!S643),\"\",('DE01-F12'!S643))","v":0}]
[{"$f":"IF(ISBLANK('DE01-F12'!N644),\"\",('DE01-F12'!N644))","v":""},{"$f":"MID('DE01-F12'!G644,1,18)","v":""},{"$f":"IF(ISBLANK('DE01-F12'!P644),\"\",('DE01-F12'!P644))","v":""},{"$f":"IF(ISBLANK('DE01-F12'!Q644),\"\",('DE01-F12'!Q644))","v":""},{"$f":"IF(ISBLANK('DE01-F12'!S644),\"\",('DE01-F12'!S644))","v":0}]
[{"$f":"IF(ISBLANK('DE01-F12'!N645),\"\",('DE01-F12'!N645))","v":""},{"$f":"MID('DE01-F12'!G645,1,18)","v":""},{"$f":"IF(ISBLANK('DE01-F12'!P645),\"\",('DE01-F12'!P645))","v":""},{"$f":"IF(ISBLANK('DE01-F12'!Q645),\"\",('DE01-F12'!Q645))","v":""},{"$f":"IF(ISBLANK('DE01-F12'!S645),\"\",('DE01-F12'!S645))","v":0}]
[{"$f":"IF(ISBLANK('DE01-F12'!N646),\"\",('DE01-F12'!N646))","v":""},{"$f":"MID('DE01-F12'!G646,1,18)","v":""},{"$f":"IF(ISBLANK('DE01-F12'!P646),\"\",('DE01-F12'!P646))","v":""},{"$f":"IF(ISBLANK('DE01-F12'!Q646),\"\",('DE01-F12'!Q646))","v":""},{"$f":"IF(ISBLANK('DE01-F12'!S646),\"\",('DE01-F12'!S646))","v":0}]
[{"$f":"IF(ISBLANK('DE01-F12'!N647),\"\",('DE01-F12'!N647))","v":""},{"$f":"MID('DE01-F12'!G647,1,18)","v":""},{"$f":"IF(ISBLANK('DE01-F12'!P647),\"\",('DE01-F12'!P647))","v":""},{"$f":"IF(ISBLANK('DE01-F12'!Q647),\"\",('DE01-F12'!Q647))","v":""},{"$f":"IF(ISBLANK('DE01-F12'!S647),\"\",('DE01-F12'!S647))","v":0}]
[{"$f":"IF(ISBLANK('DE01-F12'!N648),\"\",('DE01-F12'!N648))","v":""},{"$f":"MID('DE01-F12'!G648,1,18)","v":""},{"$f":"IF(ISBLANK('DE01-F12'!P648),\"\",('DE01-F12'!P648))","v":""},{"$f":"IF(ISBLANK('DE01-F12'!Q648),\"\",('DE01-F12'!Q648))","v":""},{"$f":"IF(ISBLANK('DE01-F12'!S648),\"\",('DE01-F12'!S648))","v":0}]
[{"$f":"IF(ISBLANK('DE01-F12'!N649),\"\",('DE01-F12'!N649))","v":""},{"$f":"MID('DE01-F12'!G649,1,18)","v":""},{"$f":"IF(ISBLANK('DE01-F12'!P649),\"\",('DE01-F12'!P649))","v":""},{"$f":"IF(ISBLANK('DE01-F12'!Q649),\"\",('DE01-F12'!Q649))","v":""},{"$f":"IF(ISBLANK('DE01-F12'!S649),\"\",('DE01-F12'!S649))","v":0}]
[{"$f":"IF(ISBLANK('DE01-F12'!N650),\"\",('DE01-F12'!N650))","v":""},{"$f":"MID('DE01-F12'!G650,1,18)","v":""},{"$f":"IF(ISBLANK('DE01-F12'!P650),\"\",('DE01-F12'!P650))","v":""},{"$f":"IF(ISBLANK('DE01-F12'!Q650),\"\",('DE01-F12'!Q650))","v":""},{"$f":"IF(ISBLANK('DE01-F12'!S650),\"\",('DE01-F12'!S650))","v":0}]
[{"$f":"IF(ISBLANK('DE01-F12'!N651),\"\",('DE01-F12'!N651))","v":""},{"$f":"MID('DE01-F12'!G651,1,18)","v":""},{"$f":"IF(ISBLANK('DE01-F12'!P651),\"\",('DE01-F12'!P651))","v":""},{"$f":"IF(ISBLANK('DE01-F12'!Q651),\"\",('DE01-F12'!Q651))","v":""},{"$f":"IF(ISBLANK('DE01-F12'!S651),\"\",('DE01-F12'!S651))","v":0}]
[{"$f":"IF(ISBLANK('DE01-F12'!N652),\"\",('DE01-F12'!N652))","v":""},{"$f":"MID('DE01-F12'!G652,1,18)","v":""},{"$f":"IF(ISBLANK('DE01-F12'!P652),\"\",('DE01-F12'!P652))","v":""},{"$f":"IF(ISBLANK('DE01-F12'!Q652),\"\",('DE01-F12'!Q652))","v":""},{"$f":"IF(ISBLANK('DE01-F12'!S652),\"\",('DE01-F12'!S652))","v":0}]
[{"$f":"IF(ISBLANK('DE01-F12'!N653),\"\",('DE01-F12'!N653))","v":""},{"$f":"MID('DE01-F12'!G653,1,18)","v":""},{"$f":"IF(ISBLANK('DE01-F12'!P653),\"\",('DE01-F12'!P653))","v":""},{"$f":"IF(ISBLANK('DE01-F12'!Q653),\"\",('DE01-F12'!Q653))","v":""},{"$f":"IF(ISBLANK('DE01-F12'!S653),\"\",('DE01-F12'!S653))","v":0}]
[{"$f":"IF(ISBLANK('DE01-F12'!N654),\"\",('DE01-F12'!N654))","v":""},{"$f":"MID('DE01-F12'!G654,1,18)","v":""},{"$f":"IF(ISBLANK('DE01-F12'!P654),\"\",('DE01-F12'!P654))","v":""},{"$f":"IF(ISBLANK('DE01-F12'!Q654),\"\",('DE01-F12'!Q654))","v":""},{"$f":"IF(ISBLANK('DE01-F12'!S654),\"\",('DE01-F12'!S654))","v":0}]
[{"$f":"IF(ISBLANK('DE01-F12'!N655),\"\",('DE01-F12'!N655))","v":""},{"$f":"MID('DE01-F12'!G655,1,18)","v":""},{"$f":"IF(ISBLANK('DE01-F12'!P655),\"\",('DE01-F12'!P655))","v":""},{"$f":"IF(ISBLANK('DE01-F12'!Q655),\"\",('DE01-F12'!Q655))","v":""},{"$f":"IF(ISBLANK('DE01-F12'!S655),\"\",('DE01-F12'!S655))","v":0}]
[{"$f":"IF(ISBLANK('DE01-F12'!N656),\"\",('DE01-F12'!N656))","v":""},{"$f":"MID('DE01-F12'!G656,1,18)","v":""},{"$f":"IF(ISBLANK('DE01-F12'!P656),\"\",('DE01-F12'!P656))","v":""},{"$f":"IF(ISBLANK('DE01-F12'!Q656),\"\",('DE01-F12'!Q656))","v":""},{"$f":"IF(ISBLANK('DE01-F12'!S656),\"\",('DE01-F12'!S656))","v":0}]
[{"$f":"IF(ISBLANK('DE01-F12'!N657),\"\",('DE01-F12'!N657))","v":""},{"$f":"MID('DE01-F12'!G657,1,18)","v":""},{"$f":"IF(ISBLANK('DE01-F12'!P657),\"\",('DE01-F12'!P657))","v":""},{"$f":"IF(ISBLANK('DE01-F12'!Q657),\"\",('DE01-F12'!Q657))","v":""},{"$f":"IF(ISBLANK('DE01-F12'!S657),\"\",('DE01-F12'!S657))","v":0}]
[{"$f":"IF(ISBLANK('DE01-F12'!N658),\"\",('DE01-F12'!N658))","v":""},{"$f":"MID('DE01-F12'!G658,1,18)","v":""},{"$f":"IF(ISBLANK('DE01-F12'!P658),\"\",('DE01-F12'!P658))","v":""},{"$f":"IF(ISBLANK('DE01-F12'!Q658),\"\",('DE01-F12'!Q658))","v":""},{"$f":"IF(ISBLANK('DE01-F12'!S658),\"\",('DE01-F12'!S658))","v":0}]
[{"$f":"IF(ISBLANK('DE01-F12'!N659),\"\",('DE01-F12'!N659))","v":""},{"$f":"MID('DE01-F12'!G659,1,18)","v":""},{"$f":"IF(ISBLANK('DE01-F12'!P659),\"\",('DE01-F12'!P659))","v":""},{"$f":"IF(ISBLANK('DE01-F12'!Q659),\"\",('DE01-F12'!Q659))","v":""},{"$f":"IF(ISBLANK('DE01-F12'!S659),\"\",('DE01-F12'!S659))","v":0}]
[{"$f":"IF(ISBLANK('DE01-F12'!N660),\"\",('DE01-F12'!N660))","v":""},{"$f":"MID('DE01-F12'!G660,1,18)","v":""},{"$f":"IF(ISBLANK('DE01-F12'!P660),\"\",('DE01-F12'!P660))","v":""},{"$f":"IF(ISBLANK('DE01-F12'!Q660),\"\",('DE01-F12'!Q660))","v":""},{"$f":"IF(ISBLANK('DE01-F12'!S660),\"\",('DE01-F12'!S660))","v":0}]
[{"$f":"IF(ISBLANK('DE01-F12'!N661),\"\",('DE01-F12'!N661))","v":""},{"$f":"MID('DE01-F12'!G661,1,18)","v":""},{"$f":"IF(ISBLANK('DE01-F12'!P661),\"\",('DE01-F12'!P661))","v":""},{"$f":"IF(ISBLANK('DE01-F12'!Q661),\"\",('DE01-F12'!Q661))","v":""},{"$f":"IF(ISBLANK('DE01-F12'!S661),\"\",('DE01-F12'!S661))","v":0}]
[{"$f":"IF(ISBLANK('DE01-F12'!N662),\"\",('DE01-F12'!N662))","v":""},{"$f":"MID('DE01-F12'!G662,1,18)","v":""},{"$f":"IF(ISBLANK('DE01-F12'!P662),\"\",('DE01-F12'!P662))","v":""},{"$f":"IF(ISBLANK('DE01-F12'!Q662),\"\",('DE01-F12'!Q662))","v":""},{"$f":"IF(ISBLANK('DE01-F12'!S662),\"\",('DE01-F12'!S662))","v":0}]
[{"$f":"IF(ISBLANK('DE01-F12'!N663),\"\",('DE01-F12'!N663))","v":""},{"$f":"MID('DE01-F12'!G663,1,18)","v":""},{"$f":"IF(ISBLANK('DE01-F12'!P663),\"\",('DE01-F12'!P663))","v":""},{"$f":"IF(ISBLANK('DE01-F12'!Q663),\"\",('DE01-F12'!Q663))","v":""},{"$f":"IF(ISBLANK('DE01-F12'!S663),\"\",('DE01-F12'!S663))","v":0}]
[{"$f":"IF(ISBLANK('DE01-F12'!N664),\"\",('DE01-F12'!N664))","v":""},{"$f":"MID('DE01-F12'!G664,1,18)","v":""},{"$f":"IF(ISBLANK('DE01-F12'!P664),\"\",('DE01-F12'!P664))","v":""},{"$f":"IF(ISBLANK('DE01-F12'!Q664),\"\",('DE01-F12'!Q664))","v":""},{"$f":"IF(ISBLANK('DE01-F12'!S664),\"\",('DE01-F12'!S664))","v":0}]
[{"$f":"IF(ISBLANK('DE01-F12'!N665),\"\",('DE01-F12'!N665))","v":""},{"$f":"MID('DE01-F12'!G665,1,18)","v":""},{"$f":"IF(ISBLANK('DE01-F12'!P665),\"\",('DE01-F12'!P665))","v":""},{"$f":"IF(ISBLANK('DE01-F12'!Q665),\"\",('DE01-F12'!Q665))","v":""},{"$f":"IF(ISBLANK('DE01-F12'!S665),\"\",('DE01-F12'!S665))","v":0}]
[{"$f":"IF(ISBLANK('DE01-F12'!N666),\"\",('DE01-F12'!N666))","v":""},{"$f":"MID('DE01-F12'!G666,1,18)","v":""},{"$f":"IF(ISBLANK('DE01-F12'!P666),\"\",('DE01-F12'!P666))","v":""},{"$f":"IF(ISBLANK('DE01-F12'!Q666),\"\",('DE01-F12'!Q666))","v":""},{"$f":"IF(ISBLANK('DE01-F12'!S666),\"\",('DE01-F12'!S666))","v":0}]
[{"$f":"IF(ISBLANK('DE01-F12'!N667),\"\",('DE01-F12'!N667))","v":""},{"$f":"MID('DE01-F12'!G667,1,18)","v":""},{"$f":"IF(ISBLANK('DE01-F12'!P667),\"\",('DE01-F12'!P667))","v":""},{"$f":"IF(ISBLANK('DE01-F12'!Q667),\"\",('DE01-F12'!Q667))","v":""},{"$f":"IF(ISBLANK('DE01-F12'!S667),\"\",('DE01-F12'!S667))","v":0}]
[{"$f":"IF(ISBLANK('DE01-F12'!N668),\"\",('DE01-F12'!N668))","v":""},{"$f":"MID('DE01-F12'!G668,1,18)","v":""},{"$f":"IF(ISBLANK('DE01-F12'!P668),\"\",('DE01-F12'!P668))","v":""},{"$f":"IF(ISBLANK('DE01-F12'!Q668),\"\",('DE01-F12'!Q668))","v":""},{"$f":"IF(ISBLANK('DE01-F12'!S668),\"\",('DE01-F12'!S668))","v":0}]
[{"$f":"IF(ISBLANK('DE01-F12'!N669),\"\",('DE01-F12'!N669))","v":""},{"$f":"MID('DE01-F12'!G669,1,18)","v":""},{"$f":"IF(ISBLANK('DE01-F12'!P669),\"\",('DE01-F12'!P669))","v":""},{"$f":"IF(ISBLANK('DE01-F12'!Q669),\"\",('DE01-F12'!Q669))","v":""},{"$f":"IF(ISBLANK('DE01-F12'!S669),\"\",('DE01-F12'!S669))","v":0}]
[{"$f":"IF(ISBLANK('DE01-F12'!N670),\"\",('DE01-F12'!N670))","v":""},{"$f":"MID('DE01-F12'!G670,1,18)","v":""},{"$f":"IF(ISBLANK('DE01-F12'!P670),\"\",('DE01-F12'!P670))","v":""},{"$f":"IF(ISBLANK('DE01-F12'!Q670),\"\",('DE01-F12'!Q670))","v":""},{"$f":"IF(ISBLANK('DE01-F12'!S670),\"\",('DE01-F12'!S670))","v":0}]
[{"$f":"IF(ISBLANK('DE01-F12'!N671),\"\",('DE01-F12'!N671))","v":""},{"$f":"MID('DE01-F12'!G671,1,18)","v":""},{"$f":"IF(ISBLANK('DE01-F12'!P671),\"\",('DE01-F12'!P671))","v":""},{"$f":"IF(ISBLANK('DE01-F12'!Q671),\"\",('DE01-F12'!Q671))","v":""},{"$f":"IF(ISBLANK('DE01-F12'!S671),\"\",('DE01-F12'!S671))","v":0}]
[{"$f":"IF(ISBLANK('DE01-F12'!N672),\"\",('DE01-F12'!N672))","v":""},{"$f":"MID('DE01-F12'!G672,1,18)","v":""},{"$f":"IF(ISBLANK('DE01-F12'!P672),\"\",('DE01-F12'!P672))","v":""},{"$f":"IF(ISBLANK('DE01-F12'!Q672),\"\",('DE01-F12'!Q672))","v":""},{"$f":"IF(ISBLANK('DE01-F12'!S672),\"\",('DE01-F12'!S672))","v":0}]
[{"$f":"IF(ISBLANK('DE01-F12'!N673),\"\",('DE01-F12'!N673))","v":""},{"$f":"MID('DE01-F12'!G673,1,18)","v":""},{"$f":"IF(ISBLANK('DE01-F12'!P673),\"\",('DE01-F12'!P673))","v":""},{"$f":"IF(ISBLANK('DE01-F12'!Q673),\"\",('DE01-F12'!Q673))","v":""},{"$f":"IF(ISBLANK('DE01-F12'!S673),\"\",('DE01-F12'!S673))","v":0}]
[{"$f":"IF(ISBLANK('DE01-F12'!N674),\"\",('DE01-F12'!N674))","v":""},{"$f":"MID('DE01-F12'!G674,1,18)","v":""},{"$f":"IF(ISBLANK('DE01-F12'!P674),\"\",('DE01-F12'!P674))","v":""},{"$f":"IF(ISBLANK('DE01-F12'!Q674),\"\",('DE01-F12'!Q674))","v":""},{"$f":"IF(ISBLANK('DE01-F12'!S674),\"\",('DE01-F12'!S674))","v":0}]
[{"$f":"IF(ISBLANK('DE01-F12'!N675),\"\",('DE01-F12'!N675))","v":""},{"$f":"MID('DE01-F12'!G675,1,18)","v":""},{"$f":"IF(ISBLANK('DE01-F12'!P675),\"\",('DE01-F12'!P675))","v":""},{"$f":"IF(ISBLANK('DE01-F12'!Q675),\"\",('DE01-F12'!Q675))","v":""},{"$f":"IF(ISBLANK('DE01-F12'!S675),\"\",('DE01-F12'!S675))","v":0}]
[{"$f":"IF(ISBLANK('DE01-F12'!N676),\"\",('DE01-F12'!N676))","v":""},{"$f":"MID('DE01-F12'!G676,1,18)","v":""},{"$f":"IF(ISBLANK('DE01-F12'!P676),\"\",('DE01-F12'!P676))","v":""},{"$f":"IF(ISBLANK('DE01-F12'!Q676),\"\",('DE01-F12'!Q676))","v":""},{"$f":"IF(ISBLANK('DE01-F12'!S676),\"\",('DE01-F12'!S676))","v":0}]
[{"$f":"IF(ISBLANK('DE01-F12'!N677),\"\",('DE01-F12'!N677))","v":""},{"$f":"MID('DE01-F12'!G677,1,18)","v":""},{"$f":"IF(ISBLANK('DE01-F12'!P677),\"\",('DE01-F12'!P677))","v":""},{"$f":"IF(ISBLANK('DE01-F12'!Q677),\"\",('DE01-F12'!Q677))","v":""},{"$f":"IF(ISBLANK('DE01-F12'!S677),\"\",('DE01-F12'!S677))","v":0}]
[{"$f":"IF(ISBLANK('DE01-F12'!N678),\"\",('DE01-F12'!N678))","v":""},{"$f":"MID('DE01-F12'!G678,1,18)","v":""},{"$f":"IF(ISBLANK('DE01-F12'!P678),\"\",('DE01-F12'!P678))","v":""},{"$f":"IF(ISBLANK('DE01-F12'!Q678),\"\",('DE01-F12'!Q678))","v":""},{"$f":"IF(ISBLANK('DE01-F12'!S678),\"\",('DE01-F12'!S678))","v":0}]
[{"$f":"IF(ISBLANK('DE01-F12'!N679),\"\",('DE01-F12'!N679))","v":""},{"$f":"MID('DE01-F12'!G679,1,18)","v":""},{"$f":"IF(ISBLANK('DE01-F12'!P679),\"\",('DE01-F12'!P679))","v":""},{"$f":"IF(ISBLANK('DE01-F12'!Q679),\"\",('DE01-F12'!Q679))","v":""},{"$f":"IF(ISBLANK('DE01-F12'!S679),\"\",('DE01-F12'!S679))","v":0}]
[{"$f":"IF(ISBLANK('DE01-F12'!N680),\"\",('DE01-F12'!N680))","v":""},{"$f":"MID('DE01-F12'!G680,1,18)","v":""},{"$f":"IF(ISBLANK('DE01-F12'!P680),\"\",('DE01-F12'!P680))","v":""},{"$f":"IF(ISBLANK('DE01-F12'!Q680),\"\",('DE01-F12'!Q680))","v":""},{"$f":"IF(ISBLANK('DE01-F12'!S680),\"\",('DE01-F12'!S680))","v":0}]
[{"$f":"IF(ISBLANK('DE01-F12'!N681),\"\",('DE01-F12'!N681))","v":""},{"$f":"MID('DE01-F12'!G681,1,18)","v":""},{"$f":"IF(ISBLANK('DE01-F12'!P681),\"\",('DE01-F12'!P681))","v":""},{"$f":"IF(ISBLANK('DE01-F12'!Q681),\"\",('DE01-F12'!Q681))","v":""},{"$f":"IF(ISBLANK('DE01-F12'!S681),\"\",('DE01-F12'!S681))","v":0}]
[{"$f":"IF(ISBLANK('DE01-F12'!N682),\"\",('DE01-F12'!N682))","v":""},{"$f":"MID('DE01-F12'!G682,1,18)","v":""},{"$f":"IF(ISBLANK('DE01-F12'!P682),\"\",('DE01-F12'!P682))","v":""},{"$f":"IF(ISBLANK('DE01-F12'!Q682),\"\",('DE01-F12'!Q682))","v":""},{"$f":"IF(ISBLANK('DE01-F12'!S682),\"\",('DE01-F12'!S682))","v":0}]
[{"$f":"IF(ISBLANK('DE01-F12'!N683),\"\",('DE01-F12'!N683))","v":""},{"$f":"MID('DE01-F12'!G683,1,18)","v":""},{"$f":"IF(ISBLANK('DE01-F12'!P683),\"\",('DE01-F12'!P683))","v":""},{"$f":"IF(ISBLANK('DE01-F12'!Q683),\"\",('DE01-F12'!Q683))","v":""},{"$f":"IF(ISBLANK('DE01-F12'!S683),\"\",('DE01-F12'!S683))","v":0}]
[{"$f":"IF(ISBLANK('DE01-F12'!N684),\"\",('DE01-F12'!N684))","v":""},{"$f":"MID('DE01-F12'!G684,1,18)","v":""},{"$f":"IF(ISBLANK('DE01-F12'!P684),\"\",('DE01-F12'!P684))","v":""},{"$f":"IF(ISBLANK('DE01-F12'!Q684),\"\",('DE01-F12'!Q684))","v":""},{"$f":"IF(ISBLANK('DE01-F12'!S684),\"\",('DE01-F12'!S684))","v":0}]
[{"$f":"IF(ISBLANK('DE01-F12'!N685),\"\",('DE01-F12'!N685))","v":""},{"$f":"MID('DE01-F12'!G685,1,18)","v":""},{"$f":"IF(ISBLANK('DE01-F12'!P685),\"\",('DE01-F12'!P685))","v":""},{"$f":"IF(ISBLANK('DE01-F12'!Q685),\"\",('DE01-F12'!Q685))","v":""},{"$f":"IF(ISBLANK('DE01-F12'!S685),\"\",('DE01-F12'!S685))","v":0}]
[{"$f":"IF(ISBLANK('DE01-F12'!N686),\"\",('DE01-F12'!N686))","v":""},{"$f":"MID('DE01-F12'!G686,1,18)","v":""},{"$f":"IF(ISBLANK('DE01-F12'!P686),\"\",('DE01-F12'!P686))","v":""},{"$f":"IF(ISBLANK('DE01-F12'!Q686),\"\",('DE01-F12'!Q686))","v":""},{"$f":"IF(ISBLANK('DE01-F12'!S686),\"\",('DE01-F12'!S686))","v":0}]
[{"$f":"IF(ISBLANK('DE01-F12'!N687),\"\",('DE01-F12'!N687))","v":""},{"$f":"MID('DE01-F12'!G687,1,18)","v":""},{"$f":"IF(ISBLANK('DE01-F12'!P687),\"\",('DE01-F12'!P687))","v":""},{"$f":"IF(ISBLANK('DE01-F12'!Q687),\"\",('DE01-F12'!Q687))","v":""},{"$f":"IF(ISBLANK('DE01-F12'!S687),\"\",('DE01-F12'!S687))","v":0}]
[{"$f":"IF(ISBLANK('DE01-F12'!N688),\"\",('DE01-F12'!N688))","v":""},{"$f":"MID('DE01-F12'!G688,1,18)","v":""},{"$f":"IF(ISBLANK('DE01-F12'!P688),\"\",('DE01-F12'!P688))","v":""},{"$f":"IF(ISBLANK('DE01-F12'!Q688),\"\",('DE01-F12'!Q688))","v":""},{"$f":"IF(ISBLANK('DE01-F12'!S688),\"\",('DE01-F12'!S688))","v":0}]
[{"$f":"IF(ISBLANK('DE01-F12'!N689),\"\",('DE01-F12'!N689))","v":""},{"$f":"MID('DE01-F12'!G689,1,18)","v":""},{"$f":"IF(ISBLANK('DE01-F12'!P689),\"\",('DE01-F12'!P689))","v":""},{"$f":"IF(ISBLANK('DE01-F12'!Q689),\"\",('DE01-F12'!Q689))","v":""},{"$f":"IF(ISBLANK('DE01-F12'!S689),\"\",('DE01-F12'!S689))","v":0}]
[{"$f":"IF(ISBLANK('DE01-F12'!N690),\"\",('DE01-F12'!N690))","v":""},{"$f":"MID('DE01-F12'!G690,1,18)","v":""},{"$f":"IF(ISBLANK('DE01-F12'!P690),\"\",('DE01-F12'!P690))","v":""},{"$f":"IF(ISBLANK('DE01-F12'!Q690),\"\",('DE01-F12'!Q690))","v":""},{"$f":"IF(ISBLANK('DE01-F12'!S690),\"\",('DE01-F12'!S690))","v":0}]
[{"$f":"IF(ISBLANK('DE01-F12'!N691),\"\",('DE01-F12'!N691))","v":""},{"$f":"MID('DE01-F12'!G691,1,18)","v":""},{"$f":"IF(ISBLANK('DE01-F12'!P691),\"\",('DE01-F12'!P691))","v":""},{"$f":"IF(ISBLANK('DE01-F12'!Q691),\"\",('DE01-F12'!Q691))","v":""},{"$f":"IF(ISBLANK('DE01-F12'!S691),\"\",('DE01-F12'!S691))","v":0}]
[{"$f":"IF(ISBLANK('DE01-F12'!N692),\"\",('DE01-F12'!N692))","v":""},{"$f":"MID('DE01-F12'!G692,1,18)","v":""},{"$f":"IF(ISBLANK('DE01-F12'!P692),\"\",('DE01-F12'!P692))","v":""},{"$f":"IF(ISBLANK('DE01-F12'!Q692),\"\",('DE01-F12'!Q692))","v":""},{"$f":"IF(ISBLANK('DE01-F12'!S692),\"\",('DE01-F12'!S692))","v":0}]
[{"$f":"IF(ISBLANK('DE01-F12'!N693),\"\",('DE01-F12'!N693))","v":""},{"$f":"MID('DE01-F12'!G693,1,18)","v":""},{"$f":"IF(ISBLANK('DE01-F12'!P693),\"\",('DE01-F12'!P693))","v":""},{"$f":"IF(ISBLANK('DE01-F12'!Q693),\"\",('DE01-F12'!Q693))","v":""},{"$f":"IF(ISBLANK('DE01-F12'!S693),\"\",('DE01-F12'!S693))","v":0}]
[{"$f":"IF(ISBLANK('DE01-F12'!N694),\"\",('DE01-F12'!N694))","v":""},{"$f":"MID('DE01-F12'!G694,1,18)","v":""},{"$f":"IF(ISBLANK('DE01-F12'!P694),\"\",('DE01-F12'!P694))","v":""},{"$f":"IF(ISBLANK('DE01-F12'!Q694),\"\",('DE01-F12'!Q694))","v":""},{"$f":"IF(ISBLANK('DE01-F12'!S694),\"\",('DE01-F12'!S694))","v":0}]
[{"$f":"IF(ISBLANK('DE01-F12'!N695),\"\",('DE01-F12'!N695))","v":""},{"$f":"MID('DE01-F12'!G695,1,18)","v":""},{"$f":"IF(ISBLANK('DE01-F12'!P695),\"\",('DE01-F12'!P695))","v":""},{"$f":"IF(ISBLANK('DE01-F12'!Q695),\"\",('DE01-F12'!Q695))","v":""},{"$f":"IF(ISBLANK('DE01-F12'!S695),\"\",('DE01-F12'!S695))","v":0}]
[{"$f":"IF(ISBLANK('DE01-F12'!N696),\"\",('DE01-F12'!N696))","v":""},{"$f":"MID('DE01-F12'!G696,1,18)","v":""},{"$f":"IF(ISBLANK('DE01-F12'!P696),\"\",('DE01-F12'!P696))","v":""},{"$f":"IF(ISBLANK('DE01-F12'!Q696),\"\",('DE01-F12'!Q696))","v":""},{"$f":"IF(ISBLANK('DE01-F12'!S696),\"\",('DE01-F12'!S696))","v":0}]
[{"$f":"IF(ISBLANK('DE01-F12'!N697),\"\",('DE01-F12'!N697))","v":""},{"$f":"MID('DE01-F12'!G697,1,18)","v":""},{"$f":"IF(ISBLANK('DE01-F12'!P697),\"\",('DE01-F12'!P697))","v":""},{"$f":"IF(ISBLANK('DE01-F12'!Q697),\"\",('DE01-F12'!Q697))","v":""},{"$f":"IF(ISBLANK('DE01-F12'!S697),\"\",('DE01-F12'!S697))","v":0}]
[{"$f":"IF(ISBLANK('DE01-F12'!N698),\"\",('DE01-F12'!N698))","v":""},{"$f":"MID('DE01-F12'!G698,1,18)","v":""},{"$f":"IF(ISBLANK('DE01-F12'!P698),\"\",('DE01-F12'!P698))","v":""},{"$f":"IF(ISBLANK('DE01-F12'!Q698),\"\",('DE01-F12'!Q698))","v":""},{"$f":"IF(ISBLANK('DE01-F12'!S698),\"\",('DE01-F12'!S698))","v":0}]
[{"$f":"IF(ISBLANK('DE01-F12'!N699),\"\",('DE01-F12'!N699))","v":""},{"$f":"MID('DE01-F12'!G699,1,18)","v":""},{"$f":"IF(ISBLANK('DE01-F12'!P699),\"\",('DE01-F12'!P699))","v":""},{"$f":"IF(ISBLANK('DE01-F12'!Q699),\"\",('DE01-F12'!Q699))","v":""},{"$f":"IF(ISBLANK('DE01-F12'!S699),\"\",('DE01-F12'!S699))","v":0}]
[{"$f":"IF(ISBLANK('DE01-F12'!N700),\"\",('DE01-F12'!N700))","v":""},{"$f":"MID('DE01-F12'!G700,1,18)","v":""},{"$f":"IF(ISBLANK('DE01-F12'!P700),\"\",('DE01-F12'!P700))","v":""},{"$f":"IF(ISBLANK('DE01-F12'!Q700),\"\",('DE01-F12'!Q700))","v":""},{"$f":"IF(ISBLANK('DE01-F12'!S700),\"\",('DE01-F12'!S700))","v":0}]
[{"$f":"IF(ISBLANK('DE01-F12'!N701),\"\",('DE01-F12'!N701))","v":""},{"$f":"MID('DE01-F12'!G701,1,18)","v":""},{"$f":"IF(ISBLANK('DE01-F12'!P701),\"\",('DE01-F12'!P701))","v":""},{"$f":"IF(ISBLANK('DE01-F12'!Q701),\"\",('DE01-F12'!Q701))","v":""},{"$f":"IF(ISBLANK('DE01-F12'!S701),\"\",('DE01-F12'!S701))","v":0}]
[{"$f":"IF(ISBLANK('DE01-F12'!N702),\"\",('DE01-F12'!N702))","v":""},{"$f":"MID('DE01-F12'!G702,1,18)","v":""},{"$f":"IF(ISBLANK('DE01-F12'!P702),\"\",('DE01-F12'!P702))","v":""},{"$f":"IF(ISBLANK('DE01-F12'!Q702),\"\",('DE01-F12'!Q702))","v":""},{"$f":"IF(ISBLANK('DE01-F12'!S702),\"\",('DE01-F12'!S702))","v":0}]
[{"$f":"IF(ISBLANK('DE01-F12'!N703),\"\",('DE01-F12'!N703))","v":""},{"$f":"MID('DE01-F12'!G703,1,18)","v":""},{"$f":"IF(ISBLANK('DE01-F12'!P703),\"\",('DE01-F12'!P703))","v":""},{"$f":"IF(ISBLANK('DE01-F12'!Q703),\"\",('DE01-F12'!Q703))","v":""},{"$f":"IF(ISBLANK('DE01-F12'!S703),\"\",('DE01-F12'!S703))","v":0}]
[{"$f":"IF(ISBLANK('DE01-F12'!N704),\"\",('DE01-F12'!N704))","v":""},{"$f":"MID('DE01-F12'!G704,1,18)","v":""},{"$f":"IF(ISBLANK('DE01-F12'!P704),\"\",('DE01-F12'!P704))","v":""},{"$f":"IF(ISBLANK('DE01-F12'!Q704),\"\",('DE01-F12'!Q704))","v":""},{"$f":"IF(ISBLANK('DE01-F12'!S704),\"\",('DE01-F12'!S704))","v":0}]
[{"$f":"IF(ISBLANK('DE01-F12'!N705),\"\",('DE01-F12'!N705))","v":""},{"$f":"MID('DE01-F12'!G705,1,18)","v":""},{"$f":"IF(ISBLANK('DE01-F12'!P705),\"\",('DE01-F12'!P705))","v":""},{"$f":"IF(ISBLANK('DE01-F12'!Q705),\"\",('DE01-F12'!Q705))","v":""},{"$f":"IF(ISBLANK('DE01-F12'!S705),\"\",('DE01-F12'!S705))","v":0}]
[{"$f":"IF(ISBLANK('DE01-F12'!N706),\"\",('DE01-F12'!N706))","v":""},{"$f":"MID('DE01-F12'!G706,1,18)","v":""},{"$f":"IF(ISBLANK('DE01-F12'!P706),\"\",('DE01-F12'!P706))","v":""},{"$f":"IF(ISBLANK('DE01-F12'!Q706),\"\",('DE01-F12'!Q706))","v":""},{"$f":"IF(ISBLANK('DE01-F12'!S706),\"\",('DE01-F12'!S706))","v":0}]
[{"$f":"IF(ISBLANK('DE01-F12'!N707),\"\",('DE01-F12'!N707))","v":""},{"$f":"MID('DE01-F12'!G707,1,18)","v":""},{"$f":"IF(ISBLANK('DE01-F12'!P707),\"\",('DE01-F12'!P707))","v":""},{"$f":"IF(ISBLANK('DE01-F12'!Q707),\"\",('DE01-F12'!Q707))","v":""},{"$f":"IF(ISBLANK('DE01-F12'!S707),\"\",('DE01-F12'!S707))","v":0}]
[{"$f":"IF(ISBLANK('DE01-F12'!N708),\"\",('DE01-F12'!N708))","v":""},{"$f":"MID('DE01-F12'!G708,1,18)","v":""},{"$f":"IF(ISBLANK('DE01-F12'!P708),\"\",('DE01-F12'!P708))","v":""},{"$f":"IF(ISBLANK('DE01-F12'!Q708),\"\",('DE01-F12'!Q708))","v":""},{"$f":"IF(ISBLANK('DE01-F12'!S708),\"\",('DE01-F12'!S708))","v":0}]
[{"$f":"IF(ISBLANK('DE01-F12'!N709),\"\",('DE01-F12'!N709))","v":""},{"$f":"MID('DE01-F12'!G709,1,18)","v":""},{"$f":"IF(ISBLANK('DE01-F12'!P709),\"\",('DE01-F12'!P709))","v":""},{"$f":"IF(ISBLANK('DE01-F12'!Q709),\"\",('DE01-F12'!Q709))","v":""},{"$f":"IF(ISBLANK('DE01-F12'!S709),\"\",('DE01-F12'!S709))","v":0}]
[{"$f":"IF(ISBLANK('DE01-F12'!N710),\"\",('DE01-F12'!N710))","v":""},{"$f":"MID('DE01-F12'!G710,1,18)","v":""},{"$f":"IF(ISBLANK('DE01-F12'!P710),\"\",('DE01-F12'!P710))","v":""},{"$f":"IF(ISBLANK('DE01-F12'!Q710),\"\",('DE01-F12'!Q710))","v":""},{"$f":"IF(ISBLANK('DE01-F12'!S710),\"\",('DE01-F12'!S710))","v":0}]
[{"$f":"IF(ISBLANK('DE01-F12'!N711),\"\",('DE01-F12'!N711))","v":""},{"$f":"MID('DE01-F12'!G711,1,18)","v":""},{"$f":"IF(ISBLANK('DE01-F12'!P711),\"\",('DE01-F12'!P711))","v":""},{"$f":"IF(ISBLANK('DE01-F12'!Q711),\"\",('DE01-F12'!Q711))","v":""},{"$f":"IF(ISBLANK('DE01-F12'!S711),\"\",('DE01-F12'!S711))","v":0}]
[{"$f":"IF(ISBLANK('DE01-F12'!N712),\"\",('DE01-F12'!N712))","v":""},{"$f":"MID('DE01-F12'!G712,1,18)","v":""},{"$f":"IF(ISBLANK('DE01-F12'!P712),\"\",('DE01-F12'!P712))","v":""},{"$f":"IF(ISBLANK('DE01-F12'!Q712),\"\",('DE01-F12'!Q712))","v":""},{"$f":"IF(ISBLANK('DE01-F12'!S712),\"\",('DE01-F12'!S712))","v":0}]
[{"$f":"IF(ISBLANK('DE01-F12'!N713),\"\",('DE01-F12'!N713))","v":""},{"$f":"MID('DE01-F12'!G713,1,18)","v":""},{"$f":"IF(ISBLANK('DE01-F12'!P713),\"\",('DE01-F12'!P713))","v":""},{"$f":"IF(ISBLANK('DE01-F12'!Q713),\"\",('DE01-F12'!Q713))","v":""},{"$f":"IF(ISBLANK('DE01-F12'!S713),\"\",('DE01-F12'!S713))","v":0}]
[{"$f":"IF(ISBLANK('DE01-F12'!N714),\"\",('DE01-F12'!N714))","v":""},{"$f":"MID('DE01-F12'!G714,1,18)","v":""},{"$f":"IF(ISBLANK('DE01-F12'!P714),\"\",('DE01-F12'!P714))","v":""},{"$f":"IF(ISBLANK('DE01-F12'!Q714),\"\",('DE01-F12'!Q714))","v":""},{"$f":"IF(ISBLANK('DE01-F12'!S714),\"\",('DE01-F12'!S714))","v":0}]
[{"$f":"IF(ISBLANK('DE01-F12'!N715),\"\",('DE01-F12'!N715))","v":""},{"$f":"MID('DE01-F12'!G715,1,18)","v":""},{"$f":"IF(ISBLANK('DE01-F12'!P715),\"\",('DE01-F12'!P715))","v":""},{"$f":"IF(ISBLANK('DE01-F12'!Q715),\"\",('DE01-F12'!Q715))","v":""},{"$f":"IF(ISBLANK('DE01-F12'!S715),\"\",('DE01-F12'!S715))","v":0}]
[{"$f":"IF(ISBLANK('DE01-F12'!N716),\"\",('DE01-F12'!N716))","v":""},{"$f":"MID('DE01-F12'!G716,1,18)","v":""},{"$f":"IF(ISBLANK('DE01-F12'!P716),\"\",('DE01-F12'!P716))","v":""},{"$f":"IF(ISBLANK('DE01-F12'!Q716),\"\",('DE01-F12'!Q716))","v":""},{"$f":"IF(ISBLANK('DE01-F12'!S716),\"\",('DE01-F12'!S716))","v":0}]
[{"$f":"IF(ISBLANK('DE01-F12'!N717),\"\",('DE01-F12'!N717))","v":""},{"$f":"MID('DE01-F12'!G717,1,18)","v":""},{"$f":"IF(ISBLANK('DE01-F12'!P717),\"\",('DE01-F12'!P717))","v":""},{"$f":"IF(ISBLANK('DE01-F12'!Q717),\"\",('DE01-F12'!Q717))","v":""},{"$f":"IF(ISBLANK('DE01-F12'!S717),\"\",('DE01-F12'!S717))","v":0}]
[{"$f":"IF(ISBLANK('DE01-F12'!N718),\"\",('DE01-F12'!N718))","v":""},{"$f":"MID('DE01-F12'!G718,1,18)","v":""},{"$f":"IF(ISBLANK('DE01-F12'!P718),\"\",('DE01-F12'!P718))","v":""},{"$f":"IF(ISBLANK('DE01-F12'!Q718),\"\",('DE01-F12'!Q718))","v":""},{"$f":"IF(ISBLANK('DE01-F12'!S718),\"\",('DE01-F12'!S718))","v":0}]
[{"$f":"IF(ISBLANK('DE01-F12'!N719),\"\",('DE01-F12'!N719))","v":""},{"$f":"MID('DE01-F12'!G719,1,18)","v":""},{"$f":"IF(ISBLANK('DE01-F12'!P719),\"\",('DE01-F12'!P719))","v":""},{"$f":"IF(ISBLANK('DE01-F12'!Q719),\"\",('DE01-F12'!Q719))","v":""},{"$f":"IF(ISBLANK('DE01-F12'!S719),\"\",('DE01-F12'!S719))","v":0}]
[{"$f":"IF(ISBLANK('DE01-F12'!N720),\"\",('DE01-F12'!N720))","v":""},{"$f":"MID('DE01-F12'!G720,1,18)","v":""},{"$f":"IF(ISBLANK('DE01-F12'!P720),\"\",('DE01-F12'!P720))","v":""},{"$f":"IF(ISBLANK('DE01-F12'!Q720),\"\",('DE01-F12'!Q720))","v":""},{"$f":"IF(ISBLANK('DE01-F12'!S720),\"\",('DE01-F12'!S720))","v":0}]
[{"$f":"IF(ISBLANK('DE01-F12'!N721),\"\",('DE01-F12'!N721))","v":""},{"$f":"MID('DE01-F12'!G721,1,18)","v":""},{"$f":"IF(ISBLANK('DE01-F12'!P721),\"\",('DE01-F12'!P721))","v":""},{"$f":"IF(ISBLANK('DE01-F12'!Q721),\"\",('DE01-F12'!Q721))","v":""},{"$f":"IF(ISBLANK('DE01-F12'!S721),\"\",('DE01-F12'!S721))","v":0}]
[{"$f":"IF(ISBLANK('DE01-F12'!N722),\"\",('DE01-F12'!N722))","v":""},{"$f":"MID('DE01-F12'!G722,1,18)","v":""},{"$f":"IF(ISBLANK('DE01-F12'!P722),\"\",('DE01-F12'!P722))","v":""},{"$f":"IF(ISBLANK('DE01-F12'!Q722),\"\",('DE01-F12'!Q722))","v":""},{"$f":"IF(ISBLANK('DE01-F12'!S722),\"\",('DE01-F12'!S722))","v":0}]
[{"$f":"IF(ISBLANK('DE01-F12'!N723),\"\",('DE01-F12'!N723))","v":""},{"$f":"MID('DE01-F12'!G723,1,18)","v":""},{"$f":"IF(ISBLANK('DE01-F12'!P723),\"\",('DE01-F12'!P723))","v":""},{"$f":"IF(ISBLANK('DE01-F12'!Q723),\"\",('DE01-F12'!Q723))","v":""},{"$f":"IF(ISBLANK('DE01-F12'!S723),\"\",('DE01-F12'!S723))","v":0}]
[{"$f":"IF(ISBLANK('DE01-F12'!N724),\"\",('DE01-F12'!N724))","v":""},{"$f":"MID('DE01-F12'!G724,1,18)","v":""},{"$f":"IF(ISBLANK('DE01-F12'!P724),\"\",('DE01-F12'!P724))","v":""},{"$f":"IF(ISBLANK('DE01-F12'!Q724),\"\",('DE01-F12'!Q724))","v":""},{"$f":"IF(ISBLANK('DE01-F12'!S724),\"\",('DE01-F12'!S724))","v":0}]
[{"$f":"IF(ISBLANK('DE01-F12'!N725),\"\",('DE01-F12'!N725))","v":""},{"$f":"MID('DE01-F12'!G725,1,18)","v":""},{"$f":"IF(ISBLANK('DE01-F12'!P725),\"\",('DE01-F12'!P725))","v":""},{"$f":"IF(ISBLANK('DE01-F12'!Q725),\"\",('DE01-F12'!Q725))","v":""},{"$f":"IF(ISBLANK('DE01-F12'!S725),\"\",('DE01-F12'!S725))","v":0}]
[{"$f":"IF(ISBLANK('DE01-F12'!N726),\"\",('DE01-F12'!N726))","v":""},{"$f":"MID('DE01-F12'!G726,1,18)","v":""},{"$f":"IF(ISBLANK('DE01-F12'!P726),\"\",('DE01-F12'!P726))","v":""},{"$f":"IF(ISBLANK('DE01-F12'!Q726),\"\",('DE01-F12'!Q726))","v":""},{"$f":"IF(ISBLANK('DE01-F12'!S726),\"\",('DE01-F12'!S726))","v":0}]
[{"$f":"IF(ISBLANK('DE01-F12'!N727),\"\",('DE01-F12'!N727))","v":""},{"$f":"MID('DE01-F12'!G727,1,18)","v":""},{"$f":"IF(ISBLANK('DE01-F12'!P727),\"\",('DE01-F12'!P727))","v":""},{"$f":"IF(ISBLANK('DE01-F12'!Q727),\"\",('DE01-F12'!Q727))","v":""},{"$f":"IF(ISBLANK('DE01-F12'!S727),\"\",('DE01-F12'!S727))","v":0}]
[{"$f":"IF(ISBLANK('DE01-F12'!N728),\"\",('DE01-F12'!N728))","v":""},{"$f":"MID('DE01-F12'!G728,1,18)","v":""},{"$f":"IF(ISBLANK('DE01-F12'!P728),\"\",('DE01-F12'!P728))","v":""},{"$f":"IF(ISBLANK('DE01-F12'!Q728),\"\",('DE01-F12'!Q728))","v":""},{"$f":"IF(ISBLANK('DE01-F12'!S728),\"\",('DE01-F12'!S728))","v":0}]
[{"$f":"IF(ISBLANK('DE01-F12'!N729),\"\",('DE01-F12'!N729))","v":""},{"$f":"MID('DE01-F12'!G729,1,18)","v":""},{"$f":"IF(ISBLANK('DE01-F12'!P729),\"\",('DE01-F12'!P729))","v":""},{"$f":"IF(ISBLANK('DE01-F12'!Q729),\"\",('DE01-F12'!Q729))","v":""},{"$f":"IF(ISBLANK('DE01-F12'!S729),\"\",('DE01-F12'!S729))","v":0}]
[{"$f":"IF(ISBLANK('DE01-F12'!N730),\"\",('DE01-F12'!N730))","v":""},{"$f":"MID('DE01-F12'!G730,1,18)","v":""},{"$f":"IF(ISBLANK('DE01-F12'!P730),\"\",('DE01-F12'!P730))","v":""},{"$f":"IF(ISBLANK('DE01-F12'!Q730),\"\",('DE01-F12'!Q730))","v":""},{"$f":"IF(ISBLANK('DE01-F12'!S730),\"\",('DE01-F12'!S730))","v":0}]
[{"$f":"IF(ISBLANK('DE01-F12'!N731),\"\",('DE01-F12'!N731))","v":""},{"$f":"MID('DE01-F12'!G731,1,18)","v":""},{"$f":"IF(ISBLANK('DE01-F12'!P731),\"\",('DE01-F12'!P731))","v":""},{"$f":"IF(ISBLANK('DE01-F12'!Q731),\"\",('DE01-F12'!Q731))","v":""},{"$f":"IF(ISBLANK('DE01-F12'!S731),\"\",('DE01-F12'!S731))","v":0}]
[{"$f":"IF(ISBLANK('DE01-F12'!N732),\"\",('DE01-F12'!N732))","v":""},{"$f":"MID('DE01-F12'!G732,1,18)","v":""},{"$f":"IF(ISBLANK('DE01-F12'!P732),\"\",('DE01-F12'!P732))","v":""},{"$f":"IF(ISBLANK('DE01-F12'!Q732),\"\",('DE01-F12'!Q732))","v":""},{"$f":"IF(ISBLANK('DE01-F12'!S732),\"\",('DE01-F12'!S732))","v":0}]
[{"$f":"IF(ISBLANK('DE01-F12'!N733),\"\",('DE01-F12'!N733))","v":""},{"$f":"MID('DE01-F12'!G733,1,18)","v":""},{"$f":"IF(ISBLANK('DE01-F12'!P733),\"\",('DE01-F12'!P733))","v":""},{"$f":"IF(ISBLANK('DE01-F12'!Q733),\"\",('DE01-F12'!Q733))","v":""},{"$f":"IF(ISBLANK('DE01-F12'!S733),\"\",('DE01-F12'!S733))","v":0}]
[{"$f":"IF(ISBLANK('DE01-F12'!N734),\"\",('DE01-F12'!N734))","v":""},{"$f":"MID('DE01-F12'!G734,1,18)","v":""},{"$f":"IF(ISBLANK('DE01-F12'!P734),\"\",('DE01-F12'!P734))","v":""},{"$f":"IF(ISBLANK('DE01-F12'!Q734),\"\",('DE01-F12'!Q734))","v":""},{"$f":"IF(ISBLANK('DE01-F12'!S734),\"\",('DE01-F12'!S734))","v":0}]
[{"$f":"IF(ISBLANK('DE01-F12'!N735),\"\",('DE01-F12'!N735))","v":""},{"$f":"MID('DE01-F12'!G735,1,18)","v":""},{"$f":"IF(ISBLANK('DE01-F12'!P735),\"\",('DE01-F12'!P735))","v":""},{"$f":"IF(ISBLANK('DE01-F12'!Q735),\"\",('DE01-F12'!Q735))","v":""},{"$f":"IF(ISBLANK('DE01-F12'!S735),\"\",('DE01-F12'!S735))","v":0}]
[{"$f":"IF(ISBLANK('DE01-F12'!N736),\"\",('DE01-F12'!N736))","v":""},{"$f":"MID('DE01-F12'!G736,1,18)","v":""},{"$f":"IF(ISBLANK('DE01-F12'!P736),\"\",('DE01-F12'!P736))","v":""},{"$f":"IF(ISBLANK('DE01-F12'!Q736),\"\",('DE01-F12'!Q736))","v":""},{"$f":"IF(ISBLANK('DE01-F12'!S736),\"\",('DE01-F12'!S736))","v":0}]
[{"$f":"IF(ISBLANK('DE01-F12'!N737),\"\",('DE01-F12'!N737))","v":""},{"$f":"MID('DE01-F12'!G737,1,18)","v":""},{"$f":"IF(ISBLANK('DE01-F12'!P737),\"\",('DE01-F12'!P737))","v":""},{"$f":"IF(ISBLANK('DE01-F12'!Q737),\"\",('DE01-F12'!Q737))","v":""},{"$f":"IF(ISBLANK('DE01-F12'!S737),\"\",('DE01-F12'!S737))","v":0}]
[{"$f":"IF(ISBLANK('DE01-F12'!N738),\"\",('DE01-F12'!N738))","v":""},{"$f":"MID('DE01-F12'!G738,1,18)","v":""},{"$f":"IF(ISBLANK('DE01-F12'!P738),\"\",('DE01-F12'!P738))","v":""},{"$f":"IF(ISBLANK('DE01-F12'!Q738),\"\",('DE01-F12'!Q738))","v":""},{"$f":"IF(ISBLANK('DE01-F12'!S738),\"\",('DE01-F12'!S738))","v":0}]
[{"$f":"IF(ISBLANK('DE01-F12'!N739),\"\",('DE01-F12'!N739))","v":""},{"$f":"MID('DE01-F12'!G739,1,18)","v":""},{"$f":"IF(ISBLANK('DE01-F12'!P739),\"\",('DE01-F12'!P739))","v":""},{"$f":"IF(ISBLANK('DE01-F12'!Q739),\"\",('DE01-F12'!Q739))","v":""},{"$f":"IF(ISBLANK('DE01-F12'!S739),\"\",('DE01-F12'!S739))","v":0}]
[{"$f":"IF(ISBLANK('DE01-F12'!N740),\"\",('DE01-F12'!N740))","v":""},{"$f":"MID('DE01-F12'!G740,1,18)","v":""},{"$f":"IF(ISBLANK('DE01-F12'!P740),\"\",('DE01-F12'!P740))","v":""},{"$f":"IF(ISBLANK('DE01-F12'!Q740),\"\",('DE01-F12'!Q740))","v":""},{"$f":"IF(ISBLANK('DE01-F12'!S740),\"\",('DE01-F12'!S740))","v":0}]
[{"$f":"IF(ISBLANK('DE01-F12'!N741),\"\",('DE01-F12'!N741))","v":""},{"$f":"MID('DE01-F12'!G741,1,18)","v":""},{"$f":"IF(ISBLANK('DE01-F12'!P741),\"\",('DE01-F12'!P741))","v":""},{"$f":"IF(ISBLANK('DE01-F12'!Q741),\"\",('DE01-F12'!Q741))","v":""},{"$f":"IF(ISBLANK('DE01-F12'!S741),\"\",('DE01-F12'!S741))","v":0}]
[{"$f":"IF(ISBLANK('DE01-F12'!N742),\"\",('DE01-F12'!N742))","v":""},{"$f":"MID('DE01-F12'!G742,1,18)","v":""},{"$f":"IF(ISBLANK('DE01-F12'!P742),\"\",('DE01-F12'!P742))","v":""},{"$f":"IF(ISBLANK('DE01-F12'!Q742),\"\",('DE01-F12'!Q742))","v":""},{"$f":"IF(ISBLANK('DE01-F12'!S742),\"\",('DE01-F12'!S742))","v":0}]
[{"$f":"IF(ISBLANK('DE01-F12'!N743),\"\",('DE01-F12'!N743))","v":""},{"$f":"MID('DE01-F12'!G743,1,18)","v":""},{"$f":"IF(ISBLANK('DE01-F12'!P743),\"\",('DE01-F12'!P743))","v":""},{"$f":"IF(ISBLANK('DE01-F12'!Q743),\"\",('DE01-F12'!Q743))","v":""},{"$f":"IF(ISBLANK('DE01-F12'!S743),\"\",('DE01-F12'!S743))","v":0}]
[{"$f":"IF(ISBLANK('DE01-F12'!N744),\"\",('DE01-F12'!N744))","v":""},{"$f":"MID('DE01-F12'!G744,1,18)","v":""},{"$f":"IF(ISBLANK('DE01-F12'!P744),\"\",('DE01-F12'!P744))","v":""},{"$f":"IF(ISBLANK('DE01-F12'!Q744),\"\",('DE01-F12'!Q744))","v":""},{"$f":"IF(ISBLANK('DE01-F12'!S744),\"\",('DE01-F12'!S744))","v":0}]
[{"$f":"IF(ISBLANK('DE01-F12'!N745),\"\",('DE01-F12'!N745))","v":""},{"$f":"MID('DE01-F12'!G745,1,18)","v":""},{"$f":"IF(ISBLANK('DE01-F12'!P745),\"\",('DE01-F12'!P745))","v":""},{"$f":"IF(ISBLANK('DE01-F12'!Q745),\"\",('DE01-F12'!Q745))","v":""},{"$f":"IF(ISBLANK('DE01-F12'!S745),\"\",('DE01-F12'!S745))","v":0}]
[{"$f":"IF(ISBLANK('DE01-F12'!N746),\"\",('DE01-F12'!N746))","v":""},{"$f":"MID('DE01-F12'!G746,1,18)","v":""},{"$f":"IF(ISBLANK('DE01-F12'!P746),\"\",('DE01-F12'!P746))","v":""},{"$f":"IF(ISBLANK('DE01-F12'!Q746),\"\",('DE01-F12'!Q746))","v":""},{"$f":"IF(ISBLANK('DE01-F12'!S746),\"\",('DE01-F12'!S746))","v":0}]
[{"$f":"IF(ISBLANK('DE01-F12'!N747),\"\",('DE01-F12'!N747))","v":""},{"$f":"MID('DE01-F12'!G747,1,18)","v":""},{"$f":"IF(ISBLANK('DE01-F12'!P747),\"\",('DE01-F12'!P747))","v":""},{"$f":"IF(ISBLANK('DE01-F12'!Q747),\"\",('DE01-F12'!Q747))","v":""},{"$f":"IF(ISBLANK('DE01-F12'!S747),\"\",('DE01-F12'!S747))","v":0}]
[{"$f":"IF(ISBLANK('DE01-F12'!N748),\"\",('DE01-F12'!N748))","v":""},{"$f":"MID('DE01-F12'!G748,1,18)","v":""},{"$f":"IF(ISBLANK('DE01-F12'!P748),\"\",('DE01-F12'!P748))","v":""},{"$f":"IF(ISBLANK('DE01-F12'!Q748),\"\",('DE01-F12'!Q748))","v":""},{"$f":"IF(ISBLANK('DE01-F12'!S748),\"\",('DE01-F12'!S748))","v":0}]
[{"$f":"IF(ISBLANK('DE01-F12'!N749),\"\",('DE01-F12'!N749))","v":""},{"$f":"MID('DE01-F12'!G749,1,18)","v":""},{"$f":"IF(ISBLANK('DE01-F12'!P749),\"\",('DE01-F12'!P749))","v":""},{"$f":"IF(ISBLANK('DE01-F12'!Q749),\"\",('DE01-F12'!Q749))","v":""},{"$f":"IF(ISBLANK('DE01-F12'!S749),\"\",('DE01-F12'!S749))","v":0}]
[{"$f":"IF(ISBLANK('DE01-F12'!N750),\"\",('DE01-F12'!N750))","v":""},{"$f":"MID('DE01-F12'!G750,1,18)","v":""},{"$f":"IF(ISBLANK('DE01-F12'!P750),\"\",('DE01-F12'!P750))","v":""},{"$f":"IF(ISBLANK('DE01-F12'!Q750),\"\",('DE01-F12'!Q750))","v":""},{"$f":"IF(ISBLANK('DE01-F12'!S750),\"\",('DE01-F12'!S750))","v":0}]
[{"$f":"IF(ISBLANK('DE01-F12'!N751),\"\",('DE01-F12'!N751))","v":""},{"$f":"MID('DE01-F12'!G751,1,18)","v":""},{"$f":"IF(ISBLANK('DE01-F12'!P751),\"\",('DE01-F12'!P751))","v":""},{"$f":"IF(ISBLANK('DE01-F12'!Q751),\"\",('DE01-F12'!Q751))","v":""},{"$f":"IF(ISBLANK('DE01-F12'!S751),\"\",('DE01-F12'!S751))","v":0}]
[{"$f":"IF(ISBLANK('DE01-F12'!N752),\"\",('DE01-F12'!N752))","v":""},{"$f":"MID('DE01-F12'!G752,1,18)","v":""},{"$f":"IF(ISBLANK('DE01-F12'!P752),\"\",('DE01-F12'!P752))","v":""},{"$f":"IF(ISBLANK('DE01-F12'!Q752),\"\",('DE01-F12'!Q752))","v":""},{"$f":"IF(ISBLANK('DE01-F12'!S752),\"\",('DE01-F12'!S752))","v":0}]
[{"$f":"IF(ISBLANK('DE01-F12'!N753),\"\",('DE01-F12'!N753))","v":""},{"$f":"MID('DE01-F12'!G753,1,18)","v":""},{"$f":"IF(ISBLANK('DE01-F12'!P753),\"\",('DE01-F12'!P753))","v":""},{"$f":"IF(ISBLANK('DE01-F12'!Q753),\"\",('DE01-F12'!Q753))","v":""},{"$f":"IF(ISBLANK('DE01-F12'!S753),\"\",('DE01-F12'!S753))","v":0}]
[{"$f":"IF(ISBLANK('DE01-F12'!N754),\"\",('DE01-F12'!N754))","v":""},{"$f":"MID('DE01-F12'!G754,1,18)","v":""},{"$f":"IF(ISBLANK('DE01-F12'!P754),\"\",('DE01-F12'!P754))","v":""},{"$f":"IF(ISBLANK('DE01-F12'!Q754),\"\",('DE01-F12'!Q754))","v":""},{"$f":"IF(ISBLANK('DE01-F12'!S754),\"\",('DE01-F12'!S754))","v":0}]
[{"$f":"IF(ISBLANK('DE01-F12'!N755),\"\",('DE01-F12'!N755))","v":""},{"$f":"MID('DE01-F12'!G755,1,18)","v":""},{"$f":"IF(ISBLANK('DE01-F12'!P755),\"\",('DE01-F12'!P755))","v":""},{"$f":"IF(ISBLANK('DE01-F12'!Q755),\"\",('DE01-F12'!Q755))","v":""},{"$f":"IF(ISBLANK('DE01-F12'!S755),\"\",('DE01-F12'!S755))","v":0}]
[{"$f":"IF(ISBLANK('DE01-F12'!N756),\"\",('DE01-F12'!N756))","v":""},{"$f":"MID('DE01-F12'!G756,1,18)","v":""},{"$f":"IF(ISBLANK('DE01-F12'!P756),\"\",('DE01-F12'!P756))","v":""},{"$f":"IF(ISBLANK('DE01-F12'!Q756),\"\",('DE01-F12'!Q756))","v":""},{"$f":"IF(ISBLANK('DE01-F12'!S756),\"\",('DE01-F12'!S756))","v":0}]
[{"$f":"IF(ISBLANK('DE01-F12'!N757),\"\",('DE01-F12'!N757))","v":""},{"$f":"MID('DE01-F12'!G757,1,18)","v":""},{"$f":"IF(ISBLANK('DE01-F12'!P757),\"\",('DE01-F12'!P757))","v":""},{"$f":"IF(ISBLANK('DE01-F12'!Q757),\"\",('DE01-F12'!Q757))","v":""},{"$f":"IF(ISBLANK('DE01-F12'!S757),\"\",('DE01-F12'!S757))","v":0}]
[{"$f":"IF(ISBLANK('DE01-F12'!N758),\"\",('DE01-F12'!N758))","v":""},{"$f":"MID('DE01-F12'!G758,1,18)","v":""},{"$f":"IF(ISBLANK('DE01-F12'!P758),\"\",('DE01-F12'!P758))","v":""},{"$f":"IF(ISBLANK('DE01-F12'!Q758),\"\",('DE01-F12'!Q758))","v":""},{"$f":"IF(ISBLANK('DE01-F12'!S758),\"\",('DE01-F12'!S758))","v":0}]
[{"$f":"IF(ISBLANK('DE01-F12'!N759),\"\",('DE01-F12'!N759))","v":""},{"$f":"MID('DE01-F12'!G759,1,18)","v":""},{"$f":"IF(ISBLANK('DE01-F12'!P759),\"\",('DE01-F12'!P759))","v":""},{"$f":"IF(ISBLANK('DE01-F12'!Q759),\"\",('DE01-F12'!Q759))","v":""},{"$f":"IF(ISBLANK('DE01-F12'!S759),\"\",('DE01-F12'!S759))","v":0}]
[{"$f":"IF(ISBLANK('DE01-F12'!N760),\"\",('DE01-F12'!N760))","v":""},{"$f":"MID('DE01-F12'!G760,1,18)","v":""},{"$f":"IF(ISBLANK('DE01-F12'!P760),\"\",('DE01-F12'!P760))","v":""},{"$f":"IF(ISBLANK('DE01-F12'!Q760),\"\",('DE01-F12'!Q760))","v":""},{"$f":"IF(ISBLANK('DE01-F12'!S760),\"\",('DE01-F12'!S760))","v":0}]
[{"$f":"IF(ISBLANK('DE01-F12'!N761),\"\",('DE01-F12'!N761))","v":""},{"$f":"MID('DE01-F12'!G761,1,18)","v":""},{"$f":"IF(ISBLANK('DE01-F12'!P761),\"\",('DE01-F12'!P761))","v":""},{"$f":"IF(ISBLANK('DE01-F12'!Q761),\"\",('DE01-F12'!Q761))","v":""},{"$f":"IF(ISBLANK('DE01-F12'!S761),\"\",('DE01-F12'!S761))","v":0}]
[{"$f":"IF(ISBLANK('DE01-F12'!N762),\"\",('DE01-F12'!N762))","v":""},{"$f":"MID('DE01-F12'!G762,1,18)","v":""},{"$f":"IF(ISBLANK('DE01-F12'!P762),\"\",('DE01-F12'!P762))","v":""},{"$f":"IF(ISBLANK('DE01-F12'!Q762),\"\",('DE01-F12'!Q762))","v":""},{"$f":"IF(ISBLANK('DE01-F12'!S762),\"\",('DE01-F12'!S762))","v":0}]
[{"$f":"IF(ISBLANK('DE01-F12'!N763),\"\",('DE01-F12'!N763))","v":""},{"$f":"MID('DE01-F12'!G763,1,18)","v":""},{"$f":"IF(ISBLANK('DE01-F12'!P763),\"\",('DE01-F12'!P763))","v":""},{"$f":"IF(ISBLANK('DE01-F12'!Q763),\"\",('DE01-F12'!Q763))","v":""},{"$f":"IF(ISBLANK('DE01-F12'!S763),\"\",('DE01-F12'!S763))","v":0}]
[{"$f":"IF(ISBLANK('DE01-F12'!N764),\"\",('DE01-F12'!N764))","v":""},{"$f":"MID('DE01-F12'!G764,1,18)","v":""},{"$f":"IF(ISBLANK('DE01-F12'!P764),\"\",('DE01-F12'!P764))","v":""},{"$f":"IF(ISBLANK('DE01-F12'!Q764),\"\",('DE01-F12'!Q764))","v":""},{"$f":"IF(ISBLANK('DE01-F12'!S764),\"\",('DE01-F12'!S764))","v":0}]
[{"$f":"IF(ISBLANK('DE01-F12'!N765),\"\",('DE01-F12'!N765))","v":""},{"$f":"MID('DE01-F12'!G765,1,18)","v":""},{"$f":"IF(ISBLANK('DE01-F12'!P765),\"\",('DE01-F12'!P765))","v":""},{"$f":"IF(ISBLANK('DE01-F12'!Q765),\"\",('DE01-F12'!Q765))","v":""},{"$f":"IF(ISBLANK('DE01-F12'!S765),\"\",('DE01-F12'!S765))","v":0}]
[{"$f":"IF(ISBLANK('DE01-F12'!N766),\"\",('DE01-F12'!N766))","v":""},{"$f":"MID('DE01-F12'!G766,1,18)","v":""},{"$f":"IF(ISBLANK('DE01-F12'!P766),\"\",('DE01-F12'!P766))","v":""},{"$f":"IF(ISBLANK('DE01-F12'!Q766),\"\",('DE01-F12'!Q766))","v":""},{"$f":"IF(ISBLANK('DE01-F12'!S766),\"\",('DE01-F12'!S766))","v":0}]
[{"$f":"IF(ISBLANK('DE01-F12'!N767),\"\",('DE01-F12'!N767))","v":""},{"$f":"MID('DE01-F12'!G767,1,18)","v":""},{"$f":"IF(ISBLANK('DE01-F12'!P767),\"\",('DE01-F12'!P767))","v":""},{"$f":"IF(ISBLANK('DE01-F12'!Q767),\"\",('DE01-F12'!Q767))","v":""},{"$f":"IF(ISBLANK('DE01-F12'!S767),\"\",('DE01-F12'!S767))","v":0}]
[{"$f":"IF(ISBLANK('DE01-F12'!N768),\"\",('DE01-F12'!N768))","v":""},{"$f":"MID('DE01-F12'!G768,1,18)","v":""},{"$f":"IF(ISBLANK('DE01-F12'!P768),\"\",('DE01-F12'!P768))","v":""},{"$f":"IF(ISBLANK('DE01-F12'!Q768),\"\",('DE01-F12'!Q768))","v":""},{"$f":"IF(ISBLANK('DE01-F12'!S768),\"\",('DE01-F12'!S768))","v":0}]
[{"$f":"IF(ISBLANK('DE01-F12'!N769),\"\",('DE01-F12'!N769))","v":""},{"$f":"MID('DE01-F12'!G769,1,18)","v":""},{"$f":"IF(ISBLANK('DE01-F12'!P769),\"\",('DE01-F12'!P769))","v":""},{"$f":"IF(ISBLANK('DE01-F12'!Q769),\"\",('DE01-F12'!Q769))","v":""},{"$f":"IF(ISBLANK('DE01-F12'!S769),\"\",('DE01-F12'!S769))","v":0}]
[{"$f":"IF(ISBLANK('DE01-F12'!N770),\"\",('DE01-F12'!N770))","v":""},{"$f":"MID('DE01-F12'!G770,1,18)","v":""},{"$f":"IF(ISBLANK('DE01-F12'!P770),\"\",('DE01-F12'!P770))","v":""},{"$f":"IF(ISBLANK('DE01-F12'!Q770),\"\",('DE01-F12'!Q770))","v":""},{"$f":"IF(ISBLANK('DE01-F12'!S770),\"\",('DE01-F12'!S770))","v":0}]
[{"$f":"IF(ISBLANK('DE01-F12'!N771),\"\",('DE01-F12'!N771))","v":""},{"$f":"MID('DE01-F12'!G771,1,18)","v":""},{"$f":"IF(ISBLANK('DE01-F12'!P771),\"\",('DE01-F12'!P771))","v":""},{"$f":"IF(ISBLANK('DE01-F12'!Q771),\"\",('DE01-F12'!Q771))","v":""},{"$f":"IF(ISBLANK('DE01-F12'!S771),\"\",('DE01-F12'!S771))","v":0}]
[{"$f":"IF(ISBLANK('DE01-F12'!N772),\"\",('DE01-F12'!N772))","v":""},{"$f":"MID('DE01-F12'!G772,1,18)","v":""},{"$f":"IF(ISBLANK('DE01-F12'!P772),\"\",('DE01-F12'!P772))","v":""},{"$f":"IF(ISBLANK('DE01-F12'!Q772),\"\",('DE01-F12'!Q772))","v":""},{"$f":"IF(ISBLANK('DE01-F12'!S772),\"\",('DE01-F12'!S772))","v":0}]
[{"$f":"IF(ISBLANK('DE01-F12'!N773),\"\",('DE01-F12'!N773))","v":""},{"$f":"MID('DE01-F12'!G773,1,18)","v":""},{"$f":"IF(ISBLANK('DE01-F12'!P773),\"\",('DE01-F12'!P773))","v":""},{"$f":"IF(ISBLANK('DE01-F12'!Q773),\"\",('DE01-F12'!Q773))","v":""},{"$f":"IF(ISBLANK('DE01-F12'!S773),\"\",('DE01-F12'!S773))","v":0}]
[{"$f":"IF(ISBLANK('DE01-F12'!N774),\"\",('DE01-F12'!N774))","v":""},{"$f":"MID('DE01-F12'!G774,1,18)","v":""},{"$f":"IF(ISBLANK('DE01-F12'!P774),\"\",('DE01-F12'!P774))","v":""},{"$f":"IF(ISBLANK('DE01-F12'!Q774),\"\",('DE01-F12'!Q774))","v":""},{"$f":"IF(ISBLANK('DE01-F12'!S774),\"\",('DE01-F12'!S774))","v":0}]
[{"$f":"IF(ISBLANK('DE01-F12'!N775),\"\",('DE01-F12'!N775))","v":""},{"$f":"MID('DE01-F12'!G775,1,18)","v":""},{"$f":"IF(ISBLANK('DE01-F12'!P775),\"\",('DE01-F12'!P775))","v":""},{"$f":"IF(ISBLANK('DE01-F12'!Q775),\"\",('DE01-F12'!Q775))","v":""},{"$f":"IF(ISBLANK('DE01-F12'!S775),\"\",('DE01-F12'!S775))","v":0}]
[{"$f":"IF(ISBLANK('DE01-F12'!N776),\"\",('DE01-F12'!N776))","v":""},{"$f":"MID('DE01-F12'!G776,1,18)","v":""},{"$f":"IF(ISBLANK('DE01-F12'!P776),\"\",('DE01-F12'!P776))","v":""},{"$f":"IF(ISBLANK('DE01-F12'!Q776),\"\",('DE01-F12'!Q776))","v":""},{"$f":"IF(ISBLANK('DE01-F12'!S776),\"\",('DE01-F12'!S776))","v":0}]
[{"$f":"IF(ISBLANK('DE01-F12'!N777),\"\",('DE01-F12'!N777))","v":""},{"$f":"MID('DE01-F12'!G777,1,18)","v":""},{"$f":"IF(ISBLANK('DE01-F12'!P777),\"\",('DE01-F12'!P777))","v":""},{"$f":"IF(ISBLANK('DE01-F12'!Q777),\"\",('DE01-F12'!Q777))","v":""},{"$f":"IF(ISBLANK('DE01-F12'!S777),\"\",('DE01-F12'!S777))","v":0}]
[{"$f":"IF(ISBLANK('DE01-F12'!N778),\"\",('DE01-F12'!N778))","v":""},{"$f":"MID('DE01-F12'!G778,1,18)","v":""},{"$f":"IF(ISBLANK('DE01-F12'!P778),\"\",('DE01-F12'!P778))","v":""},{"$f":"IF(ISBLANK('DE01-F12'!Q778),\"\",('DE01-F12'!Q778))","v":""},{"$f":"IF(ISBLANK('DE01-F12'!S778),\"\",('DE01-F12'!S778))","v":0}]
[{"$f":"IF(ISBLANK('DE01-F12'!N779),\"\",('DE01-F12'!N779))","v":""},{"$f":"MID('DE01-F12'!G779,1,18)","v":""},{"$f":"IF(ISBLANK('DE01-F12'!P779),\"\",('DE01-F12'!P779))","v":""},{"$f":"IF(ISBLANK('DE01-F12'!Q779),\"\",('DE01-F12'!Q779))","v":""},{"$f":"IF(ISBLANK('DE01-F12'!S779),\"\",('DE01-F12'!S779))","v":0}]
[{"$f":"IF(ISBLANK('DE01-F12'!N780),\"\",('DE01-F12'!N780))","v":""},{"$f":"MID('DE01-F12'!G780,1,18)","v":""},{"$f":"IF(ISBLANK('DE01-F12'!P780),\"\",('DE01-F12'!P780))","v":""},{"$f":"IF(ISBLANK('DE01-F12'!Q780),\"\",('DE01-F12'!Q780))","v":""},{"$f":"IF(ISBLANK('DE01-F12'!S780),\"\",('DE01-F12'!S780))","v":0}]
[{"$f":"IF(ISBLANK('DE01-F12'!N781),\"\",('DE01-F12'!N781))","v":""},{"$f":"MID('DE01-F12'!G781,1,18)","v":""},{"$f":"IF(ISBLANK('DE01-F12'!P781),\"\",('DE01-F12'!P781))","v":""},{"$f":"IF(ISBLANK('DE01-F12'!Q781),\"\",('DE01-F12'!Q781))","v":""},{"$f":"IF(ISBLANK('DE01-F12'!S781),\"\",('DE01-F12'!S781))","v":0}]
[{"$f":"IF(ISBLANK('DE01-F12'!N782),\"\",('DE01-F12'!N782))","v":""},{"$f":"MID('DE01-F12'!G782,1,18)","v":""},{"$f":"IF(ISBLANK('DE01-F12'!P782),\"\",('DE01-F12'!P782))","v":""},{"$f":"IF(ISBLANK('DE01-F12'!Q782),\"\",('DE01-F12'!Q782))","v":""},{"$f":"IF(ISBLANK('DE01-F12'!S782),\"\",('DE01-F12'!S782))","v":0}]
[{"$f":"IF(ISBLANK('DE01-F12'!N783),\"\",('DE01-F12'!N783))","v":""},{"$f":"MID('DE01-F12'!G783,1,18)","v":""},{"$f":"IF(ISBLANK('DE01-F12'!P783),\"\",('DE01-F12'!P783))","v":""},{"$f":"IF(ISBLANK('DE01-F12'!Q783),\"\",('DE01-F12'!Q783))","v":""},{"$f":"IF(ISBLANK('DE01-F12'!S783),\"\",('DE01-F12'!S783))","v":0}]
[{"$f":"IF(ISBLANK('DE01-F12'!N784),\"\",('DE01-F12'!N784))","v":""},{"$f":"MID('DE01-F12'!G784,1,18)","v":""},{"$f":"IF(ISBLANK('DE01-F12'!P784),\"\",('DE01-F12'!P784))","v":""},{"$f":"IF(ISBLANK('DE01-F12'!Q784),\"\",('DE01-F12'!Q784))","v":""},{"$f":"IF(ISBLANK('DE01-F12'!S784),\"\",('DE01-F12'!S784))","v":0}]
[{"$f":"IF(ISBLANK('DE01-F12'!N785),\"\",('DE01-F12'!N785))","v":""},{"$f":"MID('DE01-F12'!G785,1,18)","v":""},{"$f":"IF(ISBLANK('DE01-F12'!P785),\"\",('DE01-F12'!P785))","v":""},{"$f":"IF(ISBLANK('DE01-F12'!Q785),\"\",('DE01-F12'!Q785))","v":""},{"$f":"IF(ISBLANK('DE01-F12'!S785),\"\",('DE01-F12'!S785))","v":0}]
[{"$f":"IF(ISBLANK('DE01-F12'!N786),\"\",('DE01-F12'!N786))","v":""},{"$f":"MID('DE01-F12'!G786,1,18)","v":""},{"$f":"IF(ISBLANK('DE01-F12'!P786),\"\",('DE01-F12'!P786))","v":""},{"$f":"IF(ISBLANK('DE01-F12'!Q786),\"\",('DE01-F12'!Q786))","v":""},{"$f":"IF(ISBLANK('DE01-F12'!S786),\"\",('DE01-F12'!S786))","v":0}]
[{"$f":"IF(ISBLANK('DE01-F12'!N787),\"\",('DE01-F12'!N787))","v":""},{"$f":"MID('DE01-F12'!G787,1,18)","v":""},{"$f":"IF(ISBLANK('DE01-F12'!P787),\"\",('DE01-F12'!P787))","v":""},{"$f":"IF(ISBLANK('DE01-F12'!Q787),\"\",('DE01-F12'!Q787))","v":""},{"$f":"IF(ISBLANK('DE01-F12'!S787),\"\",('DE01-F12'!S787))","v":0}]
[{"$f":"IF(ISBLANK('DE01-F12'!N788),\"\",('DE01-F12'!N788))","v":""},{"$f":"MID('DE01-F12'!G788,1,18)","v":""},{"$f":"IF(ISBLANK('DE01-F12'!P788),\"\",('DE01-F12'!P788))","v":""},{"$f":"IF(ISBLANK('DE01-F12'!Q788),\"\",('DE01-F12'!Q788))","v":""},{"$f":"IF(ISBLANK('DE01-F12'!S788),\"\",('DE01-F12'!S788))","v":0}]
[{"$f":"IF(ISBLANK('DE01-F12'!N789),\"\",('DE01-F12'!N789))","v":""},{"$f":"MID('DE01-F12'!G789,1,18)","v":""},{"$f":"IF(ISBLANK('DE01-F12'!P789),\"\",('DE01-F12'!P789))","v":""},{"$f":"IF(ISBLANK('DE01-F12'!Q789),\"\",('DE01-F12'!Q789))","v":""},{"$f":"IF(ISBLANK('DE01-F12'!S789),\"\",('DE01-F12'!S789))","v":0}]
[{"$f":"IF(ISBLANK('DE01-F12'!N790),\"\",('DE01-F12'!N790))","v":""},{"$f":"MID('DE01-F12'!G790,1,18)","v":""},{"$f":"IF(ISBLANK('DE01-F12'!P790),\"\",('DE01-F12'!P790))","v":""},{"$f":"IF(ISBLANK('DE01-F12'!Q790),\"\",('DE01-F12'!Q790))","v":""},{"$f":"IF(ISBLANK('DE01-F12'!S790),\"\",('DE01-F12'!S790))","v":0}]
[{"$f":"IF(ISBLANK('DE01-F12'!N791),\"\",('DE01-F12'!N791))","v":""},{"$f":"MID('DE01-F12'!G791,1,18)","v":""},{"$f":"IF(ISBLANK('DE01-F12'!P791),\"\",('DE01-F12'!P791))","v":""},{"$f":"IF(ISBLANK('DE01-F12'!Q791),\"\",('DE01-F12'!Q791))","v":""},{"$f":"IF(ISBLANK('DE01-F12'!S791),\"\",('DE01-F12'!S791))","v":0}]
[{"$f":"IF(ISBLANK('DE01-F12'!N792),\"\",('DE01-F12'!N792))","v":""},{"$f":"MID('DE01-F12'!G792,1,18)","v":""},{"$f":"IF(ISBLANK('DE01-F12'!P792),\"\",('DE01-F12'!P792))","v":""},{"$f":"IF(ISBLANK('DE01-F12'!Q792),\"\",('DE01-F12'!Q792))","v":""},{"$f":"IF(ISBLANK('DE01-F12'!S792),\"\",('DE01-F12'!S792))","v":0}]
[{"$f":"IF(ISBLANK('DE01-F12'!N793),\"\",('DE01-F12'!N793))","v":""},{"$f":"MID('DE01-F12'!G793,1,18)","v":""},{"$f":"IF(ISBLANK('DE01-F12'!P793),\"\",('DE01-F12'!P793))","v":""},{"$f":"IF(ISBLANK('DE01-F12'!Q793),\"\",('DE01-F12'!Q793))","v":""},{"$f":"IF(ISBLANK('DE01-F12'!S793),\"\",('DE01-F12'!S793))","v":0}]
[{"$f":"IF(ISBLANK('DE01-F12'!N794),\"\",('DE01-F12'!N794))","v":""},{"$f":"MID('DE01-F12'!G794,1,18)","v":""},{"$f":"IF(ISBLANK('DE01-F12'!P794),\"\",('DE01-F12'!P794))","v":""},{"$f":"IF(ISBLANK('DE01-F12'!Q794),\"\",('DE01-F12'!Q794))","v":""},{"$f":"IF(ISBLANK('DE01-F12'!S794),\"\",('DE01-F12'!S794))","v":0}]
[{"$f":"IF(ISBLANK('DE01-F12'!N795),\"\",('DE01-F12'!N795))","v":""},{"$f":"MID('DE01-F12'!G795,1,18)","v":""},{"$f":"IF(ISBLANK('DE01-F12'!P795),\"\",('DE01-F12'!P795))","v":""},{"$f":"IF(ISBLANK('DE01-F12'!Q795),\"\",('DE01-F12'!Q795))","v":""},{"$f":"IF(ISBLANK('DE01-F12'!S795),\"\",('DE01-F12'!S795))","v":0}]
[{"$f":"IF(ISBLANK('DE01-F12'!N796),\"\",('DE01-F12'!N796))","v":""},{"$f":"MID('DE01-F12'!G796,1,18)","v":""},{"$f":"IF(ISBLANK('DE01-F12'!P796),\"\",('DE01-F12'!P796))","v":""},{"$f":"IF(ISBLANK('DE01-F12'!Q796),\"\",('DE01-F12'!Q796))","v":""},{"$f":"IF(ISBLANK('DE01-F12'!S796),\"\",('DE01-F12'!S796))","v":0}]
[{"$f":"IF(ISBLANK('DE01-F12'!N797),\"\",('DE01-F12'!N797))","v":""},{"$f":"MID('DE01-F12'!G797,1,18)","v":""},{"$f":"IF(ISBLANK('DE01-F12'!P797),\"\",('DE01-F12'!P797))","v":""},{"$f":"IF(ISBLANK('DE01-F12'!Q797),\"\",('DE01-F12'!Q797))","v":""},{"$f":"IF(ISBLANK('DE01-F12'!S797),\"\",('DE01-F12'!S797))","v":0}]
[{"$f":"IF(ISBLANK('DE01-F12'!N798),\"\",('DE01-F12'!N798))","v":""},{"$f":"MID('DE01-F12'!G798,1,18)","v":""},{"$f":"IF(ISBLANK('DE01-F12'!P798),\"\",('DE01-F12'!P798))","v":""},{"$f":"IF(ISBLANK('DE01-F12'!Q798),\"\",('DE01-F12'!Q798))","v":""},{"$f":"IF(ISBLANK('DE01-F12'!S798),\"\",('DE01-F12'!S798))","v":0}]
[{"$f":"IF(ISBLANK('DE01-F12'!N799),\"\",('DE01-F12'!N799))","v":""},{"$f":"MID('DE01-F12'!G799,1,18)","v":""},{"$f":"IF(ISBLANK('DE01-F12'!P799),\"\",('DE01-F12'!P799))","v":""},{"$f":"IF(ISBLANK('DE01-F12'!Q799),\"\",('DE01-F12'!Q799))","v":""},{"$f":"IF(ISBLANK('DE01-F12'!S799),\"\",('DE01-F12'!S799))","v":0}]
[{"$f":"IF(ISBLANK('DE01-F12'!N800),\"\",('DE01-F12'!N800))","v":""},{"$f":"MID('DE01-F12'!G800,1,18)","v":""},{"$f":"IF(ISBLANK('DE01-F12'!P800),\"\",('DE01-F12'!P800))","v":""},{"$f":"IF(ISBLANK('DE01-F12'!Q800),\"\",('DE01-F12'!Q800))","v":""},{"$f":"IF(ISBLANK('DE01-F12'!S800),\"\",('DE01-F12'!S800))","v":0}]
[{"$f":"IF(ISBLANK('DE01-F12'!N801),\"\",('DE01-F12'!N801))","v":""},{"$f":"MID('DE01-F12'!G801,1,18)","v":""},{"$f":"IF(ISBLANK('DE01-F12'!P801),\"\",('DE01-F12'!P801))","v":""},{"$f":"IF(ISBLANK('DE01-F12'!Q801),\"\",('DE01-F12'!Q801))","v":""},{"$f":"IF(ISBLANK('DE01-F12'!S801),\"\",('DE01-F12'!S801))","v":0}]
[{"$f":"IF(ISBLANK('DE01-F12'!N802),\"\",('DE01-F12'!N802))","v":""},{"$f":"MID('DE01-F12'!G802,1,18)","v":""},{"$f":"IF(ISBLANK('DE01-F12'!P802),\"\",('DE01-F12'!P802))","v":""},{"$f":"IF(ISBLANK('DE01-F12'!Q802),\"\",('DE01-F12'!Q802))","v":""},{"$f":"IF(ISBLANK('DE01-F12'!S802),\"\",('DE01-F12'!S802))","v":0}]
[{"$f":"IF(ISBLANK('DE01-F12'!N803),\"\",('DE01-F12'!N803))","v":""},{"$f":"MID('DE01-F12'!G803,1,18)","v":""},{"$f":"IF(ISBLANK('DE01-F12'!P803),\"\",('DE01-F12'!P803))","v":""},{"$f":"IF(ISBLANK('DE01-F12'!Q803),\"\",('DE01-F12'!Q803))","v":""},{"$f":"IF(ISBLANK('DE01-F12'!S803),\"\",('DE01-F12'!S803))","v":0}]
[{"$f":"IF(ISBLANK('DE01-F12'!N804),\"\",('DE01-F12'!N804))","v":""},{"$f":"MID('DE01-F12'!G804,1,18)","v":""},{"$f":"IF(ISBLANK('DE01-F12'!P804),\"\",('DE01-F12'!P804))","v":""},{"$f":"IF(ISBLANK('DE01-F12'!Q804),\"\",('DE01-F12'!Q804))","v":""},{"$f":"IF(ISBLANK('DE01-F12'!S804),\"\",('DE01-F12'!S804))","v":0}]
[{"$f":"IF(ISBLANK('DE01-F12'!N805),\"\",('DE01-F12'!N805))","v":""},{"$f":"MID('DE01-F12'!G805,1,18)","v":""},{"$f":"IF(ISBLANK('DE01-F12'!P805),\"\",('DE01-F12'!P805))","v":""},{"$f":"IF(ISBLANK('DE01-F12'!Q805),\"\",('DE01-F12'!Q805))","v":""},{"$f":"IF(ISBLANK('DE01-F12'!S805),\"\",('DE01-F12'!S805))","v":0}]
[{"$f":"IF(ISBLANK('DE01-F12'!N806),\"\",('DE01-F12'!N806))","v":""},{"$f":"MID('DE01-F12'!G806,1,18)","v":""},{"$f":"IF(ISBLANK('DE01-F12'!P806),\"\",('DE01-F12'!P806))","v":""},{"$f":"IF(ISBLANK('DE01-F12'!Q806),\"\",('DE01-F12'!Q806))","v":""},{"$f":"IF(ISBLANK('DE01-F12'!S806),\"\",('DE01-F12'!S806))","v":0}]
[{"$f":"IF(ISBLANK('DE01-F12'!N807),\"\",('DE01-F12'!N807))","v":""},{"$f":"MID('DE01-F12'!G807,1,18)","v":""},{"$f":"IF(ISBLANK('DE01-F12'!P807),\"\",('DE01-F12'!P807))","v":""},{"$f":"IF(ISBLANK('DE01-F12'!Q807),\"\",('DE01-F12'!Q807))","v":""},{"$f":"IF(ISBLANK('DE01-F12'!S807),\"\",('DE01-F12'!S807))","v":0}]
[{"$f":"IF(ISBLANK('DE01-F12'!N808),\"\",('DE01-F12'!N808))","v":""},{"$f":"MID('DE01-F12'!G808,1,18)","v":""},{"$f":"IF(ISBLANK('DE01-F12'!P808),\"\",('DE01-F12'!P808))","v":""},{"$f":"IF(ISBLANK('DE01-F12'!Q808),\"\",('DE01-F12'!Q808))","v":""},{"$f":"IF(ISBLANK('DE01-F12'!S808),\"\",('DE01-F12'!S808))","v":0}]
[{"$f":"IF(ISBLANK('DE01-F12'!N809),\"\",('DE01-F12'!N809))","v":""},{"$f":"MID('DE01-F12'!G809,1,18)","v":""},{"$f":"IF(ISBLANK('DE01-F12'!P809),\"\",('DE01-F12'!P809))","v":""},{"$f":"IF(ISBLANK('DE01-F12'!Q809),\"\",('DE01-F12'!Q809))","v":""},{"$f":"IF(ISBLANK('DE01-F12'!S809),\"\",('DE01-F12'!S809))","v":0}]
[{"$f":"IF(ISBLANK('DE01-F12'!N810),\"\",('DE01-F12'!N810))","v":""},{"$f":"MID('DE01-F12'!G810,1,18)","v":""},{"$f":"IF(ISBLANK('DE01-F12'!P810),\"\",('DE01-F12'!P810))","v":""},{"$f":"IF(ISBLANK('DE01-F12'!Q810),\"\",('DE01-F12'!Q810))","v":""},{"$f":"IF(ISBLANK('DE01-F12'!S810),\"\",('DE01-F12'!S810))","v":0}]
[{"$f":"IF(ISBLANK('DE01-F12'!N811),\"\",('DE01-F12'!N811))","v":""},{"$f":"MID('DE01-F12'!G811,1,18)","v":""},{"$f":"IF(ISBLANK('DE01-F12'!P811),\"\",('DE01-F12'!P811))","v":""},{"$f":"IF(ISBLANK('DE01-F12'!Q811),\"\",('DE01-F12'!Q811))","v":""},{"$f":"IF(ISBLANK('DE01-F12'!S811),\"\",('DE01-F12'!S811))","v":0}]
[{"$f":"IF(ISBLANK('DE01-F12'!N812),\"\",('DE01-F12'!N812))","v":""},{"$f":"MID('DE01-F12'!G812,1,18)","v":""},{"$f":"IF(ISBLANK('DE01-F12'!P812),\"\",('DE01-F12'!P812))","v":""},{"$f":"IF(ISBLANK('DE01-F12'!Q812),\"\",('DE01-F12'!Q812))","v":""},{"$f":"IF(ISBLANK('DE01-F12'!S812),\"\",('DE01-F12'!S812))","v":0}]
[{"$f":"IF(ISBLANK('DE01-F12'!N813),\"\",('DE01-F12'!N813))","v":""},{"$f":"MID('DE01-F12'!G813,1,18)","v":""},{"$f":"IF(ISBLANK('DE01-F12'!P813),\"\",('DE01-F12'!P813))","v":""},{"$f":"IF(ISBLANK('DE01-F12'!Q813),\"\",('DE01-F12'!Q813))","v":""},{"$f":"IF(ISBLANK('DE01-F12'!S813),\"\",('DE01-F12'!S813))","v":0}]
[{"$f":"IF(ISBLANK('DE01-F12'!N814),\"\",('DE01-F12'!N814))","v":""},{"$f":"MID('DE01-F12'!G814,1,18)","v":""},{"$f":"IF(ISBLANK('DE01-F12'!P814),\"\",('DE01-F12'!P814))","v":""},{"$f":"IF(ISBLANK('DE01-F12'!Q814),\"\",('DE01-F12'!Q814))","v":""},{"$f":"IF(ISBLANK('DE01-F12'!S814),\"\",('DE01-F12'!S814))","v":0}]
[{"$f":"IF(ISBLANK('DE01-F12'!N815),\"\",('DE01-F12'!N815))","v":""},{"$f":"MID('DE01-F12'!G815,1,18)","v":""},{"$f":"IF(ISBLANK('DE01-F12'!P815),\"\",('DE01-F12'!P815))","v":""},{"$f":"IF(ISBLANK('DE01-F12'!Q815),\"\",('DE01-F12'!Q815))","v":""},{"$f":"IF(ISBLANK('DE01-F12'!S815),\"\",('DE01-F12'!S815))","v":0}]
[{"$f":"IF(ISBLANK('DE01-F12'!N816),\"\",('DE01-F12'!N816))","v":""},{"$f":"MID('DE01-F12'!G816,1,18)","v":""},{"$f":"IF(ISBLANK('DE01-F12'!P816),\"\",('DE01-F12'!P816))","v":""},{"$f":"IF(ISBLANK('DE01-F12'!Q816),\"\",('DE01-F12'!Q816))","v":""},{"$f":"IF(ISBLANK('DE01-F12'!S816),\"\",('DE01-F12'!S816))","v":0}]
[{"$f":"IF(ISBLANK('DE01-F12'!N817),\"\",('DE01-F12'!N817))","v":""},{"$f":"MID('DE01-F12'!G817,1,18)","v":""},{"$f":"IF(ISBLANK('DE01-F12'!P817),\"\",('DE01-F12'!P817))","v":""},{"$f":"IF(ISBLANK('DE01-F12'!Q817),\"\",('DE01-F12'!Q817))","v":""},{"$f":"IF(ISBLANK('DE01-F12'!S817),\"\",('DE01-F12'!S817))","v":0}]
[{"$f":"IF(ISBLANK('DE01-F12'!N818),\"\",('DE01-F12'!N818))","v":""},{"$f":"MID('DE01-F12'!G818,1,18)","v":""},{"$f":"IF(ISBLANK('DE01-F12'!P818),\"\",('DE01-F12'!P818))","v":""},{"$f":"IF(ISBLANK('DE01-F12'!Q818),\"\",('DE01-F12'!Q818))","v":""},{"$f":"IF(ISBLANK('DE01-F12'!S818),\"\",('DE01-F12'!S818))","v":0}]
[{"$f":"IF(ISBLANK('DE01-F12'!N819),\"\",('DE01-F12'!N819))","v":""},{"$f":"MID('DE01-F12'!G819,1,18)","v":""},{"$f":"IF(ISBLANK('DE01-F12'!P819),\"\",('DE01-F12'!P819))","v":""},{"$f":"IF(ISBLANK('DE01-F12'!Q819),\"\",('DE01-F12'!Q819))","v":""},{"$f":"IF(ISBLANK('DE01-F12'!S819),\"\",('DE01-F12'!S819))","v":0}]
[{"$f":"IF(ISBLANK('DE01-F12'!N820),\"\",('DE01-F12'!N820))","v":""},{"$f":"MID('DE01-F12'!G820,1,18)","v":""},{"$f":"IF(ISBLANK('DE01-F12'!P820),\"\",('DE01-F12'!P820))","v":""},{"$f":"IF(ISBLANK('DE01-F12'!Q820),\"\",('DE01-F12'!Q820))","v":""},{"$f":"IF(ISBLANK('DE01-F12'!S820),\"\",('DE01-F12'!S820))","v":0}]
[{"$f":"IF(ISBLANK('DE01-F12'!N821),\"\",('DE01-F12'!N821))","v":""},{"$f":"MID('DE01-F12'!G821,1,18)","v":""},{"$f":"IF(ISBLANK('DE01-F12'!P821),\"\",('DE01-F12'!P821))","v":""},{"$f":"IF(ISBLANK('DE01-F12'!Q821),\"\",('DE01-F12'!Q821))","v":""},{"$f":"IF(ISBLANK('DE01-F12'!S821),\"\",('DE01-F12'!S821))","v":0}]
[{"$f":"IF(ISBLANK('DE01-F12'!N822),\"\",('DE01-F12'!N822))","v":""},{"$f":"MID('DE01-F12'!G822,1,18)","v":""},{"$f":"IF(ISBLANK('DE01-F12'!P822),\"\",('DE01-F12'!P822))","v":""},{"$f":"IF(ISBLANK('DE01-F12'!Q822),\"\",('DE01-F12'!Q822))","v":""},{"$f":"IF(ISBLANK('DE01-F12'!S822),\"\",('DE01-F12'!S822))","v":0}]
[{"$f":"IF(ISBLANK('DE01-F12'!N823),\"\",('DE01-F12'!N823))","v":""},{"$f":"MID('DE01-F12'!G823,1,18)","v":""},{"$f":"IF(ISBLANK('DE01-F12'!P823),\"\",('DE01-F12'!P823))","v":""},{"$f":"IF(ISBLANK('DE01-F12'!Q823),\"\",('DE01-F12'!Q823))","v":""},{"$f":"IF(ISBLANK('DE01-F12'!S823),\"\",('DE01-F12'!S823))","v":0}]
[{"$f":"IF(ISBLANK('DE01-F12'!N824),\"\",('DE01-F12'!N824))","v":""},{"$f":"MID('DE01-F12'!G824,1,18)","v":""},{"$f":"IF(ISBLANK('DE01-F12'!P824),\"\",('DE01-F12'!P824))","v":""},{"$f":"IF(ISBLANK('DE01-F12'!Q824),\"\",('DE01-F12'!Q824))","v":""},{"$f":"IF(ISBLANK('DE01-F12'!S824),\"\",('DE01-F12'!S824))","v":0}]
[{"$f":"IF(ISBLANK('DE01-F12'!N825),\"\",('DE01-F12'!N825))","v":""},{"$f":"MID('DE01-F12'!G825,1,18)","v":""},{"$f":"IF(ISBLANK('DE01-F12'!P825),\"\",('DE01-F12'!P825))","v":""},{"$f":"IF(ISBLANK('DE01-F12'!Q825),\"\",('DE01-F12'!Q825))","v":""},{"$f":"IF(ISBLANK('DE01-F12'!S825),\"\",('DE01-F12'!S825))","v":0}]
[{"$f":"IF(ISBLANK('DE01-F12'!N826),\"\",('DE01-F12'!N826))","v":""},{"$f":"MID('DE01-F12'!G826,1,18)","v":""},{"$f":"IF(ISBLANK('DE01-F12'!P826),\"\",('DE01-F12'!P826))","v":""},{"$f":"IF(ISBLANK('DE01-F12'!Q826),\"\",('DE01-F12'!Q826))","v":""},{"$f":"IF(ISBLANK('DE01-F12'!S826),\"\",('DE01-F12'!S826))","v":0}]
[{"$f":"IF(ISBLANK('DE01-F12'!N827),\"\",('DE01-F12'!N827))","v":""},{"$f":"MID('DE01-F12'!G827,1,18)","v":""},{"$f":"IF(ISBLANK('DE01-F12'!P827),\"\",('DE01-F12'!P827))","v":""},{"$f":"IF(ISBLANK('DE01-F12'!Q827),\"\",('DE01-F12'!Q827))","v":""},{"$f":"IF(ISBLANK('DE01-F12'!S827),\"\",('DE01-F12'!S827))","v":0}]
[{"$f":"IF(ISBLANK('DE01-F12'!N828),\"\",('DE01-F12'!N828))","v":""},{"$f":"MID('DE01-F12'!G828,1,18)","v":""},{"$f":"IF(ISBLANK('DE01-F12'!P828),\"\",('DE01-F12'!P828))","v":""},{"$f":"IF(ISBLANK('DE01-F12'!Q828),\"\",('DE01-F12'!Q828))","v":""},{"$f":"IF(ISBLANK('DE01-F12'!S828),\"\",('DE01-F12'!S828))","v":0}]
[{"$f":"IF(ISBLANK('DE01-F12'!N829),\"\",('DE01-F12'!N829))","v":""},{"$f":"MID('DE01-F12'!G829,1,18)","v":""},{"$f":"IF(ISBLANK('DE01-F12'!P829),\"\",('DE01-F12'!P829))","v":""},{"$f":"IF(ISBLANK('DE01-F12'!Q829),\"\",('DE01-F12'!Q829))","v":""},{"$f":"IF(ISBLANK('DE01-F12'!S829),\"\",('DE01-F12'!S829))","v":0}]
[{"$f":"IF(ISBLANK('DE01-F12'!N830),\"\",('DE01-F12'!N830))","v":""},{"$f":"MID('DE01-F12'!G830,1,18)","v":""},{"$f":"IF(ISBLANK('DE01-F12'!P830),\"\",('DE01-F12'!P830))","v":""},{"$f":"IF(ISBLANK('DE01-F12'!Q830),\"\",('DE01-F12'!Q830))","v":""},{"$f":"IF(ISBLANK('DE01-F12'!S830),\"\",('DE01-F12'!S830))","v":0}]
[{"$f":"IF(ISBLANK('DE01-F12'!N831),\"\",('DE01-F12'!N831))","v":""},{"$f":"MID('DE01-F12'!G831,1,18)","v":""},{"$f":"IF(ISBLANK('DE01-F12'!P831),\"\",('DE01-F12'!P831))","v":""},{"$f":"IF(ISBLANK('DE01-F12'!Q831),\"\",('DE01-F12'!Q831))","v":""},{"$f":"IF(ISBLANK('DE01-F12'!S831),\"\",('DE01-F12'!S831))","v":0}]
[{"$f":"IF(ISBLANK('DE01-F12'!N832),\"\",('DE01-F12'!N832))","v":""},{"$f":"MID('DE01-F12'!G832,1,18)","v":""},{"$f":"IF(ISBLANK('DE01-F12'!P832),\"\",('DE01-F12'!P832))","v":""},{"$f":"IF(ISBLANK('DE01-F12'!Q832),\"\",('DE01-F12'!Q832))","v":""},{"$f":"IF(ISBLANK('DE01-F12'!S832),\"\",('DE01-F12'!S832))","v":0}]
[{"$f":"IF(ISBLANK('DE01-F12'!N833),\"\",('DE01-F12'!N833))","v":""},{"$f":"MID('DE01-F12'!G833,1,18)","v":""},{"$f":"IF(ISBLANK('DE01-F12'!P833),\"\",('DE01-F12'!P833))","v":""},{"$f":"IF(ISBLANK('DE01-F12'!Q833),\"\",('DE01-F12'!Q833))","v":""},{"$f":"IF(ISBLANK('DE01-F12'!S833),\"\",('DE01-F12'!S833))","v":0}]
[{"$f":"IF(ISBLANK('DE01-F12'!N834),\"\",('DE01-F12'!N834))","v":""},{"$f":"MID('DE01-F12'!G834,1,18)","v":""},{"$f":"IF(ISBLANK('DE01-F12'!P834),\"\",('DE01-F12'!P834))","v":""},{"$f":"IF(ISBLANK('DE01-F12'!Q834),\"\",('DE01-F12'!Q834))","v":""},{"$f":"IF(ISBLANK('DE01-F12'!S834),\"\",('DE01-F12'!S834))","v":0}]
[{"$f":"IF(ISBLANK('DE01-F12'!N835),\"\",('DE01-F12'!N835))","v":""},{"$f":"MID('DE01-F12'!G835,1,18)","v":""},{"$f":"IF(ISBLANK('DE01-F12'!P835),\"\",('DE01-F12'!P835))","v":""},{"$f":"IF(ISBLANK('DE01-F12'!Q835),\"\",('DE01-F12'!Q835))","v":""},{"$f":"IF(ISBLANK('DE01-F12'!S835),\"\",('DE01-F12'!S835))","v":0}]
[{"$f":"IF(ISBLANK('DE01-F12'!N836),\"\",('DE01-F12'!N836))","v":""},{"$f":"MID('DE01-F12'!G836,1,18)","v":""},{"$f":"IF(ISBLANK('DE01-F12'!P836),\"\",('DE01-F12'!P836))","v":""},{"$f":"IF(ISBLANK('DE01-F12'!Q836),\"\",('DE01-F12'!Q836))","v":""},{"$f":"IF(ISBLANK('DE01-F12'!S836),\"\",('DE01-F12'!S836))","v":0}]
[{"$f":"IF(ISBLANK('DE01-F12'!N837),\"\",('DE01-F12'!N837))","v":""},{"$f":"MID('DE01-F12'!G837,1,18)","v":""},{"$f":"IF(ISBLANK('DE01-F12'!P837),\"\",('DE01-F12'!P837))","v":""},{"$f":"IF(ISBLANK('DE01-F12'!Q837),\"\",('DE01-F12'!Q837))","v":""},{"$f":"IF(ISBLANK('DE01-F12'!S837),\"\",('DE01-F12'!S837))","v":0}]
[{"$f":"IF(ISBLANK('DE01-F12'!N838),\"\",('DE01-F12'!N838))","v":""},{"$f":"MID('DE01-F12'!G838,1,18)","v":""},{"$f":"IF(ISBLANK('DE01-F12'!P838),\"\",('DE01-F12'!P838))","v":""},{"$f":"IF(ISBLANK('DE01-F12'!Q838),\"\",('DE01-F12'!Q838))","v":""},{"$f":"IF(ISBLANK('DE01-F12'!S838),\"\",('DE01-F12'!S838))","v":0}]
[{"$f":"IF(ISBLANK('DE01-F12'!N839),\"\",('DE01-F12'!N839))","v":""},{"$f":"MID('DE01-F12'!G839,1,18)","v":""},{"$f":"IF(ISBLANK('DE01-F12'!P839),\"\",('DE01-F12'!P839))","v":""},{"$f":"IF(ISBLANK('DE01-F12'!Q839),\"\",('DE01-F12'!Q839))","v":""},{"$f":"IF(ISBLANK('DE01-F12'!S839),\"\",('DE01-F12'!S839))","v":0}]
[{"$f":"IF(ISBLANK('DE01-F12'!N840),\"\",('DE01-F12'!N840))","v":""},{"$f":"MID('DE01-F12'!G840,1,18)","v":""},{"$f":"IF(ISBLANK('DE01-F12'!P840),\"\",('DE01-F12'!P840))","v":""},{"$f":"IF(ISBLANK('DE01-F12'!Q840),\"\",('DE01-F12'!Q840))","v":""},{"$f":"IF(ISBLANK('DE01-F12'!S840),\"\",('DE01-F12'!S840))","v":0}]
[{"$f":"IF(ISBLANK('DE01-F12'!N841),\"\",('DE01-F12'!N841))","v":""},{"$f":"MID('DE01-F12'!G841,1,18)","v":""},{"$f":"IF(ISBLANK('DE01-F12'!P841),\"\",('DE01-F12'!P841))","v":""},{"$f":"IF(ISBLANK('DE01-F12'!Q841),\"\",('DE01-F12'!Q841))","v":""},{"$f":"IF(ISBLANK('DE01-F12'!S841),\"\",('DE01-F12'!S841))","v":0}]
[{"$f":"IF(ISBLANK('DE01-F12'!N842),\"\",('DE01-F12'!N842))","v":""},{"$f":"MID('DE01-F12'!G842,1,18)","v":""},{"$f":"IF(ISBLANK('DE01-F12'!P842),\"\",('DE01-F12'!P842))","v":""},{"$f":"IF(ISBLANK('DE01-F12'!Q842),\"\",('DE01-F12'!Q842))","v":""},{"$f":"IF(ISBLANK('DE01-F12'!S842),\"\",('DE01-F12'!S842))","v":0}]
[{"$f":"IF(ISBLANK('DE01-F12'!N843),\"\",('DE01-F12'!N843))","v":""},{"$f":"MID('DE01-F12'!G843,1,18)","v":""},{"$f":"IF(ISBLANK('DE01-F12'!P843),\"\",('DE01-F12'!P843))","v":""},{"$f":"IF(ISBLANK('DE01-F12'!Q843),\"\",('DE01-F12'!Q843))","v":""},{"$f":"IF(ISBLANK('DE01-F12'!S843),\"\",('DE01-F12'!S843))","v":0}]
[{"$f":"IF(ISBLANK('DE01-F12'!N844),\"\",('DE01-F12'!N844))","v":""},{"$f":"MID('DE01-F12'!G844,1,18)","v":""},{"$f":"IF(ISBLANK('DE01-F12'!P844),\"\",('DE01-F12'!P844))","v":""},{"$f":"IF(ISBLANK('DE01-F12'!Q844),\"\",('DE01-F12'!Q844))","v":""},{"$f":"IF(ISBLANK('DE01-F12'!S844),\"\",('DE01-F12'!S844))","v":0}]
[{"$f":"IF(ISBLANK('DE01-F12'!N845),\"\",('DE01-F12'!N845))","v":""},{"$f":"MID('DE01-F12'!G845,1,18)","v":""},{"$f":"IF(ISBLANK('DE01-F12'!P845),\"\",('DE01-F12'!P845))","v":""},{"$f":"IF(ISBLANK('DE01-F12'!Q845),\"\",('DE01-F12'!Q845))","v":""},{"$f":"IF(ISBLANK('DE01-F12'!S845),\"\",('DE01-F12'!S845))","v":0}]
[{"$f":"IF(ISBLANK('DE01-F12'!N846),\"\",('DE01-F12'!N846))","v":""},{"$f":"MID('DE01-F12'!G846,1,18)","v":""},{"$f":"IF(ISBLANK('DE01-F12'!P846),\"\",('DE01-F12'!P846))","v":""},{"$f":"IF(ISBLANK('DE01-F12'!Q846),\"\",('DE01-F12'!Q846))","v":""},{"$f":"IF(ISBLANK('DE01-F12'!S846),\"\",('DE01-F12'!S846))","v":0}]
[{"$f":"IF(ISBLANK('DE01-F12'!N847),\"\",('DE01-F12'!N847))","v":""},{"$f":"MID('DE01-F12'!G847,1,18)","v":""},{"$f":"IF(ISBLANK('DE01-F12'!P847),\"\",('DE01-F12'!P847))","v":""},{"$f":"IF(ISBLANK('DE01-F12'!Q847),\"\",('DE01-F12'!Q847))","v":""},{"$f":"IF(ISBLANK('DE01-F12'!S847),\"\",('DE01-F12'!S847))","v":0}]
[{"$f":"IF(ISBLANK('DE01-F12'!N848),\"\",('DE01-F12'!N848))","v":""},{"$f":"MID('DE01-F12'!G848,1,18)","v":""},{"$f":"IF(ISBLANK('DE01-F12'!P848),\"\",('DE01-F12'!P848))","v":""},{"$f":"IF(ISBLANK('DE01-F12'!Q848),\"\",('DE01-F12'!Q848))","v":""},{"$f":"IF(ISBLANK('DE01-F12'!S848),\"\",('DE01-F12'!S848))","v":0}]
[{"$f":"IF(ISBLANK('DE01-F12'!N849),\"\",('DE01-F12'!N849))","v":""},{"$f":"MID('DE01-F12'!G849,1,18)","v":""},{"$f":"IF(ISBLANK('DE01-F12'!P849),\"\",('DE01-F12'!P849))","v":""},{"$f":"IF(ISBLANK('DE01-F12'!Q849),\"\",('DE01-F12'!Q849))","v":""},{"$f":"IF(ISBLANK('DE01-F12'!S849),\"\",('DE01-F12'!S849))","v":0}]
[{"$f":"IF(ISBLANK('DE01-F12'!N850),\"\",('DE01-F12'!N850))","v":""},{"$f":"MID('DE01-F12'!G850,1,18)","v":""},{"$f":"IF(ISBLANK('DE01-F12'!P850),\"\",('DE01-F12'!P850))","v":""},{"$f":"IF(ISBLANK('DE01-F12'!Q850),\"\",('DE01-F12'!Q850))","v":""},{"$f":"IF(ISBLANK('DE01-F12'!S850),\"\",('DE01-F12'!S850))","v":0}]
[{"$f":"IF(ISBLANK('DE01-F12'!N851),\"\",('DE01-F12'!N851))","v":""},{"$f":"MID('DE01-F12'!G851,1,18)","v":""},{"$f":"IF(ISBLANK('DE01-F12'!P851),\"\",('DE01-F12'!P851))","v":""},{"$f":"IF(ISBLANK('DE01-F12'!Q851),\"\",('DE01-F12'!Q851))","v":""},{"$f":"IF(ISBLANK('DE01-F12'!S851),\"\",('DE01-F12'!S851))","v":0}]
[{"$f":"IF(ISBLANK('DE01-F12'!N852),\"\",('DE01-F12'!N852))","v":""},{"$f":"MID('DE01-F12'!G852,1,18)","v":""},{"$f":"IF(ISBLANK('DE01-F12'!P852),\"\",('DE01-F12'!P852))","v":""},{"$f":"IF(ISBLANK('DE01-F12'!Q852),\"\",('DE01-F12'!Q852))","v":""},{"$f":"IF(ISBLANK('DE01-F12'!S852),\"\",('DE01-F12'!S852))","v":0}]
[{"$f":"IF(ISBLANK('DE01-F12'!N853),\"\",('DE01-F12'!N853))","v":""},{"$f":"MID('DE01-F12'!G853,1,18)","v":""},{"$f":"IF(ISBLANK('DE01-F12'!P853),\"\",('DE01-F12'!P853))","v":""},{"$f":"IF(ISBLANK('DE01-F12'!Q853),\"\",('DE01-F12'!Q853))","v":""},{"$f":"IF(ISBLANK('DE01-F12'!S853),\"\",('DE01-F12'!S853))","v":0}]
[{"$f":"IF(ISBLANK('DE01-F12'!N854),\"\",('DE01-F12'!N854))","v":""},{"$f":"MID('DE01-F12'!G854,1,18)","v":""},{"$f":"IF(ISBLANK('DE01-F12'!P854),\"\",('DE01-F12'!P854))","v":""},{"$f":"IF(ISBLANK('DE01-F12'!Q854),\"\",('DE01-F12'!Q854))","v":""},{"$f":"IF(ISBLANK('DE01-F12'!S854),\"\",('DE01-F12'!S854))","v":0}]
[{"$f":"IF(ISBLANK('DE01-F12'!N855),\"\",('DE01-F12'!N855))","v":""},{"$f":"MID('DE01-F12'!G855,1,18)","v":""},{"$f":"IF(ISBLANK('DE01-F12'!P855),\"\",('DE01-F12'!P855))","v":""},{"$f":"IF(ISBLANK('DE01-F12'!Q855),\"\",('DE01-F12'!Q855))","v":""},{"$f":"IF(ISBLANK('DE01-F12'!S855),\"\",('DE01-F12'!S855))","v":0}]
[{"$f":"IF(ISBLANK('DE01-F12'!N856),\"\",('DE01-F12'!N856))","v":""},{"$f":"MID('DE01-F12'!G856,1,18)","v":""},{"$f":"IF(ISBLANK('DE01-F12'!P856),\"\",('DE01-F12'!P856))","v":""},{"$f":"IF(ISBLANK('DE01-F12'!Q856),\"\",('DE01-F12'!Q856))","v":""},{"$f":"IF(ISBLANK('DE01-F12'!S856),\"\",('DE01-F12'!S856))","v":0}]
[{"$f":"IF(ISBLANK('DE01-F12'!N857),\"\",('DE01-F12'!N857))","v":""},{"$f":"MID('DE01-F12'!G857,1,18)","v":""},{"$f":"IF(ISBLANK('DE01-F12'!P857),\"\",('DE01-F12'!P857))","v":""},{"$f":"IF(ISBLANK('DE01-F12'!Q857),\"\",('DE01-F12'!Q857))","v":""},{"$f":"IF(ISBLANK('DE01-F12'!S857),\"\",('DE01-F12'!S857))","v":0}]
[{"$f":"IF(ISBLANK('DE01-F12'!N858),\"\",('DE01-F12'!N858))","v":""},{"$f":"MID('DE01-F12'!G858,1,18)","v":""},{"$f":"IF(ISBLANK('DE01-F12'!P858),\"\",('DE01-F12'!P858))","v":""},{"$f":"IF(ISBLANK('DE01-F12'!Q858),\"\",('DE01-F12'!Q858))","v":""},{"$f":"IF(ISBLANK('DE01-F12'!S858),\"\",('DE01-F12'!S858))","v":0}]
[{"$f":"IF(ISBLANK('DE01-F12'!N859),\"\",('DE01-F12'!N859))","v":""},{"$f":"MID('DE01-F12'!G859,1,18)","v":""},{"$f":"IF(ISBLANK('DE01-F12'!P859),\"\",('DE01-F12'!P859))","v":""},{"$f":"IF(ISBLANK('DE01-F12'!Q859),\"\",('DE01-F12'!Q859))","v":""},{"$f":"IF(ISBLANK('DE01-F12'!S859),\"\",('DE01-F12'!S859))","v":0}]
[{"$f":"IF(ISBLANK('DE01-F12'!N860),\"\",('DE01-F12'!N860))","v":""},{"$f":"MID('DE01-F12'!G860,1,18)","v":""},{"$f":"IF(ISBLANK('DE01-F12'!P860),\"\",('DE01-F12'!P860))","v":""},{"$f":"IF(ISBLANK('DE01-F12'!Q860),\"\",('DE01-F12'!Q860))","v":""},{"$f":"IF(ISBLANK('DE01-F12'!S860),\"\",('DE01-F12'!S860))","v":0}]
[{"$f":"IF(ISBLANK('DE01-F12'!N861),\"\",('DE01-F12'!N861))","v":""},{"$f":"MID('DE01-F12'!G861,1,18)","v":""},{"$f":"IF(ISBLANK('DE01-F12'!P861),\"\",('DE01-F12'!P861))","v":""},{"$f":"IF(ISBLANK('DE01-F12'!Q861),\"\",('DE01-F12'!Q861))","v":""},{"$f":"IF(ISBLANK('DE01-F12'!S861),\"\",('DE01-F12'!S861))","v":0}]
[{"$f":"IF(ISBLANK('DE01-F12'!N862),\"\",('DE01-F12'!N862))","v":""},{"$f":"MID('DE01-F12'!G862,1,18)","v":""},{"$f":"IF(ISBLANK('DE01-F12'!P862),\"\",('DE01-F12'!P862))","v":""},{"$f":"IF(ISBLANK('DE01-F12'!Q862),\"\",('DE01-F12'!Q862))","v":""},{"$f":"IF(ISBLANK('DE01-F12'!S862),\"\",('DE01-F12'!S862))","v":0}]
[{"$f":"IF(ISBLANK('DE01-F12'!N863),\"\",('DE01-F12'!N863))","v":""},{"$f":"MID('DE01-F12'!G863,1,18)","v":""},{"$f":"IF(ISBLANK('DE01-F12'!P863),\"\",('DE01-F12'!P863))","v":""},{"$f":"IF(ISBLANK('DE01-F12'!Q863),\"\",('DE01-F12'!Q863))","v":""},{"$f":"IF(ISBLANK('DE01-F12'!S863),\"\",('DE01-F12'!S863))","v":0}]
[{"$f":"IF(ISBLANK('DE01-F12'!N864),\"\",('DE01-F12'!N864))","v":""},{"$f":"MID('DE01-F12'!G864,1,18)","v":""},{"$f":"IF(ISBLANK('DE01-F12'!P864),\"\",('DE01-F12'!P864))","v":""},{"$f":"IF(ISBLANK('DE01-F12'!Q864),\"\",('DE01-F12'!Q864))","v":""},{"$f":"IF(ISBLANK('DE01-F12'!S864),\"\",('DE01-F12'!S864))","v":0}]
[{"$f":"IF(ISBLANK('DE01-F12'!N865),\"\",('DE01-F12'!N865))","v":""},{"$f":"MID('DE01-F12'!G865,1,18)","v":""},{"$f":"IF(ISBLANK('DE01-F12'!P865),\"\",('DE01-F12'!P865))","v":""},{"$f":"IF(ISBLANK('DE01-F12'!Q865),\"\",('DE01-F12'!Q865))","v":""},{"$f":"IF(ISBLANK('DE01-F12'!S865),\"\",('DE01-F12'!S865))","v":0}]
[{"$f":"IF(ISBLANK('DE01-F12'!N866),\"\",('DE01-F12'!N866))","v":""},{"$f":"MID('DE01-F12'!G866,1,18)","v":""},{"$f":"IF(ISBLANK('DE01-F12'!P866),\"\",('DE01-F12'!P866))","v":""},{"$f":"IF(ISBLANK('DE01-F12'!Q866),\"\",('DE01-F12'!Q866))","v":""},{"$f":"IF(ISBLANK('DE01-F12'!S866),\"\",('DE01-F12'!S866))","v":0}]
[{"$f":"IF(ISBLANK('DE01-F12'!N867),\"\",('DE01-F12'!N867))","v":""},{"$f":"MID('DE01-F12'!G867,1,18)","v":""},{"$f":"IF(ISBLANK('DE01-F12'!P867),\"\",('DE01-F12'!P867))","v":""},{"$f":"IF(ISBLANK('DE01-F12'!Q867),\"\",('DE01-F12'!Q867))","v":""},{"$f":"IF(ISBLANK('DE01-F12'!S867),\"\",('DE01-F12'!S867))","v":0}]
[{"$f":"IF(ISBLANK('DE01-F12'!N868),\"\",('DE01-F12'!N868))","v":""},{"$f":"MID('DE01-F12'!G868,1,18)","v":""},{"$f":"IF(ISBLANK('DE01-F12'!P868),\"\",('DE01-F12'!P868))","v":""},{"$f":"IF(ISBLANK('DE01-F12'!Q868),\"\",('DE01-F12'!Q868))","v":""},{"$f":"IF(ISBLANK('DE01-F12'!S868),\"\",('DE01-F12'!S868))","v":0}]
[{"$f":"IF(ISBLANK('DE01-F12'!N869),\"\",('DE01-F12'!N869))","v":""},{"$f":"MID('DE01-F12'!G869,1,18)","v":""},{"$f":"IF(ISBLANK('DE01-F12'!P869),\"\",('DE01-F12'!P869))","v":""},{"$f":"IF(ISBLANK('DE01-F12'!Q869),\"\",('DE01-F12'!Q869))","v":""},{"$f":"IF(ISBLANK('DE01-F12'!S869),\"\",('DE01-F12'!S869))","v":0}]
[{"$f":"IF(ISBLANK('DE01-F12'!N870),\"\",('DE01-F12'!N870))","v":""},{"$f":"MID('DE01-F12'!G870,1,18)","v":""},{"$f":"IF(ISBLANK('DE01-F12'!P870),\"\",('DE01-F12'!P870))","v":""},{"$f":"IF(ISBLANK('DE01-F12'!Q870),\"\",('DE01-F12'!Q870))","v":""},{"$f":"IF(ISBLANK('DE01-F12'!S870),\"\",('DE01-F12'!S870))","v":0}]
[{"$f":"IF(ISBLANK('DE01-F12'!N871),\"\",('DE01-F12'!N871))","v":""},{"$f":"MID('DE01-F12'!G871,1,18)","v":""},{"$f":"IF(ISBLANK('DE01-F12'!P871),\"\",('DE01-F12'!P871))","v":""},{"$f":"IF(ISBLANK('DE01-F12'!Q871),\"\",('DE01-F12'!Q871))","v":""},{"$f":"IF(ISBLANK('DE01-F12'!S871),\"\",('DE01-F12'!S871))","v":0}]
[{"$f":"IF(ISBLANK('DE01-F12'!N872),\"\",('DE01-F12'!N872))","v":""},{"$f":"MID('DE01-F12'!G872,1,18)","v":""},{"$f":"IF(ISBLANK('DE01-F12'!P872),\"\",('DE01-F12'!P872))","v":""},{"$f":"IF(ISBLANK('DE01-F12'!Q872),\"\",('DE01-F12'!Q872))","v":""},{"$f":"IF(ISBLANK('DE01-F12'!S872),\"\",('DE01-F12'!S872))","v":0}]
[{"$f":"IF(ISBLANK('DE01-F12'!N873),\"\",('DE01-F12'!N873))","v":""},{"$f":"MID('DE01-F12'!G873,1,18)","v":""},{"$f":"IF(ISBLANK('DE01-F12'!P873),\"\",('DE01-F12'!P873))","v":""},{"$f":"IF(ISBLANK('DE01-F12'!Q873),\"\",('DE01-F12'!Q873))","v":""},{"$f":"IF(ISBLANK('DE01-F12'!S873),\"\",('DE01-F12'!S873))","v":0}]
[{"$f":"IF(ISBLANK('DE01-F12'!N874),\"\",('DE01-F12'!N874))","v":""},{"$f":"MID('DE01-F12'!G874,1,18)","v":""},{"$f":"IF(ISBLANK('DE01-F12'!P874),\"\",('DE01-F12'!P874))","v":""},{"$f":"IF(ISBLANK('DE01-F12'!Q874),\"\",('DE01-F12'!Q874))","v":""},{"$f":"IF(ISBLANK('DE01-F12'!S874),\"\",('DE01-F12'!S874))","v":0}]
[{"$f":"IF(ISBLANK('DE01-F12'!N875),\"\",('DE01-F12'!N875))","v":""},{"$f":"MID('DE01-F12'!G875,1,18)","v":""},{"$f":"IF(ISBLANK('DE01-F12'!P875),\"\",('DE01-F12'!P875))","v":""},{"$f":"IF(ISBLANK('DE01-F12'!Q875),\"\",('DE01-F12'!Q875))","v":""},{"$f":"IF(ISBLANK('DE01-F12'!S875),\"\",('DE01-F12'!S875))","v":0}]
[{"$f":"IF(ISBLANK('DE01-F12'!N876),\"\",('DE01-F12'!N876))","v":""},{"$f":"MID('DE01-F12'!G876,1,18)","v":""},{"$f":"IF(ISBLANK('DE01-F12'!P876),\"\",('DE01-F12'!P876))","v":""},{"$f":"IF(ISBLANK('DE01-F12'!Q876),\"\",('DE01-F12'!Q876))","v":""},{"$f":"IF(ISBLANK('DE01-F12'!S876),\"\",('DE01-F12'!S876))","v":0}]
[{"$f":"IF(ISBLANK('DE01-F12'!N877),\"\",('DE01-F12'!N877))","v":""},{"$f":"MID('DE01-F12'!G877,1,18)","v":""},{"$f":"IF(ISBLANK('DE01-F12'!P877),\"\",('DE01-F12'!P877))","v":""},{"$f":"IF(ISBLANK('DE01-F12'!Q877),\"\",('DE01-F12'!Q877))","v":""},{"$f":"IF(ISBLANK('DE01-F12'!S877),\"\",('DE01-F12'!S877))","v":0}]
[{"$f":"IF(ISBLANK('DE01-F12'!N878),\"\",('DE01-F12'!N878))","v":""},{"$f":"MID('DE01-F12'!G878,1,18)","v":""},{"$f":"IF(ISBLANK('DE01-F12'!P878),\"\",('DE01-F12'!P878))","v":""},{"$f":"IF(ISBLANK('DE01-F12'!Q878),\"\",('DE01-F12'!Q878))","v":""},{"$f":"IF(ISBLANK('DE01-F12'!S878),\"\",('DE01-F12'!S878))","v":0}]
[{"$f":"IF(ISBLANK('DE01-F12'!N879),\"\",('DE01-F12'!N879))","v":""},{"$f":"MID('DE01-F12'!G879,1,18)","v":""},{"$f":"IF(ISBLANK('DE01-F12'!P879),\"\",('DE01-F12'!P879))","v":""},{"$f":"IF(ISBLANK('DE01-F12'!Q879),\"\",('DE01-F12'!Q879))","v":""},{"$f":"IF(ISBLANK('DE01-F12'!S879),\"\",('DE01-F12'!S879))","v":0}]
[{"$f":"IF(ISBLANK('DE01-F12'!N880),\"\",('DE01-F12'!N880))","v":""},{"$f":"MID('DE01-F12'!G880,1,18)","v":""},{"$f":"IF(ISBLANK('DE01-F12'!P880),\"\",('DE01-F12'!P880))","v":""},{"$f":"IF(ISBLANK('DE01-F12'!Q880),\"\",('DE01-F12'!Q880))","v":""},{"$f":"IF(ISBLANK('DE01-F12'!S880),\"\",('DE01-F12'!S880))","v":0}]
[{"$f":"IF(ISBLANK('DE01-F12'!N881),\"\",('DE01-F12'!N881))","v":""},{"$f":"MID('DE01-F12'!G881,1,18)","v":""},{"$f":"IF(ISBLANK('DE01-F12'!P881),\"\",('DE01-F12'!P881))","v":""},{"$f":"IF(ISBLANK('DE01-F12'!Q881),\"\",('DE01-F12'!Q881))","v":""},{"$f":"IF(ISBLANK('DE01-F12'!S881),\"\",('DE01-F12'!S881))","v":0}]
[{"$f":"IF(ISBLANK('DE01-F12'!N882),\"\",('DE01-F12'!N882))","v":""},{"$f":"MID('DE01-F12'!G882,1,18)","v":""},{"$f":"IF(ISBLANK('DE01-F12'!P882),\"\",('DE01-F12'!P882))","v":""},{"$f":"IF(ISBLANK('DE01-F12'!Q882),\"\",('DE01-F12'!Q882))","v":""},{"$f":"IF(ISBLANK('DE01-F12'!S882),\"\",('DE01-F12'!S882))","v":0}]
[{"$f":"IF(ISBLANK('DE01-F12'!N883),\"\",('DE01-F12'!N883))","v":""},{"$f":"MID('DE01-F12'!G883,1,18)","v":""},{"$f":"IF(ISBLANK('DE01-F12'!P883),\"\",('DE01-F12'!P883))","v":""},{"$f":"IF(ISBLANK('DE01-F12'!Q883),\"\",('DE01-F12'!Q883))","v":""},{"$f":"IF(ISBLANK('DE01-F12'!S883),\"\",('DE01-F12'!S883))","v":0}]
[{"$f":"IF(ISBLANK('DE01-F12'!N884),\"\",('DE01-F12'!N884))","v":""},{"$f":"MID('DE01-F12'!G884,1,18)","v":""},{"$f":"IF(ISBLANK('DE01-F12'!P884),\"\",('DE01-F12'!P884))","v":""},{"$f":"IF(ISBLANK('DE01-F12'!Q884),\"\",('DE01-F12'!Q884))","v":""},{"$f":"IF(ISBLANK('DE01-F12'!S884),\"\",('DE01-F12'!S884))","v":0}]
[{"$f":"IF(ISBLANK('DE01-F12'!N885),\"\",('DE01-F12'!N885))","v":""},{"$f":"MID('DE01-F12'!G885,1,18)","v":""},{"$f":"IF(ISBLANK('DE01-F12'!P885),\"\",('DE01-F12'!P885))","v":""},{"$f":"IF(ISBLANK('DE01-F12'!Q885),\"\",('DE01-F12'!Q885))","v":""},{"$f":"IF(ISBLANK('DE01-F12'!S885),\"\",('DE01-F12'!S885))","v":0}]
[{"$f":"IF(ISBLANK('DE01-F12'!N886),\"\",('DE01-F12'!N886))","v":""},{"$f":"MID('DE01-F12'!G886,1,18)","v":""},{"$f":"IF(ISBLANK('DE01-F12'!P886),\"\",('DE01-F12'!P886))","v":""},{"$f":"IF(ISBLANK('DE01-F12'!Q886),\"\",('DE01-F12'!Q886))","v":""},{"$f":"IF(ISBLANK('DE01-F12'!S886),\"\",('DE01-F12'!S886))","v":0}]
[{"$f":"IF(ISBLANK('DE01-F12'!N887),\"\",('DE01-F12'!N887))","v":""},{"$f":"MID('DE01-F12'!G887,1,18)","v":""},{"$f":"IF(ISBLANK('DE01-F12'!P887),\"\",('DE01-F12'!P887))","v":""},{"$f":"IF(ISBLANK('DE01-F12'!Q887),\"\",('DE01-F12'!Q887))","v":""},{"$f":"IF(ISBLANK('DE01-F12'!S887),\"\",('DE01-F12'!S887))","v":0}]
[{"$f":"IF(ISBLANK('DE01-F12'!N888),\"\",('DE01-F12'!N888))","v":""},{"$f":"MID('DE01-F12'!G888,1,18)","v":""},{"$f":"IF(ISBLANK('DE01-F12'!P888),\"\",('DE01-F12'!P888))","v":""},{"$f":"IF(ISBLANK('DE01-F12'!Q888),\"\",('DE01-F12'!Q888))","v":""},{"$f":"IF(ISBLANK('DE01-F12'!S888),\"\",('DE01-F12'!S888))","v":0}]
[{"$f":"IF(ISBLANK('DE01-F12'!N889),\"\",('DE01-F12'!N889))","v":""},{"$f":"MID('DE01-F12'!G889,1,18)","v":""},{"$f":"IF(ISBLANK('DE01-F12'!P889),\"\",('DE01-F12'!P889))","v":""},{"$f":"IF(ISBLANK('DE01-F12'!Q889),\"\",('DE01-F12'!Q889))","v":""},{"$f":"IF(ISBLANK('DE01-F12'!S889),\"\",('DE01-F12'!S889))","v":0}]
[{"$f":"IF(ISBLANK('DE01-F12'!N890),\"\",('DE01-F12'!N890))","v":""},{"$f":"MID('DE01-F12'!G890,1,18)","v":""},{"$f":"IF(ISBLANK('DE01-F12'!P890),\"\",('DE01-F12'!P890))","v":""},{"$f":"IF(ISBLANK('DE01-F12'!Q890),\"\",('DE01-F12'!Q890))","v":""},{"$f":"IF(ISBLANK('DE01-F12'!S890),\"\",('DE01-F12'!S890))","v":0}]
[{"$f":"IF(ISBLANK('DE01-F12'!N891),\"\",('DE01-F12'!N891))","v":""},{"$f":"MID('DE01-F12'!G891,1,18)","v":""},{"$f":"IF(ISBLANK('DE01-F12'!P891),\"\",('DE01-F12'!P891))","v":""},{"$f":"IF(ISBLANK('DE01-F12'!Q891),\"\",('DE01-F12'!Q891))","v":""},{"$f":"IF(ISBLANK('DE01-F12'!S891),\"\",('DE01-F12'!S891))","v":0}]
[{"$f":"IF(ISBLANK('DE01-F12'!N892),\"\",('DE01-F12'!N892))","v":""},{"$f":"MID('DE01-F12'!G892,1,18)","v":""},{"$f":"IF(ISBLANK('DE01-F12'!P892),\"\",('DE01-F12'!P892))","v":""},{"$f":"IF(ISBLANK('DE01-F12'!Q892),\"\",('DE01-F12'!Q892))","v":""},{"$f":"IF(ISBLANK('DE01-F12'!S892),\"\",('DE01-F12'!S892))","v":0}]
[{"$f":"IF(ISBLANK('DE01-F12'!N893),\"\",('DE01-F12'!N893))","v":""},{"$f":"MID('DE01-F12'!G893,1,18)","v":""},{"$f":"IF(ISBLANK('DE01-F12'!P893),\"\",('DE01-F12'!P893))","v":""},{"$f":"IF(ISBLANK('DE01-F12'!Q893),\"\",('DE01-F12'!Q893))","v":""},{"$f":"IF(ISBLANK('DE01-F12'!S893),\"\",('DE01-F12'!S893))","v":0}]
[{"$f":"IF(ISBLANK('DE01-F12'!N894),\"\",('DE01-F12'!N894))","v":""},{"$f":"MID('DE01-F12'!G894,1,18)","v":""},{"$f":"IF(ISBLANK('DE01-F12'!P894),\"\",('DE01-F12'!P894))","v":""},{"$f":"IF(ISBLANK('DE01-F12'!Q894),\"\",('DE01-F12'!Q894))","v":""},{"$f":"IF(ISBLANK('DE01-F12'!S894),\"\",('DE01-F12'!S894))","v":0}]
[{"$f":"IF(ISBLANK('DE01-F12'!N895),\"\",('DE01-F12'!N895))","v":""},{"$f":"MID('DE01-F12'!G895,1,18)","v":""},{"$f":"IF(ISBLANK('DE01-F12'!P895),\"\",('DE01-F12'!P895))","v":""},{"$f":"IF(ISBLANK('DE01-F12'!Q895),\"\",('DE01-F12'!Q895))","v":""},{"$f":"IF(ISBLANK('DE01-F12'!S895),\"\",('DE01-F12'!S895))","v":0}]
[{"$f":"IF(ISBLANK('DE01-F12'!N896),\"\",('DE01-F12'!N896))","v":""},{"$f":"MID('DE01-F12'!G896,1,18)","v":""},{"$f":"IF(ISBLANK('DE01-F12'!P896),\"\",('DE01-F12'!P896))","v":""},{"$f":"IF(ISBLANK('DE01-F12'!Q896),\"\",('DE01-F12'!Q896))","v":""},{"$f":"IF(ISBLANK('DE01-F12'!S896),\"\",('DE01-F12'!S896))","v":0}]
[{"$f":"IF(ISBLANK('DE01-F12'!N897),\"\",('DE01-F12'!N897))","v":""},{"$f":"MID('DE01-F12'!G897,1,18)","v":""},{"$f":"IF(ISBLANK('DE01-F12'!P897),\"\",('DE01-F12'!P897))","v":""},{"$f":"IF(ISBLANK('DE01-F12'!Q897),\"\",('DE01-F12'!Q897))","v":""},{"$f":"IF(ISBLANK('DE01-F12'!S897),\"\",('DE01-F12'!S897))","v":0}]
[{"$f":"IF(ISBLANK('DE01-F12'!N898),\"\",('DE01-F12'!N898))","v":""},{"$f":"MID('DE01-F12'!G898,1,18)","v":""},{"$f":"IF(ISBLANK('DE01-F12'!P898),\"\",('DE01-F12'!P898))","v":""},{"$f":"IF(ISBLANK('DE01-F12'!Q898),\"\",('DE01-F12'!Q898))","v":""},{"$f":"IF(ISBLANK('DE01-F12'!S898),\"\",('DE01-F12'!S898))","v":0}]
[{"$f":"IF(ISBLANK('DE01-F12'!N899),\"\",('DE01-F12'!N899))","v":""},{"$f":"MID('DE01-F12'!G899,1,18)","v":""},{"$f":"IF(ISBLANK('DE01-F12'!P899),\"\",('DE01-F12'!P899))","v":""},{"$f":"IF(ISBLANK('DE01-F12'!Q899),\"\",('DE01-F12'!Q899))","v":""},{"$f":"IF(ISBLANK('DE01-F12'!S899),\"\",('DE01-F12'!S899))","v":0}]
[{"$f":"IF(ISBLANK('DE01-F12'!N900),\"\",('DE01-F12'!N900))","v":""},{"$f":"MID('DE01-F12'!G900,1,18)","v":""},{"$f":"IF(ISBLANK('DE01-F12'!P900),\"\",('DE01-F12'!P900))","v":""},{"$f":"IF(ISBLANK('DE01-F12'!Q900),\"\",('DE01-F12'!Q900))","v":""},{"$f":"IF(ISBLANK('DE01-F12'!S900),\"\",('DE01-F12'!S900))","v":0}]
[{"$f":"IF(ISBLANK('DE01-F12'!N901),\"\",('DE01-F12'!N901))","v":""},{"$f":"MID('DE01-F12'!G901,1,18)","v":""},{"$f":"IF(ISBLANK('DE01-F12'!P901),\"\",('DE01-F12'!P901))","v":""},{"$f":"IF(ISBLANK('DE01-F12'!Q901),\"\",('DE01-F12'!Q901))","v":""},{"$f":"IF(ISBLANK('DE01-F12'!S901),\"\",('DE01-F12'!S901))","v":0}]
[{"$f":"IF(ISBLANK('DE01-F12'!N902),\"\",('DE01-F12'!N902))","v":""},{"$f":"MID('DE01-F12'!G902,1,18)","v":""},{"$f":"IF(ISBLANK('DE01-F12'!P902),\"\",('DE01-F12'!P902))","v":""},{"$f":"IF(ISBLANK('DE01-F12'!Q902),\"\",('DE01-F12'!Q902))","v":""},{"$f":"IF(ISBLANK('DE01-F12'!S902),\"\",('DE01-F12'!S902))","v":0}]
[{"$f":"IF(ISBLANK('DE01-F12'!N903),\"\",('DE01-F12'!N903))","v":""},{"$f":"MID('DE01-F12'!G903,1,18)","v":""},{"$f":"IF(ISBLANK('DE01-F12'!P903),\"\",('DE01-F12'!P903))","v":""},{"$f":"IF(ISBLANK('DE01-F12'!Q903),\"\",('DE01-F12'!Q903))","v":""},{"$f":"IF(ISBLANK('DE01-F12'!S903),\"\",('DE01-F12'!S903))","v":0}]
[{"$f":"IF(ISBLANK('DE01-F12'!N904),\"\",('DE01-F12'!N904))","v":""},{"$f":"MID('DE01-F12'!G904,1,18)","v":""},{"$f":"IF(ISBLANK('DE01-F12'!P904),\"\",('DE01-F12'!P904))","v":""},{"$f":"IF(ISBLANK('DE01-F12'!Q904),\"\",('DE01-F12'!Q904))","v":""},{"$f":"IF(ISBLANK('DE01-F12'!S904),\"\",('DE01-F12'!S904))","v":0}]
[{"$f":"IF(ISBLANK('DE01-F12'!N905),\"\",('DE01-F12'!N905))","v":""},{"$f":"MID('DE01-F12'!G905,1,18)","v":""},{"$f":"IF(ISBLANK('DE01-F12'!P905),\"\",('DE01-F12'!P905))","v":""},{"$f":"IF(ISBLANK('DE01-F12'!Q905),\"\",('DE01-F12'!Q905))","v":""},{"$f":"IF(ISBLANK('DE01-F12'!S905),\"\",('DE01-F12'!S905))","v":0}]
[{"$f":"IF(ISBLANK('DE01-F12'!N906),\"\",('DE01-F12'!N906))","v":""},{"$f":"MID('DE01-F12'!G906,1,18)","v":""},{"$f":"IF(ISBLANK('DE01-F12'!P906),\"\",('DE01-F12'!P906))","v":""},{"$f":"IF(ISBLANK('DE01-F12'!Q906),\"\",('DE01-F12'!Q906))","v":""},{"$f":"IF(ISBLANK('DE01-F12'!S906),\"\",('DE01-F12'!S906))","v":0}]
[{"$f":"IF(ISBLANK('DE01-F12'!N907),\"\",('DE01-F12'!N907))","v":""},{"$f":"MID('DE01-F12'!G907,1,18)","v":""},{"$f":"IF(ISBLANK('DE01-F12'!P907),\"\",('DE01-F12'!P907))","v":""},{"$f":"IF(ISBLANK('DE01-F12'!Q907),\"\",('DE01-F12'!Q907))","v":""},{"$f":"IF(ISBLANK('DE01-F12'!S907),\"\",('DE01-F12'!S907))","v":0}]
[{"$f":"IF(ISBLANK('DE01-F12'!N908),\"\",('DE01-F12'!N908))","v":""},{"$f":"MID('DE01-F12'!G908,1,18)","v":""},{"$f":"IF(ISBLANK('DE01-F12'!P908),\"\",('DE01-F12'!P908))","v":""},{"$f":"IF(ISBLANK('DE01-F12'!Q908),\"\",('DE01-F12'!Q908))","v":""},{"$f":"IF(ISBLANK('DE01-F12'!S908),\"\",('DE01-F12'!S908))","v":0}]
[{"$f":"IF(ISBLANK('DE01-F12'!N909),\"\",('DE01-F12'!N909))","v":""},{"$f":"MID('DE01-F12'!G909,1,18)","v":""},{"$f":"IF(ISBLANK('DE01-F12'!P909),\"\",('DE01-F12'!P909))","v":""},{"$f":"IF(ISBLANK('DE01-F12'!Q909),\"\",('DE01-F12'!Q909))","v":""},{"$f":"IF(ISBLANK('DE01-F12'!S909),\"\",('DE01-F12'!S909))","v":0}]
[{"$f":"IF(ISBLANK('DE01-F12'!N910),\"\",('DE01-F12'!N910))","v":""},{"$f":"MID('DE01-F12'!G910,1,18)","v":""},{"$f":"IF(ISBLANK('DE01-F12'!P910),\"\",('DE01-F12'!P910))","v":""},{"$f":"IF(ISBLANK('DE01-F12'!Q910),\"\",('DE01-F12'!Q910))","v":""},{"$f":"IF(ISBLANK('DE01-F12'!S910),\"\",('DE01-F12'!S910))","v":0}]
[{"$f":"IF(ISBLANK('DE01-F12'!N911),\"\",('DE01-F12'!N911))","v":""},{"$f":"MID('DE01-F12'!G911,1,18)","v":""},{"$f":"IF(ISBLANK('DE01-F12'!P911),\"\",('DE01-F12'!P911))","v":""},{"$f":"IF(ISBLANK('DE01-F12'!Q911),\"\",('DE01-F12'!Q911))","v":""},{"$f":"IF(ISBLANK('DE01-F12'!S911),\"\",('DE01-F12'!S911))","v":0}]
[{"$f":"IF(ISBLANK('DE01-F12'!N912),\"\",('DE01-F12'!N912))","v":""},{"$f":"MID('DE01-F12'!G912,1,18)","v":""},{"$f":"IF(ISBLANK('DE01-F12'!P912),\"\",('DE01-F12'!P912))","v":""},{"$f":"IF(ISBLANK('DE01-F12'!Q912),\"\",('DE01-F12'!Q912))","v":""},{"$f":"IF(ISBLANK('DE01-F12'!S912),\"\",('DE01-F12'!S912))","v":0}]
[{"$f":"IF(ISBLANK('DE01-F12'!N913),\"\",('DE01-F12'!N913))","v":""},{"$f":"MID('DE01-F12'!G913,1,18)","v":""},{"$f":"IF(ISBLANK('DE01-F12'!P913),\"\",('DE01-F12'!P913))","v":""},{"$f":"IF(ISBLANK('DE01-F12'!Q913),\"\",('DE01-F12'!Q913))","v":""},{"$f":"IF(ISBLANK('DE01-F12'!S913),\"\",('DE01-F12'!S913))","v":0}]
[{"$f":"IF(ISBLANK('DE01-F12'!N914),\"\",('DE01-F12'!N914))","v":""},{"$f":"MID('DE01-F12'!G914,1,18)","v":""},{"$f":"IF(ISBLANK('DE01-F12'!P914),\"\",('DE01-F12'!P914))","v":""},{"$f":"IF(ISBLANK('DE01-F12'!Q914),\"\",('DE01-F12'!Q914))","v":""},{"$f":"IF(ISBLANK('DE01-F12'!S914),\"\",('DE01-F12'!S914))","v":0}]
[{"$f":"IF(ISBLANK('DE01-F12'!N915),\"\",('DE01-F12'!N915))","v":""},{"$f":"MID('DE01-F12'!G915,1,18)","v":""},{"$f":"IF(ISBLANK('DE01-F12'!P915),\"\",('DE01-F12'!P915))","v":""},{"$f":"IF(ISBLANK('DE01-F12'!Q915),\"\",('DE01-F12'!Q915))","v":""},{"$f":"IF(ISBLANK('DE01-F12'!S915),\"\",('DE01-F12'!S915))","v":0}]
[{"$f":"IF(ISBLANK('DE01-F12'!N916),\"\",('DE01-F12'!N916))","v":""},{"$f":"MID('DE01-F12'!G916,1,18)","v":""},{"$f":"IF(ISBLANK('DE01-F12'!P916),\"\",('DE01-F12'!P916))","v":""},{"$f":"IF(ISBLANK('DE01-F12'!Q916),\"\",('DE01-F12'!Q916))","v":""},{"$f":"IF(ISBLANK('DE01-F12'!S916),\"\",('DE01-F12'!S916))","v":0}]
[{"$f":"IF(ISBLANK('DE01-F12'!N917),\"\",('DE01-F12'!N917))","v":""},{"$f":"MID('DE01-F12'!G917,1,18)","v":""},{"$f":"IF(ISBLANK('DE01-F12'!P917),\"\",('DE01-F12'!P917))","v":""},{"$f":"IF(ISBLANK('DE01-F12'!Q917),\"\",('DE01-F12'!Q917))","v":""},{"$f":"IF(ISBLANK('DE01-F12'!S917),\"\",('DE01-F12'!S917))","v":0}]
[{"$f":"IF(ISBLANK('DE01-F12'!N918),\"\",('DE01-F12'!N918))","v":""},{"$f":"MID('DE01-F12'!G918,1,18)","v":""},{"$f":"IF(ISBLANK('DE01-F12'!P918),\"\",('DE01-F12'!P918))","v":""},{"$f":"IF(ISBLANK('DE01-F12'!Q918),\"\",('DE01-F12'!Q918))","v":""},{"$f":"IF(ISBLANK('DE01-F12'!S918),\"\",('DE01-F12'!S918))","v":0}]
[{"$f":"IF(ISBLANK('DE01-F12'!N919),\"\",('DE01-F12'!N919))","v":""},{"$f":"MID('DE01-F12'!G919,1,18)","v":""},{"$f":"IF(ISBLANK('DE01-F12'!P919),\"\",('DE01-F12'!P919))","v":""},{"$f":"IF(ISBLANK('DE01-F12'!Q919),\"\",('DE01-F12'!Q919))","v":""},{"$f":"IF(ISBLANK('DE01-F12'!S919),\"\",('DE01-F12'!S919))","v":0}]
[{"$f":"IF(ISBLANK('DE01-F12'!N920),\"\",('DE01-F12'!N920))","v":""},{"$f":"MID('DE01-F12'!G920,1,18)","v":""},{"$f":"IF(ISBLANK('DE01-F12'!P920),\"\",('DE01-F12'!P920))","v":""},{"$f":"IF(ISBLANK('DE01-F12'!Q920),\"\",('DE01-F12'!Q920))","v":""},{"$f":"IF(ISBLANK('DE01-F12'!S920),\"\",('DE01-F12'!S920))","v":0}]
[{"$f":"IF(ISBLANK('DE01-F12'!N921),\"\",('DE01-F12'!N921))","v":""},{"$f":"MID('DE01-F12'!G921,1,18)","v":""},{"$f":"IF(ISBLANK('DE01-F12'!P921),\"\",('DE01-F12'!P921))","v":""},{"$f":"IF(ISBLANK('DE01-F12'!Q921),\"\",('DE01-F12'!Q921))","v":""},{"$f":"IF(ISBLANK('DE01-F12'!S921),\"\",('DE01-F12'!S921))","v":0}]
[{"$f":"IF(ISBLANK('DE01-F12'!N922),\"\",('DE01-F12'!N922))","v":""},{"$f":"MID('DE01-F12'!G922,1,18)","v":""},{"$f":"IF(ISBLANK('DE01-F12'!P922),\"\",('DE01-F12'!P922))","v":""},{"$f":"IF(ISBLANK('DE01-F12'!Q922),\"\",('DE01-F12'!Q922))","v":""},{"$f":"IF(ISBLANK('DE01-F12'!S922),\"\",('DE01-F12'!S922))","v":0}]
[{"$f":"IF(ISBLANK('DE01-F12'!N923),\"\",('DE01-F12'!N923))","v":""},{"$f":"MID('DE01-F12'!G923,1,18)","v":""},{"$f":"IF(ISBLANK('DE01-F12'!P923),\"\",('DE01-F12'!P923))","v":""},{"$f":"IF(ISBLANK('DE01-F12'!Q923),\"\",('DE01-F12'!Q923))","v":""},{"$f":"IF(ISBLANK('DE01-F12'!S923),\"\",('DE01-F12'!S923))","v":0}]
[{"$f":"IF(ISBLANK('DE01-F12'!N924),\"\",('DE01-F12'!N924))","v":""},{"$f":"MID('DE01-F12'!G924,1,18)","v":""},{"$f":"IF(ISBLANK('DE01-F12'!P924),\"\",('DE01-F12'!P924))","v":""},{"$f":"IF(ISBLANK('DE01-F12'!Q924),\"\",('DE01-F12'!Q924))","v":""},{"$f":"IF(ISBLANK('DE01-F12'!S924),\"\",('DE01-F12'!S924))","v":0}]
[{"$f":"IF(ISBLANK('DE01-F12'!N925),\"\",('DE01-F12'!N925))","v":""},{"$f":"MID('DE01-F12'!G925,1,18)","v":""},{"$f":"IF(ISBLANK('DE01-F12'!P925),\"\",('DE01-F12'!P925))","v":""},{"$f":"IF(ISBLANK('DE01-F12'!Q925),\"\",('DE01-F12'!Q925))","v":""},{"$f":"IF(ISBLANK('DE01-F12'!S925),\"\",('DE01-F12'!S925))","v":0}]
[{"$f":"IF(ISBLANK('DE01-F12'!N926),\"\",('DE01-F12'!N926))","v":""},{"$f":"MID('DE01-F12'!G926,1,18)","v":""},{"$f":"IF(ISBLANK('DE01-F12'!P926),\"\",('DE01-F12'!P926))","v":""},{"$f":"IF(ISBLANK('DE01-F12'!Q926),\"\",('DE01-F12'!Q926))","v":""},{"$f":"IF(ISBLANK('DE01-F12'!S926),\"\",('DE01-F12'!S926))","v":0}]
[{"$f":"IF(ISBLANK('DE01-F12'!N927),\"\",('DE01-F12'!N927))","v":""},{"$f":"MID('DE01-F12'!G927,1,18)","v":""},{"$f":"IF(ISBLANK('DE01-F12'!P927),\"\",('DE01-F12'!P927))","v":""},{"$f":"IF(ISBLANK('DE01-F12'!Q927),\"\",('DE01-F12'!Q927))","v":""},{"$f":"IF(ISBLANK('DE01-F12'!S927),\"\",('DE01-F12'!S927))","v":0}]
[{"$f":"IF(ISBLANK('DE01-F12'!N928),\"\",('DE01-F12'!N928))","v":""},{"$f":"MID('DE01-F12'!G928,1,18)","v":""},{"$f":"IF(ISBLANK('DE01-F12'!P928),\"\",('DE01-F12'!P928))","v":""},{"$f":"IF(ISBLANK('DE01-F12'!Q928),\"\",('DE01-F12'!Q928))","v":""},{"$f":"IF(ISBLANK('DE01-F12'!S928),\"\",('DE01-F12'!S928))","v":0}]
[{"$f":"IF(ISBLANK('DE01-F12'!N929),\"\",('DE01-F12'!N929))","v":""},{"$f":"MID('DE01-F12'!G929,1,18)","v":""},{"$f":"IF(ISBLANK('DE01-F12'!P929),\"\",('DE01-F12'!P929))","v":""},{"$f":"IF(ISBLANK('DE01-F12'!Q929),\"\",('DE01-F12'!Q929))","v":""},{"$f":"IF(ISBLANK('DE01-F12'!S929),\"\",('DE01-F12'!S929))","v":0}]
[{"$f":"IF(ISBLANK('DE01-F12'!N930),\"\",('DE01-F12'!N930))","v":""},{"$f":"MID('DE01-F12'!G930,1,18)","v":""},{"$f":"IF(ISBLANK('DE01-F12'!P930),\"\",('DE01-F12'!P930))","v":""},{"$f":"IF(ISBLANK('DE01-F12'!Q930),\"\",('DE01-F12'!Q930))","v":""},{"$f":"IF(ISBLANK('DE01-F12'!S930),\"\",('DE01-F12'!S930))","v":0}]
[{"$f":"IF(ISBLANK('DE01-F12'!N931),\"\",('DE01-F12'!N931))","v":""},{"$f":"MID('DE01-F12'!G931,1,18)","v":""},{"$f":"IF(ISBLANK('DE01-F12'!P931),\"\",('DE01-F12'!P931))","v":""},{"$f":"IF(ISBLANK('DE01-F12'!Q931),\"\",('DE01-F12'!Q931))","v":""},{"$f":"IF(ISBLANK('DE01-F12'!S931),\"\",('DE01-F12'!S931))","v":0}]
[{"$f":"IF(ISBLANK('DE01-F12'!N932),\"\",('DE01-F12'!N932))","v":""},{"$f":"MID('DE01-F12'!G932,1,18)","v":""},{"$f":"IF(ISBLANK('DE01-F12'!P932),\"\",('DE01-F12'!P932))","v":""},{"$f":"IF(ISBLANK('DE01-F12'!Q932),\"\",('DE01-F12'!Q932))","v":""},{"$f":"IF(ISBLANK('DE01-F12'!S932),\"\",('DE01-F12'!S932))","v":0}]
[{"$f":"IF(ISBLANK('DE01-F12'!N933),\"\",('DE01-F12'!N933))","v":""},{"$f":"MID('DE01-F12'!G933,1,18)","v":""},{"$f":"IF(ISBLANK('DE01-F12'!P933),\"\",('DE01-F12'!P933))","v":""},{"$f":"IF(ISBLANK('DE01-F12'!Q933),\"\",('DE01-F12'!Q933))","v":""},{"$f":"IF(ISBLANK('DE01-F12'!S933),\"\",('DE01-F12'!S933))","v":0}]
[{"$f":"IF(ISBLANK('DE01-F12'!N934),\"\",('DE01-F12'!N934))","v":""},{"$f":"MID('DE01-F12'!G934,1,18)","v":""},{"$f":"IF(ISBLANK('DE01-F12'!P934),\"\",('DE01-F12'!P934))","v":""},{"$f":"IF(ISBLANK('DE01-F12'!Q934),\"\",('DE01-F12'!Q934))","v":""},{"$f":"IF(ISBLANK('DE01-F12'!S934),\"\",('DE01-F12'!S934))","v":0}]
[{"$f":"IF(ISBLANK('DE01-F12'!N935),\"\",('DE01-F12'!N935))","v":""},{"$f":"MID('DE01-F12'!G935,1,18)","v":""},{"$f":"IF(ISBLANK('DE01-F12'!P935),\"\",('DE01-F12'!P935))","v":""},{"$f":"IF(ISBLANK('DE01-F12'!Q935),\"\",('DE01-F12'!Q935))","v":""},{"$f":"IF(ISBLANK('DE01-F12'!S935),\"\",('DE01-F12'!S935))","v":0}]
[{"$f":"IF(ISBLANK('DE01-F12'!N936),\"\",('DE01-F12'!N936))","v":""},{"$f":"MID('DE01-F12'!G936,1,18)","v":""},{"$f":"IF(ISBLANK('DE01-F12'!P936),\"\",('DE01-F12'!P936))","v":""},{"$f":"IF(ISBLANK('DE01-F12'!Q936),\"\",('DE01-F12'!Q936))","v":""},{"$f":"IF(ISBLANK('DE01-F12'!S936),\"\",('DE01-F12'!S936))","v":0}]
[{"$f":"IF(ISBLANK('DE01-F12'!N937),\"\",('DE01-F12'!N937))","v":""},{"$f":"MID('DE01-F12'!G937,1,18)","v":""},{"$f":"IF(ISBLANK('DE01-F12'!P937),\"\",('DE01-F12'!P937))","v":""},{"$f":"IF(ISBLANK('DE01-F12'!Q937),\"\",('DE01-F12'!Q937))","v":""},{"$f":"IF(ISBLANK('DE01-F12'!S937),\"\",('DE01-F12'!S937))","v":0}]
[{"$f":"IF(ISBLANK('DE01-F12'!N938),\"\",('DE01-F12'!N938))","v":""},{"$f":"MID('DE01-F12'!G938,1,18)","v":""},{"$f":"IF(ISBLANK('DE01-F12'!P938),\"\",('DE01-F12'!P938))","v":""},{"$f":"IF(ISBLANK('DE01-F12'!Q938),\"\",('DE01-F12'!Q938))","v":""},{"$f":"IF(ISBLANK('DE01-F12'!S938),\"\",('DE01-F12'!S938))","v":0}]
[{"$f":"IF(ISBLANK('DE01-F12'!N939),\"\",('DE01-F12'!N939))","v":""},{"$f":"MID('DE01-F12'!G939,1,18)","v":""},{"$f":"IF(ISBLANK('DE01-F12'!P939),\"\",('DE01-F12'!P939))","v":""},{"$f":"IF(ISBLANK('DE01-F12'!Q939),\"\",('DE01-F12'!Q939))","v":""},{"$f":"IF(ISBLANK('DE01-F12'!S939),\"\",('DE01-F12'!S939))","v":0}]
[{"$f":"IF(ISBLANK('DE01-F12'!N940),\"\",('DE01-F12'!N940))","v":""},{"$f":"MID('DE01-F12'!G940,1,18)","v":""},{"$f":"IF(ISBLANK('DE01-F12'!P940),\"\",('DE01-F12'!P940))","v":""},{"$f":"IF(ISBLANK('DE01-F12'!Q940),\"\",('DE01-F12'!Q940))","v":""},{"$f":"IF(ISBLANK('DE01-F12'!S940),\"\",('DE01-F12'!S940))","v":0}]
[{"$f":"IF(ISBLANK('DE01-F12'!N941),\"\",('DE01-F12'!N941))","v":""},{"$f":"MID('DE01-F12'!G941,1,18)","v":""},{"$f":"IF(ISBLANK('DE01-F12'!P941),\"\",('DE01-F12'!P941))","v":""},{"$f":"IF(ISBLANK('DE01-F12'!Q941),\"\",('DE01-F12'!Q941))","v":""},{"$f":"IF(ISBLANK('DE01-F12'!S941),\"\",('DE01-F12'!S941))","v":0}]
[{"$f":"IF(ISBLANK('DE01-F12'!N942),\"\",('DE01-F12'!N942))","v":""},{"$f":"MID('DE01-F12'!G942,1,18)","v":""},{"$f":"IF(ISBLANK('DE01-F12'!P942),\"\",('DE01-F12'!P942))","v":""},{"$f":"IF(ISBLANK('DE01-F12'!Q942),\"\",('DE01-F12'!Q942))","v":""},{"$f":"IF(ISBLANK('DE01-F12'!S942),\"\",('DE01-F12'!S942))","v":0}]
[{"$f":"IF(ISBLANK('DE01-F12'!N943),\"\",('DE01-F12'!N943))","v":""},{"$f":"MID('DE01-F12'!G943,1,18)","v":""},{"$f":"IF(ISBLANK('DE01-F12'!P943),\"\",('DE01-F12'!P943))","v":""},{"$f":"IF(ISBLANK('DE01-F12'!Q943),\"\",('DE01-F12'!Q943))","v":""},{"$f":"IF(ISBLANK('DE01-F12'!S943),\"\",('DE01-F12'!S943))","v":0}]
[{"$f":"IF(ISBLANK('DE01-F12'!N944),\"\",('DE01-F12'!N944))","v":""},{"$f":"MID('DE01-F12'!G944,1,18)","v":""},{"$f":"IF(ISBLANK('DE01-F12'!P944),\"\",('DE01-F12'!P944))","v":""},{"$f":"IF(ISBLANK('DE01-F12'!Q944),\"\",('DE01-F12'!Q944))","v":""},{"$f":"IF(ISBLANK('DE01-F12'!S944),\"\",('DE01-F12'!S944))","v":0}]
[{"$f":"IF(ISBLANK('DE01-F12'!N945),\"\",('DE01-F12'!N945))","v":""},{"$f":"MID('DE01-F12'!G945,1,18)","v":""},{"$f":"IF(ISBLANK('DE01-F12'!P945),\"\",('DE01-F12'!P945))","v":""},{"$f":"IF(ISBLANK('DE01-F12'!Q945),\"\",('DE01-F12'!Q945))","v":""},{"$f":"IF(ISBLANK('DE01-F12'!S945),\"\",('DE01-F12'!S945))","v":0}]
[{"$f":"IF(ISBLANK('DE01-F12'!N946),\"\",('DE01-F12'!N946))","v":""},{"$f":"MID('DE01-F12'!G946,1,18)","v":""},{"$f":"IF(ISBLANK('DE01-F12'!P946),\"\",('DE01-F12'!P946))","v":""},{"$f":"IF(ISBLANK('DE01-F12'!Q946),\"\",('DE01-F12'!Q946))","v":""},{"$f":"IF(ISBLANK('DE01-F12'!S946),\"\",('DE01-F12'!S946))","v":0}]
[{"$f":"IF(ISBLANK('DE01-F12'!N947),\"\",('DE01-F12'!N947))","v":""},{"$f":"MID('DE01-F12'!G947,1,18)","v":""},{"$f":"IF(ISBLANK('DE01-F12'!P947),\"\",('DE01-F12'!P947))","v":""},{"$f":"IF(ISBLANK('DE01-F12'!Q947),\"\",('DE01-F12'!Q947))","v":""},{"$f":"IF(ISBLANK('DE01-F12'!S947),\"\",('DE01-F12'!S947))","v":0}]
[{"$f":"IF(ISBLANK('DE01-F12'!N948),\"\",('DE01-F12'!N948))","v":""},{"$f":"MID('DE01-F12'!G948,1,18)","v":""},{"$f":"IF(ISBLANK('DE01-F12'!P948),\"\",('DE01-F12'!P948))","v":""},{"$f":"IF(ISBLANK('DE01-F12'!Q948),\"\",('DE01-F12'!Q948))","v":""},{"$f":"IF(ISBLANK('DE01-F12'!S948),\"\",('DE01-F12'!S948))","v":0}]
[{"$f":"IF(ISBLANK('DE01-F12'!N949),\"\",('DE01-F12'!N949))","v":""},{"$f":"MID('DE01-F12'!G949,1,18)","v":""},{"$f":"IF(ISBLANK('DE01-F12'!P949),\"\",('DE01-F12'!P949))","v":""},{"$f":"IF(ISBLANK('DE01-F12'!Q949),\"\",('DE01-F12'!Q949))","v":""},{"$f":"IF(ISBLANK('DE01-F12'!S949),\"\",('DE01-F12'!S949))","v":0}]
[{"$f":"IF(ISBLANK('DE01-F12'!N950),\"\",('DE01-F12'!N950))","v":""},{"$f":"MID('DE01-F12'!G950,1,18)","v":""},{"$f":"IF(ISBLANK('DE01-F12'!P950),\"\",('DE01-F12'!P950))","v":""},{"$f":"IF(ISBLANK('DE01-F12'!Q950),\"\",('DE01-F12'!Q950))","v":""},{"$f":"IF(ISBLANK('DE01-F12'!S950),\"\",('DE01-F12'!S950))","v":0}]
[{"$f":"IF(ISBLANK('DE01-F12'!N951),\"\",('DE01-F12'!N951))","v":""},{"$f":"MID('DE01-F12'!G951,1,18)","v":""},{"$f":"IF(ISBLANK('DE01-F12'!P951),\"\",('DE01-F12'!P951))","v":""},{"$f":"IF(ISBLANK('DE01-F12'!Q951),\"\",('DE01-F12'!Q951))","v":""},{"$f":"IF(ISBLANK('DE01-F12'!S951),\"\",('DE01-F12'!S951))","v":0}]
[{"$f":"IF(ISBLANK('DE01-F12'!N952),\"\",('DE01-F12'!N952))","v":""},{"$f":"MID('DE01-F12'!G952,1,18)","v":""},{"$f":"IF(ISBLANK('DE01-F12'!P952),\"\",('DE01-F12'!P952))","v":""},{"$f":"IF(ISBLANK('DE01-F12'!Q952),\"\",('DE01-F12'!Q952))","v":""},{"$f":"IF(ISBLANK('DE01-F12'!S952),\"\",('DE01-F12'!S952))","v":0}]
[{"$f":"IF(ISBLANK('DE01-F12'!N953),\"\",('DE01-F12'!N953))","v":""},{"$f":"MID('DE01-F12'!G953,1,18)","v":""},{"$f":"IF(ISBLANK('DE01-F12'!P953),\"\",('DE01-F12'!P953))","v":""},{"$f":"IF(ISBLANK('DE01-F12'!Q953),\"\",('DE01-F12'!Q953))","v":""},{"$f":"IF(ISBLANK('DE01-F12'!S953),\"\",('DE01-F12'!S953))","v":0}]
[{"$f":"IF(ISBLANK('DE01-F12'!N954),\"\",('DE01-F12'!N954))","v":""},{"$f":"MID('DE01-F12'!G954,1,18)","v":""},{"$f":"IF(ISBLANK('DE01-F12'!P954),\"\",('DE01-F12'!P954))","v":""},{"$f":"IF(ISBLANK('DE01-F12'!Q954),\"\",('DE01-F12'!Q954))","v":""},{"$f":"IF(ISBLANK('DE01-F12'!S954),\"\",('DE01-F12'!S954))","v":0}]
[{"$f":"IF(ISBLANK('DE01-F12'!N955),\"\",('DE01-F12'!N955))","v":""},{"$f":"MID('DE01-F12'!G955,1,18)","v":""},{"$f":"IF(ISBLANK('DE01-F12'!P955),\"\",('DE01-F12'!P955))","v":""},{"$f":"IF(ISBLANK('DE01-F12'!Q955),\"\",('DE01-F12'!Q955))","v":""},{"$f":"IF(ISBLANK('DE01-F12'!S955),\"\",('DE01-F12'!S955))","v":0}]
[{"$f":"IF(ISBLANK('DE01-F12'!N956),\"\",('DE01-F12'!N956))","v":""},{"$f":"MID('DE01-F12'!G956,1,18)","v":""},{"$f":"IF(ISBLANK('DE01-F12'!P956),\"\",('DE01-F12'!P956))","v":""},{"$f":"IF(ISBLANK('DE01-F12'!Q956),\"\",('DE01-F12'!Q956))","v":""},{"$f":"IF(ISBLANK('DE01-F12'!S956),\"\",('DE01-F12'!S956))","v":0}]
[{"$f":"IF(ISBLANK('DE01-F12'!N957),\"\",('DE01-F12'!N957))","v":""},{"$f":"MID('DE01-F12'!G957,1,18)","v":""},{"$f":"IF(ISBLANK('DE01-F12'!P957),\"\",('DE01-F12'!P957))","v":""},{"$f":"IF(ISBLANK('DE01-F12'!Q957),\"\",('DE01-F12'!Q957))","v":""},{"$f":"IF(ISBLANK('DE01-F12'!S957),\"\",('DE01-F12'!S957))","v":0}]
[{"$f":"IF(ISBLANK('DE01-F12'!N958),\"\",('DE01-F12'!N958))","v":""},{"$f":"MID('DE01-F12'!G958,1,18)","v":""},{"$f":"IF(ISBLANK('DE01-F12'!P958),\"\",('DE01-F12'!P958))","v":""},{"$f":"IF(ISBLANK('DE01-F12'!Q958),\"\",('DE01-F12'!Q958))","v":""},{"$f":"IF(ISBLANK('DE01-F12'!S958),\"\",('DE01-F12'!S958))","v":0}]
[{"$f":"IF(ISBLANK('DE01-F12'!N959),\"\",('DE01-F12'!N959))","v":""},{"$f":"MID('DE01-F12'!G959,1,18)","v":""},{"$f":"IF(ISBLANK('DE01-F12'!P959),\"\",('DE01-F12'!P959))","v":""},{"$f":"IF(ISBLANK('DE01-F12'!Q959),\"\",('DE01-F12'!Q959))","v":""},{"$f":"IF(ISBLANK('DE01-F12'!S959),\"\",('DE01-F12'!S959))","v":0}]
[{"$f":"IF(ISBLANK('DE01-F12'!N960),\"\",('DE01-F12'!N960))","v":""},{"$f":"MID('DE01-F12'!G960,1,18)","v":""},{"$f":"IF(ISBLANK('DE01-F12'!P960),\"\",('DE01-F12'!P960))","v":""},{"$f":"IF(ISBLANK('DE01-F12'!Q960),\"\",('DE01-F12'!Q960))","v":""},{"$f":"IF(ISBLANK('DE01-F12'!S960),\"\",('DE01-F12'!S960))","v":0}]
[{"$f":"IF(ISBLANK('DE01-F12'!N961),\"\",('DE01-F12'!N961))","v":""},{"$f":"MID('DE01-F12'!G961,1,18)","v":""},{"$f":"IF(ISBLANK('DE01-F12'!P961),\"\",('DE01-F12'!P961))","v":""},{"$f":"IF(ISBLANK('DE01-F12'!Q961),\"\",('DE01-F12'!Q961))","v":""},{"$f":"IF(ISBLANK('DE01-F12'!S961),\"\",('DE01-F12'!S961))","v":0}]
[{"$f":"IF(ISBLANK('DE01-F12'!N962),\"\",('DE01-F12'!N962))","v":""},{"$f":"MID('DE01-F12'!G962,1,18)","v":""},{"$f":"IF(ISBLANK('DE01-F12'!P962),\"\",('DE01-F12'!P962))","v":""},{"$f":"IF(ISBLANK('DE01-F12'!Q962),\"\",('DE01-F12'!Q962))","v":""},{"$f":"IF(ISBLANK('DE01-F12'!S962),\"\",('DE01-F12'!S962))","v":0}]
[{"$f":"IF(ISBLANK('DE01-F12'!N963),\"\",('DE01-F12'!N963))","v":""},{"$f":"MID('DE01-F12'!G963,1,18)","v":""},{"$f":"IF(ISBLANK('DE01-F12'!P963),\"\",('DE01-F12'!P963))","v":""},{"$f":"IF(ISBLANK('DE01-F12'!Q963),\"\",('DE01-F12'!Q963))","v":""},{"$f":"IF(ISBLANK('DE01-F12'!S963),\"\",('DE01-F12'!S963))","v":0}]
[{"$f":"IF(ISBLANK('DE01-F12'!N964),\"\",('DE01-F12'!N964))","v":""},{"$f":"MID('DE01-F12'!G964,1,18)","v":""},{"$f":"IF(ISBLANK('DE01-F12'!P964),\"\",('DE01-F12'!P964))","v":""},{"$f":"IF(ISBLANK('DE01-F12'!Q964),\"\",('DE01-F12'!Q964))","v":""},{"$f":"IF(ISBLANK('DE01-F12'!S964),\"\",('DE01-F12'!S964))","v":0}]
[{"$f":"IF(ISBLANK('DE01-F12'!N965),\"\",('DE01-F12'!N965))","v":""},{"$f":"MID('DE01-F12'!G965,1,18)","v":""},{"$f":"IF(ISBLANK('DE01-F12'!P965),\"\",('DE01-F12'!P965))","v":""},{"$f":"IF(ISBLANK('DE01-F12'!Q965),\"\",('DE01-F12'!Q965))","v":""},{"$f":"IF(ISBLANK('DE01-F12'!S965),\"\",('DE01-F12'!S965))","v":0}]
[{"$f":"IF(ISBLANK('DE01-F12'!N966),\"\",('DE01-F12'!N966))","v":""},{"$f":"MID('DE01-F12'!G966,1,18)","v":""},{"$f":"IF(ISBLANK('DE01-F12'!P966),\"\",('DE01-F12'!P966))","v":""},{"$f":"IF(ISBLANK('DE01-F12'!Q966),\"\",('DE01-F12'!Q966))","v":""},{"$f":"IF(ISBLANK('DE01-F12'!S966),\"\",('DE01-F12'!S966))","v":0}]
[{"$f":"IF(ISBLANK('DE01-F12'!N967),\"\",('DE01-F12'!N967))","v":""},{"$f":"MID('DE01-F12'!G967,1,18)","v":""},{"$f":"IF(ISBLANK('DE01-F12'!P967),\"\",('DE01-F12'!P967))","v":""},{"$f":"IF(ISBLANK('DE01-F12'!Q967),\"\",('DE01-F12'!Q967))","v":""},{"$f":"IF(ISBLANK('DE01-F12'!S967),\"\",('DE01-F12'!S967))","v":0}]
[{"$f":"IF(ISBLANK('DE01-F12'!N968),\"\",('DE01-F12'!N968))","v":""},{"$f":"MID('DE01-F12'!G968,1,18)","v":""},{"$f":"IF(ISBLANK('DE01-F12'!P968),\"\",('DE01-F12'!P968))","v":""},{"$f":"IF(ISBLANK('DE01-F12'!Q968),\"\",('DE01-F12'!Q968))","v":""},{"$f":"IF(ISBLANK('DE01-F12'!S968),\"\",('DE01-F12'!S968))","v":0}]
[{"$f":"IF(ISBLANK('DE01-F12'!N969),\"\",('DE01-F12'!N969))","v":""},{"$f":"MID('DE01-F12'!G969,1,18)","v":""},{"$f":"IF(ISBLANK('DE01-F12'!P969),\"\",('DE01-F12'!P969))","v":""},{"$f":"IF(ISBLANK('DE01-F12'!Q969),\"\",('DE01-F12'!Q969))","v":""},{"$f":"IF(ISBLANK('DE01-F12'!S969),\"\",('DE01-F12'!S969))","v":0}]
[{"$f":"IF(ISBLANK('DE01-F12'!N970),\"\",('DE01-F12'!N970))","v":""},{"$f":"MID('DE01-F12'!G970,1,18)","v":""},{"$f":"IF(ISBLANK('DE01-F12'!P970),\"\",('DE01-F12'!P970))","v":""},{"$f":"IF(ISBLANK('DE01-F12'!Q970),\"\",('DE01-F12'!Q970))","v":""},{"$f":"IF(ISBLANK('DE01-F12'!S970),\"\",('DE01-F12'!S970))","v":0}]
[{"$f":"IF(ISBLANK('DE01-F12'!N971),\"\",('DE01-F12'!N971))","v":""},{"$f":"MID('DE01-F12'!G971,1,18)","v":""},{"$f":"IF(ISBLANK('DE01-F12'!P971),\"\",('DE01-F12'!P971))","v":""},{"$f":"IF(ISBLANK('DE01-F12'!Q971),\"\",('DE01-F12'!Q971))","v":""},{"$f":"IF(ISBLANK('DE01-F12'!S971),\"\",('DE01-F12'!S971))","v":0}]
[{"$f":"IF(ISBLANK('DE01-F12'!N972),\"\",('DE01-F12'!N972))","v":""},{"$f":"MID('DE01-F12'!G972,1,18)","v":""},{"$f":"IF(ISBLANK('DE01-F12'!P972),\"\",('DE01-F12'!P972))","v":""},{"$f":"IF(ISBLANK('DE01-F12'!Q972),\"\",('DE01-F12'!Q972))","v":""},{"$f":"IF(ISBLANK('DE01-F12'!S972),\"\",('DE01-F12'!S972))","v":0}]
[{"$f":"IF(ISBLANK('DE01-F12'!N973),\"\",('DE01-F12'!N973))","v":""},{"$f":"MID('DE01-F12'!G973,1,18)","v":""},{"$f":"IF(ISBLANK('DE01-F12'!P973),\"\",('DE01-F12'!P973))","v":""},{"$f":"IF(ISBLANK('DE01-F12'!Q973),\"\",('DE01-F12'!Q973))","v":""},{"$f":"IF(ISBLANK('DE01-F12'!S973),\"\",('DE01-F12'!S973))","v":0}]
[{"$f":"IF(ISBLANK('DE01-F12'!N974),\"\",('DE01-F12'!N974))","v":""},{"$f":"MID('DE01-F12'!G974,1,18)","v":""},{"$f":"IF(ISBLANK('DE01-F12'!P974),\"\",('DE01-F12'!P974))","v":""},{"$f":"IF(ISBLANK('DE01-F12'!Q974),\"\",('DE01-F12'!Q974))","v":""},{"$f":"IF(ISBLANK('DE01-F12'!S974),\"\",('DE01-F12'!S974))","v":0}]
[{"$f":"IF(ISBLANK('DE01-F12'!N975),\"\",('DE01-F12'!N975))","v":""},{"$f":"MID('DE01-F12'!G975,1,18)","v":""},{"$f":"IF(ISBLANK('DE01-F12'!P975),\"\",('DE01-F12'!P975))","v":""},{"$f":"IF(ISBLANK('DE01-F12'!Q975),\"\",('DE01-F12'!Q975))","v":""},{"$f":"IF(ISBLANK('DE01-F12'!S975),\"\",('DE01-F12'!S975))","v":0}]
[{"$f":"IF(ISBLANK('DE01-F12'!N976),\"\",('DE01-F12'!N976))","v":""},{"$f":"MID('DE01-F12'!G976,1,18)","v":""},{"$f":"IF(ISBLANK('DE01-F12'!P976),\"\",('DE01-F12'!P976))","v":""},{"$f":"IF(ISBLANK('DE01-F12'!Q976),\"\",('DE01-F12'!Q976))","v":""},{"$f":"IF(ISBLANK('DE01-F12'!S976),\"\",('DE01-F12'!S976))","v":0}]
[{"$f":"IF(ISBLANK('DE01-F12'!N977),\"\",('DE01-F12'!N977))","v":""},{"$f":"MID('DE01-F12'!G977,1,18)","v":""},{"$f":"IF(ISBLANK('DE01-F12'!P977),\"\",('DE01-F12'!P977))","v":""},{"$f":"IF(ISBLANK('DE01-F12'!Q977),\"\",('DE01-F12'!Q977))","v":""},{"$f":"IF(ISBLANK('DE01-F12'!S977),\"\",('DE01-F12'!S977))","v":0}]
[{"$f":"IF(ISBLANK('DE01-F12'!N978),\"\",('DE01-F12'!N978))","v":""},{"$f":"MID('DE01-F12'!G978,1,18)","v":""},{"$f":"IF(ISBLANK('DE01-F12'!P978),\"\",('DE01-F12'!P978))","v":""},{"$f":"IF(ISBLANK('DE01-F12'!Q978),\"\",('DE01-F12'!Q978))","v":""},{"$f":"IF(ISBLANK('DE01-F12'!S978),\"\",('DE01-F12'!S978))","v":0}]
[{"$f":"IF(ISBLANK('DE01-F12'!N979),\"\",('DE01-F12'!N979))","v":""},{"$f":"MID('DE01-F12'!G979,1,18)","v":""},{"$f":"IF(ISBLANK('DE01-F12'!P979),\"\",('DE01-F12'!P979))","v":""},{"$f":"IF(ISBLANK('DE01-F12'!Q979),\"\",('DE01-F12'!Q979))","v":""},{"$f":"IF(ISBLANK('DE01-F12'!S979),\"\",('DE01-F12'!S979))","v":0}]
[{"$f":"IF(ISBLANK('DE01-F12'!N980),\"\",('DE01-F12'!N980))","v":""},{"$f":"MID('DE01-F12'!G980,1,18)","v":""},{"$f":"IF(ISBLANK('DE01-F12'!P980),\"\",('DE01-F12'!P980))","v":""},{"$f":"IF(ISBLANK('DE01-F12'!Q980),\"\",('DE01-F12'!Q980))","v":""},{"$f":"IF(ISBLANK('DE01-F12'!S980),\"\",('DE01-F12'!S980))","v":0}]
[{"$f":"IF(ISBLANK('DE01-F12'!N981),\"\",('DE01-F12'!N981))","v":""},{"$f":"MID('DE01-F12'!G981,1,18)","v":""},{"$f":"IF(ISBLANK('DE01-F12'!P981),\"\",('DE01-F12'!P981))","v":""},{"$f":"IF(ISBLANK('DE01-F12'!Q981),\"\",('DE01-F12'!Q981))","v":""},{"$f":"IF(ISBLANK('DE01-F12'!S981),\"\",('DE01-F12'!S981))","v":0}]
[{"$f":"IF(ISBLANK('DE01-F12'!N982),\"\",('DE01-F12'!N982))","v":""},{"$f":"MID('DE01-F12'!G982,1,18)","v":""},{"$f":"IF(ISBLANK('DE01-F12'!P982),\"\",('DE01-F12'!P982))","v":""},{"$f":"IF(ISBLANK('DE01-F12'!Q982),\"\",('DE01-F12'!Q982))","v":""},{"$f":"IF(ISBLANK('DE01-F12'!S982),\"\",('DE01-F12'!S982))","v":0}]
[{"$f":"IF(ISBLANK('DE01-F12'!N983),\"\",('DE01-F12'!N983))","v":""},{"$f":"MID('DE01-F12'!G983,1,18)","v":""},{"$f":"IF(ISBLANK('DE01-F12'!P983),\"\",('DE01-F12'!P983))","v":""},{"$f":"IF(ISBLANK('DE01-F12'!Q983),\"\",('DE01-F12'!Q983))","v":""},{"$f":"IF(ISBLANK('DE01-F12'!S983),\"\",('DE01-F12'!S983))","v":0}]
[{"$f":"IF(ISBLANK('DE01-F12'!N984),\"\",('DE01-F12'!N984))","v":""},{"$f":"MID('DE01-F12'!G984,1,18)","v":""},{"$f":"IF(ISBLANK('DE01-F12'!P984),\"\",('DE01-F12'!P984))","v":""},{"$f":"IF(ISBLANK('DE01-F12'!Q984),\"\",('DE01-F12'!Q984))","v":""},{"$f":"IF(ISBLANK('DE01-F12'!S984),\"\",('DE01-F12'!S984))","v":0}]
[{"$f":"IF(ISBLANK('DE01-F12'!N985),\"\",('DE01-F12'!N985))","v":""},{"$f":"MID('DE01-F12'!G985,1,18)","v":""},{"$f":"IF(ISBLANK('DE01-F12'!P985),\"\",('DE01-F12'!P985))","v":""},{"$f":"IF(ISBLANK('DE01-F12'!Q985),\"\",('DE01-F12'!Q985))","v":""},{"$f":"IF(ISBLANK('DE01-F12'!S985),\"\",('DE01-F12'!S985))","v":0}]
[{"$f":"IF(ISBLANK('DE01-F12'!N986),\"\",('DE01-F12'!N986))","v":""},{"$f":"MID('DE01-F12'!G986,1,18)","v":""},{"$f":"IF(ISBLANK('DE01-F12'!P986),\"\",('DE01-F12'!P986))","v":""},{"$f":"IF(ISBLANK('DE01-F12'!Q986),\"\",('DE01-F12'!Q986))","v":""},{"$f":"IF(ISBLANK('DE01-F12'!S986),\"\",('DE01-F12'!S986))","v":0}]
[{"$f":"IF(ISBLANK('DE01-F12'!N987),\"\",('DE01-F12'!N987))","v":""},{"$f":"MID('DE01-F12'!G987,1,18)","v":""},{"$f":"IF(ISBLANK('DE01-F12'!P987),\"\",('DE01-F12'!P987))","v":""},{"$f":"IF(ISBLANK('DE01-F12'!Q987),\"\",('DE01-F12'!Q987))","v":""},{"$f":"IF(ISBLANK('DE01-F12'!S987),\"\",('DE01-F12'!S987))","v":0}]
[{"$f":"IF(ISBLANK('DE01-F12'!N988),\"\",('DE01-F12'!N988))","v":""},{"$f":"MID('DE01-F12'!G988,1,18)","v":""},{"$f":"IF(ISBLANK('DE01-F12'!P988),\"\",('DE01-F12'!P988))","v":""},{"$f":"IF(ISBLANK('DE01-F12'!Q988),\"\",('DE01-F12'!Q988))","v":""},{"$f":"IF(ISBLANK('DE01-F12'!S988),\"\",('DE01-F12'!S988))","v":0}]
[{"$f":"IF(ISBLANK('DE01-F12'!N989),\"\",('DE01-F12'!N989))","v":""},{"$f":"MID('DE01-F12'!G989,1,18)","v":""},{"$f":"IF(ISBLANK('DE01-F12'!P989),\"\",('DE01-F12'!P989))","v":""},{"$f":"IF(ISBLANK('DE01-F12'!Q989),\"\",('DE01-F12'!Q989))","v":""},{"$f":"IF(ISBLANK('DE01-F12'!S989),\"\",('DE01-F12'!S989))","v":0}]
[{"$f":"IF(ISBLANK('DE01-F12'!N990),\"\",('DE01-F12'!N990))","v":""},{"$f":"MID('DE01-F12'!G990,1,18)","v":""},{"$f":"IF(ISBLANK('DE01-F12'!P990),\"\",('DE01-F12'!P990))","v":""},{"$f":"IF(ISBLANK('DE01-F12'!Q990),\"\",('DE01-F12'!Q990))","v":""},{"$f":"IF(ISBLANK('DE01-F12'!S990),\"\",('DE01-F12'!S990))","v":0}]
[{"$f":"IF(ISBLANK('DE01-F12'!N991),\"\",('DE01-F12'!N991))","v":""},{"$f":"MID('DE01-F12'!G991,1,18)","v":""},{"$f":"IF(ISBLANK('DE01-F12'!P991),\"\",('DE01-F12'!P991))","v":""},{"$f":"IF(ISBLANK('DE01-F12'!Q991),\"\",('DE01-F12'!Q991))","v":""},{"$f":"IF(ISBLANK('DE01-F12'!S991),\"\",('DE01-F12'!S991))","v":0}]
[{"$f":"IF(ISBLANK('DE01-F12'!N992),\"\",('DE01-F12'!N992))","v":""},{"$f":"MID('DE01-F12'!G992,1,18)","v":""},{"$f":"IF(ISBLANK('DE01-F12'!P992),\"\",('DE01-F12'!P992))","v":""},{"$f":"IF(ISBLANK('DE01-F12'!Q992),\"\",('DE01-F12'!Q992))","v":""},{"$f":"IF(ISBLANK('DE01-F12'!S992),\"\",('DE01-F12'!S992))","v":0}]
[{"$f":"IF(ISBLANK('DE01-F12'!N993),\"\",('DE01-F12'!N993))","v":""},{"$f":"MID('DE01-F12'!G993,1,18)","v":""},{"$f":"IF(ISBLANK('DE01-F12'!P993),\"\",('DE01-F12'!P993))","v":""},{"$f":"IF(ISBLANK('DE01-F12'!Q993),\"\",('DE01-F12'!Q993))","v":""},{"$f":"IF(ISBLANK('DE01-F12'!S993),\"\",('DE01-F12'!S993))","v":0}]
[{"$f":"IF(ISBLANK('DE01-F12'!N994),\"\",('DE01-F12'!N994))","v":""},{"$f":"MID('DE01-F12'!G994,1,18)","v":""},{"$f":"IF(ISBLANK('DE01-F12'!P994),\"\",('DE01-F12'!P994))","v":""},{"$f":"IF(ISBLANK('DE01-F12'!Q994),\"\",('DE01-F12'!Q994))","v":""},{"$f":"IF(ISBLANK('DE01-F12'!S994),\"\",('DE01-F12'!S994))","v":0}]
[{"$f":"IF(ISBLANK('DE01-F12'!N995),\"\",('DE01-F12'!N995))","v":""},{"$f":"MID('DE01-F12'!G995,1,18)","v":""},{"$f":"IF(ISBLANK('DE01-F12'!P995),\"\",('DE01-F12'!P995))","v":""},{"$f":"IF(ISBLANK('DE01-F12'!Q995),\"\",('DE01-F12'!Q995))","v":""},{"$f":"IF(ISBLANK('DE01-F12'!S995),\"\",('DE01-F12'!S995))","v":0}]
[{"$f":"IF(ISBLANK('DE01-F12'!N996),\"\",('DE01-F12'!N996))","v":""},{"$f":"MID('DE01-F12'!G996,1,18)","v":""},{"$f":"IF(ISBLANK('DE01-F12'!P996),\"\",('DE01-F12'!P996))","v":""},{"$f":"IF(ISBLANK('DE01-F12'!Q996),\"\",('DE01-F12'!Q996))","v":""},{"$f":"IF(ISBLANK('DE01-F12'!S996),\"\",('DE01-F12'!S996))","v":0}]
[{"$f":"IF(ISBLANK('DE01-F12'!N997),\"\",('DE01-F12'!N997))","v":""},{"$f":"MID('DE01-F12'!G997,1,18)","v":""},{"$f":"IF(ISBLANK('DE01-F12'!P997),\"\",('DE01-F12'!P997))","v":""},{"$f":"IF(ISBLANK('DE01-F12'!Q997),\"\",('DE01-F12'!Q997))","v":""},{"$f":"IF(ISBLANK('DE01-F12'!S997),\"\",('DE01-F12'!S997))","v":0}]
[{"$f":"IF(ISBLANK('DE01-F12'!N998),\"\",('DE01-F12'!N998))","v":""},{"$f":"MID('DE01-F12'!G998,1,18)","v":""},{"$f":"IF(ISBLANK('DE01-F12'!P998),\"\",('DE01-F12'!P998))","v":""},{"$f":"IF(ISBLANK('DE01-F12'!Q998),\"\",('DE01-F12'!Q998))","v":""},{"$f":"IF(ISBLANK('DE01-F12'!S998),\"\",('DE01-F12'!S998))","v":0}]
[{"$f":"IF(ISBLANK('DE01-F12'!N999),\"\",('DE01-F12'!N999))","v":""},{"$f":"MID('DE01-F12'!G999,1,18)","v":""},{"$f":"IF(ISBLANK('DE01-F12'!P999),\"\",('DE01-F12'!P999))","v":""},{"$f":"IF(ISBLANK('DE01-F12'!Q999),\"\",('DE01-F12'!Q999))","v":""},{"$f":"IF(ISBLANK('DE01-F12'!S999),\"\",('DE01-F12'!S999))","v":0}]
[{"$f":"IF(ISBLANK('DE01-F12'!N1000),\"\",('DE01-F12'!N1000))","v":""},{"$f":"MID('DE01-F12'!G1000,1,18)","v":""},{"$f":"IF(ISBLANK('DE01-F12'!P1000),\"\",('DE01-F12'!P1000))","v":""},{"$f":"IF(ISBLANK('DE01-F12'!Q1000),\"\",('DE01-F12'!Q1000))","v":""},{"$f":"IF(ISBLANK('DE01-F12'!S1000),\"\",('DE01-F12'!S1000))","v":0}]
[{"$f":"IF(ISBLANK('DE01-F12'!N1001),\"\",('DE01-F12'!N1001))","v":""},{"$f":"MID('DE01-F12'!G1001,1,18)","v":""},{"$f":"IF(ISBLANK('DE01-F12'!P1001),\"\",('DE01-F12'!P1001))","v":""},{"$f":"IF(ISBLANK('DE01-F12'!Q1001),\"\",('DE01-F12'!Q1001))","v":""},{"$f":"IF(ISBLANK('DE01-F12'!S1001),\"\",('DE01-F12'!S1001))","v":0}]
[{"$f":"IF(ISBLANK('DE01-F12'!N1002),\"\",('DE01-F12'!N1002))","v":""},{"$f":"MID('DE01-F12'!G1002,1,18)","v":""},{"$f":"IF(ISBLANK('DE01-F12'!P1002),\"\",('DE01-F12'!P1002))","v":""},{"$f":"IF(ISBLANK('DE01-F12'!Q1002),\"\",('DE01-F12'!Q1002))","v":""},{"$f":"IF(ISBLANK('DE01-F12'!S1002),\"\",('DE01-F12'!S1002))","v":0}]
[{"$f":"IF(ISBLANK('DE01-F12'!N1003),\"\",('DE01-F12'!N1003))","v":""},{"$f":"MID('DE01-F12'!G1003,1,18)","v":""},{"$f":"IF(ISBLANK('DE01-F12'!P1003),\"\",('DE01-F12'!P1003))","v":""},{"$f":"IF(ISBLANK('DE01-F12'!Q1003),\"\",('DE01-F12'!Q1003))","v":""},{"$f":"IF(ISBLANK('DE01-F12'!S1003),\"\",('DE01-F12'!S1003))","v":0}]
[{"$f":"IF(ISBLANK('DE01-F12'!N1004),\"\",('DE01-F12'!N1004))","v":""},{"$f":"MID('DE01-F12'!G1004,1,18)","v":""},{"$f":"IF(ISBLANK('DE01-F12'!P1004),\"\",('DE01-F12'!P1004))","v":""},{"$f":"IF(ISBLANK('DE01-F12'!Q1004),\"\",('DE01-F12'!Q1004))","v":""},{"$f":"IF(ISBLANK('DE01-F12'!S1004),\"\",('DE01-F12'!S1004))","v":0}]
[{"$f":"IF(ISBLANK('DE01-F12'!N1005),\"\",('DE01-F12'!N1005))","v":""},{"$f":"MID('DE01-F12'!G1005,1,18)","v":""},{"$f":"IF(ISBLANK('DE01-F12'!P1005),\"\",('DE01-F12'!P1005))","v":""},{"$f":"IF(ISBLANK('DE01-F12'!Q1005),\"\",('DE01-F12'!Q1005))","v":""},{"$f":"IF(ISBLANK('DE01-F12'!S1005),\"\",('DE01-F12'!S1005))","v":0}]
[{"$f":"IF(ISBLANK('DE01-F12'!N1006),\"\",('DE01-F12'!N1006))","v":""},{"$f":"MID('DE01-F12'!G1006,1,18)","v":""},{"$f":"IF(ISBLANK('DE01-F12'!P1006),\"\",('DE01-F12'!P1006))","v":""},{"$f":"IF(ISBLANK('DE01-F12'!Q1006),\"\",('DE01-F12'!Q1006))","v":""},{"$f":"IF(ISBLANK('DE01-F12'!S1006),\"\",('DE01-F12'!S1006))","v":0}]
[{"$f":"IF(ISBLANK('DE01-F12'!N1007),\"\",('DE01-F12'!N1007))","v":""},{"$f":"MID('DE01-F12'!G1007,1,18)","v":""},{"$f":"IF(ISBLANK('DE01-F12'!P1007),\"\",('DE01-F12'!P1007))","v":""},{"$f":"IF(ISBLANK('DE01-F12'!Q1007),\"\",('DE01-F12'!Q1007))","v":""},{"$f":"IF(ISBLANK('DE01-F12'!S1007),\"\",('DE01-F12'!S1007))","v":0}]
[{"$f":"IF(ISBLANK('DE01-F12'!N1008),\"\",('DE01-F12'!N1008))","v":""},{"$f":"MID('DE01-F12'!G1008,1,18)","v":""},{"$f":"IF(ISBLANK('DE01-F12'!P1008),\"\",('DE01-F12'!P1008))","v":""},{"$f":"IF(ISBLANK('DE01-F12'!Q1008),\"\",('DE01-F12'!Q1008))","v":""},{"$f":"IF(ISBLANK('DE01-F12'!S1008),\"\",('DE01-F12'!S1008))","v":0}]
[{"$f":"IF(ISBLANK('DE01-F12'!N1009),\"\",('DE01-F12'!N1009))","v":""},{"$f":"MID('DE01-F12'!G1009,1,18)","v":""},{"$f":"IF(ISBLANK('DE01-F12'!P1009),\"\",('DE01-F12'!P1009))","v":""},{"$f":"IF(ISBLANK('DE01-F12'!Q1009),\"\",('DE01-F12'!Q1009))","v":""},{"$f":"IF(ISBLANK('DE01-F12'!S1009),\"\",('DE01-F12'!S1009))","v":0}]
[{"$f":"IF(ISBLANK('DE01-F12'!N1010),\"\",('DE01-F12'!N1010))","v":""},{"$f":"MID('DE01-F12'!G1010,1,18)","v":""},{"$f":"IF(ISBLANK('DE01-F12'!P1010),\"\",('DE01-F12'!P1010))","v":""},{"$f":"IF(ISBLANK('DE01-F12'!Q1010),\"\",('DE01-F12'!Q1010))","v":""},{"$f":"IF(ISBLANK('DE01-F12'!S1010),\"\",('DE01-F12'!S1010))","v":0}]
[{"$f":"IF(ISBLANK('DE01-F12'!N1011),\"\",('DE01-F12'!N1011))","v":""},{"$f":"MID('DE01-F12'!G1011,1,18)","v":""},{"$f":"IF(ISBLANK('DE01-F12'!P1011),\"\",('DE01-F12'!P1011))","v":""},{"$f":"IF(ISBLANK('DE01-F12'!Q1011),\"\",('DE01-F12'!Q1011))","v":""},{"$f":"IF(ISBLANK('DE01-F12'!S1011),\"\",('DE01-F12'!S1011))","v":0}]
[{"$f":"IF(ISBLANK('DE01-F12'!N1012),\"\",('DE01-F12'!N1012))","v":""},{"$f":"MID('DE01-F12'!G1012,1,18)","v":""},{"$f":"IF(ISBLANK('DE01-F12'!P1012),\"\",('DE01-F12'!P1012))","v":""},{"$f":"IF(ISBLANK('DE01-F12'!Q1012),\"\",('DE01-F12'!Q1012))","v":""},{"$f":"IF(ISBLANK('DE01-F12'!S1012),\"\",('DE01-F12'!S1012))","v":0}]
[{"$f":"IF(ISBLANK('DE01-F12'!N1013),\"\",('DE01-F12'!N1013))","v":""},{"$f":"MID('DE01-F12'!G1013,1,18)","v":""},{"$f":"IF(ISBLANK('DE01-F12'!P1013),\"\",('DE01-F12'!P1013))","v":""},{"$f":"IF(ISBLANK('DE01-F12'!Q1013),\"\",('DE01-F12'!Q1013))","v":""},{"$f":"IF(ISBLANK('DE01-F12'!S1013),\"\",('DE01-F12'!S1013))","v":0}]
[{"$f":"IF(ISBLANK('DE01-F12'!N1014),\"\",('DE01-F12'!N1014))","v":""},{"$f":"MID('DE01-F12'!G1014,1,18)","v":""},{"$f":"IF(ISBLANK('DE01-F12'!P1014),\"\",('DE01-F12'!P1014))","v":""},{"$f":"IF(ISBLANK('DE01-F12'!Q1014),\"\",('DE01-F12'!Q1014))","v":""},{"$f":"IF(ISBLANK('DE01-F12'!S1014),\"\",('DE01-F12'!S1014))","v":0}]
[{"$f":"IF(ISBLANK('DE01-F12'!N1015),\"\",('DE01-F12'!N1015))","v":""},{"$f":"MID('DE01-F12'!G1015,1,18)","v":""},{"$f":"IF(ISBLANK('DE01-F12'!P1015),\"\",('DE01-F12'!P1015))","v":""},{"$f":"IF(ISBLANK('DE01-F12'!Q1015),\"\",('DE01-F12'!Q1015))","v":""},{"$f":"IF(ISBLANK('DE01-F12'!S1015),\"\",('DE01-F12'!S1015))","v":0}]
[{"$f":"IF(ISBLANK('DE01-F12'!N1016),\"\",('DE01-F12'!N1016))","v":""},{"$f":"MID('DE01-F12'!G1016,1,18)","v":""},{"$f":"IF(ISBLANK('DE01-F12'!P1016),\"\",('DE01-F12'!P1016))","v":""},{"$f":"IF(ISBLANK('DE01-F12'!Q1016),\"\",('DE01-F12'!Q1016))","v":""},{"$f":"IF(ISBLANK('DE01-F12'!S1016),\"\",('DE01-F12'!S1016))","v":0}]
[{"$f":"IF(ISBLANK('DE01-F12'!N1017),\"\",('DE01-F12'!N1017))","v":""},{"$f":"MID('DE01-F12'!G1017,1,18)","v":""},{"$f":"IF(ISBLANK('DE01-F12'!P1017),\"\",('DE01-F12'!P1017))","v":""},{"$f":"IF(ISBLANK('DE01-F12'!Q1017),\"\",('DE01-F12'!Q1017))","v":""},{"$f":"IF(ISBLANK('DE01-F12'!S1017),\"\",('DE01-F12'!S1017))","v":0}]
[{"$f":"IF(ISBLANK('DE01-F12'!N1018),\"\",('DE01-F12'!N1018))","v":""},{"$f":"MID('DE01-F12'!G1018,1,18)","v":""},{"$f":"IF(ISBLANK('DE01-F12'!P1018),\"\",('DE01-F12'!P1018))","v":""},{"$f":"IF(ISBLANK('DE01-F12'!Q1018),\"\",('DE01-F12'!Q1018))","v":""},{"$f":"IF(ISBLANK('DE01-F12'!S1018),\"\",('DE01-F12'!S1018))","v":0}]
[{"$f":"IF(ISBLANK('DE01-F12'!N1019),\"\",('DE01-F12'!N1019))","v":""},{"$f":"MID('DE01-F12'!G1019,1,18)","v":""},{"$f":"IF(ISBLANK('DE01-F12'!P1019),\"\",('DE01-F12'!P1019))","v":""},{"$f":"IF(ISBLANK('DE01-F12'!Q1019),\"\",('DE01-F12'!Q1019))","v":""},{"$f":"IF(ISBLANK('DE01-F12'!S1019),\"\",('DE01-F12'!S1019))","v":0}]
[{"$f":"IF(ISBLANK('DE01-F12'!N1020),\"\",('DE01-F12'!N1020))","v":""},{"$f":"MID('DE01-F12'!G1020,1,18)","v":""},{"$f":"IF(ISBLANK('DE01-F12'!P1020),\"\",('DE01-F12'!P1020))","v":""},{"$f":"IF(ISBLANK('DE01-F12'!Q1020),\"\",('DE01-F12'!Q1020))","v":""},{"$f":"IF(ISBLANK('DE01-F12'!S1020),\"\",('DE01-F12'!S1020))","v":0}]
[{"$f":"IF(ISBLANK('DE01-F12'!N1021),\"\",('DE01-F12'!N1021))","v":""},{"$f":"MID('DE01-F12'!G1021,1,18)","v":""},{"$f":"IF(ISBLANK('DE01-F12'!P1021),\"\",('DE01-F12'!P1021))","v":""},{"$f":"IF(ISBLANK('DE01-F12'!Q1021),\"\",('DE01-F12'!Q1021))","v":""},{"$f":"IF(ISBLANK('DE01-F12'!S1021),\"\",('DE01-F12'!S1021))","v":0}]
[{"$f":"IF(ISBLANK('DE01-F12'!N1022),\"\",('DE01-F12'!N1022))","v":""},{"$f":"MID('DE01-F12'!G1022,1,18)","v":""},{"$f":"IF(ISBLANK('DE01-F12'!P1022),\"\",('DE01-F12'!P1022))","v":""},{"$f":"IF(ISBLANK('DE01-F12'!Q1022),\"\",('DE01-F12'!Q1022))","v":""},{"$f":"IF(ISBLANK('DE01-F12'!S1022),\"\",('DE01-F12'!S1022))","v":0}]
[{"$f":"IF(ISBLANK('DE01-F12'!N1023),\"\",('DE01-F12'!N1023))","v":""},{"$f":"MID('DE01-F12'!G1023,1,18)","v":""},{"$f":"IF(ISBLANK('DE01-F12'!P1023),\"\",('DE01-F12'!P1023))","v":""},{"$f":"IF(ISBLANK('DE01-F12'!Q1023),\"\",('DE01-F12'!Q1023))","v":""},{"$f":"IF(ISBLANK('DE01-F12'!S1023),\"\",('DE01-F12'!S1023))","v":0}]
[{"$f":"IF(ISBLANK('DE01-F12'!N1024),\"\",('DE01-F12'!N1024))","v":""},{"$f":"MID('DE01-F12'!G1024,1,18)","v":""},{"$f":"IF(ISBLANK('DE01-F12'!P1024),\"\",('DE01-F12'!P1024))","v":""},{"$f":"IF(ISBLANK('DE01-F12'!Q1024),\"\",('DE01-F12'!Q1024))","v":""},{"$f":"IF(ISBLANK('DE01-F12'!S1024),\"\",('DE01-F12'!S1024))","v":0}]
[{"$f":"IF(ISBLANK('DE01-F12'!N1025),\"\",('DE01-F12'!N1025))","v":""},{"$f":"MID('DE01-F12'!G1025,1,18)","v":""},{"$f":"IF(ISBLANK('DE01-F12'!P1025),\"\",('DE01-F12'!P1025))","v":""},{"$f":"IF(ISBLANK('DE01-F12'!Q1025),\"\",('DE01-F12'!Q1025))","v":""},{"$f":"IF(ISBLANK('DE01-F12'!S1025),\"\",('DE01-F12'!S1025))","v":0}]
[{"$f":"IF(ISBLANK('DE01-F12'!N1026),\"\",('DE01-F12'!N1026))","v":""},{"$f":"MID('DE01-F12'!G1026,1,18)","v":""},{"$f":"IF(ISBLANK('DE01-F12'!P1026),\"\",('DE01-F12'!P1026))","v":""},{"$f":"IF(ISBLANK('DE01-F12'!Q1026),\"\",('DE01-F12'!Q1026))","v":""},{"$f":"IF(ISBLANK('DE01-F12'!S1026),\"\",('DE01-F12'!S1026))","v":0}]
[{"$f":"IF(ISBLANK('DE01-F12'!N1027),\"\",('DE01-F12'!N1027))","v":""},{"$f":"MID('DE01-F12'!G1027,1,18)","v":""},{"$f":"IF(ISBLANK('DE01-F12'!P1027),\"\",('DE01-F12'!P1027))","v":""},{"$f":"IF(ISBLANK('DE01-F12'!Q1027),\"\",('DE01-F12'!Q1027))","v":""},{"$f":"IF(ISBLANK('DE01-F12'!S1027),\"\",('DE01-F12'!S1027))","v":0}]
[{"$f":"IF(ISBLANK('DE01-F12'!N1028),\"\",('DE01-F12'!N1028))","v":""},{"$f":"MID('DE01-F12'!G1028,1,18)","v":""},{"$f":"IF(ISBLANK('DE01-F12'!P1028),\"\",('DE01-F12'!P1028))","v":""},{"$f":"IF(ISBLANK('DE01-F12'!Q1028),\"\",('DE01-F12'!Q1028))","v":""},{"$f":"IF(ISBLANK('DE01-F12'!S1028),\"\",('DE01-F12'!S1028))","v":0}]
[{"$f":"IF(ISBLANK('DE01-F12'!N1029),\"\",('DE01-F12'!N1029))","v":""},{"$f":"MID('DE01-F12'!G1029,1,18)","v":""},{"$f":"IF(ISBLANK('DE01-F12'!P1029),\"\",('DE01-F12'!P1029))","v":""},{"$f":"IF(ISBLANK('DE01-F12'!Q1029),\"\",('DE01-F12'!Q1029))","v":""},{"$f":"IF(ISBLANK('DE01-F12'!S1029),\"\",('DE01-F12'!S1029))","v":0}]
[{"$f":"IF(ISBLANK('DE01-F12'!N1030),\"\",('DE01-F12'!N1030))","v":""},{"$f":"MID('DE01-F12'!G1030,1,18)","v":""},{"$f":"IF(ISBLANK('DE01-F12'!P1030),\"\",('DE01-F12'!P1030))","v":""},{"$f":"IF(ISBLANK('DE01-F12'!Q1030),\"\",('DE01-F12'!Q1030))","v":""},{"$f":"IF(ISBLANK('DE01-F12'!S1030),\"\",('DE01-F12'!S1030))","v":0}]
[{"$f":"IF(ISBLANK('DE01-F12'!N1031),\"\",('DE01-F12'!N1031))","v":""},{"$f":"MID('DE01-F12'!G1031,1,18)","v":""},{"$f":"IF(ISBLANK('DE01-F12'!P1031),\"\",('DE01-F12'!P1031))","v":""},{"$f":"IF(ISBLANK('DE01-F12'!Q1031),\"\",('DE01-F12'!Q1031))","v":""},{"$f":"IF(ISBLANK('DE01-F12'!S1031),\"\",('DE01-F12'!S1031))","v":0}]
[{"$f":"IF(ISBLANK('DE01-F12'!N1032),\"\",('DE01-F12'!N1032))","v":""},{"$f":"MID('DE01-F12'!G1032,1,18)","v":""},{"$f":"IF(ISBLANK('DE01-F12'!P1032),\"\",('DE01-F12'!P1032))","v":""},{"$f":"IF(ISBLANK('DE01-F12'!Q1032),\"\",('DE01-F12'!Q1032))","v":""},{"$f":"IF(ISBLANK('DE01-F12'!S1032),\"\",('DE01-F12'!S1032))","v":0}]
[{"$f":"IF(ISBLANK('DE01-F12'!N1033),\"\",('DE01-F12'!N1033))","v":""},{"$f":"MID('DE01-F12'!G1033,1,18)","v":""},{"$f":"IF(ISBLANK('DE01-F12'!P1033),\"\",('DE01-F12'!P1033))","v":""},{"$f":"IF(ISBLANK('DE01-F12'!Q1033),\"\",('DE01-F12'!Q1033))","v":""},{"$f":"IF(ISBLANK('DE01-F12'!S1033),\"\",('DE01-F12'!S1033))","v":0}]
[{"$f":"IF(ISBLANK('DE01-F12'!N1034),\"\",('DE01-F12'!N1034))","v":""},{"$f":"MID('DE01-F12'!G1034,1,18)","v":""},{"$f":"IF(ISBLANK('DE01-F12'!P1034),\"\",('DE01-F12'!P1034))","v":""},{"$f":"IF(ISBLANK('DE01-F12'!Q1034),\"\",('DE01-F12'!Q1034))","v":""},{"$f":"IF(ISBLANK('DE01-F12'!S1034),\"\",('DE01-F12'!S1034))","v":0}]
[{"$f":"IF(ISBLANK('DE01-F12'!N1035),\"\",('DE01-F12'!N1035))","v":""},{"$f":"MID('DE01-F12'!G1035,1,18)","v":""},{"$f":"IF(ISBLANK('DE01-F12'!P1035),\"\",('DE01-F12'!P1035))","v":""},{"$f":"IF(ISBLANK('DE01-F12'!Q1035),\"\",('DE01-F12'!Q1035))","v":""},{"$f":"IF(ISBLANK('DE01-F12'!S1035),\"\",('DE01-F12'!S1035))","v":0}]
[{"$f":"IF(ISBLANK('DE01-F12'!N1036),\"\",('DE01-F12'!N1036))","v":""},{"$f":"MID('DE01-F12'!G1036,1,18)","v":""},{"$f":"IF(ISBLANK('DE01-F12'!P1036),\"\",('DE01-F12'!P1036))","v":""},{"$f":"IF(ISBLANK('DE01-F12'!Q1036),\"\",('DE01-F12'!Q1036))","v":""},{"$f":"IF(ISBLANK('DE01-F12'!S1036),\"\",('DE01-F12'!S1036))","v":0}]
[{"$f":"IF(ISBLANK('DE01-F12'!N1037),\"\",('DE01-F12'!N1037))","v":""},{"$f":"MID('DE01-F12'!G1037,1,18)","v":""},{"$f":"IF(ISBLANK('DE01-F12'!P1037),\"\",('DE01-F12'!P1037))","v":""},{"$f":"IF(ISBLANK('DE01-F12'!Q1037),\"\",('DE01-F12'!Q1037))","v":""},{"$f":"IF(ISBLANK('DE01-F12'!S1037),\"\",('DE01-F12'!S1037))","v":0}]
[{"$f":"IF(ISBLANK('DE01-F12'!N1038),\"\",('DE01-F12'!N1038))","v":""},{"$f":"MID('DE01-F12'!G1038,1,18)","v":""},{"$f":"IF(ISBLANK('DE01-F12'!P1038),\"\",('DE01-F12'!P1038))","v":""},{"$f":"IF(ISBLANK('DE01-F12'!Q1038),\"\",('DE01-F12'!Q1038))","v":""},{"$f":"IF(ISBLANK('DE01-F12'!S1038),\"\",('DE01-F12'!S1038))","v":0}]
[{"$f":"IF(ISBLANK('DE01-F12'!N1039),\"\",('DE01-F12'!N1039))","v":""},{"$f":"MID('DE01-F12'!G1039,1,18)","v":""},{"$f":"IF(ISBLANK('DE01-F12'!P1039),\"\",('DE01-F12'!P1039))","v":""},{"$f":"IF(ISBLANK('DE01-F12'!Q1039),\"\",('DE01-F12'!Q1039))","v":""},{"$f":"IF(ISBLANK('DE01-F12'!S1039),\"\",('DE01-F12'!S1039))","v":0}]
[{"$f":"IF(ISBLANK('DE01-F12'!N1040),\"\",('DE01-F12'!N1040))","v":""},{"$f":"MID('DE01-F12'!G1040,1,18)","v":""},{"$f":"IF(ISBLANK('DE01-F12'!P1040),\"\",('DE01-F12'!P1040))","v":""},{"$f":"IF(ISBLANK('DE01-F12'!Q1040),\"\",('DE01-F12'!Q1040))","v":""},{"$f":"IF(ISBLANK('DE01-F12'!S1040),\"\",('DE01-F12'!S1040))","v":0}]
[{"$f":"IF(ISBLANK('DE01-F12'!N1041),\"\",('DE01-F12'!N1041))","v":""},{"$f":"MID('DE01-F12'!G1041,1,18)","v":""},{"$f":"IF(ISBLANK('DE01-F12'!P1041),\"\",('DE01-F12'!P1041))","v":""},{"$f":"IF(ISBLANK('DE01-F12'!Q1041),\"\",('DE01-F12'!Q1041))","v":""},{"$f":"IF(ISBLANK('DE01-F12'!S1041),\"\",('DE01-F12'!S1041))","v":0}]
[{"$f":"IF(ISBLANK('DE01-F12'!N1042),\"\",('DE01-F12'!N1042))","v":""},{"$f":"MID('DE01-F12'!G1042,1,18)","v":""},{"$f":"IF(ISBLANK('DE01-F12'!P1042),\"\",('DE01-F12'!P1042))","v":""},{"$f":"IF(ISBLANK('DE01-F12'!Q1042),\"\",('DE01-F12'!Q1042))","v":""},{"$f":"IF(ISBLANK('DE01-F12'!S1042),\"\",('DE01-F12'!S1042))","v":0}]
[{"$f":"IF(ISBLANK('DE01-F12'!N1043),\"\",('DE01-F12'!N1043))","v":""},{"$f":"MID('DE01-F12'!G1043,1,18)","v":""},{"$f":"IF(ISBLANK('DE01-F12'!P1043),\"\",('DE01-F12'!P1043))","v":""},{"$f":"IF(ISBLANK('DE01-F12'!Q1043),\"\",('DE01-F12'!Q1043))","v":""},{"$f":"IF(ISBLANK('DE01-F12'!S1043),\"\",('DE01-F12'!S1043))","v":0}]
[{"$f":"IF(ISBLANK('DE01-F12'!N1044),\"\",('DE01-F12'!N1044))","v":""},{"$f":"MID('DE01-F12'!G1044,1,18)","v":""},{"$f":"IF(ISBLANK('DE01-F12'!P1044),\"\",('DE01-F12'!P1044))","v":""},{"$f":"IF(ISBLANK('DE01-F12'!Q1044),\"\",('DE01-F12'!Q1044))","v":""},{"$f":"IF(ISBLANK('DE01-F12'!S1044),\"\",('DE01-F12'!S1044))","v":0}]
[{"$f":"IF(ISBLANK('DE01-F12'!N1045),\"\",('DE01-F12'!N1045))","v":""},{"$f":"MID('DE01-F12'!G1045,1,18)","v":""},{"$f":"IF(ISBLANK('DE01-F12'!P1045),\"\",('DE01-F12'!P1045))","v":""},{"$f":"IF(ISBLANK('DE01-F12'!Q1045),\"\",('DE01-F12'!Q1045))","v":""},{"$f":"IF(ISBLANK('DE01-F12'!S1045),\"\",('DE01-F12'!S1045))","v":0}]
[{"$f":"IF(ISBLANK('DE01-F12'!N1046),\"\",('DE01-F12'!N1046))","v":""},{"$f":"MID('DE01-F12'!G1046,1,18)","v":""},{"$f":"IF(ISBLANK('DE01-F12'!P1046),\"\",('DE01-F12'!P1046))","v":""},{"$f":"IF(ISBLANK('DE01-F12'!Q1046),\"\",('DE01-F12'!Q1046))","v":""},{"$f":"IF(ISBLANK('DE01-F12'!S1046),\"\",('DE01-F12'!S1046))","v":0}]
[{"$f":"IF(ISBLANK('DE01-F12'!N1047),\"\",('DE01-F12'!N1047))","v":""},{"$f":"MID('DE01-F12'!G1047,1,18)","v":""},{"$f":"IF(ISBLANK('DE01-F12'!P1047),\"\",('DE01-F12'!P1047))","v":""},{"$f":"IF(ISBLANK('DE01-F12'!Q1047),\"\",('DE01-F12'!Q1047))","v":""},{"$f":"IF(ISBLANK('DE01-F12'!S1047),\"\",('DE01-F12'!S1047))","v":0}]
[{"$f":"IF(ISBLANK('DE01-F12'!N1048),\"\",('DE01-F12'!N1048))","v":""},{"$f":"MID('DE01-F12'!G1048,1,18)","v":""},{"$f":"IF(ISBLANK('DE01-F12'!P1048),\"\",('DE01-F12'!P1048))","v":""},{"$f":"IF(ISBLANK('DE01-F12'!Q1048),\"\",('DE01-F12'!Q1048))","v":""},{"$f":"IF(ISBLANK('DE01-F12'!S1048),\"\",('DE01-F12'!S1048))","v":0}]
[{"$f":"IF(ISBLANK('DE01-F12'!N1049),\"\",('DE01-F12'!N1049))","v":""},{"$f":"MID('DE01-F12'!G1049,1,18)","v":""},{"$f":"IF(ISBLANK('DE01-F12'!P1049),\"\",('DE01-F12'!P1049))","v":""},{"$f":"IF(ISBLANK('DE01-F12'!Q1049),\"\",('DE01-F12'!Q1049))","v":""},{"$f":"IF(ISBLANK('DE01-F12'!S1049),\"\",('DE01-F12'!S1049))","v":0}]
[{"$f":"IF(ISBLANK('DE01-F12'!N1050),\"\",('DE01-F12'!N1050))","v":""},{"$f":"MID('DE01-F12'!G1050,1,18)","v":""},{"$f":"IF(ISBLANK('DE01-F12'!P1050),\"\",('DE01-F12'!P1050))","v":""},{"$f":"IF(ISBLANK('DE01-F12'!Q1050),\"\",('DE01-F12'!Q1050))","v":""},{"$f":"IF(ISBLANK('DE01-F12'!S1050),\"\",('DE01-F12'!S1050))","v":0}]
[{"$f":"IF(ISBLANK('DE01-F12'!N1051),\"\",('DE01-F12'!N1051))","v":""},{"$f":"MID('DE01-F12'!G1051,1,18)","v":""},{"$f":"IF(ISBLANK('DE01-F12'!P1051),\"\",('DE01-F12'!P1051))","v":""},{"$f":"IF(ISBLANK('DE01-F12'!Q1051),\"\",('DE01-F12'!Q1051))","v":""},{"$f":"IF(ISBLANK('DE01-F12'!S1051),\"\",('DE01-F12'!S1051))","v":0}]
[{"$f":"IF(ISBLANK('DE01-F12'!N1052),\"\",('DE01-F12'!N1052))","v":""},{"$f":"MID('DE01-F12'!G1052,1,18)","v":""},{"$f":"IF(ISBLANK('DE01-F12'!P1052),\"\",('DE01-F12'!P1052))","v":""},{"$f":"IF(ISBLANK('DE01-F12'!Q1052),\"\",('DE01-F12'!Q1052))","v":""},{"$f":"IF(ISBLANK('DE01-F12'!S1052),\"\",('DE01-F12'!S1052))","v":0}]
[{"$f":"IF(ISBLANK('DE01-F12'!N1053),\"\",('DE01-F12'!N1053))","v":""},{"$f":"MID('DE01-F12'!G1053,1,18)","v":""},{"$f":"IF(ISBLANK('DE01-F12'!P1053),\"\",('DE01-F12'!P1053))","v":""},{"$f":"IF(ISBLANK('DE01-F12'!Q1053),\"\",('DE01-F12'!Q1053))","v":""},{"$f":"IF(ISBLANK('DE01-F12'!S1053),\"\",('DE01-F12'!S1053))","v":0}]
[{"$f":"IF(ISBLANK('DE01-F12'!N1054),\"\",('DE01-F12'!N1054))","v":""},{"$f":"MID('DE01-F12'!G1054,1,18)","v":""},{"$f":"IF(ISBLANK('DE01-F12'!P1054),\"\",('DE01-F12'!P1054))","v":""},{"$f":"IF(ISBLANK('DE01-F12'!Q1054),\"\",('DE01-F12'!Q1054))","v":""},{"$f":"IF(ISBLANK('DE01-F12'!S1054),\"\",('DE01-F12'!S1054))","v":0}]
[{"$f":"IF(ISBLANK('DE01-F12'!N1055),\"\",('DE01-F12'!N1055))","v":""},{"$f":"MID('DE01-F12'!G1055,1,18)","v":""},{"$f":"IF(ISBLANK('DE01-F12'!P1055),\"\",('DE01-F12'!P1055))","v":""},{"$f":"IF(ISBLANK('DE01-F12'!Q1055),\"\",('DE01-F12'!Q1055))","v":""},{"$f":"IF(ISBLANK('DE01-F12'!S1055),\"\",('DE01-F12'!S1055))","v":0}]
[{"$f":"IF(ISBLANK('DE01-F12'!N1056),\"\",('DE01-F12'!N1056))","v":""},{"$f":"MID('DE01-F12'!G1056,1,18)","v":""},{"$f":"IF(ISBLANK('DE01-F12'!P1056),\"\",('DE01-F12'!P1056))","v":""},{"$f":"IF(ISBLANK('DE01-F12'!Q1056),\"\",('DE01-F12'!Q1056))","v":""},{"$f":"IF(ISBLANK('DE01-F12'!S1056),\"\",('DE01-F12'!S1056))","v":0}]
[{"$f":"IF(ISBLANK('DE01-F12'!N1057),\"\",('DE01-F12'!N1057))","v":""},{"$f":"MID('DE01-F12'!G1057,1,18)","v":""},{"$f":"IF(ISBLANK('DE01-F12'!P1057),\"\",('DE01-F12'!P1057))","v":""},{"$f":"IF(ISBLANK('DE01-F12'!Q1057),\"\",('DE01-F12'!Q1057))","v":""},{"$f":"IF(ISBLANK('DE01-F12'!S1057),\"\",('DE01-F12'!S1057))","v":0}]
[{"$f":"IF(ISBLANK('DE01-F12'!N1058),\"\",('DE01-F12'!N1058))","v":""},{"$f":"MID('DE01-F12'!G1058,1,18)","v":""},{"$f":"IF(ISBLANK('DE01-F12'!P1058),\"\",('DE01-F12'!P1058))","v":""},{"$f":"IF(ISBLANK('DE01-F12'!Q1058),\"\",('DE01-F12'!Q1058))","v":""},{"$f":"IF(ISBLANK('DE01-F12'!S1058),\"\",('DE01-F12'!S1058))","v":0}]
[{"$f":"IF(ISBLANK('DE01-F12'!N1059),\"\",('DE01-F12'!N1059))","v":""},{"$f":"MID('DE01-F12'!G1059,1,18)","v":""},{"$f":"IF(ISBLANK('DE01-F12'!P1059),\"\",('DE01-F12'!P1059))","v":""},{"$f":"IF(ISBLANK('DE01-F12'!Q1059),\"\",('DE01-F12'!Q1059))","v":""},{"$f":"IF(ISBLANK('DE01-F12'!S1059),\"\",('DE01-F12'!S1059))","v":0}]
[{"$f":"IF(ISBLANK('DE01-F12'!N1060),\"\",('DE01-F12'!N1060))","v":""},{"$f":"MID('DE01-F12'!G1060,1,18)","v":""},{"$f":"IF(ISBLANK('DE01-F12'!P1060),\"\",('DE01-F12'!P1060))","v":""},{"$f":"IF(ISBLANK('DE01-F12'!Q1060),\"\",('DE01-F12'!Q1060))","v":""},{"$f":"IF(ISBLANK('DE01-F12'!S1060),\"\",('DE01-F12'!S1060))","v":0}]
[{"$f":"IF(ISBLANK('DE01-F12'!N1061),\"\",('DE01-F12'!N1061))","v":""},{"$f":"MID('DE01-F12'!G1061,1,18)","v":""},{"$f":"IF(ISBLANK('DE01-F12'!P1061),\"\",('DE01-F12'!P1061))","v":""},{"$f":"IF(ISBLANK('DE01-F12'!Q1061),\"\",('DE01-F12'!Q1061))","v":""},{"$f":"IF(ISBLANK('DE01-F12'!S1061),\"\",('DE01-F12'!S1061))","v":0}]
[{"$f":"IF(ISBLANK('DE01-F12'!N1062),\"\",('DE01-F12'!N1062))","v":""},{"$f":"MID('DE01-F12'!G1062,1,18)","v":""},{"$f":"IF(ISBLANK('DE01-F12'!P1062),\"\",('DE01-F12'!P1062))","v":""},{"$f":"IF(ISBLANK('DE01-F12'!Q1062),\"\",('DE01-F12'!Q1062))","v":""},{"$f":"IF(ISBLANK('DE01-F12'!S1062),\"\",('DE01-F12'!S1062))","v":0}]
[{"$f":"IF(ISBLANK('DE01-F12'!N1063),\"\",('DE01-F12'!N1063))","v":""},{"$f":"MID('DE01-F12'!G1063,1,18)","v":""},{"$f":"IF(ISBLANK('DE01-F12'!P1063),\"\",('DE01-F12'!P1063))","v":""},{"$f":"IF(ISBLANK('DE01-F12'!Q1063),\"\",('DE01-F12'!Q1063))","v":""},{"$f":"IF(ISBLANK('DE01-F12'!S1063),\"\",('DE01-F12'!S1063))","v":0}]
[{"$f":"IF(ISBLANK('DE01-F12'!N1064),\"\",('DE01-F12'!N1064))","v":""},{"$f":"MID('DE01-F12'!G1064,1,18)","v":""},{"$f":"IF(ISBLANK('DE01-F12'!P1064),\"\",('DE01-F12'!P1064))","v":""},{"$f":"IF(ISBLANK('DE01-F12'!Q1064),\"\",('DE01-F12'!Q1064))","v":""},{"$f":"IF(ISBLANK('DE01-F12'!S1064),\"\",('DE01-F12'!S1064))","v":0}]
[{"$f":"IF(ISBLANK('DE01-F12'!N1065),\"\",('DE01-F12'!N1065))","v":""},{"$f":"MID('DE01-F12'!G1065,1,18)","v":""},{"$f":"IF(ISBLANK('DE01-F12'!P1065),\"\",('DE01-F12'!P1065))","v":""},{"$f":"IF(ISBLANK('DE01-F12'!Q1065),\"\",('DE01-F12'!Q1065))","v":""},{"$f":"IF(ISBLANK('DE01-F12'!S1065),\"\",('DE01-F12'!S1065))","v":0}]
[{"$f":"IF(ISBLANK('DE01-F12'!N1066),\"\",('DE01-F12'!N1066))","v":""},{"$f":"MID('DE01-F12'!G1066,1,18)","v":""},{"$f":"IF(ISBLANK('DE01-F12'!P1066),\"\",('DE01-F12'!P1066))","v":""},{"$f":"IF(ISBLANK('DE01-F12'!Q1066),\"\",('DE01-F12'!Q1066))","v":""},{"$f":"IF(ISBLANK('DE01-F12'!S1066),\"\",('DE01-F12'!S1066))","v":0}]
[{"$f":"IF(ISBLANK('DE01-F12'!N1067),\"\",('DE01-F12'!N1067))","v":""},{"$f":"MID('DE01-F12'!G1067,1,18)","v":""},{"$f":"IF(ISBLANK('DE01-F12'!P1067),\"\",('DE01-F12'!P1067))","v":""},{"$f":"IF(ISBLANK('DE01-F12'!Q1067),\"\",('DE01-F12'!Q1067))","v":""},{"$f":"IF(ISBLANK('DE01-F12'!S1067),\"\",('DE01-F12'!S1067))","v":0}]
[{"$f":"IF(ISBLANK('DE01-F12'!N1068),\"\",('DE01-F12'!N1068))","v":""},{"$f":"MID('DE01-F12'!G1068,1,18)","v":""},{"$f":"IF(ISBLANK('DE01-F12'!P1068),\"\",('DE01-F12'!P1068))","v":""},{"$f":"IF(ISBLANK('DE01-F12'!Q1068),\"\",('DE01-F12'!Q1068))","v":""},{"$f":"IF(ISBLANK('DE01-F12'!S1068),\"\",('DE01-F12'!S1068))","v":0}]
[{"$f":"IF(ISBLANK('DE01-F12'!N1069),\"\",('DE01-F12'!N1069))","v":""},{"$f":"MID('DE01-F12'!G1069,1,18)","v":""},{"$f":"IF(ISBLANK('DE01-F12'!P1069),\"\",('DE01-F12'!P1069))","v":""},{"$f":"IF(ISBLANK('DE01-F12'!Q1069),\"\",('DE01-F12'!Q1069))","v":""},{"$f":"IF(ISBLANK('DE01-F12'!S1069),\"\",('DE01-F12'!S1069))","v":0}]
[{"$f":"IF(ISBLANK('DE01-F12'!N1070),\"\",('DE01-F12'!N1070))","v":""},{"$f":"MID('DE01-F12'!G1070,1,18)","v":""},{"$f":"IF(ISBLANK('DE01-F12'!P1070),\"\",('DE01-F12'!P1070))","v":""},{"$f":"IF(ISBLANK('DE01-F12'!Q1070),\"\",('DE01-F12'!Q1070))","v":""},{"$f":"IF(ISBLANK('DE01-F12'!S1070),\"\",('DE01-F12'!S1070))","v":0}]
[{"$f":"IF(ISBLANK('DE01-F12'!N1071),\"\",('DE01-F12'!N1071))","v":""},{"$f":"MID('DE01-F12'!G1071,1,18)","v":""},{"$f":"IF(ISBLANK('DE01-F12'!P1071),\"\",('DE01-F12'!P1071))","v":""},{"$f":"IF(ISBLANK('DE01-F12'!Q1071),\"\",('DE01-F12'!Q1071))","v":""},{"$f":"IF(ISBLANK('DE01-F12'!S1071),\"\",('DE01-F12'!S1071))","v":0}]
[{"$f":"IF(ISBLANK('DE01-F12'!N1072),\"\",('DE01-F12'!N1072))","v":""},{"$f":"MID('DE01-F12'!G1072,1,18)","v":""},{"$f":"IF(ISBLANK('DE01-F12'!P1072),\"\",('DE01-F12'!P1072))","v":""},{"$f":"IF(ISBLANK('DE01-F12'!Q1072),\"\",('DE01-F12'!Q1072))","v":""},{"$f":"IF(ISBLANK('DE01-F12'!S1072),\"\",('DE01-F12'!S1072))","v":0}]
[{"$f":"IF(ISBLANK('DE01-F12'!N1073),\"\",('DE01-F12'!N1073))","v":""},{"$f":"MID('DE01-F12'!G1073,1,18)","v":""},{"$f":"IF(ISBLANK('DE01-F12'!P1073),\"\",('DE01-F12'!P1073))","v":""},{"$f":"IF(ISBLANK('DE01-F12'!Q1073),\"\",('DE01-F12'!Q1073))","v":""},{"$f":"IF(ISBLANK('DE01-F12'!S1073),\"\",('DE01-F12'!S1073))","v":0}]
[{"$f":"IF(ISBLANK('DE01-F12'!N1074),\"\",('DE01-F12'!N1074))","v":""},{"$f":"MID('DE01-F12'!G1074,1,18)","v":""},{"$f":"IF(ISBLANK('DE01-F12'!P1074),\"\",('DE01-F12'!P1074))","v":""},{"$f":"IF(ISBLANK('DE01-F12'!Q1074),\"\",('DE01-F12'!Q1074))","v":""},{"$f":"IF(ISBLANK('DE01-F12'!S1074),\"\",('DE01-F12'!S1074))","v":0}]
[{"$f":"IF(ISBLANK('DE01-F12'!N1075),\"\",('DE01-F12'!N1075))","v":""},{"$f":"MID('DE01-F12'!G1075,1,18)","v":""},{"$f":"IF(ISBLANK('DE01-F12'!P1075),\"\",('DE01-F12'!P1075))","v":""},{"$f":"IF(ISBLANK('DE01-F12'!Q1075),\"\",('DE01-F12'!Q1075))","v":""},{"$f":"IF(ISBLANK('DE01-F12'!S1075),\"\",('DE01-F12'!S1075))","v":0}]
[{"$f":"IF(ISBLANK('DE01-F12'!N1076),\"\",('DE01-F12'!N1076))","v":""},{"$f":"MID('DE01-F12'!G1076,1,18)","v":""},{"$f":"IF(ISBLANK('DE01-F12'!P1076),\"\",('DE01-F12'!P1076))","v":""},{"$f":"IF(ISBLANK('DE01-F12'!Q1076),\"\",('DE01-F12'!Q1076))","v":""},{"$f":"IF(ISBLANK('DE01-F12'!S1076),\"\",('DE01-F12'!S1076))","v":0}]
[{"$f":"IF(ISBLANK('DE01-F12'!N1077),\"\",('DE01-F12'!N1077))","v":""},{"$f":"MID('DE01-F12'!G1077,1,18)","v":""},{"$f":"IF(ISBLANK('DE01-F12'!P1077),\"\",('DE01-F12'!P1077))","v":""},{"$f":"IF(ISBLANK('DE01-F12'!Q1077),\"\",('DE01-F12'!Q1077))","v":""},{"$f":"IF(ISBLANK('DE01-F12'!S1077),\"\",('DE01-F12'!S1077))","v":0}]
[{"$f":"IF(ISBLANK('DE01-F12'!N1078),\"\",('DE01-F12'!N1078))","v":""},{"$f":"MID('DE01-F12'!G1078,1,18)","v":""},{"$f":"IF(ISBLANK('DE01-F12'!P1078),\"\",('DE01-F12'!P1078))","v":""},{"$f":"IF(ISBLANK('DE01-F12'!Q1078),\"\",('DE01-F12'!Q1078))","v":""},{"$f":"IF(ISBLANK('DE01-F12'!S1078),\"\",('DE01-F12'!S1078))","v":0}]
[{"$f":"IF(ISBLANK('DE01-F12'!N1079),\"\",('DE01-F12'!N1079))","v":""},{"$f":"MID('DE01-F12'!G1079,1,18)","v":""},{"$f":"IF(ISBLANK('DE01-F12'!P1079),\"\",('DE01-F12'!P1079))","v":""},{"$f":"IF(ISBLANK('DE01-F12'!Q1079),\"\",('DE01-F12'!Q1079))","v":""},{"$f":"IF(ISBLANK('DE01-F12'!S1079),\"\",('DE01-F12'!S1079))","v":0}]
[{"$f":"IF(ISBLANK('DE01-F12'!N1080),\"\",('DE01-F12'!N1080))","v":""},{"$f":"MID('DE01-F12'!G1080,1,18)","v":""},{"$f":"IF(ISBLANK('DE01-F12'!P1080),\"\",('DE01-F12'!P1080))","v":""},{"$f":"IF(ISBLANK('DE01-F12'!Q1080),\"\",('DE01-F12'!Q1080))","v":""},{"$f":"IF(ISBLANK('DE01-F12'!S1080),\"\",('DE01-F12'!S1080))","v":0}]
[{"$f":"IF(ISBLANK('DE01-F12'!N1081),\"\",('DE01-F12'!N1081))","v":""},{"$f":"MID('DE01-F12'!G1081,1,18)","v":""},{"$f":"IF(ISBLANK('DE01-F12'!P1081),\"\",('DE01-F12'!P1081))","v":""},{"$f":"IF(ISBLANK('DE01-F12'!Q1081),\"\",('DE01-F12'!Q1081))","v":""},{"$f":"IF(ISBLANK('DE01-F12'!S1081),\"\",('DE01-F12'!S1081))","v":0}]
[{"$f":"IF(ISBLANK('DE01-F12'!N1082),\"\",('DE01-F12'!N1082))","v":""},{"$f":"MID('DE01-F12'!G1082,1,18)","v":""},{"$f":"IF(ISBLANK('DE01-F12'!P1082),\"\",('DE01-F12'!P1082))","v":""},{"$f":"IF(ISBLANK('DE01-F12'!Q1082),\"\",('DE01-F12'!Q1082))","v":""},{"$f":"IF(ISBLANK('DE01-F12'!S1082),\"\",('DE01-F12'!S1082))","v":0}]
[{"$f":"IF(ISBLANK('DE01-F12'!N1083),\"\",('DE01-F12'!N1083))","v":""},{"$f":"MID('DE01-F12'!G1083,1,18)","v":""},{"$f":"IF(ISBLANK('DE01-F12'!P1083),\"\",('DE01-F12'!P1083))","v":""},{"$f":"IF(ISBLANK('DE01-F12'!Q1083),\"\",('DE01-F12'!Q1083))","v":""},{"$f":"IF(ISBLANK('DE01-F12'!S1083),\"\",('DE01-F12'!S1083))","v":0}]
[{"$f":"IF(ISBLANK('DE01-F12'!N1084),\"\",('DE01-F12'!N1084))","v":""},{"$f":"MID('DE01-F12'!G1084,1,18)","v":""},{"$f":"IF(ISBLANK('DE01-F12'!P1084),\"\",('DE01-F12'!P1084))","v":""},{"$f":"IF(ISBLANK('DE01-F12'!Q1084),\"\",('DE01-F12'!Q1084))","v":""},{"$f":"IF(ISBLANK('DE01-F12'!S1084),\"\",('DE01-F12'!S1084))","v":0}]
[{"$f":"IF(ISBLANK('DE01-F12'!N1085),\"\",('DE01-F12'!N1085))","v":""},{"$f":"MID('DE01-F12'!G1085,1,18)","v":""},{"$f":"IF(ISBLANK('DE01-F12'!P1085),\"\",('DE01-F12'!P1085))","v":""},{"$f":"IF(ISBLANK('DE01-F12'!Q1085),\"\",('DE01-F12'!Q1085))","v":""},{"$f":"IF(ISBLANK('DE01-F12'!S1085),\"\",('DE01-F12'!S1085))","v":0}]
[{"$f":"IF(ISBLANK('DE01-F12'!N1086),\"\",('DE01-F12'!N1086))","v":""},{"$f":"MID('DE01-F12'!G1086,1,18)","v":""},{"$f":"IF(ISBLANK('DE01-F12'!P1086),\"\",('DE01-F12'!P1086))","v":""},{"$f":"IF(ISBLANK('DE01-F12'!Q1086),\"\",('DE01-F12'!Q1086))","v":""},{"$f":"IF(ISBLANK('DE01-F12'!S1086),\"\",('DE01-F12'!S1086))","v":0}]
[{"$f":"IF(ISBLANK('DE01-F12'!N1087),\"\",('DE01-F12'!N1087))","v":""},{"$f":"MID('DE01-F12'!G1087,1,18)","v":""},{"$f":"IF(ISBLANK('DE01-F12'!P1087),\"\",('DE01-F12'!P1087))","v":""},{"$f":"IF(ISBLANK('DE01-F12'!Q1087),\"\",('DE01-F12'!Q1087))","v":""},{"$f":"IF(ISBLANK('DE01-F12'!S1087),\"\",('DE01-F12'!S1087))","v":0}]
[{"$f":"IF(ISBLANK('DE01-F12'!N1088),\"\",('DE01-F12'!N1088))","v":""},{"$f":"MID('DE01-F12'!G1088,1,18)","v":""},{"$f":"IF(ISBLANK('DE01-F12'!P1088),\"\",('DE01-F12'!P1088))","v":""},{"$f":"IF(ISBLANK('DE01-F12'!Q1088),\"\",('DE01-F12'!Q1088))","v":""},{"$f":"IF(ISBLANK('DE01-F12'!S1088),\"\",('DE01-F12'!S1088))","v":0}]
[{"$f":"IF(ISBLANK('DE01-F12'!N1089),\"\",('DE01-F12'!N1089))","v":""},{"$f":"MID('DE01-F12'!G1089,1,18)","v":""},{"$f":"IF(ISBLANK('DE01-F12'!P1089),\"\",('DE01-F12'!P1089))","v":""},{"$f":"IF(ISBLANK('DE01-F12'!Q1089),\"\",('DE01-F12'!Q1089))","v":""},{"$f":"IF(ISBLANK('DE01-F12'!S1089),\"\",('DE01-F12'!S1089))","v":0}]
[{"$f":"IF(ISBLANK('DE01-F12'!N1090),\"\",('DE01-F12'!N1090))","v":""},{"$f":"MID('DE01-F12'!G1090,1,18)","v":""},{"$f":"IF(ISBLANK('DE01-F12'!P1090),\"\",('DE01-F12'!P1090))","v":""},{"$f":"IF(ISBLANK('DE01-F12'!Q1090),\"\",('DE01-F12'!Q1090))","v":""},{"$f":"IF(ISBLANK('DE01-F12'!S1090),\"\",('DE01-F12'!S1090))","v":0}]
[{"$f":"IF(ISBLANK('DE01-F12'!N1091),\"\",('DE01-F12'!N1091))","v":""},{"$f":"MID('DE01-F12'!G1091,1,18)","v":""},{"$f":"IF(ISBLANK('DE01-F12'!P1091),\"\",('DE01-F12'!P1091))","v":""},{"$f":"IF(ISBLANK('DE01-F12'!Q1091),\"\",('DE01-F12'!Q1091))","v":""},{"$f":"IF(ISBLANK('DE01-F12'!S1091),\"\",('DE01-F12'!S1091))","v":0}]
[{"$f":"IF(ISBLANK('DE01-F12'!N1092),\"\",('DE01-F12'!N1092))","v":""},{"$f":"MID('DE01-F12'!G1092,1,18)","v":""},{"$f":"IF(ISBLANK('DE01-F12'!P1092),\"\",('DE01-F12'!P1092))","v":""},{"$f":"IF(ISBLANK('DE01-F12'!Q1092),\"\",('DE01-F12'!Q1092))","v":""},{"$f":"IF(ISBLANK('DE01-F12'!S1092),\"\",('DE01-F12'!S1092))","v":0}]
[{"$f":"IF(ISBLANK('DE01-F12'!N1093),\"\",('DE01-F12'!N1093))","v":""},{"$f":"MID('DE01-F12'!G1093,1,18)","v":""},{"$f":"IF(ISBLANK('DE01-F12'!P1093),\"\",('DE01-F12'!P1093))","v":""},{"$f":"IF(ISBLANK('DE01-F12'!Q1093),\"\",('DE01-F12'!Q1093))","v":""},{"$f":"IF(ISBLANK('DE01-F12'!S1093),\"\",('DE01-F12'!S1093))","v":0}]
[{"$f":"IF(ISBLANK('DE01-F12'!N1094),\"\",('DE01-F12'!N1094))","v":""},{"$f":"MID('DE01-F12'!G1094,1,18)","v":""},{"$f":"IF(ISBLANK('DE01-F12'!P1094),\"\",('DE01-F12'!P1094))","v":""},{"$f":"IF(ISBLANK('DE01-F12'!Q1094),\"\",('DE01-F12'!Q1094))","v":""},{"$f":"IF(ISBLANK('DE01-F12'!S1094),\"\",('DE01-F12'!S1094))","v":0}]
[{"$f":"IF(ISBLANK('DE01-F12'!N1095),\"\",('DE01-F12'!N1095))","v":""},{"$f":"MID('DE01-F12'!G1095,1,18)","v":""},{"$f":"IF(ISBLANK('DE01-F12'!P1095),\"\",('DE01-F12'!P1095))","v":""},{"$f":"IF(ISBLANK('DE01-F12'!Q1095),\"\",('DE01-F12'!Q1095))","v":""},{"$f":"IF(ISBLANK('DE01-F12'!S1095),\"\",('DE01-F12'!S1095))","v":0}]
[{"$f":"IF(ISBLANK('DE01-F12'!N1096),\"\",('DE01-F12'!N1096))","v":""},{"$f":"MID('DE01-F12'!G1096,1,18)","v":""},{"$f":"IF(ISBLANK('DE01-F12'!P1096),\"\",('DE01-F12'!P1096))","v":""},{"$f":"IF(ISBLANK('DE01-F12'!Q1096),\"\",('DE01-F12'!Q1096))","v":""},{"$f":"IF(ISBLANK('DE01-F12'!S1096),\"\",('DE01-F12'!S1096))","v":0}]
[{"$f":"IF(ISBLANK('DE01-F12'!N1097),\"\",('DE01-F12'!N1097))","v":""},{"$f":"MID('DE01-F12'!G1097,1,18)","v":""},{"$f":"IF(ISBLANK('DE01-F12'!P1097),\"\",('DE01-F12'!P1097))","v":""},{"$f":"IF(ISBLANK('DE01-F12'!Q1097),\"\",('DE01-F12'!Q1097))","v":""},{"$f":"IF(ISBLANK('DE01-F12'!S1097),\"\",('DE01-F12'!S1097))","v":0}]
[{"$f":"IF(ISBLANK('DE01-F12'!N1098),\"\",('DE01-F12'!N1098))","v":""},{"$f":"MID('DE01-F12'!G1098,1,18)","v":""},{"$f":"IF(ISBLANK('DE01-F12'!P1098),\"\",('DE01-F12'!P1098))","v":""},{"$f":"IF(ISBLANK('DE01-F12'!Q1098),\"\",('DE01-F12'!Q1098))","v":""},{"$f":"IF(ISBLANK('DE01-F12'!S1098),\"\",('DE01-F12'!S1098))","v":0}]
[{"$f":"IF(ISBLANK('DE01-F12'!N1099),\"\",('DE01-F12'!N1099))","v":""},{"$f":"MID('DE01-F12'!G1099,1,18)","v":""},{"$f":"IF(ISBLANK('DE01-F12'!P1099),\"\",('DE01-F12'!P1099))","v":""},{"$f":"IF(ISBLANK('DE01-F12'!Q1099),\"\",('DE01-F12'!Q1099))","v":""},{"$f":"IF(ISBLANK('DE01-F12'!S1099),\"\",('DE01-F12'!S1099))","v":0}]
[{"$f":"IF(ISBLANK('DE01-F12'!N1100),\"\",('DE01-F12'!N1100))","v":""},{"$f":"MID('DE01-F12'!G1100,1,18)","v":""},{"$f":"IF(ISBLANK('DE01-F12'!P1100),\"\",('DE01-F12'!P1100))","v":""},{"$f":"IF(ISBLANK('DE01-F12'!Q1100),\"\",('DE01-F12'!Q1100))","v":""},{"$f":"IF(ISBLANK('DE01-F12'!S1100),\"\",('DE01-F12'!S1100))","v":0}]
[{"$f":"IF(ISBLANK('DE01-F12'!N1101),\"\",('DE01-F12'!N1101))","v":""},{"$f":"MID('DE01-F12'!G1101,1,18)","v":""},{"$f":"IF(ISBLANK('DE01-F12'!P1101),\"\",('DE01-F12'!P1101))","v":""},{"$f":"IF(ISBLANK('DE01-F12'!Q1101),\"\",('DE01-F12'!Q1101))","v":""},{"$f":"IF(ISBLANK('DE01-F12'!S1101),\"\",('DE01-F12'!S1101))","v":0}]
[{"$f":"IF(ISBLANK('DE01-F12'!N1102),\"\",('DE01-F12'!N1102))","v":""},{"$f":"MID('DE01-F12'!G1102,1,18)","v":""},{"$f":"IF(ISBLANK('DE01-F12'!P1102),\"\",('DE01-F12'!P1102))","v":""},{"$f":"IF(ISBLANK('DE01-F12'!Q1102),\"\",('DE01-F12'!Q1102))","v":""},{"$f":"IF(ISBLANK('DE01-F12'!S1102),\"\",('DE01-F12'!S1102))","v":0}]
[{"$f":"IF(ISBLANK('DE01-F12'!N1103),\"\",('DE01-F12'!N1103))","v":""},{"$f":"MID('DE01-F12'!G1103,1,18)","v":""},{"$f":"IF(ISBLANK('DE01-F12'!P1103),\"\",('DE01-F12'!P1103))","v":""},{"$f":"IF(ISBLANK('DE01-F12'!Q1103),\"\",('DE01-F12'!Q1103))","v":""},{"$f":"IF(ISBLANK('DE01-F12'!S1103),\"\",('DE01-F12'!S1103))","v":0}]
[{"$f":"IF(ISBLANK('DE01-F12'!N1104),\"\",('DE01-F12'!N1104))","v":""},{"$f":"MID('DE01-F12'!G1104,1,18)","v":""},{"$f":"IF(ISBLANK('DE01-F12'!P1104),\"\",('DE01-F12'!P1104))","v":""},{"$f":"IF(ISBLANK('DE01-F12'!Q1104),\"\",('DE01-F12'!Q1104))","v":""},{"$f":"IF(ISBLANK('DE01-F12'!S1104),\"\",('DE01-F12'!S1104))","v":0}]
[{"$f":"IF(ISBLANK('DE01-F12'!N1105),\"\",('DE01-F12'!N1105))","v":""},{"$f":"MID('DE01-F12'!G1105,1,18)","v":""},{"$f":"IF(ISBLANK('DE01-F12'!P1105),\"\",('DE01-F12'!P1105))","v":""},{"$f":"IF(ISBLANK('DE01-F12'!Q1105),\"\",('DE01-F12'!Q1105))","v":""},{"$f":"IF(ISBLANK('DE01-F12'!S1105),\"\",('DE01-F12'!S1105))","v":0}]
[{"$f":"IF(ISBLANK('DE01-F12'!N1106),\"\",('DE01-F12'!N1106))","v":""},{"$f":"MID('DE01-F12'!G1106,1,18)","v":""},{"$f":"IF(ISBLANK('DE01-F12'!P1106),\"\",('DE01-F12'!P1106))","v":""},{"$f":"IF(ISBLANK('DE01-F12'!Q1106),\"\",('DE01-F12'!Q1106))","v":""},{"$f":"IF(ISBLANK('DE01-F12'!S1106),\"\",('DE01-F12'!S1106))","v":0}]
[{"$f":"IF(ISBLANK('DE01-F12'!N1107),\"\",('DE01-F12'!N1107))","v":""},{"$f":"MID('DE01-F12'!G1107,1,18)","v":""},{"$f":"IF(ISBLANK('DE01-F12'!P1107),\"\",('DE01-F12'!P1107))","v":""},{"$f":"IF(ISBLANK('DE01-F12'!Q1107),\"\",('DE01-F12'!Q1107))","v":""},{"$f":"IF(ISBLANK('DE01-F12'!S1107),\"\",('DE01-F12'!S1107))","v":0}]
[{"$f":"IF(ISBLANK('DE01-F12'!N1108),\"\",('DE01-F12'!N1108))","v":""},{"$f":"MID('DE01-F12'!G1108,1,18)","v":""},{"$f":"IF(ISBLANK('DE01-F12'!P1108),\"\",('DE01-F12'!P1108))","v":""},{"$f":"IF(ISBLANK('DE01-F12'!Q1108),\"\",('DE01-F12'!Q1108))","v":""},{"$f":"IF(ISBLANK('DE01-F12'!S1108),\"\",('DE01-F12'!S1108))","v":0}]
[{"$f":"IF(ISBLANK('DE01-F12'!N1109),\"\",('DE01-F12'!N1109))","v":""},{"$f":"MID('DE01-F12'!G1109,1,18)","v":""},{"$f":"IF(ISBLANK('DE01-F12'!P1109),\"\",('DE01-F12'!P1109))","v":""},{"$f":"IF(ISBLANK('DE01-F12'!Q1109),\"\",('DE01-F12'!Q1109))","v":""},{"$f":"IF(ISBLANK('DE01-F12'!S1109),\"\",('DE01-F12'!S1109))","v":0}]
[{"$f":"IF(ISBLANK('DE01-F12'!N1110),\"\",('DE01-F12'!N1110))","v":""},{"$f":"MID('DE01-F12'!G1110,1,18)","v":""},{"$f":"IF(ISBLANK('DE01-F12'!P1110),\"\",('DE01-F12'!P1110))","v":""},{"$f":"IF(ISBLANK('DE01-F12'!Q1110),\"\",('DE01-F12'!Q1110))","v":""},{"$f":"IF(ISBLANK('DE01-F12'!S1110),\"\",('DE01-F12'!S1110))","v":0}]
[{"$f":"IF(ISBLANK('DE01-F12'!N1111),\"\",('DE01-F12'!N1111))","v":""},{"$f":"MID('DE01-F12'!G1111,1,18)","v":""},{"$f":"IF(ISBLANK('DE01-F12'!P1111),\"\",('DE01-F12'!P1111))","v":""},{"$f":"IF(ISBLANK('DE01-F12'!Q1111),\"\",('DE01-F12'!Q1111))","v":""},{"$f":"IF(ISBLANK('DE01-F12'!S1111),\"\",('DE01-F12'!S1111))","v":0}]
[{"$f":"IF(ISBLANK('DE01-F12'!N1112),\"\",('DE01-F12'!N1112))","v":""},{"$f":"MID('DE01-F12'!G1112,1,18)","v":""},{"$f":"IF(ISBLANK('DE01-F12'!P1112),\"\",('DE01-F12'!P1112))","v":""},{"$f":"IF(ISBLANK('DE01-F12'!Q1112),\"\",('DE01-F12'!Q1112))","v":""},{"$f":"IF(ISBLANK('DE01-F12'!S1112),\"\",('DE01-F12'!S1112))","v":0}]
[{"$f":"IF(ISBLANK('DE01-F12'!N1113),\"\",('DE01-F12'!N1113))","v":""},{"$f":"MID('DE01-F12'!G1113,1,18)","v":""},{"$f":"IF(ISBLANK('DE01-F12'!P1113),\"\",('DE01-F12'!P1113))","v":""},{"$f":"IF(ISBLANK('DE01-F12'!Q1113),\"\",('DE01-F12'!Q1113))","v":""},{"$f":"IF(ISBLANK('DE01-F12'!S1113),\"\",('DE01-F12'!S1113))","v":0}]
[{"$f":"IF(ISBLANK('DE01-F12'!N1114),\"\",('DE01-F12'!N1114))","v":""},{"$f":"MID('DE01-F12'!G1114,1,18)","v":""},{"$f":"IF(ISBLANK('DE01-F12'!P1114),\"\",('DE01-F12'!P1114))","v":""},{"$f":"IF(ISBLANK('DE01-F12'!Q1114),\"\",('DE01-F12'!Q1114))","v":""},{"$f":"IF(ISBLANK('DE01-F12'!S1114),\"\",('DE01-F12'!S1114))","v":0}]
[{"$f":"IF(ISBLANK('DE01-F12'!N1115),\"\",('DE01-F12'!N1115))","v":""},{"$f":"MID('DE01-F12'!G1115,1,18)","v":""},{"$f":"IF(ISBLANK('DE01-F12'!P1115),\"\",('DE01-F12'!P1115))","v":""},{"$f":"IF(ISBLANK('DE01-F12'!Q1115),\"\",('DE01-F12'!Q1115))","v":""},{"$f":"IF(ISBLANK('DE01-F12'!S1115),\"\",('DE01-F12'!S1115))","v":0}]
[{"$f":"IF(ISBLANK('DE01-F12'!N1116),\"\",('DE01-F12'!N1116))","v":""},{"$f":"MID('DE01-F12'!G1116,1,18)","v":""},{"$f":"IF(ISBLANK('DE01-F12'!P1116),\"\",('DE01-F12'!P1116))","v":""},{"$f":"IF(ISBLANK('DE01-F12'!Q1116),\"\",('DE01-F12'!Q1116))","v":""},{"$f":"IF(ISBLANK('DE01-F12'!S1116),\"\",('DE01-F12'!S1116))","v":0}]
[{"$f":"IF(ISBLANK('DE01-F12'!N1117),\"\",('DE01-F12'!N1117))","v":""},{"$f":"MID('DE01-F12'!G1117,1,18)","v":""},{"$f":"IF(ISBLANK('DE01-F12'!P1117),\"\",('DE01-F12'!P1117))","v":""},{"$f":"IF(ISBLANK('DE01-F12'!Q1117),\"\",('DE01-F12'!Q1117))","v":""},{"$f":"IF(ISBLANK('DE01-F12'!S1117),\"\",('DE01-F12'!S1117))","v":0}]
[{"$f":"IF(ISBLANK('DE01-F12'!N1118),\"\",('DE01-F12'!N1118))","v":""},{"$f":"MID('DE01-F12'!G1118,1,18)","v":""},{"$f":"IF(ISBLANK('DE01-F12'!P1118),\"\",('DE01-F12'!P1118))","v":""},{"$f":"IF(ISBLANK('DE01-F12'!Q1118),\"\",('DE01-F12'!Q1118))","v":""},{"$f":"IF(ISBLANK('DE01-F12'!S1118),\"\",('DE01-F12'!S1118))","v":0}]
[{"$f":"IF(ISBLANK('DE01-F12'!N1119),\"\",('DE01-F12'!N1119))","v":""},{"$f":"MID('DE01-F12'!G1119,1,18)","v":""},{"$f":"IF(ISBLANK('DE01-F12'!P1119),\"\",('DE01-F12'!P1119))","v":""},{"$f":"IF(ISBLANK('DE01-F12'!Q1119),\"\",('DE01-F12'!Q1119))","v":""},{"$f":"IF(ISBLANK('DE01-F12'!S1119),\"\",('DE01-F12'!S1119))","v":0}]
[{"$f":"IF(ISBLANK('DE01-F12'!N1120),\"\",('DE01-F12'!N1120))","v":""},{"$f":"MID('DE01-F12'!G1120,1,18)","v":""},{"$f":"IF(ISBLANK('DE01-F12'!P1120),\"\",('DE01-F12'!P1120))","v":""},{"$f":"IF(ISBLANK('DE01-F12'!Q1120),\"\",('DE01-F12'!Q1120))","v":""},{"$f":"IF(ISBLANK('DE01-F12'!S1120),\"\",('DE01-F12'!S1120))","v":0}]
[{"$f":"IF(ISBLANK('DE01-F12'!N1121),\"\",('DE01-F12'!N1121))","v":""},{"$f":"MID('DE01-F12'!G1121,1,18)","v":""},{"$f":"IF(ISBLANK('DE01-F12'!P1121),\"\",('DE01-F12'!P1121))","v":""},{"$f":"IF(ISBLANK('DE01-F12'!Q1121),\"\",('DE01-F12'!Q1121))","v":""},{"$f":"IF(ISBLANK('DE01-F12'!S1121),\"\",('DE01-F12'!S1121))","v":0}]
[{"$f":"IF(ISBLANK('DE01-F12'!N1122),\"\",('DE01-F12'!N1122))","v":""},{"$f":"MID('DE01-F12'!G1122,1,18)","v":""},{"$f":"IF(ISBLANK('DE01-F12'!P1122),\"\",('DE01-F12'!P1122))","v":""},{"$f":"IF(ISBLANK('DE01-F12'!Q1122),\"\",('DE01-F12'!Q1122))","v":""},{"$f":"IF(ISBLANK('DE01-F12'!S1122),\"\",('DE01-F12'!S1122))","v":0}]
[{"$f":"IF(ISBLANK('DE01-F12'!N1123),\"\",('DE01-F12'!N1123))","v":""},{"$f":"MID('DE01-F12'!G1123,1,18)","v":""},{"$f":"IF(ISBLANK('DE01-F12'!P1123),\"\",('DE01-F12'!P1123))","v":""},{"$f":"IF(ISBLANK('DE01-F12'!Q1123),\"\",('DE01-F12'!Q1123))","v":""},{"$f":"IF(ISBLANK('DE01-F12'!S1123),\"\",('DE01-F12'!S1123))","v":0}]
[{"$f":"IF(ISBLANK('DE01-F12'!N1124),\"\",('DE01-F12'!N1124))","v":""},{"$f":"MID('DE01-F12'!G1124,1,18)","v":""},{"$f":"IF(ISBLANK('DE01-F12'!P1124),\"\",('DE01-F12'!P1124))","v":""},{"$f":"IF(ISBLANK('DE01-F12'!Q1124),\"\",('DE01-F12'!Q1124))","v":""},{"$f":"IF(ISBLANK('DE01-F12'!S1124),\"\",('DE01-F12'!S1124))","v":0}]
[{"$f":"IF(ISBLANK('DE01-F12'!N1125),\"\",('DE01-F12'!N1125))","v":""},{"$f":"MID('DE01-F12'!G1125,1,18)","v":""},{"$f":"IF(ISBLANK('DE01-F12'!P1125),\"\",('DE01-F12'!P1125))","v":""},{"$f":"IF(ISBLANK('DE01-F12'!Q1125),\"\",('DE01-F12'!Q1125))","v":""},{"$f":"IF(ISBLANK('DE01-F12'!S1125),\"\",('DE01-F12'!S1125))","v":0}]
[{"$f":"IF(ISBLANK('DE01-F12'!N1126),\"\",('DE01-F12'!N1126))","v":""},{"$f":"MID('DE01-F12'!G1126,1,18)","v":""},{"$f":"IF(ISBLANK('DE01-F12'!P1126),\"\",('DE01-F12'!P1126))","v":""},{"$f":"IF(ISBLANK('DE01-F12'!Q1126),\"\",('DE01-F12'!Q1126))","v":""},{"$f":"IF(ISBLANK('DE01-F12'!S1126),\"\",('DE01-F12'!S1126))","v":0}]
[{"$f":"IF(ISBLANK('DE01-F12'!N1127),\"\",('DE01-F12'!N1127))","v":""},{"$f":"MID('DE01-F12'!G1127,1,18)","v":""},{"$f":"IF(ISBLANK('DE01-F12'!P1127),\"\",('DE01-F12'!P1127))","v":""},{"$f":"IF(ISBLANK('DE01-F12'!Q1127),\"\",('DE01-F12'!Q1127))","v":""},{"$f":"IF(ISBLANK('DE01-F12'!S1127),\"\",('DE01-F12'!S1127))","v":0}]
[{"$f":"IF(ISBLANK('DE01-F12'!N1128),\"\",('DE01-F12'!N1128))","v":""},{"$f":"MID('DE01-F12'!G1128,1,18)","v":""},{"$f":"IF(ISBLANK('DE01-F12'!P1128),\"\",('DE01-F12'!P1128))","v":""},{"$f":"IF(ISBLANK('DE01-F12'!Q1128),\"\",('DE01-F12'!Q1128))","v":""},{"$f":"IF(ISBLANK('DE01-F12'!S1128),\"\",('DE01-F12'!S1128))","v":0}]
[{"$f":"IF(ISBLANK('DE01-F12'!N1129),\"\",('DE01-F12'!N1129))","v":""},{"$f":"MID('DE01-F12'!G1129,1,18)","v":""},{"$f":"IF(ISBLANK('DE01-F12'!P1129),\"\",('DE01-F12'!P1129))","v":""},{"$f":"IF(ISBLANK('DE01-F12'!Q1129),\"\",('DE01-F12'!Q1129))","v":""},{"$f":"IF(ISBLANK('DE01-F12'!S1129),\"\",('DE01-F12'!S1129))","v":0}]
[{"$f":"IF(ISBLANK('DE01-F12'!N1130),\"\",('DE01-F12'!N1130))","v":""},{"$f":"MID('DE01-F12'!G1130,1,18)","v":""},{"$f":"IF(ISBLANK('DE01-F12'!P1130),\"\",('DE01-F12'!P1130))","v":""},{"$f":"IF(ISBLANK('DE01-F12'!Q1130),\"\",('DE01-F12'!Q1130))","v":""},{"$f":"IF(ISBLANK('DE01-F12'!S1130),\"\",('DE01-F12'!S1130))","v":0}]
[{"$f":"IF(ISBLANK('DE01-F12'!N1131),\"\",('DE01-F12'!N1131))","v":""},{"$f":"MID('DE01-F12'!G1131,1,18)","v":""},{"$f":"IF(ISBLANK('DE01-F12'!P1131),\"\",('DE01-F12'!P1131))","v":""},{"$f":"IF(ISBLANK('DE01-F12'!Q1131),\"\",('DE01-F12'!Q1131))","v":""},{"$f":"IF(ISBLANK('DE01-F12'!S1131),\"\",('DE01-F12'!S1131))","v":0}]
[{"$f":"IF(ISBLANK('DE01-F12'!N1132),\"\",('DE01-F12'!N1132))","v":""},{"$f":"MID('DE01-F12'!G1132,1,18)","v":""},{"$f":"IF(ISBLANK('DE01-F12'!P1132),\"\",('DE01-F12'!P1132))","v":""},{"$f":"IF(ISBLANK('DE01-F12'!Q1132),\"\",('DE01-F12'!Q1132))","v":""},{"$f":"IF(ISBLANK('DE01-F12'!S1132),\"\",('DE01-F12'!S1132))","v":0}]
[{"$f":"IF(ISBLANK('DE01-F12'!N1133),\"\",('DE01-F12'!N1133))","v":""},{"$f":"MID('DE01-F12'!G1133,1,18)","v":""},{"$f":"IF(ISBLANK('DE01-F12'!P1133),\"\",('DE01-F12'!P1133))","v":""},{"$f":"IF(ISBLANK('DE01-F12'!Q1133),\"\",('DE01-F12'!Q1133))","v":""},{"$f":"IF(ISBLANK('DE01-F12'!S1133),\"\",('DE01-F12'!S1133))","v":0}]
[{"$f":"IF(ISBLANK('DE01-F12'!N1134),\"\",('DE01-F12'!N1134))","v":""},{"$f":"MID('DE01-F12'!G1134,1,18)","v":""},{"$f":"IF(ISBLANK('DE01-F12'!P1134),\"\",('DE01-F12'!P1134))","v":""},{"$f":"IF(ISBLANK('DE01-F12'!Q1134),\"\",('DE01-F12'!Q1134))","v":""},{"$f":"IF(ISBLANK('DE01-F12'!S1134),\"\",('DE01-F12'!S1134))","v":0}]
[{"$f":"IF(ISBLANK('DE01-F12'!N1135),\"\",('DE01-F12'!N1135))","v":""},{"$f":"MID('DE01-F12'!G1135,1,18)","v":""},{"$f":"IF(ISBLANK('DE01-F12'!P1135),\"\",('DE01-F12'!P1135))","v":""},{"$f":"IF(ISBLANK('DE01-F12'!Q1135),\"\",('DE01-F12'!Q1135))","v":""},{"$f":"IF(ISBLANK('DE01-F12'!S1135),\"\",('DE01-F12'!S1135))","v":0}]
[{"$f":"IF(ISBLANK('DE01-F12'!N1136),\"\",('DE01-F12'!N1136))","v":""},{"$f":"MID('DE01-F12'!G1136,1,18)","v":""},{"$f":"IF(ISBLANK('DE01-F12'!P1136),\"\",('DE01-F12'!P1136))","v":""},{"$f":"IF(ISBLANK('DE01-F12'!Q1136),\"\",('DE01-F12'!Q1136))","v":""},{"$f":"IF(ISBLANK('DE01-F12'!S1136),\"\",('DE01-F12'!S1136))","v":0}]
[{"$f":"IF(ISBLANK('DE01-F12'!N1137),\"\",('DE01-F12'!N1137))","v":""},{"$f":"MID('DE01-F12'!G1137,1,18)","v":""},{"$f":"IF(ISBLANK('DE01-F12'!P1137),\"\",('DE01-F12'!P1137))","v":""},{"$f":"IF(ISBLANK('DE01-F12'!Q1137),\"\",('DE01-F12'!Q1137))","v":""},{"$f":"IF(ISBLANK('DE01-F12'!S1137),\"\",('DE01-F12'!S1137))","v":0}]
[{"$f":"IF(ISBLANK('DE01-F12'!N1138),\"\",('DE01-F12'!N1138))","v":""},{"$f":"MID('DE01-F12'!G1138,1,18)","v":""},{"$f":"IF(ISBLANK('DE01-F12'!P1138),\"\",('DE01-F12'!P1138))","v":""},{"$f":"IF(ISBLANK('DE01-F12'!Q1138),\"\",('DE01-F12'!Q1138))","v":""},{"$f":"IF(ISBLANK('DE01-F12'!S1138),\"\",('DE01-F12'!S1138))","v":0}]
[{"$f":"IF(ISBLANK('DE01-F12'!N1139),\"\",('DE01-F12'!N1139))","v":""},{"$f":"MID('DE01-F12'!G1139,1,18)","v":""},{"$f":"IF(ISBLANK('DE01-F12'!P1139),\"\",('DE01-F12'!P1139))","v":""},{"$f":"IF(ISBLANK('DE01-F12'!Q1139),\"\",('DE01-F12'!Q1139))","v":""},{"$f":"IF(ISBLANK('DE01-F12'!S1139),\"\",('DE01-F12'!S1139))","v":0}]
[{"$f":"IF(ISBLANK('DE01-F12'!N1140),\"\",('DE01-F12'!N1140))","v":""},{"$f":"MID('DE01-F12'!G1140,1,18)","v":""},{"$f":"IF(ISBLANK('DE01-F12'!P1140),\"\",('DE01-F12'!P1140))","v":""},{"$f":"IF(ISBLANK('DE01-F12'!Q1140),\"\",('DE01-F12'!Q1140))","v":""},{"$f":"IF(ISBLANK('DE01-F12'!S1140),\"\",('DE01-F12'!S1140))","v":0}]
[{"$f":"IF(ISBLANK('DE01-F12'!N1141),\"\",('DE01-F12'!N1141))","v":""},{"$f":"MID('DE01-F12'!G1141,1,18)","v":""},{"$f":"IF(ISBLANK('DE01-F12'!P1141),\"\",('DE01-F12'!P1141))","v":""},{"$f":"IF(ISBLANK('DE01-F12'!Q1141),\"\",('DE01-F12'!Q1141))","v":""},{"$f":"IF(ISBLANK('DE01-F12'!S1141),\"\",('DE01-F12'!S1141))","v":0}]
[{"$f":"IF(ISBLANK('DE01-F12'!N1142),\"\",('DE01-F12'!N1142))","v":""},{"$f":"MID('DE01-F12'!G1142,1,18)","v":""},{"$f":"IF(ISBLANK('DE01-F12'!P1142),\"\",('DE01-F12'!P1142))","v":""},{"$f":"IF(ISBLANK('DE01-F12'!Q1142),\"\",('DE01-F12'!Q1142))","v":""},{"$f":"IF(ISBLANK('DE01-F12'!S1142),\"\",('DE01-F12'!S1142))","v":0}]
[{"$f":"IF(ISBLANK('DE01-F12'!N1143),\"\",('DE01-F12'!N1143))","v":""},{"$f":"MID('DE01-F12'!G1143,1,18)","v":""},{"$f":"IF(ISBLANK('DE01-F12'!P1143),\"\",('DE01-F12'!P1143))","v":""},{"$f":"IF(ISBLANK('DE01-F12'!Q1143),\"\",('DE01-F12'!Q1143))","v":""},{"$f":"IF(ISBLANK('DE01-F12'!S1143),\"\",('DE01-F12'!S1143))","v":0}]
[{"$f":"IF(ISBLANK('DE01-F12'!N1144),\"\",('DE01-F12'!N1144))","v":""},{"$f":"MID('DE01-F12'!G1144,1,18)","v":""},{"$f":"IF(ISBLANK('DE01-F12'!P1144),\"\",('DE01-F12'!P1144))","v":""},{"$f":"IF(ISBLANK('DE01-F12'!Q1144),\"\",('DE01-F12'!Q1144))","v":""},{"$f":"IF(ISBLANK('DE01-F12'!S1144),\"\",('DE01-F12'!S1144))","v":0}]
[{"$f":"IF(ISBLANK('DE01-F12'!N1145),\"\",('DE01-F12'!N1145))","v":""},{"$f":"MID('DE01-F12'!G1145,1,18)","v":""},{"$f":"IF(ISBLANK('DE01-F12'!P1145),\"\",('DE01-F12'!P1145))","v":""},{"$f":"IF(ISBLANK('DE01-F12'!Q1145),\"\",('DE01-F12'!Q1145))","v":""},{"$f":"IF(ISBLANK('DE01-F12'!S1145),\"\",('DE01-F12'!S1145))","v":0}]
[{"$f":"IF(ISBLANK('DE01-F12'!N1146),\"\",('DE01-F12'!N1146))","v":""},{"$f":"MID('DE01-F12'!G1146,1,18)","v":""},{"$f":"IF(ISBLANK('DE01-F12'!P1146),\"\",('DE01-F12'!P1146))","v":""},{"$f":"IF(ISBLANK('DE01-F12'!Q1146),\"\",('DE01-F12'!Q1146))","v":""},{"$f":"IF(ISBLANK('DE01-F12'!S1146),\"\",('DE01-F12'!S1146))","v":0}]
[{"$f":"IF(ISBLANK('DE01-F12'!N1147),\"\",('DE01-F12'!N1147))","v":""},{"$f":"MID('DE01-F12'!G1147,1,18)","v":""},{"$f":"IF(ISBLANK('DE01-F12'!P1147),\"\",('DE01-F12'!P1147))","v":""},{"$f":"IF(ISBLANK('DE01-F12'!Q1147),\"\",('DE01-F12'!Q1147))","v":""},{"$f":"IF(ISBLANK('DE01-F12'!S1147),\"\",('DE01-F12'!S1147))","v":0}]
[{"$f":"IF(ISBLANK('DE01-F12'!N1148),\"\",('DE01-F12'!N1148))","v":""},{"$f":"MID('DE01-F12'!G1148,1,18)","v":""},{"$f":"IF(ISBLANK('DE01-F12'!P1148),\"\",('DE01-F12'!P1148))","v":""},{"$f":"IF(ISBLANK('DE01-F12'!Q1148),\"\",('DE01-F12'!Q1148))","v":""},{"$f":"IF(ISBLANK('DE01-F12'!S1148),\"\",('DE01-F12'!S1148))","v":0}]
[{"$f":"IF(ISBLANK('DE01-F12'!N1149),\"\",('DE01-F12'!N1149))","v":""},{"$f":"MID('DE01-F12'!G1149,1,18)","v":""},{"$f":"IF(ISBLANK('DE01-F12'!P1149),\"\",('DE01-F12'!P1149))","v":""},{"$f":"IF(ISBLANK('DE01-F12'!Q1149),\"\",('DE01-F12'!Q1149))","v":""},{"$f":"IF(ISBLANK('DE01-F12'!S1149),\"\",('DE01-F12'!S1149))","v":0}]
[{"$f":"IF(ISBLANK('DE01-F12'!N1150),\"\",('DE01-F12'!N1150))","v":""},{"$f":"MID('DE01-F12'!G1150,1,18)","v":""},{"$f":"IF(ISBLANK('DE01-F12'!P1150),\"\",('DE01-F12'!P1150))","v":""},{"$f":"IF(ISBLANK('DE01-F12'!Q1150),\"\",('DE01-F12'!Q1150))","v":""},{"$f":"IF(ISBLANK('DE01-F12'!S1150),\"\",('DE01-F12'!S1150))","v":0}]
[{"$f":"IF(ISBLANK('DE01-F12'!N1151),\"\",('DE01-F12'!N1151))","v":""},{"$f":"MID('DE01-F12'!G1151,1,18)","v":""},{"$f":"IF(ISBLANK('DE01-F12'!P1151),\"\",('DE01-F12'!P1151))","v":""},{"$f":"IF(ISBLANK('DE01-F12'!Q1151),\"\",('DE01-F12'!Q1151))","v":""},{"$f":"IF(ISBLANK('DE01-F12'!S1151),\"\",('DE01-F12'!S1151))","v":0}]
[{"$f":"IF(ISBLANK('DE01-F12'!N1152),\"\",('DE01-F12'!N1152))","v":""},{"$f":"MID('DE01-F12'!G1152,1,18)","v":""},{"$f":"IF(ISBLANK('DE01-F12'!P1152),\"\",('DE01-F12'!P1152))","v":""},{"$f":"IF(ISBLANK('DE01-F12'!Q1152),\"\",('DE01-F12'!Q1152))","v":""},{"$f":"IF(ISBLANK('DE01-F12'!S1152),\"\",('DE01-F12'!S1152))","v":0}]
[{"$f":"IF(ISBLANK('DE01-F12'!N1153),\"\",('DE01-F12'!N1153))","v":""},{"$f":"MID('DE01-F12'!G1153,1,18)","v":""},{"$f":"IF(ISBLANK('DE01-F12'!P1153),\"\",('DE01-F12'!P1153))","v":""},{"$f":"IF(ISBLANK('DE01-F12'!Q1153),\"\",('DE01-F12'!Q1153))","v":""},{"$f":"IF(ISBLANK('DE01-F12'!S1153),\"\",('DE01-F12'!S1153))","v":0}]
[{"$f":"IF(ISBLANK('DE01-F12'!N1154),\"\",('DE01-F12'!N1154))","v":""},{"$f":"MID('DE01-F12'!G1154,1,18)","v":""},{"$f":"IF(ISBLANK('DE01-F12'!P1154),\"\",('DE01-F12'!P1154))","v":""},{"$f":"IF(ISBLANK('DE01-F12'!Q1154),\"\",('DE01-F12'!Q1154))","v":""},{"$f":"IF(ISBLANK('DE01-F12'!S1154),\"\",('DE01-F12'!S1154))","v":0}]
[{"$f":"IF(ISBLANK('DE01-F12'!N1155),\"\",('DE01-F12'!N1155))","v":""},{"$f":"MID('DE01-F12'!G1155,1,18)","v":""},{"$f":"IF(ISBLANK('DE01-F12'!P1155),\"\",('DE01-F12'!P1155))","v":""},{"$f":"IF(ISBLANK('DE01-F12'!Q1155),\"\",('DE01-F12'!Q1155))","v":""},{"$f":"IF(ISBLANK('DE01-F12'!S1155),\"\",('DE01-F12'!S1155))","v":0}]
[{"$f":"IF(ISBLANK('DE01-F12'!N1156),\"\",('DE01-F12'!N1156))","v":""},{"$f":"MID('DE01-F12'!G1156,1,18)","v":""},{"$f":"IF(ISBLANK('DE01-F12'!P1156),\"\",('DE01-F12'!P1156))","v":""},{"$f":"IF(ISBLANK('DE01-F12'!Q1156),\"\",('DE01-F12'!Q1156))","v":""},{"$f":"IF(ISBLANK('DE01-F12'!S1156),\"\",('DE01-F12'!S1156))","v":0}]
[{"$f":"IF(ISBLANK('DE01-F12'!N1157),\"\",('DE01-F12'!N1157))","v":""},{"$f":"MID('DE01-F12'!G1157,1,18)","v":""},{"$f":"IF(ISBLANK('DE01-F12'!P1157),\"\",('DE01-F12'!P1157))","v":""},{"$f":"IF(ISBLANK('DE01-F12'!Q1157),\"\",('DE01-F12'!Q1157))","v":""},{"$f":"IF(ISBLANK('DE01-F12'!S1157),\"\",('DE01-F12'!S1157))","v":0}]
[{"$f":"IF(ISBLANK('DE01-F12'!N1158),\"\",('DE01-F12'!N1158))","v":""},{"$f":"MID('DE01-F12'!G1158,1,18)","v":""},{"$f":"IF(ISBLANK('DE01-F12'!P1158),\"\",('DE01-F12'!P1158))","v":""},{"$f":"IF(ISBLANK('DE01-F12'!Q1158),\"\",('DE01-F12'!Q1158))","v":""},{"$f":"IF(ISBLANK('DE01-F12'!S1158),\"\",('DE01-F12'!S1158))","v":0}]
[{"$f":"IF(ISBLANK('DE01-F12'!N1159),\"\",('DE01-F12'!N1159))","v":""},{"$f":"MID('DE01-F12'!G1159,1,18)","v":""},{"$f":"IF(ISBLANK('DE01-F12'!P1159),\"\",('DE01-F12'!P1159))","v":""},{"$f":"IF(ISBLANK('DE01-F12'!Q1159),\"\",('DE01-F12'!Q1159))","v":""},{"$f":"IF(ISBLANK('DE01-F12'!S1159),\"\",('DE01-F12'!S1159))","v":0}]
[{"$f":"IF(ISBLANK('DE01-F12'!N1160),\"\",('DE01-F12'!N1160))","v":""},{"$f":"MID('DE01-F12'!G1160,1,18)","v":""},{"$f":"IF(ISBLANK('DE01-F12'!P1160),\"\",('DE01-F12'!P1160))","v":""},{"$f":"IF(ISBLANK('DE01-F12'!Q1160),\"\",('DE01-F12'!Q1160))","v":""},{"$f":"IF(ISBLANK('DE01-F12'!S1160),\"\",('DE01-F12'!S1160))","v":0}]
[{"$f":"IF(ISBLANK('DE01-F12'!N1161),\"\",('DE01-F12'!N1161))","v":""},{"$f":"MID('DE01-F12'!G1161,1,18)","v":""},{"$f":"IF(ISBLANK('DE01-F12'!P1161),\"\",('DE01-F12'!P1161))","v":""},{"$f":"IF(ISBLANK('DE01-F12'!Q1161),\"\",('DE01-F12'!Q1161))","v":""},{"$f":"IF(ISBLANK('DE01-F12'!S1161),\"\",('DE01-F12'!S1161))","v":0}]
[{"$f":"IF(ISBLANK('DE01-F12'!N1162),\"\",('DE01-F12'!N1162))","v":""},{"$f":"MID('DE01-F12'!G1162,1,18)","v":""},{"$f":"IF(ISBLANK('DE01-F12'!P1162),\"\",('DE01-F12'!P1162))","v":""},{"$f":"IF(ISBLANK('DE01-F12'!Q1162),\"\",('DE01-F12'!Q1162))","v":""},{"$f":"IF(ISBLANK('DE01-F12'!S1162),\"\",('DE01-F12'!S1162))","v":0}]
[{"$f":"IF(ISBLANK('DE01-F12'!N1163),\"\",('DE01-F12'!N1163))","v":""},{"$f":"MID('DE01-F12'!G1163,1,18)","v":""},{"$f":"IF(ISBLANK('DE01-F12'!P1163),\"\",('DE01-F12'!P1163))","v":""},{"$f":"IF(ISBLANK('DE01-F12'!Q1163),\"\",('DE01-F12'!Q1163))","v":""},{"$f":"IF(ISBLANK('DE01-F12'!S1163),\"\",('DE01-F12'!S1163))","v":0}]
[{"$f":"IF(ISBLANK('DE01-F12'!N1164),\"\",('DE01-F12'!N1164))","v":""},{"$f":"MID('DE01-F12'!G1164,1,18)","v":""},{"$f":"IF(ISBLANK('DE01-F12'!P1164),\"\",('DE01-F12'!P1164))","v":""},{"$f":"IF(ISBLANK('DE01-F12'!Q1164),\"\",('DE01-F12'!Q1164))","v":""},{"$f":"IF(ISBLANK('DE01-F12'!S1164),\"\",('DE01-F12'!S1164))","v":0}]
[{"$f":"IF(ISBLANK('DE01-F12'!N1165),\"\",('DE01-F12'!N1165))","v":""},{"$f":"MID('DE01-F12'!G1165,1,18)","v":""},{"$f":"IF(ISBLANK('DE01-F12'!P1165),\"\",('DE01-F12'!P1165))","v":""},{"$f":"IF(ISBLANK('DE01-F12'!Q1165),\"\",('DE01-F12'!Q1165))","v":""},{"$f":"IF(ISBLANK('DE01-F12'!S1165),\"\",('DE01-F12'!S1165))","v":0}]
[{"$f":"IF(ISBLANK('DE01-F12'!N1166),\"\",('DE01-F12'!N1166))","v":""},{"$f":"MID('DE01-F12'!G1166,1,18)","v":""},{"$f":"IF(ISBLANK('DE01-F12'!P1166),\"\",('DE01-F12'!P1166))","v":""},{"$f":"IF(ISBLANK('DE01-F12'!Q1166),\"\",('DE01-F12'!Q1166))","v":""},{"$f":"IF(ISBLANK('DE01-F12'!S1166),\"\",('DE01-F12'!S1166))","v":0}]
[{"$f":"IF(ISBLANK('DE01-F12'!N1167),\"\",('DE01-F12'!N1167))","v":""},{"$f":"MID('DE01-F12'!G1167,1,18)","v":""},{"$f":"IF(ISBLANK('DE01-F12'!P1167),\"\",('DE01-F12'!P1167))","v":""},{"$f":"IF(ISBLANK('DE01-F12'!Q1167),\"\",('DE01-F12'!Q1167))","v":""},{"$f":"IF(ISBLANK('DE01-F12'!S1167),\"\",('DE01-F12'!S1167))","v":0}]
[{"$f":"IF(ISBLANK('DE01-F12'!N1168),\"\",('DE01-F12'!N1168))","v":""},{"$f":"MID('DE01-F12'!G1168,1,18)","v":""},{"$f":"IF(ISBLANK('DE01-F12'!P1168),\"\",('DE01-F12'!P1168))","v":""},{"$f":"IF(ISBLANK('DE01-F12'!Q1168),\"\",('DE01-F12'!Q1168))","v":""},{"$f":"IF(ISBLANK('DE01-F12'!S1168),\"\",('DE01-F12'!S1168))","v":0}]
[{"$f":"IF(ISBLANK('DE01-F12'!N1169),\"\",('DE01-F12'!N1169))","v":""},{"$f":"MID('DE01-F12'!G1169,1,18)","v":""},{"$f":"IF(ISBLANK('DE01-F12'!P1169),\"\",('DE01-F12'!P1169))","v":""},{"$f":"IF(ISBLANK('DE01-F12'!Q1169),\"\",('DE01-F12'!Q1169))","v":""},{"$f":"IF(ISBLANK('DE01-F12'!S1169),\"\",('DE01-F12'!S1169))","v":0}]
[{"$f":"IF(ISBLANK('DE01-F12'!N1170),\"\",('DE01-F12'!N1170))","v":""},{"$f":"MID('DE01-F12'!G1170,1,18)","v":""},{"$f":"IF(ISBLANK('DE01-F12'!P1170),\"\",('DE01-F12'!P1170))","v":""},{"$f":"IF(ISBLANK('DE01-F12'!Q1170),\"\",('DE01-F12'!Q1170))","v":""},{"$f":"IF(ISBLANK('DE01-F12'!S1170),\"\",('DE01-F12'!S1170))","v":0}]
[{"$f":"IF(ISBLANK('DE01-F12'!N1171),\"\",('DE01-F12'!N1171))","v":""},{"$f":"MID('DE01-F12'!G1171,1,18)","v":""},{"$f":"IF(ISBLANK('DE01-F12'!P1171),\"\",('DE01-F12'!P1171))","v":""},{"$f":"IF(ISBLANK('DE01-F12'!Q1171),\"\",('DE01-F12'!Q1171))","v":""},{"$f":"IF(ISBLANK('DE01-F12'!S1171),\"\",('DE01-F12'!S1171))","v":0}]
[{"$f":"IF(ISBLANK('DE01-F12'!N1172),\"\",('DE01-F12'!N1172))","v":""},{"$f":"MID('DE01-F12'!G1172,1,18)","v":""},{"$f":"IF(ISBLANK('DE01-F12'!P1172),\"\",('DE01-F12'!P1172))","v":""},{"$f":"IF(ISBLANK('DE01-F12'!Q1172),\"\",('DE01-F12'!Q1172))","v":""},{"$f":"IF(ISBLANK('DE01-F12'!S1172),\"\",('DE01-F12'!S1172))","v":0}]
[{"$f":"IF(ISBLANK('DE01-F12'!N1173),\"\",('DE01-F12'!N1173))","v":""},{"$f":"MID('DE01-F12'!G1173,1,18)","v":""},{"$f":"IF(ISBLANK('DE01-F12'!P1173),\"\",('DE01-F12'!P1173))","v":""},{"$f":"IF(ISBLANK('DE01-F12'!Q1173),\"\",('DE01-F12'!Q1173))","v":""},{"$f":"IF(ISBLANK('DE01-F12'!S1173),\"\",('DE01-F12'!S1173))","v":0}]
[{"$f":"IF(ISBLANK('DE01-F12'!N1174),\"\",('DE01-F12'!N1174))","v":""},{"$f":"MID('DE01-F12'!G1174,1,18)","v":""},{"$f":"IF(ISBLANK('DE01-F12'!P1174),\"\",('DE01-F12'!P1174))","v":""},{"$f":"IF(ISBLANK('DE01-F12'!Q1174),\"\",('DE01-F12'!Q1174))","v":""},{"$f":"IF(ISBLANK('DE01-F12'!S1174),\"\",('DE01-F12'!S1174))","v":0}]
[{"$f":"IF(ISBLANK('DE01-F12'!N1175),\"\",('DE01-F12'!N1175))","v":""},{"$f":"MID('DE01-F12'!G1175,1,18)","v":""},{"$f":"IF(ISBLANK('DE01-F12'!P1175),\"\",('DE01-F12'!P1175))","v":""},{"$f":"IF(ISBLANK('DE01-F12'!Q1175),\"\",('DE01-F12'!Q1175))","v":""},{"$f":"IF(ISBLANK('DE01-F12'!S1175),\"\",('DE01-F12'!S1175))","v":0}]
[{"$f":"IF(ISBLANK('DE01-F12'!N1176),\"\",('DE01-F12'!N1176))","v":""},{"$f":"MID('DE01-F12'!G1176,1,18)","v":""},{"$f":"IF(ISBLANK('DE01-F12'!P1176),\"\",('DE01-F12'!P1176))","v":""},{"$f":"IF(ISBLANK('DE01-F12'!Q1176),\"\",('DE01-F12'!Q1176))","v":""},{"$f":"IF(ISBLANK('DE01-F12'!S1176),\"\",('DE01-F12'!S1176))","v":0}]
[{"$f":"IF(ISBLANK('DE01-F12'!N1177),\"\",('DE01-F12'!N1177))","v":""},{"$f":"MID('DE01-F12'!G1177,1,18)","v":""},{"$f":"IF(ISBLANK('DE01-F12'!P1177),\"\",('DE01-F12'!P1177))","v":""},{"$f":"IF(ISBLANK('DE01-F12'!Q1177),\"\",('DE01-F12'!Q1177))","v":""},{"$f":"IF(ISBLANK('DE01-F12'!S1177),\"\",('DE01-F12'!S1177))","v":0}]
[{"$f":"IF(ISBLANK('DE01-F12'!N1178),\"\",('DE01-F12'!N1178))","v":""},{"$f":"MID('DE01-F12'!G1178,1,18)","v":""},{"$f":"IF(ISBLANK('DE01-F12'!P1178),\"\",('DE01-F12'!P1178))","v":""},{"$f":"IF(ISBLANK('DE01-F12'!Q1178),\"\",('DE01-F12'!Q1178))","v":""},{"$f":"IF(ISBLANK('DE01-F12'!S1178),\"\",('DE01-F12'!S1178))","v":0}]
[{"$f":"IF(ISBLANK('DE01-F12'!N1179),\"\",('DE01-F12'!N1179))","v":""},{"$f":"MID('DE01-F12'!G1179,1,18)","v":""},{"$f":"IF(ISBLANK('DE01-F12'!P1179),\"\",('DE01-F12'!P1179))","v":""},{"$f":"IF(ISBLANK('DE01-F12'!Q1179),\"\",('DE01-F12'!Q1179))","v":""},{"$f":"IF(ISBLANK('DE01-F12'!S1179),\"\",('DE01-F12'!S1179))","v":0}]
[{"$f":"IF(ISBLANK('DE01-F12'!N1180),\"\",('DE01-F12'!N1180))","v":""},{"$f":"MID('DE01-F12'!G1180,1,18)","v":""},{"$f":"IF(ISBLANK('DE01-F12'!P1180),\"\",('DE01-F12'!P1180))","v":""},{"$f":"IF(ISBLANK('DE01-F12'!Q1180),\"\",('DE01-F12'!Q1180))","v":""},{"$f":"IF(ISBLANK('DE01-F12'!S1180),\"\",('DE01-F12'!S1180))","v":0}]
[{"$f":"IF(ISBLANK('DE01-F12'!N1181),\"\",('DE01-F12'!N1181))","v":""},{"$f":"MID('DE01-F12'!G1181,1,18)","v":""},{"$f":"IF(ISBLANK('DE01-F12'!P1181),\"\",('DE01-F12'!P1181))","v":""},{"$f":"IF(ISBLANK('DE01-F12'!Q1181),\"\",('DE01-F12'!Q1181))","v":""},{"$f":"IF(ISBLANK('DE01-F12'!S1181),\"\",('DE01-F12'!S1181))","v":0}]
[{"$f":"IF(ISBLANK('DE01-F12'!N1182),\"\",('DE01-F12'!N1182))","v":""},{"$f":"MID('DE01-F12'!G1182,1,18)","v":""},{"$f":"IF(ISBLANK('DE01-F12'!P1182),\"\",('DE01-F12'!P1182))","v":""},{"$f":"IF(ISBLANK('DE01-F12'!Q1182),\"\",('DE01-F12'!Q1182))","v":""},{"$f":"IF(ISBLANK('DE01-F12'!S1182),\"\",('DE01-F12'!S1182))","v":0}]
[{"$f":"IF(ISBLANK('DE01-F12'!N1183),\"\",('DE01-F12'!N1183))","v":""},{"$f":"MID('DE01-F12'!G1183,1,18)","v":""},{"$f":"IF(ISBLANK('DE01-F12'!P1183),\"\",('DE01-F12'!P1183))","v":""},{"$f":"IF(ISBLANK('DE01-F12'!Q1183),\"\",('DE01-F12'!Q1183))","v":""},{"$f":"IF(ISBLANK('DE01-F12'!S1183),\"\",('DE01-F12'!S1183))","v":0}]
[{"$f":"IF(ISBLANK('DE01-F12'!N1184),\"\",('DE01-F12'!N1184))","v":""},{"$f":"MID('DE01-F12'!G1184,1,18)","v":""},{"$f":"IF(ISBLANK('DE01-F12'!P1184),\"\",('DE01-F12'!P1184))","v":""},{"$f":"IF(ISBLANK('DE01-F12'!Q1184),\"\",('DE01-F12'!Q1184))","v":""},{"$f":"IF(ISBLANK('DE01-F12'!S1184),\"\",('DE01-F12'!S1184))","v":0}]
[{"$f":"IF(ISBLANK('DE01-F12'!N1185),\"\",('DE01-F12'!N1185))","v":""},{"$f":"MID('DE01-F12'!G1185,1,18)","v":""},{"$f":"IF(ISBLANK('DE01-F12'!P1185),\"\",('DE01-F12'!P1185))","v":""},{"$f":"IF(ISBLANK('DE01-F12'!Q1185),\"\",('DE01-F12'!Q1185))","v":""},{"$f":"IF(ISBLANK('DE01-F12'!S1185),\"\",('DE01-F12'!S1185))","v":0}]
[{"$f":"IF(ISBLANK('DE01-F12'!N1186),\"\",('DE01-F12'!N1186))","v":""},{"$f":"MID('DE01-F12'!G1186,1,18)","v":""},{"$f":"IF(ISBLANK('DE01-F12'!P1186),\"\",('DE01-F12'!P1186))","v":""},{"$f":"IF(ISBLANK('DE01-F12'!Q1186),\"\",('DE01-F12'!Q1186))","v":""},{"$f":"IF(ISBLANK('DE01-F12'!S1186),\"\",('DE01-F12'!S1186))","v":0}]
[{"$f":"IF(ISBLANK('DE01-F12'!N1187),\"\",('DE01-F12'!N1187))","v":""},{"$f":"MID('DE01-F12'!G1187,1,18)","v":""},{"$f":"IF(ISBLANK('DE01-F12'!P1187),\"\",('DE01-F12'!P1187))","v":""},{"$f":"IF(ISBLANK('DE01-F12'!Q1187),\"\",('DE01-F12'!Q1187))","v":""},{"$f":"IF(ISBLANK('DE01-F12'!S1187),\"\",('DE01-F12'!S1187))","v":0}]
[{"$f":"IF(ISBLANK('DE01-F12'!N1188),\"\",('DE01-F12'!N1188))","v":""},{"$f":"MID('DE01-F12'!G1188,1,18)","v":""},{"$f":"IF(ISBLANK('DE01-F12'!P1188),\"\",('DE01-F12'!P1188))","v":""},{"$f":"IF(ISBLANK('DE01-F12'!Q1188),\"\",('DE01-F12'!Q1188))","v":""},{"$f":"IF(ISBLANK('DE01-F12'!S1188),\"\",('DE01-F12'!S1188))","v":0}]
[{"$f":"IF(ISBLANK('DE01-F12'!N1189),\"\",('DE01-F12'!N1189))","v":""},{"$f":"MID('DE01-F12'!G1189,1,18)","v":""},{"$f":"IF(ISBLANK('DE01-F12'!P1189),\"\",('DE01-F12'!P1189))","v":""},{"$f":"IF(ISBLANK('DE01-F12'!Q1189),\"\",('DE01-F12'!Q1189))","v":""},{"$f":"IF(ISBLANK('DE01-F12'!S1189),\"\",('DE01-F12'!S1189))","v":0}]
[{"$f":"IF(ISBLANK('DE01-F12'!N1190),\"\",('DE01-F12'!N1190))","v":""},{"$f":"MID('DE01-F12'!G1190,1,18)","v":""},{"$f":"IF(ISBLANK('DE01-F12'!P1190),\"\",('DE01-F12'!P1190))","v":""},{"$f":"IF(ISBLANK('DE01-F12'!Q1190),\"\",('DE01-F12'!Q1190))","v":""},{"$f":"IF(ISBLANK('DE01-F12'!S1190),\"\",('DE01-F12'!S1190))","v":0}]
[{"$f":"IF(ISBLANK('DE01-F12'!N1191),\"\",('DE01-F12'!N1191))","v":""},{"$f":"MID('DE01-F12'!G1191,1,18)","v":""},{"$f":"IF(ISBLANK('DE01-F12'!P1191),\"\",('DE01-F12'!P1191))","v":""},{"$f":"IF(ISBLANK('DE01-F12'!Q1191),\"\",('DE01-F12'!Q1191))","v":""},{"$f":"IF(ISBLANK('DE01-F12'!S1191),\"\",('DE01-F12'!S1191))","v":0}]
[{"$f":"IF(ISBLANK('DE01-F12'!N1192),\"\",('DE01-F12'!N1192))","v":""},{"$f":"MID('DE01-F12'!G1192,1,18)","v":""},{"$f":"IF(ISBLANK('DE01-F12'!P1192),\"\",('DE01-F12'!P1192))","v":""},{"$f":"IF(ISBLANK('DE01-F12'!Q1192),\"\",('DE01-F12'!Q1192))","v":""},{"$f":"IF(ISBLANK('DE01-F12'!S1192),\"\",('DE01-F12'!S1192))","v":0}]
[{"$f":"IF(ISBLANK('DE01-F12'!N1193),\"\",('DE01-F12'!N1193))","v":""},{"$f":"MID('DE01-F12'!G1193,1,18)","v":""},{"$f":"IF(ISBLANK('DE01-F12'!P1193),\"\",('DE01-F12'!P1193))","v":""},{"$f":"IF(ISBLANK('DE01-F12'!Q1193),\"\",('DE01-F12'!Q1193))","v":""},{"$f":"IF(ISBLANK('DE01-F12'!S1193),\"\",('DE01-F12'!S1193))","v":0}]
[{"$f":"IF(ISBLANK('DE01-F12'!N1194),\"\",('DE01-F12'!N1194))","v":""},{"$f":"MID('DE01-F12'!G1194,1,18)","v":""},{"$f":"IF(ISBLANK('DE01-F12'!P1194),\"\",('DE01-F12'!P1194))","v":""},{"$f":"IF(ISBLANK('DE01-F12'!Q1194),\"\",('DE01-F12'!Q1194))","v":""},{"$f":"IF(ISBLANK('DE01-F12'!S1194),\"\",('DE01-F12'!S1194))","v":0}]
[{"$f":"IF(ISBLANK('DE01-F12'!N1195),\"\",('DE01-F12'!N1195))","v":""},{"$f":"MID('DE01-F12'!G1195,1,18)","v":""},{"$f":"IF(ISBLANK('DE01-F12'!P1195),\"\",('DE01-F12'!P1195))","v":""},{"$f":"IF(ISBLANK('DE01-F12'!Q1195),\"\",('DE01-F12'!Q1195))","v":""},{"$f":"IF(ISBLANK('DE01-F12'!S1195),\"\",('DE01-F12'!S1195))","v":0}]
[{"$f":"IF(ISBLANK('DE01-F12'!N1196),\"\",('DE01-F12'!N1196))","v":""},{"$f":"MID('DE01-F12'!G1196,1,18)","v":""},{"$f":"IF(ISBLANK('DE01-F12'!P1196),\"\",('DE01-F12'!P1196))","v":""},{"$f":"IF(ISBLANK('DE01-F12'!Q1196),\"\",('DE01-F12'!Q1196))","v":""},{"$f":"IF(ISBLANK('DE01-F12'!S1196),\"\",('DE01-F12'!S1196))","v":0}]
[{"$f":"IF(ISBLANK('DE01-F12'!N1197),\"\",('DE01-F12'!N1197))","v":""},{"$f":"MID('DE01-F12'!G1197,1,18)","v":""},{"$f":"IF(ISBLANK('DE01-F12'!P1197),\"\",('DE01-F12'!P1197))","v":""},{"$f":"IF(ISBLANK('DE01-F12'!Q1197),\"\",('DE01-F12'!Q1197))","v":""},{"$f":"IF(ISBLANK('DE01-F12'!S1197),\"\",('DE01-F12'!S1197))","v":0}]
[{"$f":"IF(ISBLANK('DE01-F12'!N1198),\"\",('DE01-F12'!N1198))","v":""},{"$f":"MID('DE01-F12'!G1198,1,18)","v":""},{"$f":"IF(ISBLANK('DE01-F12'!P1198),\"\",('DE01-F12'!P1198))","v":""},{"$f":"IF(ISBLANK('DE01-F12'!Q1198),\"\",('DE01-F12'!Q1198))","v":""},{"$f":"IF(ISBLANK('DE01-F12'!S1198),\"\",('DE01-F12'!S1198))","v":0}]
[{"$f":"IF(ISBLANK('DE01-F12'!N1199),\"\",('DE01-F12'!N1199))","v":""},{"$f":"MID('DE01-F12'!G1199,1,18)","v":""},{"$f":"IF(ISBLANK('DE01-F12'!P1199),\"\",('DE01-F12'!P1199))","v":""},{"$f":"IF(ISBLANK('DE01-F12'!Q1199),\"\",('DE01-F12'!Q1199))","v":""},{"$f":"IF(ISBLANK('DE01-F12'!S1199),\"\",('DE01-F12'!S1199))","v":0}]
[{"$f":"IF(ISBLANK('DE01-F12'!N1200),\"\",('DE01-F12'!N1200))","v":""},{"$f":"MID('DE01-F12'!G1200,1,18)","v":""},{"$f":"IF(ISBLANK('DE01-F12'!P1200),\"\",('DE01-F12'!P1200))","v":""},{"$f":"IF(ISBLANK('DE01-F12'!Q1200),\"\",('DE01-F12'!Q1200))","v":""},{"$f":"IF(ISBLANK('DE01-F12'!S1200),\"\",('DE01-F12'!S1200))","v":0}]
[{"$f":"IF(ISBLANK('DE01-F12'!N1201),\"\",('DE01-F12'!N1201))","v":""},{"$f":"MID('DE01-F12'!G1201,1,18)","v":""},{"$f":"IF(ISBLANK('DE01-F12'!P1201),\"\",('DE01-F12'!P1201))","v":""},{"$f":"IF(ISBLANK('DE01-F12'!Q1201),\"\",('DE01-F12'!Q1201))","v":""},{"$f":"IF(ISBLANK('DE01-F12'!S1201),\"\",('DE01-F12'!S1201))","v":0}]
[{"$f":"IF(ISBLANK('DE01-F12'!N1202),\"\",('DE01-F12'!N1202))","v":""},{"$f":"MID('DE01-F12'!G1202,1,18)","v":""},{"$f":"IF(ISBLANK('DE01-F12'!P1202),\"\",('DE01-F12'!P1202))","v":""},{"$f":"IF(ISBLANK('DE01-F12'!Q1202),\"\",('DE01-F12'!Q1202))","v":""},{"$f":"IF(ISBLANK('DE01-F12'!S1202),\"\",('DE01-F12'!S1202))","v":0}]
[{"$f":"IF(ISBLANK('DE01-F12'!N1203),\"\",('DE01-F12'!N1203))","v":""},{"$f":"MID('DE01-F12'!G1203,1,18)","v":""},{"$f":"IF(ISBLANK('DE01-F12'!P1203),\"\",('DE01-F12'!P1203))","v":""},{"$f":"IF(ISBLANK('DE01-F12'!Q1203),\"\",('DE01-F12'!Q1203))","v":""},{"$f":"IF(ISBLANK('DE01-F12'!S1203),\"\",('DE01-F12'!S1203))","v":0}]
[{"$f":"IF(ISBLANK('DE01-F12'!N1204),\"\",('DE01-F12'!N1204))","v":""},{"$f":"MID('DE01-F12'!G1204,1,18)","v":""},{"$f":"IF(ISBLANK('DE01-F12'!P1204),\"\",('DE01-F12'!P1204))","v":""},{"$f":"IF(ISBLANK('DE01-F12'!Q1204),\"\",('DE01-F12'!Q1204))","v":""},{"$f":"IF(ISBLANK('DE01-F12'!S1204),\"\",('DE01-F12'!S1204))","v":0}]
[{"$f":"IF(ISBLANK('DE01-F12'!N1205),\"\",('DE01-F12'!N1205))","v":""},{"$f":"MID('DE01-F12'!G1205,1,18)","v":""},{"$f":"IF(ISBLANK('DE01-F12'!P1205),\"\",('DE01-F12'!P1205))","v":""},{"$f":"IF(ISBLANK('DE01-F12'!Q1205),\"\",('DE01-F12'!Q1205))","v":""},{"$f":"IF(ISBLANK('DE01-F12'!S1205),\"\",('DE01-F12'!S1205))","v":0}]
[{"$f":"IF(ISBLANK('DE01-F12'!N1206),\"\",('DE01-F12'!N1206))","v":""},{"$f":"MID('DE01-F12'!G1206,1,18)","v":""},{"$f":"IF(ISBLANK('DE01-F12'!P1206),\"\",('DE01-F12'!P1206))","v":""},{"$f":"IF(ISBLANK('DE01-F12'!Q1206),\"\",('DE01-F12'!Q1206))","v":""},{"$f":"IF(ISBLANK('DE01-F12'!S1206),\"\",('DE01-F12'!S1206))","v":0}]
[{"$f":"IF(ISBLANK('DE01-F12'!N1207),\"\",('DE01-F12'!N1207))","v":""},{"$f":"MID('DE01-F12'!G1207,1,18)","v":""},{"$f":"IF(ISBLANK('DE01-F12'!P1207),\"\",('DE01-F12'!P1207))","v":""},{"$f":"IF(ISBLANK('DE01-F12'!Q1207),\"\",('DE01-F12'!Q1207))","v":""},{"$f":"IF(ISBLANK('DE01-F12'!S1207),\"\",('DE01-F12'!S1207))","v":0}]
[{"$f":"IF(ISBLANK('DE01-F12'!N1208),\"\",('DE01-F12'!N1208))","v":""},{"$f":"MID('DE01-F12'!G1208,1,18)","v":""},{"$f":"IF(ISBLANK('DE01-F12'!P1208),\"\",('DE01-F12'!P1208))","v":""},{"$f":"IF(ISBLANK('DE01-F12'!Q1208),\"\",('DE01-F12'!Q1208))","v":""},{"$f":"IF(ISBLANK('DE01-F12'!S1208),\"\",('DE01-F12'!S1208))","v":0}]
[{"$f":"IF(ISBLANK('DE01-F12'!N1209),\"\",('DE01-F12'!N1209))","v":""},{"$f":"MID('DE01-F12'!G1209,1,18)","v":""},{"$f":"IF(ISBLANK('DE01-F12'!P1209),\"\",('DE01-F12'!P1209))","v":""},{"$f":"IF(ISBLANK('DE01-F12'!Q1209),\"\",('DE01-F12'!Q1209))","v":""},{"$f":"IF(ISBLANK('DE01-F12'!S1209),\"\",('DE01-F12'!S1209))","v":0}]
[{"$f":"IF(ISBLANK('DE01-F12'!N1210),\"\",('DE01-F12'!N1210))","v":""},{"$f":"MID('DE01-F12'!G1210,1,18)","v":""},{"$f":"IF(ISBLANK('DE01-F12'!P1210),\"\",('DE01-F12'!P1210))","v":""},{"$f":"IF(ISBLANK('DE01-F12'!Q1210),\"\",('DE01-F12'!Q1210))","v":""},{"$f":"IF(ISBLANK('DE01-F12'!S1210),\"\",('DE01-F12'!S1210))","v":0}]
[{"$f":"IF(ISBLANK('DE01-F12'!N1211),\"\",('DE01-F12'!N1211))","v":""},{"$f":"MID('DE01-F12'!G1211,1,18)","v":""},{"$f":"IF(ISBLANK('DE01-F12'!P1211),\"\",('DE01-F12'!P1211))","v":""},{"$f":"IF(ISBLANK('DE01-F12'!Q1211),\"\",('DE01-F12'!Q1211))","v":""},{"$f":"IF(ISBLANK('DE01-F12'!S1211),\"\",('DE01-F12'!S1211))","v":0}]
[{"$f":"IF(ISBLANK('DE01-F12'!N1212),\"\",('DE01-F12'!N1212))","v":""},{"$f":"MID('DE01-F12'!G1212,1,18)","v":""},{"$f":"IF(ISBLANK('DE01-F12'!P1212),\"\",('DE01-F12'!P1212))","v":""},{"$f":"IF(ISBLANK('DE01-F12'!Q1212),\"\",('DE01-F12'!Q1212))","v":""},{"$f":"IF(ISBLANK('DE01-F12'!S1212),\"\",('DE01-F12'!S1212))","v":0}]
[{"$f":"IF(ISBLANK('DE01-F12'!N1213),\"\",('DE01-F12'!N1213))","v":""},{"$f":"MID('DE01-F12'!G1213,1,18)","v":""},{"$f":"IF(ISBLANK('DE01-F12'!P1213),\"\",('DE01-F12'!P1213))","v":""},{"$f":"IF(ISBLANK('DE01-F12'!Q1213),\"\",('DE01-F12'!Q1213))","v":""},{"$f":"IF(ISBLANK('DE01-F12'!S1213),\"\",('DE01-F12'!S1213))","v":0}]
[{"$f":"IF(ISBLANK('DE01-F12'!N1214),\"\",('DE01-F12'!N1214))","v":""},{"$f":"MID('DE01-F12'!G1214,1,18)","v":""},{"$f":"IF(ISBLANK('DE01-F12'!P1214),\"\",('DE01-F12'!P1214))","v":""},{"$f":"IF(ISBLANK('DE01-F12'!Q1214),\"\",('DE01-F12'!Q1214))","v":""},{"$f":"IF(ISBLANK('DE01-F12'!S1214),\"\",('DE01-F12'!S1214))","v":0}]
[{"$f":"IF(ISBLANK('DE01-F12'!N1215),\"\",('DE01-F12'!N1215))","v":""},{"$f":"MID('DE01-F12'!G1215,1,18)","v":""},{"$f":"IF(ISBLANK('DE01-F12'!P1215),\"\",('DE01-F12'!P1215))","v":""},{"$f":"IF(ISBLANK('DE01-F12'!Q1215),\"\",('DE01-F12'!Q1215))","v":""},{"$f":"IF(ISBLANK('DE01-F12'!S1215),\"\",('DE01-F12'!S1215))","v":0}]
[{"$f":"IF(ISBLANK('DE01-F12'!N1216),\"\",('DE01-F12'!N1216))","v":""},{"$f":"MID('DE01-F12'!G1216,1,18)","v":""},{"$f":"IF(ISBLANK('DE01-F12'!P1216),\"\",('DE01-F12'!P1216))","v":""},{"$f":"IF(ISBLANK('DE01-F12'!Q1216),\"\",('DE01-F12'!Q1216))","v":""},{"$f":"IF(ISBLANK('DE01-F12'!S1216),\"\",('DE01-F12'!S1216))","v":0}]
[{"$f":"IF(ISBLANK('DE01-F12'!N1217),\"\",('DE01-F12'!N1217))","v":""},{"$f":"MID('DE01-F12'!G1217,1,18)","v":""},{"$f":"IF(ISBLANK('DE01-F12'!P1217),\"\",('DE01-F12'!P1217))","v":""},{"$f":"IF(ISBLANK('DE01-F12'!Q1217),\"\",('DE01-F12'!Q1217))","v":""},{"$f":"IF(ISBLANK('DE01-F12'!S1217),\"\",('DE01-F12'!S1217))","v":0}]
[{"$f":"IF(ISBLANK('DE01-F12'!N1218),\"\",('DE01-F12'!N1218))","v":""},{"$f":"MID('DE01-F12'!G1218,1,18)","v":""},{"$f":"IF(ISBLANK('DE01-F12'!P1218),\"\",('DE01-F12'!P1218))","v":""},{"$f":"IF(ISBLANK('DE01-F12'!Q1218),\"\",('DE01-F12'!Q1218))","v":""},{"$f":"IF(ISBLANK('DE01-F12'!S1218),\"\",('DE01-F12'!S1218))","v":0}]
[{"$f":"IF(ISBLANK('DE01-F12'!N1219),\"\",('DE01-F12'!N1219))","v":""},{"$f":"MID('DE01-F12'!G1219,1,18)","v":""},{"$f":"IF(ISBLANK('DE01-F12'!P1219),\"\",('DE01-F12'!P1219))","v":""},{"$f":"IF(ISBLANK('DE01-F12'!Q1219),\"\",('DE01-F12'!Q1219))","v":""},{"$f":"IF(ISBLANK('DE01-F12'!S1219),\"\",('DE01-F12'!S1219))","v":0}]
[{"$f":"IF(ISBLANK('DE01-F12'!N1220),\"\",('DE01-F12'!N1220))","v":""},{"$f":"MID('DE01-F12'!G1220,1,18)","v":""},{"$f":"IF(ISBLANK('DE01-F12'!P1220),\"\",('DE01-F12'!P1220))","v":""},{"$f":"IF(ISBLANK('DE01-F12'!Q1220),\"\",('DE01-F12'!Q1220))","v":""},{"$f":"IF(ISBLANK('DE01-F12'!S1220),\"\",('DE01-F12'!S1220))","v":0}]
[{"$f":"IF(ISBLANK('DE01-F12'!N1221),\"\",('DE01-F12'!N1221))","v":""},{"$f":"MID('DE01-F12'!G1221,1,18)","v":""},{"$f":"IF(ISBLANK('DE01-F12'!P1221),\"\",('DE01-F12'!P1221))","v":""},{"$f":"IF(ISBLANK('DE01-F12'!Q1221),\"\",('DE01-F12'!Q1221))","v":""},{"$f":"IF(ISBLANK('DE01-F12'!S1221),\"\",('DE01-F12'!S1221))","v":0}]
[{"$f":"IF(ISBLANK('DE01-F12'!N1222),\"\",('DE01-F12'!N1222))","v":""},{"$f":"MID('DE01-F12'!G1222,1,18)","v":""},{"$f":"IF(ISBLANK('DE01-F12'!P1222),\"\",('DE01-F12'!P1222))","v":""},{"$f":"IF(ISBLANK('DE01-F12'!Q1222),\"\",('DE01-F12'!Q1222))","v":""},{"$f":"IF(ISBLANK('DE01-F12'!S1222),\"\",('DE01-F12'!S1222))","v":0}]
[{"$f":"IF(ISBLANK('DE01-F12'!N1223),\"\",('DE01-F12'!N1223))","v":""},{"$f":"MID('DE01-F12'!G1223,1,18)","v":""},{"$f":"IF(ISBLANK('DE01-F12'!P1223),\"\",('DE01-F12'!P1223))","v":""},{"$f":"IF(ISBLANK('DE01-F12'!Q1223),\"\",('DE01-F12'!Q1223))","v":""},{"$f":"IF(ISBLANK('DE01-F12'!S1223),\"\",('DE01-F12'!S1223))","v":0}]
[{"$f":"IF(ISBLANK('DE01-F12'!N1224),\"\",('DE01-F12'!N1224))","v":""},{"$f":"MID('DE01-F12'!G1224,1,18)","v":""},{"$f":"IF(ISBLANK('DE01-F12'!P1224),\"\",('DE01-F12'!P1224))","v":""},{"$f":"IF(ISBLANK('DE01-F12'!Q1224),\"\",('DE01-F12'!Q1224))","v":""},{"$f":"IF(ISBLANK('DE01-F12'!S1224),\"\",('DE01-F12'!S1224))","v":0}]
[{"$f":"IF(ISBLANK('DE01-F12'!N1225),\"\",('DE01-F12'!N1225))","v":""},{"$f":"MID('DE01-F12'!G1225,1,18)","v":""},{"$f":"IF(ISBLANK('DE01-F12'!P1225),\"\",('DE01-F12'!P1225))","v":""},{"$f":"IF(ISBLANK('DE01-F12'!Q1225),\"\",('DE01-F12'!Q1225))","v":""},{"$f":"IF(ISBLANK('DE01-F12'!S1225),\"\",('DE01-F12'!S1225))","v":0}]
[{"$f":"IF(ISBLANK('DE01-F12'!N1226),\"\",('DE01-F12'!N1226))","v":""},{"$f":"MID('DE01-F12'!G1226,1,18)","v":""},{"$f":"IF(ISBLANK('DE01-F12'!P1226),\"\",('DE01-F12'!P1226))","v":""},{"$f":"IF(ISBLANK('DE01-F12'!Q1226),\"\",('DE01-F12'!Q1226))","v":""},{"$f":"IF(ISBLANK('DE01-F12'!S1226),\"\",('DE01-F12'!S1226))","v":0}]
[{"$f":"IF(ISBLANK('DE01-F12'!N1227),\"\",('DE01-F12'!N1227))","v":""},{"$f":"MID('DE01-F12'!G1227,1,18)","v":""},{"$f":"IF(ISBLANK('DE01-F12'!P1227),\"\",('DE01-F12'!P1227))","v":""},{"$f":"IF(ISBLANK('DE01-F12'!Q1227),\"\",('DE01-F12'!Q1227))","v":""},{"$f":"IF(ISBLANK('DE01-F12'!S1227),\"\",('DE01-F12'!S1227))","v":0}]
[{"$f":"IF(ISBLANK('DE01-F12'!N1228),\"\",('DE01-F12'!N1228))","v":""},{"$f":"MID('DE01-F12'!G1228,1,18)","v":""},{"$f":"IF(ISBLANK('DE01-F12'!P1228),\"\",('DE01-F12'!P1228))","v":""},{"$f":"IF(ISBLANK('DE01-F12'!Q1228),\"\",('DE01-F12'!Q1228))","v":""},{"$f":"IF(ISBLANK('DE01-F12'!S1228),\"\",('DE01-F12'!S1228))","v":0}]
[{"$f":"IF(ISBLANK('DE01-F12'!N1229),\"\",('DE01-F12'!N1229))","v":""},{"$f":"MID('DE01-F12'!G1229,1,18)","v":""},{"$f":"IF(ISBLANK('DE01-F12'!P1229),\"\",('DE01-F12'!P1229))","v":""},{"$f":"IF(ISBLANK('DE01-F12'!Q1229),\"\",('DE01-F12'!Q1229))","v":""},{"$f":"IF(ISBLANK('DE01-F12'!S1229),\"\",('DE01-F12'!S1229))","v":0}]
[{"$f":"IF(ISBLANK('DE01-F12'!N1230),\"\",('DE01-F12'!N1230))","v":""},{"$f":"MID('DE01-F12'!G1230,1,18)","v":""},{"$f":"IF(ISBLANK('DE01-F12'!P1230),\"\",('DE01-F12'!P1230))","v":""},{"$f":"IF(ISBLANK('DE01-F12'!Q1230),\"\",('DE01-F12'!Q1230))","v":""},{"$f":"IF(ISBLANK('DE01-F12'!S1230),\"\",('DE01-F12'!S1230))","v":0}]
[{"$f":"IF(ISBLANK('DE01-F12'!N1231),\"\",('DE01-F12'!N1231))","v":""},{"$f":"MID('DE01-F12'!G1231,1,18)","v":""},{"$f":"IF(ISBLANK('DE01-F12'!P1231),\"\",('DE01-F12'!P1231))","v":""},{"$f":"IF(ISBLANK('DE01-F12'!Q1231),\"\",('DE01-F12'!Q1231))","v":""},{"$f":"IF(ISBLANK('DE01-F12'!S1231),\"\",('DE01-F12'!S1231))","v":0}]
[{"$f":"IF(ISBLANK('DE01-F12'!N1232),\"\",('DE01-F12'!N1232))","v":""},{"$f":"MID('DE01-F12'!G1232,1,18)","v":""},{"$f":"IF(ISBLANK('DE01-F12'!P1232),\"\",('DE01-F12'!P1232))","v":""},{"$f":"IF(ISBLANK('DE01-F12'!Q1232),\"\",('DE01-F12'!Q1232))","v":""},{"$f":"IF(ISBLANK('DE01-F12'!S1232),\"\",('DE01-F12'!S1232))","v":0}]
[{"$f":"IF(ISBLANK('DE01-F12'!N1233),\"\",('DE01-F12'!N1233))","v":""},{"$f":"MID('DE01-F12'!G1233,1,18)","v":""},{"$f":"IF(ISBLANK('DE01-F12'!P1233),\"\",('DE01-F12'!P1233))","v":""},{"$f":"IF(ISBLANK('DE01-F12'!Q1233),\"\",('DE01-F12'!Q1233))","v":""},{"$f":"IF(ISBLANK('DE01-F12'!S1233),\"\",('DE01-F12'!S1233))","v":0}]
[{"$f":"IF(ISBLANK('DE01-F12'!N1234),\"\",('DE01-F12'!N1234))","v":""},{"$f":"MID('DE01-F12'!G1234,1,18)","v":""},{"$f":"IF(ISBLANK('DE01-F12'!P1234),\"\",('DE01-F12'!P1234))","v":""},{"$f":"IF(ISBLANK('DE01-F12'!Q1234),\"\",('DE01-F12'!Q1234))","v":""},{"$f":"IF(ISBLANK('DE01-F12'!S1234),\"\",('DE01-F12'!S1234))","v":0}]
[{"$f":"IF(ISBLANK('DE01-F12'!N1235),\"\",('DE01-F12'!N1235))","v":""},{"$f":"MID('DE01-F12'!G1235,1,18)","v":""},{"$f":"IF(ISBLANK('DE01-F12'!P1235),\"\",('DE01-F12'!P1235))","v":""},{"$f":"IF(ISBLANK('DE01-F12'!Q1235),\"\",('DE01-F12'!Q1235))","v":""},{"$f":"IF(ISBLANK('DE01-F12'!S1235),\"\",('DE01-F12'!S1235))","v":0}]
[{"$f":"IF(ISBLANK('DE01-F12'!N1236),\"\",('DE01-F12'!N1236))","v":""},{"$f":"MID('DE01-F12'!G1236,1,18)","v":""},{"$f":"IF(ISBLANK('DE01-F12'!P1236),\"\",('DE01-F12'!P1236))","v":""},{"$f":"IF(ISBLANK('DE01-F12'!Q1236),\"\",('DE01-F12'!Q1236))","v":""},{"$f":"IF(ISBLANK('DE01-F12'!S1236),\"\",('DE01-F12'!S1236))","v":0}]
[{"$f":"IF(ISBLANK('DE01-F12'!N1237),\"\",('DE01-F12'!N1237))","v":""},{"$f":"MID('DE01-F12'!G1237,1,18)","v":""},{"$f":"IF(ISBLANK('DE01-F12'!P1237),\"\",('DE01-F12'!P1237))","v":""},{"$f":"IF(ISBLANK('DE01-F12'!Q1237),\"\",('DE01-F12'!Q1237))","v":""},{"$f":"IF(ISBLANK('DE01-F12'!S1237),\"\",('DE01-F12'!S1237))","v":0}]
[{"$f":"IF(ISBLANK('DE01-F12'!N1238),\"\",('DE01-F12'!N1238))","v":""},{"$f":"MID('DE01-F12'!G1238,1,18)","v":""},{"$f":"IF(ISBLANK('DE01-F12'!P1238),\"\",('DE01-F12'!P1238))","v":""},{"$f":"IF(ISBLANK('DE01-F12'!Q1238),\"\",('DE01-F12'!Q1238))","v":""},{"$f":"IF(ISBLANK('DE01-F12'!S1238),\"\",('DE01-F12'!S1238))","v":0}]
[{"$f":"IF(ISBLANK('DE01-F12'!N1239),\"\",('DE01-F12'!N1239))","v":""},{"$f":"MID('DE01-F12'!G1239,1,18)","v":""},{"$f":"IF(ISBLANK('DE01-F12'!P1239),\"\",('DE01-F12'!P1239))","v":""},{"$f":"IF(ISBLANK('DE01-F12'!Q1239),\"\",('DE01-F12'!Q1239))","v":""},{"$f":"IF(ISBLANK('DE01-F12'!S1239),\"\",('DE01-F12'!S1239))","v":0}]
[{"$f":"IF(ISBLANK('DE01-F12'!N1240),\"\",('DE01-F12'!N1240))","v":""},{"$f":"MID('DE01-F12'!G1240,1,18)","v":""},{"$f":"IF(ISBLANK('DE01-F12'!P1240),\"\",('DE01-F12'!P1240))","v":""},{"$f":"IF(ISBLANK('DE01-F12'!Q1240),\"\",('DE01-F12'!Q1240))","v":""},{"$f":"IF(ISBLANK('DE01-F12'!S1240),\"\",('DE01-F12'!S1240))","v":0}]
[{"$f":"IF(ISBLANK('DE01-F12'!N1241),\"\",('DE01-F12'!N1241))","v":""},{"$f":"MID('DE01-F12'!G1241,1,18)","v":""},{"$f":"IF(ISBLANK('DE01-F12'!P1241),\"\",('DE01-F12'!P1241))","v":""},{"$f":"IF(ISBLANK('DE01-F12'!Q1241),\"\",('DE01-F12'!Q1241))","v":""},{"$f":"IF(ISBLANK('DE01-F12'!S1241),\"\",('DE01-F12'!S1241))","v":0}]
[{"$f":"IF(ISBLANK('DE01-F12'!N1242),\"\",('DE01-F12'!N1242))","v":""},{"$f":"MID('DE01-F12'!G1242,1,18)","v":""},{"$f":"IF(ISBLANK('DE01-F12'!P1242),\"\",('DE01-F12'!P1242))","v":""},{"$f":"IF(ISBLANK('DE01-F12'!Q1242),\"\",('DE01-F12'!Q1242))","v":""},{"$f":"IF(ISBLANK('DE01-F12'!S1242),\"\",('DE01-F12'!S1242))","v":0}]
[{"$f":"IF(ISBLANK('DE01-F12'!N1243),\"\",('DE01-F12'!N1243))","v":""},{"$f":"MID('DE01-F12'!G1243,1,18)","v":""},{"$f":"IF(ISBLANK('DE01-F12'!P1243),\"\",('DE01-F12'!P1243))","v":""},{"$f":"IF(ISBLANK('DE01-F12'!Q1243),\"\",('DE01-F12'!Q1243))","v":""},{"$f":"IF(ISBLANK('DE01-F12'!S1243),\"\",('DE01-F12'!S1243))","v":0}]
[{"$f":"IF(ISBLANK('DE01-F12'!N1244),\"\",('DE01-F12'!N1244))","v":""},{"$f":"MID('DE01-F12'!G1244,1,18)","v":""},{"$f":"IF(ISBLANK('DE01-F12'!P1244),\"\",('DE01-F12'!P1244))","v":""},{"$f":"IF(ISBLANK('DE01-F12'!Q1244),\"\",('DE01-F12'!Q1244))","v":""},{"$f":"IF(ISBLANK('DE01-F12'!S1244),\"\",('DE01-F12'!S1244))","v":0}]
[{"$f":"IF(ISBLANK('DE01-F12'!N1245),\"\",('DE01-F12'!N1245))","v":""},{"$f":"MID('DE01-F12'!G1245,1,18)","v":""},{"$f":"IF(ISBLANK('DE01-F12'!P1245),\"\",('DE01-F12'!P1245))","v":""},{"$f":"IF(ISBLANK('DE01-F12'!Q1245),\"\",('DE01-F12'!Q1245))","v":""},{"$f":"IF(ISBLANK('DE01-F12'!S1245),\"\",('DE01-F12'!S1245))","v":0}]
[{"$f":"IF(ISBLANK('DE01-F12'!N1246),\"\",('DE01-F12'!N1246))","v":""},{"$f":"MID('DE01-F12'!G1246,1,18)","v":""},{"$f":"IF(ISBLANK('DE01-F12'!P1246),\"\",('DE01-F12'!P1246))","v":""},{"$f":"IF(ISBLANK('DE01-F12'!Q1246),\"\",('DE01-F12'!Q1246))","v":""},{"$f":"IF(ISBLANK('DE01-F12'!S1246),\"\",('DE01-F12'!S1246))","v":0}]
[{"$f":"IF(ISBLANK('DE01-F12'!N1247),\"\",('DE01-F12'!N1247))","v":""},{"$f":"MID('DE01-F12'!G1247,1,18)","v":""},{"$f":"IF(ISBLANK('DE01-F12'!P1247),\"\",('DE01-F12'!P1247))","v":""},{"$f":"IF(ISBLANK('DE01-F12'!Q1247),\"\",('DE01-F12'!Q1247))","v":""},{"$f":"IF(ISBLANK('DE01-F12'!S1247),\"\",('DE01-F12'!S1247))","v":0}]
[{"$f":"IF(ISBLANK('DE01-F12'!N1248),\"\",('DE01-F12'!N1248))","v":""},{"$f":"MID('DE01-F12'!G1248,1,18)","v":""},{"$f":"IF(ISBLANK('DE01-F12'!P1248),\"\",('DE01-F12'!P1248))","v":""},{"$f":"IF(ISBLANK('DE01-F12'!Q1248),\"\",('DE01-F12'!Q1248))","v":""},{"$f":"IF(ISBLANK('DE01-F12'!S1248),\"\",('DE01-F12'!S1248))","v":0}]
[{"$f":"IF(ISBLANK('DE01-F12'!N1249),\"\",('DE01-F12'!N1249))","v":""},{"$f":"MID('DE01-F12'!G1249,1,18)","v":""},{"$f":"IF(ISBLANK('DE01-F12'!P1249),\"\",('DE01-F12'!P1249))","v":""},{"$f":"IF(ISBLANK('DE01-F12'!Q1249),\"\",('DE01-F12'!Q1249))","v":""},{"$f":"IF(ISBLANK('DE01-F12'!S1249),\"\",('DE01-F12'!S1249))","v":0}]
[{"$f":"IF(ISBLANK('DE01-F12'!N1250),\"\",('DE01-F12'!N1250))","v":""},{"$f":"MID('DE01-F12'!G1250,1,18)","v":""},{"$f":"IF(ISBLANK('DE01-F12'!P1250),\"\",('DE01-F12'!P1250))","v":""},{"$f":"IF(ISBLANK('DE01-F12'!Q1250),\"\",('DE01-F12'!Q1250))","v":""},{"$f":"IF(ISBLANK('DE01-F12'!S1250),\"\",('DE01-F12'!S1250))","v":0}]
[{"$f":"IF(ISBLANK('DE01-F12'!N1251),\"\",('DE01-F12'!N1251))","v":""},{"$f":"MID('DE01-F12'!G1251,1,18)","v":""},{"$f":"IF(ISBLANK('DE01-F12'!P1251),\"\",('DE01-F12'!P1251))","v":""},{"$f":"IF(ISBLANK('DE01-F12'!Q1251),\"\",('DE01-F12'!Q1251))","v":""},{"$f":"IF(ISBLANK('DE01-F12'!S1251),\"\",('DE01-F12'!S1251))","v":0}]
[{"$f":"IF(ISBLANK('DE01-F12'!N1252),\"\",('DE01-F12'!N1252))","v":""},{"$f":"MID('DE01-F12'!G1252,1,18)","v":""},{"$f":"IF(ISBLANK('DE01-F12'!P1252),\"\",('DE01-F12'!P1252))","v":""},{"$f":"IF(ISBLANK('DE01-F12'!Q1252),\"\",('DE01-F12'!Q1252))","v":""},{"$f":"IF(ISBLANK('DE01-F12'!S1252),\"\",('DE01-F12'!S1252))","v":0}]
[{"$f":"IF(ISBLANK('DE01-F12'!N1253),\"\",('DE01-F12'!N1253))","v":""},{"$f":"MID('DE01-F12'!G1253,1,18)","v":""},{"$f":"IF(ISBLANK('DE01-F12'!P1253),\"\",('DE01-F12'!P1253))","v":""},{"$f":"IF(ISBLANK('DE01-F12'!Q1253),\"\",('DE01-F12'!Q1253))","v":""},{"$f":"IF(ISBLANK('DE01-F12'!S1253),\"\",('DE01-F12'!S1253))","v":0}]
[{"$f":"IF(ISBLANK('DE01-F12'!N1254),\"\",('DE01-F12'!N1254))","v":""},{"$f":"MID('DE01-F12'!G1254,1,18)","v":""},{"$f":"IF(ISBLANK('DE01-F12'!P1254),\"\",('DE01-F12'!P1254))","v":""},{"$f":"IF(ISBLANK('DE01-F12'!Q1254),\"\",('DE01-F12'!Q1254))","v":""},{"$f":"IF(ISBLANK('DE01-F12'!S1254),\"\",('DE01-F12'!S1254))","v":0}]
[{"$f":"IF(ISBLANK('DE01-F12'!N1255),\"\",('DE01-F12'!N1255))","v":""},{"$f":"MID('DE01-F12'!G1255,1,18)","v":""},{"$f":"IF(ISBLANK('DE01-F12'!P1255),\"\",('DE01-F12'!P1255))","v":""},{"$f":"IF(ISBLANK('DE01-F12'!Q1255),\"\",('DE01-F12'!Q1255))","v":""},{"$f":"IF(ISBLANK('DE01-F12'!S1255),\"\",('DE01-F12'!S1255))","v":0}]
[{"$f":"IF(ISBLANK('DE01-F12'!N1256),\"\",('DE01-F12'!N1256))","v":""},{"$f":"MID('DE01-F12'!G1256,1,18)","v":""},{"$f":"IF(ISBLANK('DE01-F12'!P1256),\"\",('DE01-F12'!P1256))","v":""},{"$f":"IF(ISBLANK('DE01-F12'!Q1256),\"\",('DE01-F12'!Q1256))","v":""},{"$f":"IF(ISBLANK('DE01-F12'!S1256),\"\",('DE01-F12'!S1256))","v":0}]
[{"$f":"IF(ISBLANK('DE01-F12'!N1257),\"\",('DE01-F12'!N1257))","v":""},{"$f":"MID('DE01-F12'!G1257,1,18)","v":""},{"$f":"IF(ISBLANK('DE01-F12'!P1257),\"\",('DE01-F12'!P1257))","v":""},{"$f":"IF(ISBLANK('DE01-F12'!Q1257),\"\",('DE01-F12'!Q1257))","v":""},{"$f":"IF(ISBLANK('DE01-F12'!S1257),\"\",('DE01-F12'!S1257))","v":0}]
[{"$f":"IF(ISBLANK('DE01-F12'!N1258),\"\",('DE01-F12'!N1258))","v":""},{"$f":"MID('DE01-F12'!G1258,1,18)","v":""},{"$f":"IF(ISBLANK('DE01-F12'!P1258),\"\",('DE01-F12'!P1258))","v":""},{"$f":"IF(ISBLANK('DE01-F12'!Q1258),\"\",('DE01-F12'!Q1258))","v":""},{"$f":"IF(ISBLANK('DE01-F12'!S1258),\"\",('DE01-F12'!S1258))","v":0}]
[{"$f":"IF(ISBLANK('DE01-F12'!N1259),\"\",('DE01-F12'!N1259))","v":""},{"$f":"MID('DE01-F12'!G1259,1,18)","v":""},{"$f":"IF(ISBLANK('DE01-F12'!P1259),\"\",('DE01-F12'!P1259))","v":""},{"$f":"IF(ISBLANK('DE01-F12'!Q1259),\"\",('DE01-F12'!Q1259))","v":""},{"$f":"IF(ISBLANK('DE01-F12'!S1259),\"\",('DE01-F12'!S1259))","v":0}]
[{"$f":"IF(ISBLANK('DE01-F12'!N1260),\"\",('DE01-F12'!N1260))","v":""},{"$f":"MID('DE01-F12'!G1260,1,18)","v":""},{"$f":"IF(ISBLANK('DE01-F12'!P1260),\"\",('DE01-F12'!P1260))","v":""},{"$f":"IF(ISBLANK('DE01-F12'!Q1260),\"\",('DE01-F12'!Q1260))","v":""},{"$f":"IF(ISBLANK('DE01-F12'!S1260),\"\",('DE01-F12'!S1260))","v":0}]
[{"$f":"IF(ISBLANK('DE01-F12'!N1261),\"\",('DE01-F12'!N1261))","v":""},{"$f":"MID('DE01-F12'!G1261,1,18)","v":""},{"$f":"IF(ISBLANK('DE01-F12'!P1261),\"\",('DE01-F12'!P1261))","v":""},{"$f":"IF(ISBLANK('DE01-F12'!Q1261),\"\",('DE01-F12'!Q1261))","v":""},{"$f":"IF(ISBLANK('DE01-F12'!S1261),\"\",('DE01-F12'!S1261))","v":0}]
[{"$f":"IF(ISBLANK('DE01-F12'!N1262),\"\",('DE01-F12'!N1262))","v":""},{"$f":"MID('DE01-F12'!G1262,1,18)","v":""},{"$f":"IF(ISBLANK('DE01-F12'!P1262),\"\",('DE01-F12'!P1262))","v":""},{"$f":"IF(ISBLANK('DE01-F12'!Q1262),\"\",('DE01-F12'!Q1262))","v":""},{"$f":"IF(ISBLANK('DE01-F12'!S1262),\"\",('DE01-F12'!S1262))","v":0}]
[{"$f":"IF(ISBLANK('DE01-F12'!N1263),\"\",('DE01-F12'!N1263))","v":""},{"$f":"MID('DE01-F12'!G1263,1,18)","v":""},{"$f":"IF(ISBLANK('DE01-F12'!P1263),\"\",('DE01-F12'!P1263))","v":""},{"$f":"IF(ISBLANK('DE01-F12'!Q1263),\"\",('DE01-F12'!Q1263))","v":""},{"$f":"IF(ISBLANK('DE01-F12'!S1263),\"\",('DE01-F12'!S1263))","v":0}]
[{"$f":"IF(ISBLANK('DE01-F12'!N1264),\"\",('DE01-F12'!N1264))","v":""},{"$f":"MID('DE01-F12'!G1264,1,18)","v":""},{"$f":"IF(ISBLANK('DE01-F12'!P1264),\"\",('DE01-F12'!P1264))","v":""},{"$f":"IF(ISBLANK('DE01-F12'!Q1264),\"\",('DE01-F12'!Q1264))","v":""},{"$f":"IF(ISBLANK('DE01-F12'!S1264),\"\",('DE01-F12'!S1264))","v":0}]
[{"$f":"IF(ISBLANK('DE01-F12'!N1265),\"\",('DE01-F12'!N1265))","v":""},{"$f":"MID('DE01-F12'!G1265,1,18)","v":""},{"$f":"IF(ISBLANK('DE01-F12'!P1265),\"\",('DE01-F12'!P1265))","v":""},{"$f":"IF(ISBLANK('DE01-F12'!Q1265),\"\",('DE01-F12'!Q1265))","v":""},{"$f":"IF(ISBLANK('DE01-F12'!S1265),\"\",('DE01-F12'!S1265))","v":0}]
[{"$f":"IF(ISBLANK('DE01-F12'!N1266),\"\",('DE01-F12'!N1266))","v":""},{"$f":"MID('DE01-F12'!G1266,1,18)","v":""},{"$f":"IF(ISBLANK('DE01-F12'!P1266),\"\",('DE01-F12'!P1266))","v":""},{"$f":"IF(ISBLANK('DE01-F12'!Q1266),\"\",('DE01-F12'!Q1266))","v":""},{"$f":"IF(ISBLANK('DE01-F12'!S1266),\"\",('DE01-F12'!S1266))","v":0}]
[{"$f":"IF(ISBLANK('DE01-F12'!N1267),\"\",('DE01-F12'!N1267))","v":""},{"$f":"MID('DE01-F12'!G1267,1,18)","v":""},{"$f":"IF(ISBLANK('DE01-F12'!P1267),\"\",('DE01-F12'!P1267))","v":""},{"$f":"IF(ISBLANK('DE01-F12'!Q1267),\"\",('DE01-F12'!Q1267))","v":""},{"$f":"IF(ISBLANK('DE01-F12'!S1267),\"\",('DE01-F12'!S1267))","v":0}]
[{"$f":"IF(ISBLANK('DE01-F12'!N1268),\"\",('DE01-F12'!N1268))","v":""},{"$f":"MID('DE01-F12'!G1268,1,18)","v":""},{"$f":"IF(ISBLANK('DE01-F12'!P1268),\"\",('DE01-F12'!P1268))","v":""},{"$f":"IF(ISBLANK('DE01-F12'!Q1268),\"\",('DE01-F12'!Q1268))","v":""},{"$f":"IF(ISBLANK('DE01-F12'!S1268),\"\",('DE01-F12'!S1268))","v":0}]
[{"$f":"IF(ISBLANK('DE01-F12'!N1269),\"\",('DE01-F12'!N1269))","v":""},{"$f":"MID('DE01-F12'!G1269,1,18)","v":""},{"$f":"IF(ISBLANK('DE01-F12'!P1269),\"\",('DE01-F12'!P1269))","v":""},{"$f":"IF(ISBLANK('DE01-F12'!Q1269),\"\",('DE01-F12'!Q1269))","v":""},{"$f":"IF(ISBLANK('DE01-F12'!S1269),\"\",('DE01-F12'!S1269))","v":0}]
[{"$f":"IF(ISBLANK('DE01-F12'!N1270),\"\",('DE01-F12'!N1270))","v":""},{"$f":"MID('DE01-F12'!G1270,1,18)","v":""},{"$f":"IF(ISBLANK('DE01-F12'!P1270),\"\",('DE01-F12'!P1270))","v":""},{"$f":"IF(ISBLANK('DE01-F12'!Q1270),\"\",('DE01-F12'!Q1270))","v":""},{"$f":"IF(ISBLANK('DE01-F12'!S1270),\"\",('DE01-F12'!S1270))","v":0}]
[{"$f":"IF(ISBLANK('DE01-F12'!N1271),\"\",('DE01-F12'!N1271))","v":""},{"$f":"MID('DE01-F12'!G1271,1,18)","v":""},{"$f":"IF(ISBLANK('DE01-F12'!P1271),\"\",('DE01-F12'!P1271))","v":""},{"$f":"IF(ISBLANK('DE01-F12'!Q1271),\"\",('DE01-F12'!Q1271))","v":""},{"$f":"IF(ISBLANK('DE01-F12'!S1271),\"\",('DE01-F12'!S1271))","v":0}]
[{"$f":"IF(ISBLANK('DE01-F12'!N1272),\"\",('DE01-F12'!N1272))","v":""},{"$f":"MID('DE01-F12'!G1272,1,18)","v":""},{"$f":"IF(ISBLANK('DE01-F12'!P1272),\"\",('DE01-F12'!P1272))","v":""},{"$f":"IF(ISBLANK('DE01-F12'!Q1272),\"\",('DE01-F12'!Q1272))","v":""},{"$f":"IF(ISBLANK('DE01-F12'!S1272),\"\",('DE01-F12'!S1272))","v":0}]
[{"$f":"IF(ISBLANK('DE01-F12'!N1273),\"\",('DE01-F12'!N1273))","v":""},{"$f":"MID('DE01-F12'!G1273,1,18)","v":""},{"$f":"IF(ISBLANK('DE01-F12'!P1273),\"\",('DE01-F12'!P1273))","v":""},{"$f":"IF(ISBLANK('DE01-F12'!Q1273),\"\",('DE01-F12'!Q1273))","v":""},{"$f":"IF(ISBLANK('DE01-F12'!S1273),\"\",('DE01-F12'!S1273))","v":0}]
[{"$f":"IF(ISBLANK('DE01-F12'!N1274),\"\",('DE01-F12'!N1274))","v":""},{"$f":"MID('DE01-F12'!G1274,1,18)","v":""},{"$f":"IF(ISBLANK('DE01-F12'!P1274),\"\",('DE01-F12'!P1274))","v":""},{"$f":"IF(ISBLANK('DE01-F12'!Q1274),\"\",('DE01-F12'!Q1274))","v":""},{"$f":"IF(ISBLANK('DE01-F12'!S1274),\"\",('DE01-F12'!S1274))","v":0}]
[{"$f":"IF(ISBLANK('DE01-F12'!N1275),\"\",('DE01-F12'!N1275))","v":""},{"$f":"MID('DE01-F12'!G1275,1,18)","v":""},{"$f":"IF(ISBLANK('DE01-F12'!P1275),\"\",('DE01-F12'!P1275))","v":""},{"$f":"IF(ISBLANK('DE01-F12'!Q1275),\"\",('DE01-F12'!Q1275))","v":""},{"$f":"IF(ISBLANK('DE01-F12'!S1275),\"\",('DE01-F12'!S1275))","v":0}]
[{"$f":"IF(ISBLANK('DE01-F12'!N1276),\"\",('DE01-F12'!N1276))","v":""},{"$f":"MID('DE01-F12'!G1276,1,18)","v":""},{"$f":"IF(ISBLANK('DE01-F12'!P1276),\"\",('DE01-F12'!P1276))","v":""},{"$f":"IF(ISBLANK('DE01-F12'!Q1276),\"\",('DE01-F12'!Q1276))","v":""},{"$f":"IF(ISBLANK('DE01-F12'!S1276),\"\",('DE01-F12'!S1276))","v":0}]
[{"$f":"IF(ISBLANK('DE01-F12'!N1277),\"\",('DE01-F12'!N1277))","v":""},{"$f":"MID('DE01-F12'!G1277,1,18)","v":""},{"$f":"IF(ISBLANK('DE01-F12'!P1277),\"\",('DE01-F12'!P1277))","v":""},{"$f":"IF(ISBLANK('DE01-F12'!Q1277),\"\",('DE01-F12'!Q1277))","v":""},{"$f":"IF(ISBLANK('DE01-F12'!S1277),\"\",('DE01-F12'!S1277))","v":0}]
[{"$f":"IF(ISBLANK('DE01-F12'!N1278),\"\",('DE01-F12'!N1278))","v":""},{"$f":"MID('DE01-F12'!G1278,1,18)","v":""},{"$f":"IF(ISBLANK('DE01-F12'!P1278),\"\",('DE01-F12'!P1278))","v":""},{"$f":"IF(ISBLANK('DE01-F12'!Q1278),\"\",('DE01-F12'!Q1278))","v":""},{"$f":"IF(ISBLANK('DE01-F12'!S1278),\"\",('DE01-F12'!S1278))","v":0}]
[{"$f":"IF(ISBLANK('DE01-F12'!N1279),\"\",('DE01-F12'!N1279))","v":""},{"$f":"MID('DE01-F12'!G1279,1,18)","v":""},{"$f":"IF(ISBLANK('DE01-F12'!P1279),\"\",('DE01-F12'!P1279))","v":""},{"$f":"IF(ISBLANK('DE01-F12'!Q1279),\"\",('DE01-F12'!Q1279))","v":""},{"$f":"IF(ISBLANK('DE01-F12'!S1279),\"\",('DE01-F12'!S1279))","v":0}]
[{"$f":"IF(ISBLANK('DE01-F12'!N1280),\"\",('DE01-F12'!N1280))","v":""},{"$f":"MID('DE01-F12'!G1280,1,18)","v":""},{"$f":"IF(ISBLANK('DE01-F12'!P1280),\"\",('DE01-F12'!P1280))","v":""},{"$f":"IF(ISBLANK('DE01-F12'!Q1280),\"\",('DE01-F12'!Q1280))","v":""},{"$f":"IF(ISBLANK('DE01-F12'!S1280),\"\",('DE01-F12'!S1280))","v":0}]
[{"$f":"IF(ISBLANK('DE01-F12'!N1281),\"\",('DE01-F12'!N1281))","v":""},{"$f":"MID('DE01-F12'!G1281,1,18)","v":""},{"$f":"IF(ISBLANK('DE01-F12'!P1281),\"\",('DE01-F12'!P1281))","v":""},{"$f":"IF(ISBLANK('DE01-F12'!Q1281),\"\",('DE01-F12'!Q1281))","v":""},{"$f":"IF(ISBLANK('DE01-F12'!S1281),\"\",('DE01-F12'!S1281))","v":0}]
[{"$f":"IF(ISBLANK('DE01-F12'!N1282),\"\",('DE01-F12'!N1282))","v":""},{"$f":"MID('DE01-F12'!G1282,1,18)","v":""},{"$f":"IF(ISBLANK('DE01-F12'!P1282),\"\",('DE01-F12'!P1282))","v":""},{"$f":"IF(ISBLANK('DE01-F12'!Q1282),\"\",('DE01-F12'!Q1282))","v":""},{"$f":"IF(ISBLANK('DE01-F12'!S1282),\"\",('DE01-F12'!S1282))","v":0}]
[{"$f":"IF(ISBLANK('DE01-F12'!N1283),\"\",('DE01-F12'!N1283))","v":""},{"$f":"MID('DE01-F12'!G1283,1,18)","v":""},{"$f":"IF(ISBLANK('DE01-F12'!P1283),\"\",('DE01-F12'!P1283))","v":""},{"$f":"IF(ISBLANK('DE01-F12'!Q1283),\"\",('DE01-F12'!Q1283))","v":""},{"$f":"IF(ISBLANK('DE01-F12'!S1283),\"\",('DE01-F12'!S1283))","v":0}]
[{"$f":"IF(ISBLANK('DE01-F12'!N1284),\"\",('DE01-F12'!N1284))","v":""},{"$f":"MID('DE01-F12'!G1284,1,18)","v":""},{"$f":"IF(ISBLANK('DE01-F12'!P1284),\"\",('DE01-F12'!P1284))","v":""},{"$f":"IF(ISBLANK('DE01-F12'!Q1284),\"\",('DE01-F12'!Q1284))","v":""},{"$f":"IF(ISBLANK('DE01-F12'!S1284),\"\",('DE01-F12'!S1284))","v":0}]
[{"$f":"IF(ISBLANK('DE01-F12'!N1285),\"\",('DE01-F12'!N1285))","v":""},{"$f":"MID('DE01-F12'!G1285,1,18)","v":""},{"$f":"IF(ISBLANK('DE01-F12'!P1285),\"\",('DE01-F12'!P1285))","v":""},{"$f":"IF(ISBLANK('DE01-F12'!Q1285),\"\",('DE01-F12'!Q1285))","v":""},{"$f":"IF(ISBLANK('DE01-F12'!S1285),\"\",('DE01-F12'!S1285))","v":0}]
[{"$f":"IF(ISBLANK('DE01-F12'!N1286),\"\",('DE01-F12'!N1286))","v":""},{"$f":"MID('DE01-F12'!G1286,1,18)","v":""},{"$f":"IF(ISBLANK('DE01-F12'!P1286),\"\",('DE01-F12'!P1286))","v":""},{"$f":"IF(ISBLANK('DE01-F12'!Q1286),\"\",('DE01-F12'!Q1286))","v":""},{"$f":"IF(ISBLANK('DE01-F12'!S1286),\"\",('DE01-F12'!S1286))","v":0}]
[{"$f":"IF(ISBLANK('DE01-F12'!N1287),\"\",('DE01-F12'!N1287))","v":""},{"$f":"MID('DE01-F12'!G1287,1,18)","v":""},{"$f":"IF(ISBLANK('DE01-F12'!P1287),\"\",('DE01-F12'!P1287))","v":""},{"$f":"IF(ISBLANK('DE01-F12'!Q1287),\"\",('DE01-F12'!Q1287))","v":""},{"$f":"IF(ISBLANK('DE01-F12'!S1287),\"\",('DE01-F12'!S1287))","v":0}]
[{"$f":"IF(ISBLANK('DE01-F12'!N1288),\"\",('DE01-F12'!N1288))","v":""},{"$f":"MID('DE01-F12'!G1288,1,18)","v":""},{"$f":"IF(ISBLANK('DE01-F12'!P1288),\"\",('DE01-F12'!P1288))","v":""},{"$f":"IF(ISBLANK('DE01-F12'!Q1288),\"\",('DE01-F12'!Q1288))","v":""},{"$f":"IF(ISBLANK('DE01-F12'!S1288),\"\",('DE01-F12'!S1288))","v":0}]
[{"$f":"IF(ISBLANK('DE01-F12'!N1289),\"\",('DE01-F12'!N1289))","v":""},{"$f":"MID('DE01-F12'!G1289,1,18)","v":""},{"$f":"IF(ISBLANK('DE01-F12'!P1289),\"\",('DE01-F12'!P1289))","v":""},{"$f":"IF(ISBLANK('DE01-F12'!Q1289),\"\",('DE01-F12'!Q1289))","v":""},{"$f":"IF(ISBLANK('DE01-F12'!S1289),\"\",('DE01-F12'!S1289))","v":0}]
[{"$f":"IF(ISBLANK('DE01-F12'!N1290),\"\",('DE01-F12'!N1290))","v":""},{"$f":"MID('DE01-F12'!G1290,1,18)","v":""},{"$f":"IF(ISBLANK('DE01-F12'!P1290),\"\",('DE01-F12'!P1290))","v":""},{"$f":"IF(ISBLANK('DE01-F12'!Q1290),\"\",('DE01-F12'!Q1290))","v":""},{"$f":"IF(ISBLANK('DE01-F12'!S1290),\"\",('DE01-F12'!S1290))","v":0}]
[{"$f":"IF(ISBLANK('DE01-F12'!N1291),\"\",('DE01-F12'!N1291))","v":""},{"$f":"MID('DE01-F12'!G1291,1,18)","v":""},{"$f":"IF(ISBLANK('DE01-F12'!P1291),\"\",('DE01-F12'!P1291))","v":""},{"$f":"IF(ISBLANK('DE01-F12'!Q1291),\"\",('DE01-F12'!Q1291))","v":""},{"$f":"IF(ISBLANK('DE01-F12'!S1291),\"\",('DE01-F12'!S1291))","v":0}]
[{"$f":"IF(ISBLANK('DE01-F12'!N1292),\"\",('DE01-F12'!N1292))","v":""},{"$f":"MID('DE01-F12'!G1292,1,18)","v":""},{"$f":"IF(ISBLANK('DE01-F12'!P1292),\"\",('DE01-F12'!P1292))","v":""},{"$f":"IF(ISBLANK('DE01-F12'!Q1292),\"\",('DE01-F12'!Q1292))","v":""},{"$f":"IF(ISBLANK('DE01-F12'!S1292),\"\",('DE01-F12'!S1292))","v":0}]
[{"$f":"IF(ISBLANK('DE01-F12'!N1293),\"\",('DE01-F12'!N1293))","v":""},{"$f":"MID('DE01-F12'!G1293,1,18)","v":""},{"$f":"IF(ISBLANK('DE01-F12'!P1293),\"\",('DE01-F12'!P1293))","v":""},{"$f":"IF(ISBLANK('DE01-F12'!Q1293),\"\",('DE01-F12'!Q1293))","v":""},{"$f":"IF(ISBLANK('DE01-F12'!S1293),\"\",('DE01-F12'!S1293))","v":0}]
[{"$f":"IF(ISBLANK('DE01-F12'!N1294),\"\",('DE01-F12'!N1294))","v":""},{"$f":"MID('DE01-F12'!G1294,1,18)","v":""},{"$f":"IF(ISBLANK('DE01-F12'!P1294),\"\",('DE01-F12'!P1294))","v":""},{"$f":"IF(ISBLANK('DE01-F12'!Q1294),\"\",('DE01-F12'!Q1294))","v":""},{"$f":"IF(ISBLANK('DE01-F12'!S1294),\"\",('DE01-F12'!S1294))","v":0}]
[{"$f":"IF(ISBLANK('DE01-F12'!N1295),\"\",('DE01-F12'!N1295))","v":""},{"$f":"MID('DE01-F12'!G1295,1,18)","v":""},{"$f":"IF(ISBLANK('DE01-F12'!P1295),\"\",('DE01-F12'!P1295))","v":""},{"$f":"IF(ISBLANK('DE01-F12'!Q1295),\"\",('DE01-F12'!Q1295))","v":""},{"$f":"IF(ISBLANK('DE01-F12'!S1295),\"\",('DE01-F12'!S1295))","v":0}]
[{"$f":"IF(ISBLANK('DE01-F12'!N1296),\"\",('DE01-F12'!N1296))","v":""},{"$f":"MID('DE01-F12'!G1296,1,18)","v":""},{"$f":"IF(ISBLANK('DE01-F12'!P1296),\"\",('DE01-F12'!P1296))","v":""},{"$f":"IF(ISBLANK('DE01-F12'!Q1296),\"\",('DE01-F12'!Q1296))","v":""},{"$f":"IF(ISBLANK('DE01-F12'!S1296),\"\",('DE01-F12'!S1296))","v":0}]
[{"$f":"IF(ISBLANK('DE01-F12'!N1297),\"\",('DE01-F12'!N1297))","v":""},{"$f":"MID('DE01-F12'!G1297,1,18)","v":""},{"$f":"IF(ISBLANK('DE01-F12'!P1297),\"\",('DE01-F12'!P1297))","v":""},{"$f":"IF(ISBLANK('DE01-F12'!Q1297),\"\",('DE01-F12'!Q1297))","v":""},{"$f":"IF(ISBLANK('DE01-F12'!S1297),\"\",('DE01-F12'!S1297))","v":0}]
[{"$f":"IF(ISBLANK('DE01-F12'!N1298),\"\",('DE01-F12'!N1298))","v":""},{"$f":"MID('DE01-F12'!G1298,1,18)","v":""},{"$f":"IF(ISBLANK('DE01-F12'!P1298),\"\",('DE01-F12'!P1298))","v":""},{"$f":"IF(ISBLANK('DE01-F12'!Q1298),\"\",('DE01-F12'!Q1298))","v":""},{"$f":"IF(ISBLANK('DE01-F12'!S1298),\"\",('DE01-F12'!S1298))","v":0}]
[{"$f":"IF(ISBLANK('DE01-F12'!N1299),\"\",('DE01-F12'!N1299))","v":""},{"$f":"MID('DE01-F12'!G1299,1,18)","v":""},{"$f":"IF(ISBLANK('DE01-F12'!P1299),\"\",('DE01-F12'!P1299))","v":""},{"$f":"IF(ISBLANK('DE01-F12'!Q1299),\"\",('DE01-F12'!Q1299))","v":""},{"$f":"IF(ISBLANK('DE01-F12'!S1299),\"\",('DE01-F12'!S1299))","v":0}]
[{"$f":"IF(ISBLANK('DE01-F12'!N1300),\"\",('DE01-F12'!N1300))","v":""},{"$f":"MID('DE01-F12'!G1300,1,18)","v":""},{"$f":"IF(ISBLANK('DE01-F12'!P1300),\"\",('DE01-F12'!P1300))","v":""},{"$f":"IF(ISBLANK('DE01-F12'!Q1300),\"\",('DE01-F12'!Q1300))","v":""},{"$f":"IF(ISBLANK('DE01-F12'!S1300),\"\",('DE01-F12'!S1300))","v":0}]
[{"$f":"IF(ISBLANK('DE01-F12'!N1301),\"\",('DE01-F12'!N1301))","v":""},{"$f":"MID('DE01-F12'!G1301,1,18)","v":""},{"$f":"IF(ISBLANK('DE01-F12'!P1301),\"\",('DE01-F12'!P1301))","v":""},{"$f":"IF(ISBLANK('DE01-F12'!Q1301),\"\",('DE01-F12'!Q1301))","v":""},{"$f":"IF(ISBLANK('DE01-F12'!S1301),\"\",('DE01-F12'!S1301))","v":0}]
[{"$f":"IF(ISBLANK('DE01-F12'!N1302),\"\",('DE01-F12'!N1302))","v":""},{"$f":"MID('DE01-F12'!G1302,1,18)","v":""},{"$f":"IF(ISBLANK('DE01-F12'!P1302),\"\",('DE01-F12'!P1302))","v":""},{"$f":"IF(ISBLANK('DE01-F12'!Q1302),\"\",('DE01-F12'!Q1302))","v":""},{"$f":"IF(ISBLANK('DE01-F12'!S1302),\"\",('DE01-F12'!S1302))","v":0}]
[{"$f":"IF(ISBLANK('DE01-F12'!N1303),\"\",('DE01-F12'!N1303))","v":""},{"$f":"MID('DE01-F12'!G1303,1,18)","v":""},{"$f":"IF(ISBLANK('DE01-F12'!P1303),\"\",('DE01-F12'!P1303))","v":""},{"$f":"IF(ISBLANK('DE01-F12'!Q1303),\"\",('DE01-F12'!Q1303))","v":""},{"$f":"IF(ISBLANK('DE01-F12'!S1303),\"\",('DE01-F12'!S1303))","v":0}]
[{"$f":"IF(ISBLANK('DE01-F12'!N1304),\"\",('DE01-F12'!N1304))","v":""},{"$f":"MID('DE01-F12'!G1304,1,18)","v":""},{"$f":"IF(ISBLANK('DE01-F12'!P1304),\"\",('DE01-F12'!P1304))","v":""},{"$f":"IF(ISBLANK('DE01-F12'!Q1304),\"\",('DE01-F12'!Q1304))","v":""},{"$f":"IF(ISBLANK('DE01-F12'!S1304),\"\",('DE01-F12'!S1304))","v":0}]
[{"$f":"IF(ISBLANK('DE01-F12'!N1305),\"\",('DE01-F12'!N1305))","v":""},{"$f":"MID('DE01-F12'!G1305,1,18)","v":""},{"$f":"IF(ISBLANK('DE01-F12'!P1305),\"\",('DE01-F12'!P1305))","v":""},{"$f":"IF(ISBLANK('DE01-F12'!Q1305),\"\",('DE01-F12'!Q1305))","v":""},{"$f":"IF(ISBLANK('DE01-F12'!S1305),\"\",('DE01-F12'!S1305))","v":0}]
[{"$f":"IF(ISBLANK('DE01-F12'!N1306),\"\",('DE01-F12'!N1306))","v":""},{"$f":"MID('DE01-F12'!G1306,1,18)","v":""},{"$f":"IF(ISBLANK('DE01-F12'!P1306),\"\",('DE01-F12'!P1306))","v":""},{"$f":"IF(ISBLANK('DE01-F12'!Q1306),\"\",('DE01-F12'!Q1306))","v":""},{"$f":"IF(ISBLANK('DE01-F12'!S1306),\"\",('DE01-F12'!S1306))","v":0}]
[{"$f":"IF(ISBLANK('DE01-F12'!N1307),\"\",('DE01-F12'!N1307))","v":""},{"$f":"MID('DE01-F12'!G1307,1,18)","v":""},{"$f":"IF(ISBLANK('DE01-F12'!P1307),\"\",('DE01-F12'!P1307))","v":""},{"$f":"IF(ISBLANK('DE01-F12'!Q1307),\"\",('DE01-F12'!Q1307))","v":""},{"$f":"IF(ISBLANK('DE01-F12'!S1307),\"\",('DE01-F12'!S1307))","v":0}]
[{"$f":"IF(ISBLANK('DE01-F12'!N1308),\"\",('DE01-F12'!N1308))","v":""},{"$f":"MID('DE01-F12'!G1308,1,18)","v":""},{"$f":"IF(ISBLANK('DE01-F12'!P1308),\"\",('DE01-F12'!P1308))","v":""},{"$f":"IF(ISBLANK('DE01-F12'!Q1308),\"\",('DE01-F12'!Q1308))","v":""},{"$f":"IF(ISBLANK('DE01-F12'!S1308),\"\",('DE01-F12'!S1308))","v":0}]
[{"$f":"IF(ISBLANK('DE01-F12'!N1309),\"\",('DE01-F12'!N1309))","v":""},{"$f":"MID('DE01-F12'!G1309,1,18)","v":""},{"$f":"IF(ISBLANK('DE01-F12'!P1309),\"\",('DE01-F12'!P1309))","v":""},{"$f":"IF(ISBLANK('DE01-F12'!Q1309),\"\",('DE01-F12'!Q1309))","v":""},{"$f":"IF(ISBLANK('DE01-F12'!S1309),\"\",('DE01-F12'!S1309))","v":0}]
[{"$f":"IF(ISBLANK('DE01-F12'!N1310),\"\",('DE01-F12'!N1310))","v":""},{"$f":"MID('DE01-F12'!G1310,1,18)","v":""},{"$f":"IF(ISBLANK('DE01-F12'!P1310),\"\",('DE01-F12'!P1310))","v":""},{"$f":"IF(ISBLANK('DE01-F12'!Q1310),\"\",('DE01-F12'!Q1310))","v":""},{"$f":"IF(ISBLANK('DE01-F12'!S1310),\"\",('DE01-F12'!S1310))","v":0}]
[{"$f":"IF(ISBLANK('DE01-F12'!N1311),\"\",('DE01-F12'!N1311))","v":""},{"$f":"MID('DE01-F12'!G1311,1,18)","v":""},{"$f":"IF(ISBLANK('DE01-F12'!P1311),\"\",('DE01-F12'!P1311))","v":""},{"$f":"IF(ISBLANK('DE01-F12'!Q1311),\"\",('DE01-F12'!Q1311))","v":""},{"$f":"IF(ISBLANK('DE01-F12'!S1311),\"\",('DE01-F12'!S1311))","v":0}]
[{"$f":"IF(ISBLANK('DE01-F12'!N1312),\"\",('DE01-F12'!N1312))","v":""},{"$f":"MID('DE01-F12'!G1312,1,18)","v":""},{"$f":"IF(ISBLANK('DE01-F12'!P1312),\"\",('DE01-F12'!P1312))","v":""},{"$f":"IF(ISBLANK('DE01-F12'!Q1312),\"\",('DE01-F12'!Q1312))","v":""},{"$f":"IF(ISBLANK('DE01-F12'!S1312),\"\",('DE01-F12'!S1312))","v":0}]
[{"$f":"IF(ISBLANK('DE01-F12'!N1313),\"\",('DE01-F12'!N1313))","v":""},{"$f":"MID('DE01-F12'!G1313,1,18)","v":""},{"$f":"IF(ISBLANK('DE01-F12'!P1313),\"\",('DE01-F12'!P1313))","v":""},{"$f":"IF(ISBLANK('DE01-F12'!Q1313),\"\",('DE01-F12'!Q1313))","v":""},{"$f":"IF(ISBLANK('DE01-F12'!S1313),\"\",('DE01-F12'!S1313))","v":0}]
[{"$f":"IF(ISBLANK('DE01-F12'!N1314),\"\",('DE01-F12'!N1314))","v":""},{"$f":"MID('DE01-F12'!G1314,1,18)","v":""},{"$f":"IF(ISBLANK('DE01-F12'!P1314),\"\",('DE01-F12'!P1314))","v":""},{"$f":"IF(ISBLANK('DE01-F12'!Q1314),\"\",('DE01-F12'!Q1314))","v":""},{"$f":"IF(ISBLANK('DE01-F12'!S1314),\"\",('DE01-F12'!S1314))","v":0}]
[{"$f":"IF(ISBLANK('DE01-F12'!N1315),\"\",('DE01-F12'!N1315))","v":""},{"$f":"MID('DE01-F12'!G1315,1,18)","v":""},{"$f":"IF(ISBLANK('DE01-F12'!P1315),\"\",('DE01-F12'!P1315))","v":""},{"$f":"IF(ISBLANK('DE01-F12'!Q1315),\"\",('DE01-F12'!Q1315))","v":""},{"$f":"IF(ISBLANK('DE01-F12'!S1315),\"\",('DE01-F12'!S1315))","v":0}]
[{"$f":"IF(ISBLANK('DE01-F12'!N1316),\"\",('DE01-F12'!N1316))","v":""},{"$f":"MID('DE01-F12'!G1316,1,18)","v":""},{"$f":"IF(ISBLANK('DE01-F12'!P1316),\"\",('DE01-F12'!P1316))","v":""},{"$f":"IF(ISBLANK('DE01-F12'!Q1316),\"\",('DE01-F12'!Q1316))","v":""},{"$f":"IF(ISBLANK('DE01-F12'!S1316),\"\",('DE01-F12'!S1316))","v":0}]
[{"$f":"IF(ISBLANK('DE01-F12'!N1317),\"\",('DE01-F12'!N1317))","v":""},{"$f":"MID('DE01-F12'!G1317,1,18)","v":""},{"$f":"IF(ISBLANK('DE01-F12'!P1317),\"\",('DE01-F12'!P1317))","v":""},{"$f":"IF(ISBLANK('DE01-F12'!Q1317),\"\",('DE01-F12'!Q1317))","v":""},{"$f":"IF(ISBLANK('DE01-F12'!S1317),\"\",('DE01-F12'!S1317))","v":0}]
[{"$f":"IF(ISBLANK('DE01-F12'!N1318),\"\",('DE01-F12'!N1318))","v":""},{"$f":"MID('DE01-F12'!G1318,1,18)","v":""},{"$f":"IF(ISBLANK('DE01-F12'!P1318),\"\",('DE01-F12'!P1318))","v":""},{"$f":"IF(ISBLANK('DE01-F12'!Q1318),\"\",('DE01-F12'!Q1318))","v":""},{"$f":"IF(ISBLANK('DE01-F12'!S1318),\"\",('DE01-F12'!S1318))","v":0}]
[{"$f":"IF(ISBLANK('DE01-F12'!N1319),\"\",('DE01-F12'!N1319))","v":""},{"$f":"MID('DE01-F12'!G1319,1,18)","v":""},{"$f":"IF(ISBLANK('DE01-F12'!P1319),\"\",('DE01-F12'!P1319))","v":""},{"$f":"IF(ISBLANK('DE01-F12'!Q1319),\"\",('DE01-F12'!Q1319))","v":""},{"$f":"IF(ISBLANK('DE01-F12'!S1319),\"\",('DE01-F12'!S1319))","v":0}]
[{"$f":"IF(ISBLANK('DE01-F12'!N1320),\"\",('DE01-F12'!N1320))","v":""},{"$f":"MID('DE01-F12'!G1320,1,18)","v":""},{"$f":"IF(ISBLANK('DE01-F12'!P1320),\"\",('DE01-F12'!P1320))","v":""},{"$f":"IF(ISBLANK('DE01-F12'!Q1320),\"\",('DE01-F12'!Q1320))","v":""},{"$f":"IF(ISBLANK('DE01-F12'!S1320),\"\",('DE01-F12'!S1320))","v":0}]
[{"$f":"IF(ISBLANK('DE01-F12'!N1321),\"\",('DE01-F12'!N1321))","v":""},{"$f":"MID('DE01-F12'!G1321,1,18)","v":""},{"$f":"IF(ISBLANK('DE01-F12'!P1321),\"\",('DE01-F12'!P1321))","v":""},{"$f":"IF(ISBLANK('DE01-F12'!Q1321),\"\",('DE01-F12'!Q1321))","v":""},{"$f":"IF(ISBLANK('DE01-F12'!S1321),\"\",('DE01-F12'!S1321))","v":0}]
[{"$f":"IF(ISBLANK('DE01-F12'!N1322),\"\",('DE01-F12'!N1322))","v":""},{"$f":"MID('DE01-F12'!G1322,1,18)","v":""},{"$f":"IF(ISBLANK('DE01-F12'!P1322),\"\",('DE01-F12'!P1322))","v":""},{"$f":"IF(ISBLANK('DE01-F12'!Q1322),\"\",('DE01-F12'!Q1322))","v":""},{"$f":"IF(ISBLANK('DE01-F12'!S1322),\"\",('DE01-F12'!S1322))","v":0}]
[{"$f":"IF(ISBLANK('DE01-F12'!N1323),\"\",('DE01-F12'!N1323))","v":""},{"$f":"MID('DE01-F12'!G1323,1,18)","v":""},{"$f":"IF(ISBLANK('DE01-F12'!P1323),\"\",('DE01-F12'!P1323))","v":""},{"$f":"IF(ISBLANK('DE01-F12'!Q1323),\"\",('DE01-F12'!Q1323))","v":""},{"$f":"IF(ISBLANK('DE01-F12'!S1323),\"\",('DE01-F12'!S1323))","v":0}]
[{"$f":"IF(ISBLANK('DE01-F12'!N1324),\"\",('DE01-F12'!N1324))","v":""},{"$f":"MID('DE01-F12'!G1324,1,18)","v":""},{"$f":"IF(ISBLANK('DE01-F12'!P1324),\"\",('DE01-F12'!P1324))","v":""},{"$f":"IF(ISBLANK('DE01-F12'!Q1324),\"\",('DE01-F12'!Q1324))","v":""},{"$f":"IF(ISBLANK('DE01-F12'!S1324),\"\",('DE01-F12'!S1324))","v":0}]
[{"$f":"IF(ISBLANK('DE01-F12'!N1325),\"\",('DE01-F12'!N1325))","v":""},{"$f":"MID('DE01-F12'!G1325,1,18)","v":""},{"$f":"IF(ISBLANK('DE01-F12'!P1325),\"\",('DE01-F12'!P1325))","v":""},{"$f":"IF(ISBLANK('DE01-F12'!Q1325),\"\",('DE01-F12'!Q1325))","v":""},{"$f":"IF(ISBLANK('DE01-F12'!S1325),\"\",('DE01-F12'!S1325))","v":0}]
[{"$f":"IF(ISBLANK('DE01-F12'!N1326),\"\",('DE01-F12'!N1326))","v":""},{"$f":"MID('DE01-F12'!G1326,1,18)","v":""},{"$f":"IF(ISBLANK('DE01-F12'!P1326),\"\",('DE01-F12'!P1326))","v":""},{"$f":"IF(ISBLANK('DE01-F12'!Q1326),\"\",('DE01-F12'!Q1326))","v":""},{"$f":"IF(ISBLANK('DE01-F12'!S1326),\"\",('DE01-F12'!S1326))","v":0}]
[{"$f":"IF(ISBLANK('DE01-F12'!N1327),\"\",('DE01-F12'!N1327))","v":""},{"$f":"MID('DE01-F12'!G1327,1,18)","v":""},{"$f":"IF(ISBLANK('DE01-F12'!P1327),\"\",('DE01-F12'!P1327))","v":""},{"$f":"IF(ISBLANK('DE01-F12'!Q1327),\"\",('DE01-F12'!Q1327))","v":""},{"$f":"IF(ISBLANK('DE01-F12'!S1327),\"\",('DE01-F12'!S1327))","v":0}]
[{"$f":"IF(ISBLANK('DE01-F12'!N1328),\"\",('DE01-F12'!N1328))","v":""},{"$f":"MID('DE01-F12'!G1328,1,18)","v":""},{"$f":"IF(ISBLANK('DE01-F12'!P1328),\"\",('DE01-F12'!P1328))","v":""},{"$f":"IF(ISBLANK('DE01-F12'!Q1328),\"\",('DE01-F12'!Q1328))","v":""},{"$f":"IF(ISBLANK('DE01-F12'!S1328),\"\",('DE01-F12'!S1328))","v":0}]
[{"$f":"IF(ISBLANK('DE01-F12'!N1329),\"\",('DE01-F12'!N1329))","v":""},{"$f":"MID('DE01-F12'!G1329,1,18)","v":""},{"$f":"IF(ISBLANK('DE01-F12'!P1329),\"\",('DE01-F12'!P1329))","v":""},{"$f":"IF(ISBLANK('DE01-F12'!Q1329),\"\",('DE01-F12'!Q1329))","v":""},{"$f":"IF(ISBLANK('DE01-F12'!S1329),\"\",('DE01-F12'!S1329))","v":0}]
[{"$f":"IF(ISBLANK('DE01-F12'!N1330),\"\",('DE01-F12'!N1330))","v":""},{"$f":"MID('DE01-F12'!G1330,1,18)","v":""},{"$f":"IF(ISBLANK('DE01-F12'!P1330),\"\",('DE01-F12'!P1330))","v":""},{"$f":"IF(ISBLANK('DE01-F12'!Q1330),\"\",('DE01-F12'!Q1330))","v":""},{"$f":"IF(ISBLANK('DE01-F12'!S1330),\"\",('DE01-F12'!S1330))","v":0}]
[{"$f":"IF(ISBLANK('DE01-F12'!N1331),\"\",('DE01-F12'!N1331))","v":""},{"$f":"MID('DE01-F12'!G1331,1,18)","v":""},{"$f":"IF(ISBLANK('DE01-F12'!P1331),\"\",('DE01-F12'!P1331))","v":""},{"$f":"IF(ISBLANK('DE01-F12'!Q1331),\"\",('DE01-F12'!Q1331))","v":""},{"$f":"IF(ISBLANK('DE01-F12'!S1331),\"\",('DE01-F12'!S1331))","v":0}]
[{"$f":"IF(ISBLANK('DE01-F12'!N1332),\"\",('DE01-F12'!N1332))","v":""},{"$f":"MID('DE01-F12'!G1332,1,18)","v":""},{"$f":"IF(ISBLANK('DE01-F12'!P1332),\"\",('DE01-F12'!P1332))","v":""},{"$f":"IF(ISBLANK('DE01-F12'!Q1332),\"\",('DE01-F12'!Q1332))","v":""},{"$f":"IF(ISBLANK('DE01-F12'!S1332),\"\",('DE01-F12'!S1332))","v":0}]
[{"$f":"IF(ISBLANK('DE01-F12'!N1333),\"\",('DE01-F12'!N1333))","v":""},{"$f":"MID('DE01-F12'!G1333,1,18)","v":""},{"$f":"IF(ISBLANK('DE01-F12'!P1333),\"\",('DE01-F12'!P1333))","v":""},{"$f":"IF(ISBLANK('DE01-F12'!Q1333),\"\",('DE01-F12'!Q1333))","v":""},{"$f":"IF(ISBLANK('DE01-F12'!S1333),\"\",('DE01-F12'!S1333))","v":0}]
[{"$f":"IF(ISBLANK('DE01-F12'!N1334),\"\",('DE01-F12'!N1334))","v":""},{"$f":"MID('DE01-F12'!G1334,1,18)","v":""},{"$f":"IF(ISBLANK('DE01-F12'!P1334),\"\",('DE01-F12'!P1334))","v":""},{"$f":"IF(ISBLANK('DE01-F12'!Q1334),\"\",('DE01-F12'!Q1334))","v":""},{"$f":"IF(ISBLANK('DE01-F12'!S1334),\"\",('DE01-F12'!S1334))","v":0}]
[{"$f":"IF(ISBLANK('DE01-F12'!N1335),\"\",('DE01-F12'!N1335))","v":""},{"$f":"MID('DE01-F12'!G1335,1,18)","v":""},{"$f":"IF(ISBLANK('DE01-F12'!P1335),\"\",('DE01-F12'!P1335))","v":""},{"$f":"IF(ISBLANK('DE01-F12'!Q1335),\"\",('DE01-F12'!Q1335))","v":""},{"$f":"IF(ISBLANK('DE01-F12'!S1335),\"\",('DE01-F12'!S1335))","v":0}]
[{"$f":"IF(ISBLANK('DE01-F12'!N1336),\"\",('DE01-F12'!N1336))","v":""},{"$f":"MID('DE01-F12'!G1336,1,18)","v":""},{"$f":"IF(ISBLANK('DE01-F12'!P1336),\"\",('DE01-F12'!P1336))","v":""},{"$f":"IF(ISBLANK('DE01-F12'!Q1336),\"\",('DE01-F12'!Q1336))","v":""},{"$f":"IF(ISBLANK('DE01-F12'!S1336),\"\",('DE01-F12'!S1336))","v":0}]
[{"$f":"IF(ISBLANK('DE01-F12'!N1337),\"\",('DE01-F12'!N1337))","v":""},{"$f":"MID('DE01-F12'!G1337,1,18)","v":""},{"$f":"IF(ISBLANK('DE01-F12'!P1337),\"\",('DE01-F12'!P1337))","v":""},{"$f":"IF(ISBLANK('DE01-F12'!Q1337),\"\",('DE01-F12'!Q1337))","v":""},{"$f":"IF(ISBLANK('DE01-F12'!S1337),\"\",('DE01-F12'!S1337))","v":0}]
[{"$f":"IF(ISBLANK('DE01-F12'!N1338),\"\",('DE01-F12'!N1338))","v":""},{"$f":"MID('DE01-F12'!G1338,1,18)","v":""},{"$f":"IF(ISBLANK('DE01-F12'!P1338),\"\",('DE01-F12'!P1338))","v":""},{"$f":"IF(ISBLANK('DE01-F12'!Q1338),\"\",('DE01-F12'!Q1338))","v":""},{"$f":"IF(ISBLANK('DE01-F12'!S1338),\"\",('DE01-F12'!S1338))","v":0}]
[{"$f":"IF(ISBLANK('DE01-F12'!N1339),\"\",('DE01-F12'!N1339))","v":""},{"$f":"MID('DE01-F12'!G1339,1,18)","v":""},{"$f":"IF(ISBLANK('DE01-F12'!P1339),\"\",('DE01-F12'!P1339))","v":""},{"$f":"IF(ISBLANK('DE01-F12'!Q1339),\"\",('DE01-F12'!Q1339))","v":""},{"$f":"IF(ISBLANK('DE01-F12'!S1339),\"\",('DE01-F12'!S1339))","v":0}]
[{"$f":"IF(ISBLANK('DE01-F12'!N1340),\"\",('DE01-F12'!N1340))","v":""},{"$f":"MID('DE01-F12'!G1340,1,18)","v":""},{"$f":"IF(ISBLANK('DE01-F12'!P1340),\"\",('DE01-F12'!P1340))","v":""},{"$f":"IF(ISBLANK('DE01-F12'!Q1340),\"\",('DE01-F12'!Q1340))","v":""},{"$f":"IF(ISBLANK('DE01-F12'!S1340),\"\",('DE01-F12'!S1340))","v":0}]
[{"$f":"IF(ISBLANK('DE01-F12'!N1341),\"\",('DE01-F12'!N1341))","v":""},{"$f":"MID('DE01-F12'!G1341,1,18)","v":""},{"$f":"IF(ISBLANK('DE01-F12'!P1341),\"\",('DE01-F12'!P1341))","v":""},{"$f":"IF(ISBLANK('DE01-F12'!Q1341),\"\",('DE01-F12'!Q1341))","v":""},{"$f":"IF(ISBLANK('DE01-F12'!S1341),\"\",('DE01-F12'!S1341))","v":0}]
[{"$f":"IF(ISBLANK('DE01-F12'!N1342),\"\",('DE01-F12'!N1342))","v":""},{"$f":"MID('DE01-F12'!G1342,1,18)","v":""},{"$f":"IF(ISBLANK('DE01-F12'!P1342),\"\",('DE01-F12'!P1342))","v":""},{"$f":"IF(ISBLANK('DE01-F12'!Q1342),\"\",('DE01-F12'!Q1342))","v":""},{"$f":"IF(ISBLANK('DE01-F12'!S1342),\"\",('DE01-F12'!S1342))","v":0}]
[{"$f":"IF(ISBLANK('DE01-F12'!N1343),\"\",('DE01-F12'!N1343))","v":""},{"$f":"MID('DE01-F12'!G1343,1,18)","v":""},{"$f":"IF(ISBLANK('DE01-F12'!P1343),\"\",('DE01-F12'!P1343))","v":""},{"$f":"IF(ISBLANK('DE01-F12'!Q1343),\"\",('DE01-F12'!Q1343))","v":""},{"$f":"IF(ISBLANK('DE01-F12'!S1343),\"\",('DE01-F12'!S1343))","v":0}]
[{"$f":"IF(ISBLANK('DE01-F12'!N1344),\"\",('DE01-F12'!N1344))","v":""},{"$f":"MID('DE01-F12'!G1344,1,18)","v":""},{"$f":"IF(ISBLANK('DE01-F12'!P1344),\"\",('DE01-F12'!P1344))","v":""},{"$f":"IF(ISBLANK('DE01-F12'!Q1344),\"\",('DE01-F12'!Q1344))","v":""},{"$f":"IF(ISBLANK('DE01-F12'!S1344),\"\",('DE01-F12'!S1344))","v":0}]
[{"$f":"IF(ISBLANK('DE01-F12'!N1345),\"\",('DE01-F12'!N1345))","v":""},{"$f":"MID('DE01-F12'!G1345,1,18)","v":""},{"$f":"IF(ISBLANK('DE01-F12'!P1345),\"\",('DE01-F12'!P1345))","v":""},{"$f":"IF(ISBLANK('DE01-F12'!Q1345),\"\",('DE01-F12'!Q1345))","v":""},{"$f":"IF(ISBLANK('DE01-F12'!S1345),\"\",('DE01-F12'!S1345))","v":0}]
[{"$f":"IF(ISBLANK('DE01-F12'!N1346),\"\",('DE01-F12'!N1346))","v":""},{"$f":"MID('DE01-F12'!G1346,1,18)","v":""},{"$f":"IF(ISBLANK('DE01-F12'!P1346),\"\",('DE01-F12'!P1346))","v":""},{"$f":"IF(ISBLANK('DE01-F12'!Q1346),\"\",('DE01-F12'!Q1346))","v":""},{"$f":"IF(ISBLANK('DE01-F12'!S1346),\"\",('DE01-F12'!S1346))","v":0}]
[{"$f":"IF(ISBLANK('DE01-F12'!N1347),\"\",('DE01-F12'!N1347))","v":""},{"$f":"MID('DE01-F12'!G1347,1,18)","v":""},{"$f":"IF(ISBLANK('DE01-F12'!P1347),\"\",('DE01-F12'!P1347))","v":""},{"$f":"IF(ISBLANK('DE01-F12'!Q1347),\"\",('DE01-F12'!Q1347))","v":""},{"$f":"IF(ISBLANK('DE01-F12'!S1347),\"\",('DE01-F12'!S1347))","v":0}]
[{"$f":"IF(ISBLANK('DE01-F12'!N1348),\"\",('DE01-F12'!N1348))","v":""},{"$f":"MID('DE01-F12'!G1348,1,18)","v":""},{"$f":"IF(ISBLANK('DE01-F12'!P1348),\"\",('DE01-F12'!P1348))","v":""},{"$f":"IF(ISBLANK('DE01-F12'!Q1348),\"\",('DE01-F12'!Q1348))","v":""},{"$f":"IF(ISBLANK('DE01-F12'!S1348),\"\",('DE01-F12'!S1348))","v":0}]
[{"$f":"IF(ISBLANK('DE01-F12'!N1349),\"\",('DE01-F12'!N1349))","v":""},{"$f":"MID('DE01-F12'!G1349,1,18)","v":""},{"$f":"IF(ISBLANK('DE01-F12'!P1349),\"\",('DE01-F12'!P1349))","v":""},{"$f":"IF(ISBLANK('DE01-F12'!Q1349),\"\",('DE01-F12'!Q1349))","v":""},{"$f":"IF(ISBLANK('DE01-F12'!S1349),\"\",('DE01-F12'!S1349))","v":0}]
[{"$f":"IF(ISBLANK('DE01-F12'!N1350),\"\",('DE01-F12'!N1350))","v":""},{"$f":"MID('DE01-F12'!G1350,1,18)","v":""},{"$f":"IF(ISBLANK('DE01-F12'!P1350),\"\",('DE01-F12'!P1350))","v":""},{"$f":"IF(ISBLANK('DE01-F12'!Q1350),\"\",('DE01-F12'!Q1350))","v":""},{"$f":"IF(ISBLANK('DE01-F12'!S1350),\"\",('DE01-F12'!S1350))","v":0}]
[{"$f":"IF(ISBLANK('DE01-F12'!N1351),\"\",('DE01-F12'!N1351))","v":""},{"$f":"MID('DE01-F12'!G1351,1,18)","v":""},{"$f":"IF(ISBLANK('DE01-F12'!P1351),\"\",('DE01-F12'!P1351))","v":""},{"$f":"IF(ISBLANK('DE01-F12'!Q1351),\"\",('DE01-F12'!Q1351))","v":""},{"$f":"IF(ISBLANK('DE01-F12'!S1351),\"\",('DE01-F12'!S1351))","v":0}]
[{"$f":"IF(ISBLANK('DE01-F12'!N1352),\"\",('DE01-F12'!N1352))","v":""},{"$f":"MID('DE01-F12'!G1352,1,18)","v":""},{"$f":"IF(ISBLANK('DE01-F12'!P1352),\"\",('DE01-F12'!P1352))","v":""},{"$f":"IF(ISBLANK('DE01-F12'!Q1352),\"\",('DE01-F12'!Q1352))","v":""},{"$f":"IF(ISBLANK('DE01-F12'!S1352),\"\",('DE01-F12'!S1352))","v":0}]
[{"$f":"IF(ISBLANK('DE01-F12'!N1353),\"\",('DE01-F12'!N1353))","v":""},{"$f":"MID('DE01-F12'!G1353,1,18)","v":""},{"$f":"IF(ISBLANK('DE01-F12'!P1353),\"\",('DE01-F12'!P1353))","v":""},{"$f":"IF(ISBLANK('DE01-F12'!Q1353),\"\",('DE01-F12'!Q1353))","v":""},{"$f":"IF(ISBLANK('DE01-F12'!S1353),\"\",('DE01-F12'!S1353))","v":0}]
[{"$f":"IF(ISBLANK('DE01-F12'!N1354),\"\",('DE01-F12'!N1354))","v":""},{"$f":"MID('DE01-F12'!G1354,1,18)","v":""},{"$f":"IF(ISBLANK('DE01-F12'!P1354),\"\",('DE01-F12'!P1354))","v":""},{"$f":"IF(ISBLANK('DE01-F12'!Q1354),\"\",('DE01-F12'!Q1354))","v":""},{"$f":"IF(ISBLANK('DE01-F12'!S1354),\"\",('DE01-F12'!S1354))","v":0}]
[{"$f":"IF(ISBLANK('DE01-F12'!N1355),\"\",('DE01-F12'!N1355))","v":""},{"$f":"MID('DE01-F12'!G1355,1,18)","v":""},{"$f":"IF(ISBLANK('DE01-F12'!P1355),\"\",('DE01-F12'!P1355))","v":""},{"$f":"IF(ISBLANK('DE01-F12'!Q1355),\"\",('DE01-F12'!Q1355))","v":""},{"$f":"IF(ISBLANK('DE01-F12'!S1355),\"\",('DE01-F12'!S1355))","v":0}]
[{"$f":"IF(ISBLANK('DE01-F12'!N1356),\"\",('DE01-F12'!N1356))","v":""},{"$f":"MID('DE01-F12'!G1356,1,18)","v":""},{"$f":"IF(ISBLANK('DE01-F12'!P1356),\"\",('DE01-F12'!P1356))","v":""},{"$f":"IF(ISBLANK('DE01-F12'!Q1356),\"\",('DE01-F12'!Q1356))","v":""},{"$f":"IF(ISBLANK('DE01-F12'!S1356),\"\",('DE01-F12'!S1356))","v":0}]
[{"$f":"IF(ISBLANK('DE01-F12'!N1357),\"\",('DE01-F12'!N1357))","v":""},{"$f":"MID('DE01-F12'!G1357,1,18)","v":""},{"$f":"IF(ISBLANK('DE01-F12'!P1357),\"\",('DE01-F12'!P1357))","v":""},{"$f":"IF(ISBLANK('DE01-F12'!Q1357),\"\",('DE01-F12'!Q1357))","v":""},{"$f":"IF(ISBLANK('DE01-F12'!S1357),\"\",('DE01-F12'!S1357))","v":0}]
[{"$f":"IF(ISBLANK('DE01-F12'!N1358),\"\",('DE01-F12'!N1358))","v":""},{"$f":"MID('DE01-F12'!G1358,1,18)","v":""},{"$f":"IF(ISBLANK('DE01-F12'!P1358),\"\",('DE01-F12'!P1358))","v":""},{"$f":"IF(ISBLANK('DE01-F12'!Q1358),\"\",('DE01-F12'!Q1358))","v":""},{"$f":"IF(ISBLANK('DE01-F12'!S1358),\"\",('DE01-F12'!S1358))","v":0}]
[{"$f":"IF(ISBLANK('DE01-F12'!N1359),\"\",('DE01-F12'!N1359))","v":""},{"$f":"MID('DE01-F12'!G1359,1,18)","v":""},{"$f":"IF(ISBLANK('DE01-F12'!P1359),\"\",('DE01-F12'!P1359))","v":""},{"$f":"IF(ISBLANK('DE01-F12'!Q1359),\"\",('DE01-F12'!Q1359))","v":""},{"$f":"IF(ISBLANK('DE01-F12'!S1359),\"\",('DE01-F12'!S1359))","v":0}]
[{"$f":"IF(ISBLANK('DE01-F12'!N1360),\"\",('DE01-F12'!N1360))","v":""},{"$f":"MID('DE01-F12'!G1360,1,18)","v":""},{"$f":"IF(ISBLANK('DE01-F12'!P1360),\"\",('DE01-F12'!P1360))","v":""},{"$f":"IF(ISBLANK('DE01-F12'!Q1360),\"\",('DE01-F12'!Q1360))","v":""},{"$f":"IF(ISBLANK('DE01-F12'!S1360),\"\",('DE01-F12'!S1360))","v":0}]
[{"$f":"IF(ISBLANK('DE01-F12'!N1361),\"\",('DE01-F12'!N1361))","v":""},{"$f":"MID('DE01-F12'!G1361,1,18)","v":""},{"$f":"IF(ISBLANK('DE01-F12'!P1361),\"\",('DE01-F12'!P1361))","v":""},{"$f":"IF(ISBLANK('DE01-F12'!Q1361),\"\",('DE01-F12'!Q1361))","v":""},{"$f":"IF(ISBLANK('DE01-F12'!S1361),\"\",('DE01-F12'!S1361))","v":0}]
[{"$f":"IF(ISBLANK('DE01-F12'!N1362),\"\",('DE01-F12'!N1362))","v":""},{"$f":"MID('DE01-F12'!G1362,1,18)","v":""},{"$f":"IF(ISBLANK('DE01-F12'!P1362),\"\",('DE01-F12'!P1362))","v":""},{"$f":"IF(ISBLANK('DE01-F12'!Q1362),\"\",('DE01-F12'!Q1362))","v":""},{"$f":"IF(ISBLANK('DE01-F12'!S1362),\"\",('DE01-F12'!S1362))","v":0}]
[{"$f":"IF(ISBLANK('DE01-F12'!N1363),\"\",('DE01-F12'!N1363))","v":""},{"$f":"MID('DE01-F12'!G1363,1,18)","v":""},{"$f":"IF(ISBLANK('DE01-F12'!P1363),\"\",('DE01-F12'!P1363))","v":""},{"$f":"IF(ISBLANK('DE01-F12'!Q1363),\"\",('DE01-F12'!Q1363))","v":""},{"$f":"IF(ISBLANK('DE01-F12'!S1363),\"\",('DE01-F12'!S1363))","v":0}]
[{"$f":"IF(ISBLANK('DE01-F12'!N1364),\"\",('DE01-F12'!N1364))","v":""},{"$f":"MID('DE01-F12'!G1364,1,18)","v":""},{"$f":"IF(ISBLANK('DE01-F12'!P1364),\"\",('DE01-F12'!P1364))","v":""},{"$f":"IF(ISBLANK('DE01-F12'!Q1364),\"\",('DE01-F12'!Q1364))","v":""},{"$f":"IF(ISBLANK('DE01-F12'!S1364),\"\",('DE01-F12'!S1364))","v":0}]
[{"$f":"IF(ISBLANK('DE01-F12'!N1365),\"\",('DE01-F12'!N1365))","v":""},{"$f":"MID('DE01-F12'!G1365,1,18)","v":""},{"$f":"IF(ISBLANK('DE01-F12'!P1365),\"\",('DE01-F12'!P1365))","v":""},{"$f":"IF(ISBLANK('DE01-F12'!Q1365),\"\",('DE01-F12'!Q1365))","v":""},{"$f":"IF(ISBLANK('DE01-F12'!S1365),\"\",('DE01-F12'!S1365))","v":0}]
[{"$f":"IF(ISBLANK('DE01-F12'!N1366),\"\",('DE01-F12'!N1366))","v":""},{"$f":"MID('DE01-F12'!G1366,1,18)","v":""},{"$f":"IF(ISBLANK('DE01-F12'!P1366),\"\",('DE01-F12'!P1366))","v":""},{"$f":"IF(ISBLANK('DE01-F12'!Q1366),\"\",('DE01-F12'!Q1366))","v":""},{"$f":"IF(ISBLANK('DE01-F12'!S1366),\"\",('DE01-F12'!S1366))","v":0}]
[{"$f":"IF(ISBLANK('DE01-F12'!N1367),\"\",('DE01-F12'!N1367))","v":""},{"$f":"MID('DE01-F12'!G1367,1,18)","v":""},{"$f":"IF(ISBLANK('DE01-F12'!P1367),\"\",('DE01-F12'!P1367))","v":""},{"$f":"IF(ISBLANK('DE01-F12'!Q1367),\"\",('DE01-F12'!Q1367))","v":""},{"$f":"IF(ISBLANK('DE01-F12'!S1367),\"\",('DE01-F12'!S1367))","v":0}]
[{"$f":"IF(ISBLANK('DE01-F12'!N1368),\"\",('DE01-F12'!N1368))","v":""},{"$f":"MID('DE01-F12'!G1368,1,18)","v":""},{"$f":"IF(ISBLANK('DE01-F12'!P1368),\"\",('DE01-F12'!P1368))","v":""},{"$f":"IF(ISBLANK('DE01-F12'!Q1368),\"\",('DE01-F12'!Q1368))","v":""},{"$f":"IF(ISBLANK('DE01-F12'!S1368),\"\",('DE01-F12'!S1368))","v":0}]
[{"$f":"IF(ISBLANK('DE01-F12'!N1369),\"\",('DE01-F12'!N1369))","v":""},{"$f":"MID('DE01-F12'!G1369,1,18)","v":""},{"$f":"IF(ISBLANK('DE01-F12'!P1369),\"\",('DE01-F12'!P1369))","v":""},{"$f":"IF(ISBLANK('DE01-F12'!Q1369),\"\",('DE01-F12'!Q1369))","v":""},{"$f":"IF(ISBLANK('DE01-F12'!S1369),\"\",('DE01-F12'!S1369))","v":0}]
[{"$f":"IF(ISBLANK('DE01-F12'!N1370),\"\",('DE01-F12'!N1370))","v":""},{"$f":"MID('DE01-F12'!G1370,1,18)","v":""},{"$f":"IF(ISBLANK('DE01-F12'!P1370),\"\",('DE01-F12'!P1370))","v":""},{"$f":"IF(ISBLANK('DE01-F12'!Q1370),\"\",('DE01-F12'!Q1370))","v":""},{"$f":"IF(ISBLANK('DE01-F12'!S1370),\"\",('DE01-F12'!S1370))","v":0}]
[{"$f":"IF(ISBLANK('DE01-F12'!N1371),\"\",('DE01-F12'!N1371))","v":""},{"$f":"MID('DE01-F12'!G1371,1,18)","v":""},{"$f":"IF(ISBLANK('DE01-F12'!P1371),\"\",('DE01-F12'!P1371))","v":""},{"$f":"IF(ISBLANK('DE01-F12'!Q1371),\"\",('DE01-F12'!Q1371))","v":""},{"$f":"IF(ISBLANK('DE01-F12'!S1371),\"\",('DE01-F12'!S1371))","v":0}]
[{"$f":"IF(ISBLANK('DE01-F12'!N1372),\"\",('DE01-F12'!N1372))","v":""},{"$f":"MID('DE01-F12'!G1372,1,18)","v":""},{"$f":"IF(ISBLANK('DE01-F12'!P1372),\"\",('DE01-F12'!P1372))","v":""},{"$f":"IF(ISBLANK('DE01-F12'!Q1372),\"\",('DE01-F12'!Q1372))","v":""},{"$f":"IF(ISBLANK('DE01-F12'!S1372),\"\",('DE01-F12'!S1372))","v":0}]
[{"$f":"IF(ISBLANK('DE01-F12'!N1373),\"\",('DE01-F12'!N1373))","v":""},{"$f":"MID('DE01-F12'!G1373,1,18)","v":""},{"$f":"IF(ISBLANK('DE01-F12'!P1373),\"\",('DE01-F12'!P1373))","v":""},{"$f":"IF(ISBLANK('DE01-F12'!Q1373),\"\",('DE01-F12'!Q1373))","v":""},{"$f":"IF(ISBLANK('DE01-F12'!S1373),\"\",('DE01-F12'!S1373))","v":0}]
[{"$f":"IF(ISBLANK('DE01-F12'!N1374),\"\",('DE01-F12'!N1374))","v":""},{"$f":"MID('DE01-F12'!G1374,1,18)","v":""},{"$f":"IF(ISBLANK('DE01-F12'!P1374),\"\",('DE01-F12'!P1374))","v":""},{"$f":"IF(ISBLANK('DE01-F12'!Q1374),\"\",('DE01-F12'!Q1374))","v":""},{"$f":"IF(ISBLANK('DE01-F12'!S1374),\"\",('DE01-F12'!S1374))","v":0}]
[{"$f":"IF(ISBLANK('DE01-F12'!N1375),\"\",('DE01-F12'!N1375))","v":""},{"$f":"MID('DE01-F12'!G1375,1,18)","v":""},{"$f":"IF(ISBLANK('DE01-F12'!P1375),\"\",('DE01-F12'!P1375))","v":""},{"$f":"IF(ISBLANK('DE01-F12'!Q1375),\"\",('DE01-F12'!Q1375))","v":""},{"$f":"IF(ISBLANK('DE01-F12'!S1375),\"\",('DE01-F12'!S1375))","v":0}]
[{"$f":"IF(ISBLANK('DE01-F12'!N1376),\"\",('DE01-F12'!N1376))","v":""},{"$f":"MID('DE01-F12'!G1376,1,18)","v":""},{"$f":"IF(ISBLANK('DE01-F12'!P1376),\"\",('DE01-F12'!P1376))","v":""},{"$f":"IF(ISBLANK('DE01-F12'!Q1376),\"\",('DE01-F12'!Q1376))","v":""},{"$f":"IF(ISBLANK('DE01-F12'!S1376),\"\",('DE01-F12'!S1376))","v":0}]
[{"$f":"IF(ISBLANK('DE01-F12'!N1377),\"\",('DE01-F12'!N1377))","v":""},{"$f":"MID('DE01-F12'!G1377,1,18)","v":""},{"$f":"IF(ISBLANK('DE01-F12'!P1377),\"\",('DE01-F12'!P1377))","v":""},{"$f":"IF(ISBLANK('DE01-F12'!Q1377),\"\",('DE01-F12'!Q1377))","v":""},{"$f":"IF(ISBLANK('DE01-F12'!S1377),\"\",('DE01-F12'!S1377))","v":0}]
[{"$f":"IF(ISBLANK('DE01-F12'!N1378),\"\",('DE01-F12'!N1378))","v":""},{"$f":"MID('DE01-F12'!G1378,1,18)","v":""},{"$f":"IF(ISBLANK('DE01-F12'!P1378),\"\",('DE01-F12'!P1378))","v":""},{"$f":"IF(ISBLANK('DE01-F12'!Q1378),\"\",('DE01-F12'!Q1378))","v":""},{"$f":"IF(ISBLANK('DE01-F12'!S1378),\"\",('DE01-F12'!S1378))","v":0}]
[{"$f":"IF(ISBLANK('DE01-F12'!N1379),\"\",('DE01-F12'!N1379))","v":""},{"$f":"MID('DE01-F12'!G1379,1,18)","v":""},{"$f":"IF(ISBLANK('DE01-F12'!P1379),\"\",('DE01-F12'!P1379))","v":""},{"$f":"IF(ISBLANK('DE01-F12'!Q1379),\"\",('DE01-F12'!Q1379))","v":""},{"$f":"IF(ISBLANK('DE01-F12'!S1379),\"\",('DE01-F12'!S1379))","v":0}]
[{"$f":"IF(ISBLANK('DE01-F12'!N1380),\"\",('DE01-F12'!N1380))","v":""},{"$f":"MID('DE01-F12'!G1380,1,18)","v":""},{"$f":"IF(ISBLANK('DE01-F12'!P1380),\"\",('DE01-F12'!P1380))","v":""},{"$f":"IF(ISBLANK('DE01-F12'!Q1380),\"\",('DE01-F12'!Q1380))","v":""},{"$f":"IF(ISBLANK('DE01-F12'!S1380),\"\",('DE01-F12'!S1380))","v":0}]
[{"$f":"IF(ISBLANK('DE01-F12'!N1381),\"\",('DE01-F12'!N1381))","v":""},{"$f":"MID('DE01-F12'!G1381,1,18)","v":""},{"$f":"IF(ISBLANK('DE01-F12'!P1381),\"\",('DE01-F12'!P1381))","v":""},{"$f":"IF(ISBLANK('DE01-F12'!Q1381),\"\",('DE01-F12'!Q1381))","v":""},{"$f":"IF(ISBLANK('DE01-F12'!S1381),\"\",('DE01-F12'!S1381))","v":0}]
[{"$f":"IF(ISBLANK('DE01-F12'!N1382),\"\",('DE01-F12'!N1382))","v":""},{"$f":"MID('DE01-F12'!G1382,1,18)","v":""},{"$f":"IF(ISBLANK('DE01-F12'!P1382),\"\",('DE01-F12'!P1382))","v":""},{"$f":"IF(ISBLANK('DE01-F12'!Q1382),\"\",('DE01-F12'!Q1382))","v":""},{"$f":"IF(ISBLANK('DE01-F12'!S1382),\"\",('DE01-F12'!S1382))","v":0}]
[{"$f":"IF(ISBLANK('DE01-F12'!N1383),\"\",('DE01-F12'!N1383))","v":""},{"$f":"MID('DE01-F12'!G1383,1,18)","v":""},{"$f":"IF(ISBLANK('DE01-F12'!P1383),\"\",('DE01-F12'!P1383))","v":""},{"$f":"IF(ISBLANK('DE01-F12'!Q1383),\"\",('DE01-F12'!Q1383))","v":""},{"$f":"IF(ISBLANK('DE01-F12'!S1383),\"\",('DE01-F12'!S1383))","v":0}]
[{"$f":"IF(ISBLANK('DE01-F12'!N1384),\"\",('DE01-F12'!N1384))","v":""},{"$f":"MID('DE01-F12'!G1384,1,18)","v":""},{"$f":"IF(ISBLANK('DE01-F12'!P1384),\"\",('DE01-F12'!P1384))","v":""},{"$f":"IF(ISBLANK('DE01-F12'!Q1384),\"\",('DE01-F12'!Q1384))","v":""},{"$f":"IF(ISBLANK('DE01-F12'!S1384),\"\",('DE01-F12'!S1384))","v":0}]
[{"$f":"IF(ISBLANK('DE01-F12'!N1385),\"\",('DE01-F12'!N1385))","v":""},{"$f":"MID('DE01-F12'!G1385,1,18)","v":""},{"$f":"IF(ISBLANK('DE01-F12'!P1385),\"\",('DE01-F12'!P1385))","v":""},{"$f":"IF(ISBLANK('DE01-F12'!Q1385),\"\",('DE01-F12'!Q1385))","v":""},{"$f":"IF(ISBLANK('DE01-F12'!S1385),\"\",('DE01-F12'!S1385))","v":0}]
[{"$f":"IF(ISBLANK('DE01-F12'!N1386),\"\",('DE01-F12'!N1386))","v":""},{"$f":"MID('DE01-F12'!G1386,1,18)","v":""},{"$f":"IF(ISBLANK('DE01-F12'!P1386),\"\",('DE01-F12'!P1386))","v":""},{"$f":"IF(ISBLANK('DE01-F12'!Q1386),\"\",('DE01-F12'!Q1386))","v":""},{"$f":"IF(ISBLANK('DE01-F12'!S1386),\"\",('DE01-F12'!S1386))","v":0}]
[{"$f":"IF(ISBLANK('DE01-F12'!N1387),\"\",('DE01-F12'!N1387))","v":""},{"$f":"MID('DE01-F12'!G1387,1,18)","v":""},{"$f":"IF(ISBLANK('DE01-F12'!P1387),\"\",('DE01-F12'!P1387))","v":""},{"$f":"IF(ISBLANK('DE01-F12'!Q1387),\"\",('DE01-F12'!Q1387))","v":""},{"$f":"IF(ISBLANK('DE01-F12'!S1387),\"\",('DE01-F12'!S1387))","v":0}]
[{"$f":"IF(ISBLANK('DE01-F12'!N1388),\"\",('DE01-F12'!N1388))","v":""},{"$f":"MID('DE01-F12'!G1388,1,18)","v":""},{"$f":"IF(ISBLANK('DE01-F12'!P1388),\"\",('DE01-F12'!P1388))","v":""},{"$f":"IF(ISBLANK('DE01-F12'!Q1388),\"\",('DE01-F12'!Q1388))","v":""},{"$f":"IF(ISBLANK('DE01-F12'!S1388),\"\",('DE01-F12'!S1388))","v":0}]
[{"$f":"IF(ISBLANK('DE01-F12'!N1389),\"\",('DE01-F12'!N1389))","v":""},{"$f":"MID('DE01-F12'!G1389,1,18)","v":""},{"$f":"IF(ISBLANK('DE01-F12'!P1389),\"\",('DE01-F12'!P1389))","v":""},{"$f":"IF(ISBLANK('DE01-F12'!Q1389),\"\",('DE01-F12'!Q1389))","v":""},{"$f":"IF(ISBLANK('DE01-F12'!S1389),\"\",('DE01-F12'!S1389))","v":0}]
[{"$f":"IF(ISBLANK('DE01-F12'!N1390),\"\",('DE01-F12'!N1390))","v":""},{"$f":"MID('DE01-F12'!G1390,1,18)","v":""},{"$f":"IF(ISBLANK('DE01-F12'!P1390),\"\",('DE01-F12'!P1390))","v":""},{"$f":"IF(ISBLANK('DE01-F12'!Q1390),\"\",('DE01-F12'!Q1390))","v":""},{"$f":"IF(ISBLANK('DE01-F12'!S1390),\"\",('DE01-F12'!S1390))","v":0}]
[{"$f":"IF(ISBLANK('DE01-F12'!N1391),\"\",('DE01-F12'!N1391))","v":""},{"$f":"MID('DE01-F12'!G1391,1,18)","v":""},{"$f":"IF(ISBLANK('DE01-F12'!P1391),\"\",('DE01-F12'!P1391))","v":""},{"$f":"IF(ISBLANK('DE01-F12'!Q1391),\"\",('DE01-F12'!Q1391))","v":""},{"$f":"IF(ISBLANK('DE01-F12'!S1391),\"\",('DE01-F12'!S1391))","v":0}]
[{"$f":"IF(ISBLANK('DE01-F12'!N1392),\"\",('DE01-F12'!N1392))","v":""},{"$f":"MID('DE01-F12'!G1392,1,18)","v":""},{"$f":"IF(ISBLANK('DE01-F12'!P1392),\"\",('DE01-F12'!P1392))","v":""},{"$f":"IF(ISBLANK('DE01-F12'!Q1392),\"\",('DE01-F12'!Q1392))","v":""},{"$f":"IF(ISBLANK('DE01-F12'!S1392),\"\",('DE01-F12'!S1392))","v":0}]
[{"$f":"IF(ISBLANK('DE01-F12'!N1393),\"\",('DE01-F12'!N1393))","v":""},{"$f":"MID('DE01-F12'!G1393,1,18)","v":""},{"$f":"IF(ISBLANK('DE01-F12'!P1393),\"\",('DE01-F12'!P1393))","v":""},{"$f":"IF(ISBLANK('DE01-F12'!Q1393),\"\",('DE01-F12'!Q1393))","v":""},{"$f":"IF(ISBLANK('DE01-F12'!S1393),\"\",('DE01-F12'!S1393))","v":0}]
[{"$f":"IF(ISBLANK('DE01-F12'!N1394),\"\",('DE01-F12'!N1394))","v":""},{"$f":"MID('DE01-F12'!G1394,1,18)","v":""},{"$f":"IF(ISBLANK('DE01-F12'!P1394),\"\",('DE01-F12'!P1394))","v":""},{"$f":"IF(ISBLANK('DE01-F12'!Q1394),\"\",('DE01-F12'!Q1394))","v":""},{"$f":"IF(ISBLANK('DE01-F12'!S1394),\"\",('DE01-F12'!S1394))","v":0}]
[{"$f":"IF(ISBLANK('DE01-F12'!N1395),\"\",('DE01-F12'!N1395))","v":""},{"$f":"MID('DE01-F12'!G1395,1,18)","v":""},{"$f":"IF(ISBLANK('DE01-F12'!P1395),\"\",('DE01-F12'!P1395))","v":""},{"$f":"IF(ISBLANK('DE01-F12'!Q1395),\"\",('DE01-F12'!Q1395))","v":""},{"$f":"IF(ISBLANK('DE01-F12'!S1395),\"\",('DE01-F12'!S1395))","v":0}]
[{"$f":"IF(ISBLANK('DE01-F12'!N1396),\"\",('DE01-F12'!N1396))","v":""},{"$f":"MID('DE01-F12'!G1396,1,18)","v":""},{"$f":"IF(ISBLANK('DE01-F12'!P1396),\"\",('DE01-F12'!P1396))","v":""},{"$f":"IF(ISBLANK('DE01-F12'!Q1396),\"\",('DE01-F12'!Q1396))","v":""},{"$f":"IF(ISBLANK('DE01-F12'!S1396),\"\",('DE01-F12'!S1396))","v":0}]
[{"$f":"IF(ISBLANK('DE01-F12'!N1397),\"\",('DE01-F12'!N1397))","v":""},{"$f":"MID('DE01-F12'!G1397,1,18)","v":""},{"$f":"IF(ISBLANK('DE01-F12'!P1397),\"\",('DE01-F12'!P1397))","v":""},{"$f":"IF(ISBLANK('DE01-F12'!Q1397),\"\",('DE01-F12'!Q1397))","v":""},{"$f":"IF(ISBLANK('DE01-F12'!S1397),\"\",('DE01-F12'!S1397))","v":0}]
[{"$f":"IF(ISBLANK('DE01-F12'!N1398),\"\",('DE01-F12'!N1398))","v":""},{"$f":"MID('DE01-F12'!G1398,1,18)","v":""},{"$f":"IF(ISBLANK('DE01-F12'!P1398),\"\",('DE01-F12'!P1398))","v":""},{"$f":"IF(ISBLANK('DE01-F12'!Q1398),\"\",('DE01-F12'!Q1398))","v":""},{"$f":"IF(ISBLANK('DE01-F12'!S1398),\"\",('DE01-F12'!S1398))","v":0}]
[{"$f":"IF(ISBLANK('DE01-F12'!N1399),\"\",('DE01-F12'!N1399))","v":""},{"$f":"MID('DE01-F12'!G1399,1,18)","v":""},{"$f":"IF(ISBLANK('DE01-F12'!P1399),\"\",('DE01-F12'!P1399))","v":""},{"$f":"IF(ISBLANK('DE01-F12'!Q1399),\"\",('DE01-F12'!Q1399))","v":""},{"$f":"IF(ISBLANK('DE01-F12'!S1399),\"\",('DE01-F12'!S1399))","v":0}]
[{"$f":"IF(ISBLANK('DE01-F12'!N1400),\"\",('DE01-F12'!N1400))","v":""},{"$f":"MID('DE01-F12'!G1400,1,18)","v":""},{"$f":"IF(ISBLANK('DE01-F12'!P1400),\"\",('DE01-F12'!P1400))","v":""},{"$f":"IF(ISBLANK('DE01-F12'!Q1400),\"\",('DE01-F12'!Q1400))","v":""},{"$f":"IF(ISBLANK('DE01-F12'!S1400),\"\",('DE01-F12'!S1400))","v":0}]
[{"$f":"IF(ISBLANK('DE01-F12'!N1401),\"\",('DE01-F12'!N1401))","v":""},{"$f":"MID('DE01-F12'!G1401,1,18)","v":""},{"$f":"IF(ISBLANK('DE01-F12'!P1401),\"\",('DE01-F12'!P1401))","v":""},{"$f":"IF(ISBLANK('DE01-F12'!Q1401),\"\",('DE01-F12'!Q1401))","v":""},{"$f":"IF(ISBLANK('DE01-F12'!S1401),\"\",('DE01-F12'!S1401))","v":0}]
[{"$f":"IF(ISBLANK('DE01-F12'!N1402),\"\",('DE01-F12'!N1402))","v":""},{"$f":"MID('DE01-F12'!G1402,1,18)","v":""},{"$f":"IF(ISBLANK('DE01-F12'!P1402),\"\",('DE01-F12'!P1402))","v":""},{"$f":"IF(ISBLANK('DE01-F12'!Q1402),\"\",('DE01-F12'!Q1402))","v":""},{"$f":"IF(ISBLANK('DE01-F12'!S1402),\"\",('DE01-F12'!S1402))","v":0}]
[{"$f":"IF(ISBLANK('DE01-F12'!N1403),\"\",('DE01-F12'!N1403))","v":""},{"$f":"MID('DE01-F12'!G1403,1,18)","v":""},{"$f":"IF(ISBLANK('DE01-F12'!P1403),\"\",('DE01-F12'!P1403))","v":""},{"$f":"IF(ISBLANK('DE01-F12'!Q1403),\"\",('DE01-F12'!Q1403))","v":""},{"$f":"IF(ISBLANK('DE01-F12'!S1403),\"\",('DE01-F12'!S1403))","v":0}]
[{"$f":"IF(ISBLANK('DE01-F12'!N1404),\"\",('DE01-F12'!N1404))","v":""},{"$f":"MID('DE01-F12'!G1404,1,18)","v":""},{"$f":"IF(ISBLANK('DE01-F12'!P1404),\"\",('DE01-F12'!P1404))","v":""},{"$f":"IF(ISBLANK('DE01-F12'!Q1404),\"\",('DE01-F12'!Q1404))","v":""},{"$f":"IF(ISBLANK('DE01-F12'!S1404),\"\",('DE01-F12'!S1404))","v":0}]
[{"$f":"IF(ISBLANK('DE01-F12'!N1405),\"\",('DE01-F12'!N1405))","v":""},{"$f":"MID('DE01-F12'!G1405,1,18)","v":""},{"$f":"IF(ISBLANK('DE01-F12'!P1405),\"\",('DE01-F12'!P1405))","v":""},{"$f":"IF(ISBLANK('DE01-F12'!Q1405),\"\",('DE01-F12'!Q1405))","v":""},{"$f":"IF(ISBLANK('DE01-F12'!S1405),\"\",('DE01-F12'!S1405))","v":0}]
[{"$f":"IF(ISBLANK('DE01-F12'!N1406),\"\",('DE01-F12'!N1406))","v":""},{"$f":"MID('DE01-F12'!G1406,1,18)","v":""},{"$f":"IF(ISBLANK('DE01-F12'!P1406),\"\",('DE01-F12'!P1406))","v":""},{"$f":"IF(ISBLANK('DE01-F12'!Q1406),\"\",('DE01-F12'!Q1406))","v":""},{"$f":"IF(ISBLANK('DE01-F12'!S1406),\"\",('DE01-F12'!S1406))","v":0}]
[{"$f":"IF(ISBLANK('DE01-F12'!N1407),\"\",('DE01-F12'!N1407))","v":""},{"$f":"MID('DE01-F12'!G1407,1,18)","v":""},{"$f":"IF(ISBLANK('DE01-F12'!P1407),\"\",('DE01-F12'!P1407))","v":""},{"$f":"IF(ISBLANK('DE01-F12'!Q1407),\"\",('DE01-F12'!Q1407))","v":""},{"$f":"IF(ISBLANK('DE01-F12'!S1407),\"\",('DE01-F12'!S1407))","v":0}]
[{"$f":"IF(ISBLANK('DE01-F12'!N1408),\"\",('DE01-F12'!N1408))","v":""},{"$f":"MID('DE01-F12'!G1408,1,18)","v":""},{"$f":"IF(ISBLANK('DE01-F12'!P1408),\"\",('DE01-F12'!P1408))","v":""},{"$f":"IF(ISBLANK('DE01-F12'!Q1408),\"\",('DE01-F12'!Q1408))","v":""},{"$f":"IF(ISBLANK('DE01-F12'!S1408),\"\",('DE01-F12'!S1408))","v":0}]
[{"$f":"IF(ISBLANK('DE01-F12'!N1409),\"\",('DE01-F12'!N1409))","v":""},{"$f":"MID('DE01-F12'!G1409,1,18)","v":""},{"$f":"IF(ISBLANK('DE01-F12'!P1409),\"\",('DE01-F12'!P1409))","v":""},{"$f":"IF(ISBLANK('DE01-F12'!Q1409),\"\",('DE01-F12'!Q1409))","v":""},{"$f":"IF(ISBLANK('DE01-F12'!S1409),\"\",('DE01-F12'!S1409))","v":0}]
[{"$f":"IF(ISBLANK('DE01-F12'!N1410),\"\",('DE01-F12'!N1410))","v":""},{"$f":"MID('DE01-F12'!G1410,1,18)","v":""},{"$f":"IF(ISBLANK('DE01-F12'!P1410),\"\",('DE01-F12'!P1410))","v":""},{"$f":"IF(ISBLANK('DE01-F12'!Q1410),\"\",('DE01-F12'!Q1410))","v":""},{"$f":"IF(ISBLANK('DE01-F12'!S1410),\"\",('DE01-F12'!S1410))","v":0}]
[{"$f":"IF(ISBLANK('DE01-F12'!N1411),\"\",('DE01-F12'!N1411))","v":""},{"$f":"MID('DE01-F12'!G1411,1,18)","v":""},{"$f":"IF(ISBLANK('DE01-F12'!P1411),\"\",('DE01-F12'!P1411))","v":""},{"$f":"IF(ISBLANK('DE01-F12'!Q1411),\"\",('DE01-F12'!Q1411))","v":""},{"$f":"IF(ISBLANK('DE01-F12'!S1411),\"\",('DE01-F12'!S1411))","v":0}]
[{"$f":"IF(ISBLANK('DE01-F12'!N1412),\"\",('DE01-F12'!N1412))","v":""},{"$f":"MID('DE01-F12'!G1412,1,18)","v":""},{"$f":"IF(ISBLANK('DE01-F12'!P1412),\"\",('DE01-F12'!P1412))","v":""},{"$f":"IF(ISBLANK('DE01-F12'!Q1412),\"\",('DE01-F12'!Q1412))","v":""},{"$f":"IF(ISBLANK('DE01-F12'!S1412),\"\",('DE01-F12'!S1412))","v":0}]
[{"$f":"IF(ISBLANK('DE01-F12'!N1413),\"\",('DE01-F12'!N1413))","v":""},{"$f":"MID('DE01-F12'!G1413,1,18)","v":""},{"$f":"IF(ISBLANK('DE01-F12'!P1413),\"\",('DE01-F12'!P1413))","v":""},{"$f":"IF(ISBLANK('DE01-F12'!Q1413),\"\",('DE01-F12'!Q1413))","v":""},{"$f":"IF(ISBLANK('DE01-F12'!S1413),\"\",('DE01-F12'!S1413))","v":0}]
[{"$f":"IF(ISBLANK('DE01-F12'!N1414),\"\",('DE01-F12'!N1414))","v":""},{"$f":"MID('DE01-F12'!G1414,1,18)","v":""},{"$f":"IF(ISBLANK('DE01-F12'!P1414),\"\",('DE01-F12'!P1414))","v":""},{"$f":"IF(ISBLANK('DE01-F12'!Q1414),\"\",('DE01-F12'!Q1414))","v":""},{"$f":"IF(ISBLANK('DE01-F12'!S1414),\"\",('DE01-F12'!S1414))","v":0}]
[{"$f":"IF(ISBLANK('DE01-F12'!N1415),\"\",('DE01-F12'!N1415))","v":""},{"$f":"MID('DE01-F12'!G1415,1,18)","v":""},{"$f":"IF(ISBLANK('DE01-F12'!P1415),\"\",('DE01-F12'!P1415))","v":""},{"$f":"IF(ISBLANK('DE01-F12'!Q1415),\"\",('DE01-F12'!Q1415))","v":""},{"$f":"IF(ISBLANK('DE01-F12'!S1415),\"\",('DE01-F12'!S1415))","v":0}]
[{"$f":"IF(ISBLANK('DE01-F12'!N1416),\"\",('DE01-F12'!N1416))","v":""},{"$f":"MID('DE01-F12'!G1416,1,18)","v":""},{"$f":"IF(ISBLANK('DE01-F12'!P1416),\"\",('DE01-F12'!P1416))","v":""},{"$f":"IF(ISBLANK('DE01-F12'!Q1416),\"\",('DE01-F12'!Q1416))","v":""},{"$f":"IF(ISBLANK('DE01-F12'!S1416),\"\",('DE01-F12'!S1416))","v":0}]
[{"$f":"IF(ISBLANK('DE01-F12'!N1417),\"\",('DE01-F12'!N1417))","v":""},{"$f":"MID('DE01-F12'!G1417,1,18)","v":""},{"$f":"IF(ISBLANK('DE01-F12'!P1417),\"\",('DE01-F12'!P1417))","v":""},{"$f":"IF(ISBLANK('DE01-F12'!Q1417),\"\",('DE01-F12'!Q1417))","v":""},{"$f":"IF(ISBLANK('DE01-F12'!S1417),\"\",('DE01-F12'!S1417))","v":0}]
[{"$f":"IF(ISBLANK('DE01-F12'!N1418),\"\",('DE01-F12'!N1418))","v":""},{"$f":"MID('DE01-F12'!G1418,1,18)","v":""},{"$f":"IF(ISBLANK('DE01-F12'!P1418),\"\",('DE01-F12'!P1418))","v":""},{"$f":"IF(ISBLANK('DE01-F12'!Q1418),\"\",('DE01-F12'!Q1418))","v":""},{"$f":"IF(ISBLANK('DE01-F12'!S1418),\"\",('DE01-F12'!S1418))","v":0}]
[{"$f":"IF(ISBLANK('DE01-F12'!N1419),\"\",('DE01-F12'!N1419))","v":""},{"$f":"MID('DE01-F12'!G1419,1,18)","v":""},{"$f":"IF(ISBLANK('DE01-F12'!P1419),\"\",('DE01-F12'!P1419))","v":""},{"$f":"IF(ISBLANK('DE01-F12'!Q1419),\"\",('DE01-F12'!Q1419))","v":""},{"$f":"IF(ISBLANK('DE01-F12'!S1419),\"\",('DE01-F12'!S1419))","v":0}]
[{"$f":"IF(ISBLANK('DE01-F12'!N1420),\"\",('DE01-F12'!N1420))","v":""},{"$f":"MID('DE01-F12'!G1420,1,18)","v":""},{"$f":"IF(ISBLANK('DE01-F12'!P1420),\"\",('DE01-F12'!P1420))","v":""},{"$f":"IF(ISBLANK('DE01-F12'!Q1420),\"\",('DE01-F12'!Q1420))","v":""},{"$f":"IF(ISBLANK('DE01-F12'!S1420),\"\",('DE01-F12'!S1420))","v":0}]
[{"$f":"IF(ISBLANK('DE01-F12'!N1421),\"\",('DE01-F12'!N1421))","v":""},{"$f":"MID('DE01-F12'!G1421,1,18)","v":""},{"$f":"IF(ISBLANK('DE01-F12'!P1421),\"\",('DE01-F12'!P1421))","v":""},{"$f":"IF(ISBLANK('DE01-F12'!Q1421),\"\",('DE01-F12'!Q1421))","v":""},{"$f":"IF(ISBLANK('DE01-F12'!S1421),\"\",('DE01-F12'!S1421))","v":0}]
[{"$f":"IF(ISBLANK('DE01-F12'!N1422),\"\",('DE01-F12'!N1422))","v":""},{"$f":"MID('DE01-F12'!G1422,1,18)","v":""},{"$f":"IF(ISBLANK('DE01-F12'!P1422),\"\",('DE01-F12'!P1422))","v":""},{"$f":"IF(ISBLANK('DE01-F12'!Q1422),\"\",('DE01-F12'!Q1422))","v":""},{"$f":"IF(ISBLANK('DE01-F12'!S1422),\"\",('DE01-F12'!S1422))","v":0}]
[{"$f":"IF(ISBLANK('DE01-F12'!N1423),\"\",('DE01-F12'!N1423))","v":""},{"$f":"MID('DE01-F12'!G1423,1,18)","v":""},{"$f":"IF(ISBLANK('DE01-F12'!P1423),\"\",('DE01-F12'!P1423))","v":""},{"$f":"IF(ISBLANK('DE01-F12'!Q1423),\"\",('DE01-F12'!Q1423))","v":""},{"$f":"IF(ISBLANK('DE01-F12'!S1423),\"\",('DE01-F12'!S1423))","v":0}]
[{"$f":"IF(ISBLANK('DE01-F12'!N1424),\"\",('DE01-F12'!N1424))","v":""},{"$f":"MID('DE01-F12'!G1424,1,18)","v":""},{"$f":"IF(ISBLANK('DE01-F12'!P1424),\"\",('DE01-F12'!P1424))","v":""},{"$f":"IF(ISBLANK('DE01-F12'!Q1424),\"\",('DE01-F12'!Q1424))","v":""},{"$f":"IF(ISBLANK('DE01-F12'!S1424),\"\",('DE01-F12'!S1424))","v":0}]
[{"$f":"IF(ISBLANK('DE01-F12'!N1425),\"\",('DE01-F12'!N1425))","v":""},{"$f":"MID('DE01-F12'!G1425,1,18)","v":""},{"$f":"IF(ISBLANK('DE01-F12'!P1425),\"\",('DE01-F12'!P1425))","v":""},{"$f":"IF(ISBLANK('DE01-F12'!Q1425),\"\",('DE01-F12'!Q1425))","v":""},{"$f":"IF(ISBLANK('DE01-F12'!S1425),\"\",('DE01-F12'!S1425))","v":0}]
[{"$f":"IF(ISBLANK('DE01-F12'!N1426),\"\",('DE01-F12'!N1426))","v":""},{"$f":"MID('DE01-F12'!G1426,1,18)","v":""},{"$f":"IF(ISBLANK('DE01-F12'!P1426),\"\",('DE01-F12'!P1426))","v":""},{"$f":"IF(ISBLANK('DE01-F12'!Q1426),\"\",('DE01-F12'!Q1426))","v":""},{"$f":"IF(ISBLANK('DE01-F12'!S1426),\"\",('DE01-F12'!S1426))","v":0}]
[{"$f":"IF(ISBLANK('DE01-F12'!N1427),\"\",('DE01-F12'!N1427))","v":""},{"$f":"MID('DE01-F12'!G1427,1,18)","v":""},{"$f":"IF(ISBLANK('DE01-F12'!P1427),\"\",('DE01-F12'!P1427))","v":""},{"$f":"IF(ISBLANK('DE01-F12'!Q1427),\"\",('DE01-F12'!Q1427))","v":""},{"$f":"IF(ISBLANK('DE01-F12'!S1427),\"\",('DE01-F12'!S1427))","v":0}]
[{"$f":"IF(ISBLANK('DE01-F12'!N1428),\"\",('DE01-F12'!N1428))","v":""},{"$f":"MID('DE01-F12'!G1428,1,18)","v":""},{"$f":"IF(ISBLANK('DE01-F12'!P1428),\"\",('DE01-F12'!P1428))","v":""},{"$f":"IF(ISBLANK('DE01-F12'!Q1428),\"\",('DE01-F12'!Q1428))","v":""},{"$f":"IF(ISBLANK('DE01-F12'!S1428),\"\",('DE01-F12'!S1428))","v":0}]
[{"$f":"IF(ISBLANK('DE01-F12'!N1429),\"\",('DE01-F12'!N1429))","v":""},{"$f":"MID('DE01-F12'!G1429,1,18)","v":""},{"$f":"IF(ISBLANK('DE01-F12'!P1429),\"\",('DE01-F12'!P1429))","v":""},{"$f":"IF(ISBLANK('DE01-F12'!Q1429),\"\",('DE01-F12'!Q1429))","v":""},{"$f":"IF(ISBLANK('DE01-F12'!S1429),\"\",('DE01-F12'!S1429))","v":0}]
[{"$f":"IF(ISBLANK('DE01-F12'!N1430),\"\",('DE01-F12'!N1430))","v":""},{"$f":"MID('DE01-F12'!G1430,1,18)","v":""},{"$f":"IF(ISBLANK('DE01-F12'!P1430),\"\",('DE01-F12'!P1430))","v":""},{"$f":"IF(ISBLANK('DE01-F12'!Q1430),\"\",('DE01-F12'!Q1430))","v":""},{"$f":"IF(ISBLANK('DE01-F12'!S1430),\"\",('DE01-F12'!S1430))","v":0}]
[{"$f":"IF(ISBLANK('DE01-F12'!N1431),\"\",('DE01-F12'!N1431))","v":""},{"$f":"MID('DE01-F12'!G1431,1,18)","v":""},{"$f":"IF(ISBLANK('DE01-F12'!P1431),\"\",('DE01-F12'!P1431))","v":""},{"$f":"IF(ISBLANK('DE01-F12'!Q1431),\"\",('DE01-F12'!Q1431))","v":""},{"$f":"IF(ISBLANK('DE01-F12'!S1431),\"\",('DE01-F12'!S1431))","v":0}]
[{"$f":"IF(ISBLANK('DE01-F12'!N1432),\"\",('DE01-F12'!N1432))","v":""},{"$f":"MID('DE01-F12'!G1432,1,18)","v":""},{"$f":"IF(ISBLANK('DE01-F12'!P1432),\"\",('DE01-F12'!P1432))","v":""},{"$f":"IF(ISBLANK('DE01-F12'!Q1432),\"\",('DE01-F12'!Q1432))","v":""},{"$f":"IF(ISBLANK('DE01-F12'!S1432),\"\",('DE01-F12'!S1432))","v":0}]
[{"$f":"IF(ISBLANK('DE01-F12'!N1433),\"\",('DE01-F12'!N1433))","v":""},{"$f":"MID('DE01-F12'!G1433,1,18)","v":""},{"$f":"IF(ISBLANK('DE01-F12'!P1433),\"\",('DE01-F12'!P1433))","v":""},{"$f":"IF(ISBLANK('DE01-F12'!Q1433),\"\",('DE01-F12'!Q1433))","v":""},{"$f":"IF(ISBLANK('DE01-F12'!S1433),\"\",('DE01-F12'!S1433))","v":0}]
[{"$f":"IF(ISBLANK('DE01-F12'!N1434),\"\",('DE01-F12'!N1434))","v":""},{"$f":"MID('DE01-F12'!G1434,1,18)","v":""},{"$f":"IF(ISBLANK('DE01-F12'!P1434),\"\",('DE01-F12'!P1434))","v":""},{"$f":"IF(ISBLANK('DE01-F12'!Q1434),\"\",('DE01-F12'!Q1434))","v":""},{"$f":"IF(ISBLANK('DE01-F12'!S1434),\"\",('DE01-F12'!S1434))","v":0}]
[{"$f":"IF(ISBLANK('DE01-F12'!N1435),\"\",('DE01-F12'!N1435))","v":""},{"$f":"MID('DE01-F12'!G1435,1,18)","v":""},{"$f":"IF(ISBLANK('DE01-F12'!P1435),\"\",('DE01-F12'!P1435))","v":""},{"$f":"IF(ISBLANK('DE01-F12'!Q1435),\"\",('DE01-F12'!Q1435))","v":""},{"$f":"IF(ISBLANK('DE01-F12'!S1435),\"\",('DE01-F12'!S1435))","v":0}]
[{"$f":"IF(ISBLANK('DE01-F12'!N1436),\"\",('DE01-F12'!N1436))","v":""},{"$f":"MID('DE01-F12'!G1436,1,18)","v":""},{"$f":"IF(ISBLANK('DE01-F12'!P1436),\"\",('DE01-F12'!P1436))","v":""},{"$f":"IF(ISBLANK('DE01-F12'!Q1436),\"\",('DE01-F12'!Q1436))","v":""},{"$f":"IF(ISBLANK('DE01-F12'!S1436),\"\",('DE01-F12'!S1436))","v":0}]
[{"$f":"IF(ISBLANK('DE01-F12'!N1437),\"\",('DE01-F12'!N1437))","v":""},{"$f":"MID('DE01-F12'!G1437,1,18)","v":""},{"$f":"IF(ISBLANK('DE01-F12'!P1437),\"\",('DE01-F12'!P1437))","v":""},{"$f":"IF(ISBLANK('DE01-F12'!Q1437),\"\",('DE01-F12'!Q1437))","v":""},{"$f":"IF(ISBLANK('DE01-F12'!S1437),\"\",('DE01-F12'!S1437))","v":0}]
[{"$f":"IF(ISBLANK('DE01-F12'!N1438),\"\",('DE01-F12'!N1438))","v":""},{"$f":"MID('DE01-F12'!G1438,1,18)","v":""},{"$f":"IF(ISBLANK('DE01-F12'!P1438),\"\",('DE01-F12'!P1438))","v":""},{"$f":"IF(ISBLANK('DE01-F12'!Q1438),\"\",('DE01-F12'!Q1438))","v":""},{"$f":"IF(ISBLANK('DE01-F12'!S1438),\"\",('DE01-F12'!S1438))","v":0}]
[{"$f":"IF(ISBLANK('DE01-F12'!N1439),\"\",('DE01-F12'!N1439))","v":""},{"$f":"MID('DE01-F12'!G1439,1,18)","v":""},{"$f":"IF(ISBLANK('DE01-F12'!P1439),\"\",('DE01-F12'!P1439))","v":""},{"$f":"IF(ISBLANK('DE01-F12'!Q1439),\"\",('DE01-F12'!Q1439))","v":""},{"$f":"IF(ISBLANK('DE01-F12'!S1439),\"\",('DE01-F12'!S1439))","v":0}]
[{"$f":"IF(ISBLANK('DE01-F12'!N1440),\"\",('DE01-F12'!N1440))","v":""},{"$f":"MID('DE01-F12'!G1440,1,18)","v":""},{"$f":"IF(ISBLANK('DE01-F12'!P1440),\"\",('DE01-F12'!P1440))","v":""},{"$f":"IF(ISBLANK('DE01-F12'!Q1440),\"\",('DE01-F12'!Q1440))","v":""},{"$f":"IF(ISBLANK('DE01-F12'!S1440),\"\",('DE01-F12'!S1440))","v":0}]
[{"$f":"IF(ISBLANK('DE01-F12'!N1441),\"\",('DE01-F12'!N1441))","v":""},{"$f":"MID('DE01-F12'!G1441,1,18)","v":""},{"$f":"IF(ISBLANK('DE01-F12'!P1441),\"\",('DE01-F12'!P1441))","v":""},{"$f":"IF(ISBLANK('DE01-F12'!Q1441),\"\",('DE01-F12'!Q1441))","v":""},{"$f":"IF(ISBLANK('DE01-F12'!S1441),\"\",('DE01-F12'!S1441))","v":0}]
[{"$f":"IF(ISBLANK('DE01-F12'!N1442),\"\",('DE01-F12'!N1442))","v":""},{"$f":"MID('DE01-F12'!G1442,1,18)","v":""},{"$f":"IF(ISBLANK('DE01-F12'!P1442),\"\",('DE01-F12'!P1442))","v":""},{"$f":"IF(ISBLANK('DE01-F12'!Q1442),\"\",('DE01-F12'!Q1442))","v":""},{"$f":"IF(ISBLANK('DE01-F12'!S1442),\"\",('DE01-F12'!S1442))","v":0}]
[{"$f":"IF(ISBLANK('DE01-F12'!N1443),\"\",('DE01-F12'!N1443))","v":""},{"$f":"MID('DE01-F12'!G1443,1,18)","v":""},{"$f":"IF(ISBLANK('DE01-F12'!P1443),\"\",('DE01-F12'!P1443))","v":""},{"$f":"IF(ISBLANK('DE01-F12'!Q1443),\"\",('DE01-F12'!Q1443))","v":""},{"$f":"IF(ISBLANK('DE01-F12'!S1443),\"\",('DE01-F12'!S1443))","v":0}]
[{"$f":"IF(ISBLANK('DE01-F12'!N1444),\"\",('DE01-F12'!N1444))","v":""},{"$f":"MID('DE01-F12'!G1444,1,18)","v":""},{"$f":"IF(ISBLANK('DE01-F12'!P1444),\"\",('DE01-F12'!P1444))","v":""},{"$f":"IF(ISBLANK('DE01-F12'!Q1444),\"\",('DE01-F12'!Q1444))","v":""},{"$f":"IF(ISBLANK('DE01-F12'!S1444),\"\",('DE01-F12'!S1444))","v":0}]
[{"$f":"IF(ISBLANK('DE01-F12'!N1445),\"\",('DE01-F12'!N1445))","v":""},{"$f":"MID('DE01-F12'!G1445,1,18)","v":""},{"$f":"IF(ISBLANK('DE01-F12'!P1445),\"\",('DE01-F12'!P1445))","v":""},{"$f":"IF(ISBLANK('DE01-F12'!Q1445),\"\",('DE01-F12'!Q1445))","v":""},{"$f":"IF(ISBLANK('DE01-F12'!S1445),\"\",('DE01-F12'!S1445))","v":0}]
[{"$f":"IF(ISBLANK('DE01-F12'!N1446),\"\",('DE01-F12'!N1446))","v":""},{"$f":"MID('DE01-F12'!G1446,1,18)","v":""},{"$f":"IF(ISBLANK('DE01-F12'!P1446),\"\",('DE01-F12'!P1446))","v":""},{"$f":"IF(ISBLANK('DE01-F12'!Q1446),\"\",('DE01-F12'!Q1446))","v":""},{"$f":"IF(ISBLANK('DE01-F12'!S1446),\"\",('DE01-F12'!S1446))","v":0}]
[{"$f":"IF(ISBLANK('DE01-F12'!N1447),\"\",('DE01-F12'!N1447))","v":""},{"$f":"MID('DE01-F12'!G1447,1,18)","v":""},{"$f":"IF(ISBLANK('DE01-F12'!P1447),\"\",('DE01-F12'!P1447))","v":""},{"$f":"IF(ISBLANK('DE01-F12'!Q1447),\"\",('DE01-F12'!Q1447))","v":""},{"$f":"IF(ISBLANK('DE01-F12'!S1447),\"\",('DE01-F12'!S1447))","v":0}]
[{"$f":"IF(ISBLANK('DE01-F12'!N1448),\"\",('DE01-F12'!N1448))","v":""},{"$f":"MID('DE01-F12'!G1448,1,18)","v":""},{"$f":"IF(ISBLANK('DE01-F12'!P1448),\"\",('DE01-F12'!P1448))","v":""},{"$f":"IF(ISBLANK('DE01-F12'!Q1448),\"\",('DE01-F12'!Q1448))","v":""},{"$f":"IF(ISBLANK('DE01-F12'!S1448),\"\",('DE01-F12'!S1448))","v":0}]
[{"$f":"IF(ISBLANK('DE01-F12'!N1449),\"\",('DE01-F12'!N1449))","v":""},{"$f":"MID('DE01-F12'!G1449,1,18)","v":""},{"$f":"IF(ISBLANK('DE01-F12'!P1449),\"\",('DE01-F12'!P1449))","v":""},{"$f":"IF(ISBLANK('DE01-F12'!Q1449),\"\",('DE01-F12'!Q1449))","v":""},{"$f":"IF(ISBLANK('DE01-F12'!S1449),\"\",('DE01-F12'!S1449))","v":0}]
[{"$f":"IF(ISBLANK('DE01-F12'!N1450),\"\",('DE01-F12'!N1450))","v":""},{"$f":"MID('DE01-F12'!G1450,1,18)","v":""},{"$f":"IF(ISBLANK('DE01-F12'!P1450),\"\",('DE01-F12'!P1450))","v":""},{"$f":"IF(ISBLANK('DE01-F12'!Q1450),\"\",('DE01-F12'!Q1450))","v":""},{"$f":"IF(ISBLANK('DE01-F12'!S1450),\"\",('DE01-F12'!S1450))","v":0}]
[{"$f":"IF(ISBLANK('DE01-F12'!N1451),\"\",('DE01-F12'!N1451))","v":""},{"$f":"MID('DE01-F12'!G1451,1,18)","v":""},{"$f":"IF(ISBLANK('DE01-F12'!P1451),\"\",('DE01-F12'!P1451))","v":""},{"$f":"IF(ISBLANK('DE01-F12'!Q1451),\"\",('DE01-F12'!Q1451))","v":""},{"$f":"IF(ISBLANK('DE01-F12'!S1451),\"\",('DE01-F12'!S1451))","v":0}]
[{"$f":"IF(ISBLANK('DE01-F12'!N1452),\"\",('DE01-F12'!N1452))","v":""},{"$f":"MID('DE01-F12'!G1452,1,18)","v":""},{"$f":"IF(ISBLANK('DE01-F12'!P1452),\"\",('DE01-F12'!P1452))","v":""},{"$f":"IF(ISBLANK('DE01-F12'!Q1452),\"\",('DE01-F12'!Q1452))","v":""},{"$f":"IF(ISBLANK('DE01-F12'!S1452),\"\",('DE01-F12'!S1452))","v":0}]
[{"$f":"IF(ISBLANK('DE01-F12'!N1453),\"\",('DE01-F12'!N1453))","v":""},{"$f":"MID('DE01-F12'!G1453,1,18)","v":""},{"$f":"IF(ISBLANK('DE01-F12'!P1453),\"\",('DE01-F12'!P1453))","v":""},{"$f":"IF(ISBLANK('DE01-F12'!Q1453),\"\",('DE01-F12'!Q1453))","v":""},{"$f":"IF(ISBLANK('DE01-F12'!S1453),\"\",('DE01-F12'!S1453))","v":0}]
[{"$f":"IF(ISBLANK('DE01-F12'!N1454),\"\",('DE01-F12'!N1454))","v":""},{"$f":"MID('DE01-F12'!G1454,1,18)","v":""},{"$f":"IF(ISBLANK('DE01-F12'!P1454),\"\",('DE01-F12'!P1454))","v":""},{"$f":"IF(ISBLANK('DE01-F12'!Q1454),\"\",('DE01-F12'!Q1454))","v":""},{"$f":"IF(ISBLANK('DE01-F12'!S1454),\"\",('DE01-F12'!S1454))","v":0}]
[{"$f":"IF(ISBLANK('DE01-F12'!N1455),\"\",('DE01-F12'!N1455))","v":""},{"$f":"MID('DE01-F12'!G1455,1,18)","v":""},{"$f":"IF(ISBLANK('DE01-F12'!P1455),\"\",('DE01-F12'!P1455))","v":""},{"$f":"IF(ISBLANK('DE01-F12'!Q1455),\"\",('DE01-F12'!Q1455))","v":""},{"$f":"IF(ISBLANK('DE01-F12'!S1455),\"\",('DE01-F12'!S1455))","v":0}]
[{"$f":"IF(ISBLANK('DE01-F12'!N1456),\"\",('DE01-F12'!N1456))","v":""},{"$f":"MID('DE01-F12'!G1456,1,18)","v":""},{"$f":"IF(ISBLANK('DE01-F12'!P1456),\"\",('DE01-F12'!P1456))","v":""},{"$f":"IF(ISBLANK('DE01-F12'!Q1456),\"\",('DE01-F12'!Q1456))","v":""},{"$f":"IF(ISBLANK('DE01-F12'!S1456),\"\",('DE01-F12'!S1456))","v":0}]
[{"$f":"IF(ISBLANK('DE01-F12'!N1457),\"\",('DE01-F12'!N1457))","v":""},{"$f":"MID('DE01-F12'!G1457,1,18)","v":""},{"$f":"IF(ISBLANK('DE01-F12'!P1457),\"\",('DE01-F12'!P1457))","v":""},{"$f":"IF(ISBLANK('DE01-F12'!Q1457),\"\",('DE01-F12'!Q1457))","v":""},{"$f":"IF(ISBLANK('DE01-F12'!S1457),\"\",('DE01-F12'!S1457))","v":0}]
[{"$f":"IF(ISBLANK('DE01-F12'!N1458),\"\",('DE01-F12'!N1458))","v":""},{"$f":"MID('DE01-F12'!G1458,1,18)","v":""},{"$f":"IF(ISBLANK('DE01-F12'!P1458),\"\",('DE01-F12'!P1458))","v":""},{"$f":"IF(ISBLANK('DE01-F12'!Q1458),\"\",('DE01-F12'!Q1458))","v":""},{"$f":"IF(ISBLANK('DE01-F12'!S1458),\"\",('DE01-F12'!S1458))","v":0}]
[{"$f":"IF(ISBLANK('DE01-F12'!N1459),\"\",('DE01-F12'!N1459))","v":""},{"$f":"MID('DE01-F12'!G1459,1,18)","v":""},{"$f":"IF(ISBLANK('DE01-F12'!P1459),\"\",('DE01-F12'!P1459))","v":""},{"$f":"IF(ISBLANK('DE01-F12'!Q1459),\"\",('DE01-F12'!Q1459))","v":""},{"$f":"IF(ISBLANK('DE01-F12'!S1459),\"\",('DE01-F12'!S1459))","v":0}]
[{"$f":"IF(ISBLANK('DE01-F12'!N1460),\"\",('DE01-F12'!N1460))","v":""},{"$f":"MID('DE01-F12'!G1460,1,18)","v":""},{"$f":"IF(ISBLANK('DE01-F12'!P1460),\"\",('DE01-F12'!P1460))","v":""},{"$f":"IF(ISBLANK('DE01-F12'!Q1460),\"\",('DE01-F12'!Q1460))","v":""},{"$f":"IF(ISBLANK('DE01-F12'!S1460),\"\",('DE01-F12'!S1460))","v":0}]
[{"$f":"IF(ISBLANK('DE01-F12'!N1461),\"\",('DE01-F12'!N1461))","v":""},{"$f":"MID('DE01-F12'!G1461,1,18)","v":""},{"$f":"IF(ISBLANK('DE01-F12'!P1461),\"\",('DE01-F12'!P1461))","v":""},{"$f":"IF(ISBLANK('DE01-F12'!Q1461),\"\",('DE01-F12'!Q1461))","v":""},{"$f":"IF(ISBLANK('DE01-F12'!S1461),\"\",('DE01-F12'!S1461))","v":0}]
[{"$f":"IF(ISBLANK('DE01-F12'!N1462),\"\",('DE01-F12'!N1462))","v":""},{"$f":"MID('DE01-F12'!G1462,1,18)","v":""},{"$f":"IF(ISBLANK('DE01-F12'!P1462),\"\",('DE01-F12'!P1462))","v":""},{"$f":"IF(ISBLANK('DE01-F12'!Q1462),\"\",('DE01-F12'!Q1462))","v":""},{"$f":"IF(ISBLANK('DE01-F12'!S1462),\"\",('DE01-F12'!S1462))","v":0}]
[{"$f":"IF(ISBLANK('DE01-F12'!N1463),\"\",('DE01-F12'!N1463))","v":""},{"$f":"MID('DE01-F12'!G1463,1,18)","v":""},{"$f":"IF(ISBLANK('DE01-F12'!P1463),\"\",('DE01-F12'!P1463))","v":""},{"$f":"IF(ISBLANK('DE01-F12'!Q1463),\"\",('DE01-F12'!Q1463))","v":""},{"$f":"IF(ISBLANK('DE01-F12'!S1463),\"\",('DE01-F12'!S1463))","v":0}]
[{"$f":"IF(ISBLANK('DE01-F12'!N1464),\"\",('DE01-F12'!N1464))","v":""},{"$f":"MID('DE01-F12'!G1464,1,18)","v":""},{"$f":"IF(ISBLANK('DE01-F12'!P1464),\"\",('DE01-F12'!P1464))","v":""},{"$f":"IF(ISBLANK('DE01-F12'!Q1464),\"\",('DE01-F12'!Q1464))","v":""},{"$f":"IF(ISBLANK('DE01-F12'!S1464),\"\",('DE01-F12'!S1464))","v":0}]
[{"$f":"IF(ISBLANK('DE01-F12'!N1465),\"\",('DE01-F12'!N1465))","v":""},{"$f":"MID('DE01-F12'!G1465,1,18)","v":""},{"$f":"IF(ISBLANK('DE01-F12'!P1465),\"\",('DE01-F12'!P1465))","v":""},{"$f":"IF(ISBLANK('DE01-F12'!Q1465),\"\",('DE01-F12'!Q1465))","v":""},{"$f":"IF(ISBLANK('DE01-F12'!S1465),\"\",('DE01-F12'!S1465))","v":0}]
[{"$f":"IF(ISBLANK('DE01-F12'!N1466),\"\",('DE01-F12'!N1466))","v":""},{"$f":"MID('DE01-F12'!G1466,1,18)","v":""},{"$f":"IF(ISBLANK('DE01-F12'!P1466),\"\",('DE01-F12'!P1466))","v":""},{"$f":"IF(ISBLANK('DE01-F12'!Q1466),\"\",('DE01-F12'!Q1466))","v":""},{"$f":"IF(ISBLANK('DE01-F12'!S1466),\"\",('DE01-F12'!S1466))","v":0}]
[{"$f":"IF(ISBLANK('DE01-F12'!N1467),\"\",('DE01-F12'!N1467))","v":""},{"$f":"MID('DE01-F12'!G1467,1,18)","v":""},{"$f":"IF(ISBLANK('DE01-F12'!P1467),\"\",('DE01-F12'!P1467))","v":""},{"$f":"IF(ISBLANK('DE01-F12'!Q1467),\"\",('DE01-F12'!Q1467))","v":""},{"$f":"IF(ISBLANK('DE01-F12'!S1467),\"\",('DE01-F12'!S1467))","v":0}]
[{"$f":"IF(ISBLANK('DE01-F12'!N1468),\"\",('DE01-F12'!N1468))","v":""},{"$f":"MID('DE01-F12'!G1468,1,18)","v":""},{"$f":"IF(ISBLANK('DE01-F12'!P1468),\"\",('DE01-F12'!P1468))","v":""},{"$f":"IF(ISBLANK('DE01-F12'!Q1468),\"\",('DE01-F12'!Q1468))","v":""},{"$f":"IF(ISBLANK('DE01-F12'!S1468),\"\",('DE01-F12'!S1468))","v":0}]
[{"$f":"IF(ISBLANK('DE01-F12'!N1469),\"\",('DE01-F12'!N1469))","v":""},{"$f":"MID('DE01-F12'!G1469,1,18)","v":""},{"$f":"IF(ISBLANK('DE01-F12'!P1469),\"\",('DE01-F12'!P1469))","v":""},{"$f":"IF(ISBLANK('DE01-F12'!Q1469),\"\",('DE01-F12'!Q1469))","v":""},{"$f":"IF(ISBLANK('DE01-F12'!S1469),\"\",('DE01-F12'!S1469))","v":0}]
[{"$f":"IF(ISBLANK('DE01-F12'!N1470),\"\",('DE01-F12'!N1470))","v":""},{"$f":"MID('DE01-F12'!G1470,1,18)","v":""},{"$f":"IF(ISBLANK('DE01-F12'!P1470),\"\",('DE01-F12'!P1470))","v":""},{"$f":"IF(ISBLANK('DE01-F12'!Q1470),\"\",('DE01-F12'!Q1470))","v":""},{"$f":"IF(ISBLANK('DE01-F12'!S1470),\"\",('DE01-F12'!S1470))","v":0}]
[{"$f":"IF(ISBLANK('DE01-F12'!N1471),\"\",('DE01-F12'!N1471))","v":""},{"$f":"MID('DE01-F12'!G1471,1,18)","v":""},{"$f":"IF(ISBLANK('DE01-F12'!P1471),\"\",('DE01-F12'!P1471))","v":""},{"$f":"IF(ISBLANK('DE01-F12'!Q1471),\"\",('DE01-F12'!Q1471))","v":""},{"$f":"IF(ISBLANK('DE01-F12'!S1471),\"\",('DE01-F12'!S1471))","v":0}]
[{"$f":"IF(ISBLANK('DE01-F12'!N1472),\"\",('DE01-F12'!N1472))","v":""},{"$f":"MID('DE01-F12'!G1472,1,18)","v":""},{"$f":"IF(ISBLANK('DE01-F12'!P1472),\"\",('DE01-F12'!P1472))","v":""},{"$f":"IF(ISBLANK('DE01-F12'!Q1472),\"\",('DE01-F12'!Q1472))","v":""},{"$f":"IF(ISBLANK('DE01-F12'!S1472),\"\",('DE01-F12'!S1472))","v":0}]
[{"$f":"IF(ISBLANK('DE01-F12'!N1473),\"\",('DE01-F12'!N1473))","v":""},{"$f":"MID('DE01-F12'!G1473,1,18)","v":""},{"$f":"IF(ISBLANK('DE01-F12'!P1473),\"\",('DE01-F12'!P1473))","v":""},{"$f":"IF(ISBLANK('DE01-F12'!Q1473),\"\",('DE01-F12'!Q1473))","v":""},{"$f":"IF(ISBLANK('DE01-F12'!S1473),\"\",('DE01-F12'!S1473))","v":0}]
[{"$f":"IF(ISBLANK('DE01-F12'!N1474),\"\",('DE01-F12'!N1474))","v":""},{"$f":"MID('DE01-F12'!G1474,1,18)","v":""},{"$f":"IF(ISBLANK('DE01-F12'!P1474),\"\",('DE01-F12'!P1474))","v":""},{"$f":"IF(ISBLANK('DE01-F12'!Q1474),\"\",('DE01-F12'!Q1474))","v":""},{"$f":"IF(ISBLANK('DE01-F12'!S1474),\"\",('DE01-F12'!S1474))","v":0}]
[{"$f":"IF(ISBLANK('DE01-F12'!N1475),\"\",('DE01-F12'!N1475))","v":""},{"$f":"MID('DE01-F12'!G1475,1,18)","v":""},{"$f":"IF(ISBLANK('DE01-F12'!P1475),\"\",('DE01-F12'!P1475))","v":""},{"$f":"IF(ISBLANK('DE01-F12'!Q1475),\"\",('DE01-F12'!Q1475))","v":""},{"$f":"IF(ISBLANK('DE01-F12'!S1475),\"\",('DE01-F12'!S1475))","v":0}]
[{"$f":"IF(ISBLANK('DE01-F12'!N1476),\"\",('DE01-F12'!N1476))","v":""},{"$f":"MID('DE01-F12'!G1476,1,18)","v":""},{"$f":"IF(ISBLANK('DE01-F12'!P1476),\"\",('DE01-F12'!P1476))","v":""},{"$f":"IF(ISBLANK('DE01-F12'!Q1476),\"\",('DE01-F12'!Q1476))","v":""},{"$f":"IF(ISBLANK('DE01-F12'!S1476),\"\",('DE01-F12'!S1476))","v":0}]
[{"$f":"IF(ISBLANK('DE01-F12'!N1477),\"\",('DE01-F12'!N1477))","v":""},{"$f":"MID('DE01-F12'!G1477,1,18)","v":""},{"$f":"IF(ISBLANK('DE01-F12'!P1477),\"\",('DE01-F12'!P1477))","v":""},{"$f":"IF(ISBLANK('DE01-F12'!Q1477),\"\",('DE01-F12'!Q1477))","v":""},{"$f":"IF(ISBLANK('DE01-F12'!S1477),\"\",('DE01-F12'!S1477))","v":0}]
[{"$f":"IF(ISBLANK('DE01-F12'!N1478),\"\",('DE01-F12'!N1478))","v":""},{"$f":"MID('DE01-F12'!G1478,1,18)","v":""},{"$f":"IF(ISBLANK('DE01-F12'!P1478),\"\",('DE01-F12'!P1478))","v":""},{"$f":"IF(ISBLANK('DE01-F12'!Q1478),\"\",('DE01-F12'!Q1478))","v":""},{"$f":"IF(ISBLANK('DE01-F12'!S1478),\"\",('DE01-F12'!S1478))","v":0}]
[{"$f":"IF(ISBLANK('DE01-F12'!N1479),\"\",('DE01-F12'!N1479))","v":""},{"$f":"MID('DE01-F12'!G1479,1,18)","v":""},{"$f":"IF(ISBLANK('DE01-F12'!P1479),\"\",('DE01-F12'!P1479))","v":""},{"$f":"IF(ISBLANK('DE01-F12'!Q1479),\"\",('DE01-F12'!Q1479))","v":""},{"$f":"IF(ISBLANK('DE01-F12'!S1479),\"\",('DE01-F12'!S1479))","v":0}]
[{"$f":"IF(ISBLANK('DE01-F12'!N1480),\"\",('DE01-F12'!N1480))","v":""},{"$f":"MID('DE01-F12'!G1480,1,18)","v":""},{"$f":"IF(ISBLANK('DE01-F12'!P1480),\"\",('DE01-F12'!P1480))","v":""},{"$f":"IF(ISBLANK('DE01-F12'!Q1480),\"\",('DE01-F12'!Q1480))","v":""},{"$f":"IF(ISBLANK('DE01-F12'!S1480),\"\",('DE01-F12'!S1480))","v":0}]
[{"$f":"IF(ISBLANK('DE01-F12'!N1481),\"\",('DE01-F12'!N1481))","v":""},{"$f":"MID('DE01-F12'!G1481,1,18)","v":""},{"$f":"IF(ISBLANK('DE01-F12'!P1481),\"\",('DE01-F12'!P1481))","v":""},{"$f":"IF(ISBLANK('DE01-F12'!Q1481),\"\",('DE01-F12'!Q1481))","v":""},{"$f":"IF(ISBLANK('DE01-F12'!S1481),\"\",('DE01-F12'!S1481))","v":0}]
[{"$f":"IF(ISBLANK('DE01-F12'!N1482),\"\",('DE01-F12'!N1482))","v":""},{"$f":"MID('DE01-F12'!G1482,1,18)","v":""},{"$f":"IF(ISBLANK('DE01-F12'!P1482),\"\",('DE01-F12'!P1482))","v":""},{"$f":"IF(ISBLANK('DE01-F12'!Q1482),\"\",('DE01-F12'!Q1482))","v":""},{"$f":"IF(ISBLANK('DE01-F12'!S1482),\"\",('DE01-F12'!S1482))","v":0}]
[{"$f":"IF(ISBLANK('DE01-F12'!N1483),\"\",('DE01-F12'!N1483))","v":""},{"$f":"MID('DE01-F12'!G1483,1,18)","v":""},{"$f":"IF(ISBLANK('DE01-F12'!P1483),\"\",('DE01-F12'!P1483))","v":""},{"$f":"IF(ISBLANK('DE01-F12'!Q1483),\"\",('DE01-F12'!Q1483))","v":""},{"$f":"IF(ISBLANK('DE01-F12'!S1483),\"\",('DE01-F12'!S1483))","v":0}]
[{"$f":"IF(ISBLANK('DE01-F12'!N1484),\"\",('DE01-F12'!N1484))","v":""},{"$f":"MID('DE01-F12'!G1484,1,18)","v":""},{"$f":"IF(ISBLANK('DE01-F12'!P1484),\"\",('DE01-F12'!P1484))","v":""},{"$f":"IF(ISBLANK('DE01-F12'!Q1484),\"\",('DE01-F12'!Q1484))","v":""},{"$f":"IF(ISBLANK('DE01-F12'!S1484),\"\",('DE01-F12'!S1484))","v":0}]
[{"$f":"IF(ISBLANK('DE01-F12'!N1485),\"\",('DE01-F12'!N1485))","v":""},{"$f":"MID('DE01-F12'!G1485,1,18)","v":""},{"$f":"IF(ISBLANK('DE01-F12'!P1485),\"\",('DE01-F12'!P1485))","v":""},{"$f":"IF(ISBLANK('DE01-F12'!Q1485),\"\",('DE01-F12'!Q1485))","v":""},{"$f":"IF(ISBLANK('DE01-F12'!S1485),\"\",('DE01-F12'!S1485))","v":0}]
[{"$f":"IF(ISBLANK('DE01-F12'!N1486),\"\",('DE01-F12'!N1486))","v":""},{"$f":"MID('DE01-F12'!G1486,1,18)","v":""},{"$f":"IF(ISBLANK('DE01-F12'!P1486),\"\",('DE01-F12'!P1486))","v":""},{"$f":"IF(ISBLANK('DE01-F12'!Q1486),\"\",('DE01-F12'!Q1486))","v":""},{"$f":"IF(ISBLANK('DE01-F12'!S1486),\"\",('DE01-F12'!S1486))","v":0}]
[{"$f":"IF(ISBLANK('DE01-F12'!N1487),\"\",('DE01-F12'!N1487))","v":""},{"$f":"MID('DE01-F12'!G1487,1,18)","v":""},{"$f":"IF(ISBLANK('DE01-F12'!P1487),\"\",('DE01-F12'!P1487))","v":""},{"$f":"IF(ISBLANK('DE01-F12'!Q1487),\"\",('DE01-F12'!Q1487))","v":""},{"$f":"IF(ISBLANK('DE01-F12'!S1487),\"\",('DE01-F12'!S1487))","v":0}]
[{"$f":"IF(ISBLANK('DE01-F12'!N1488),\"\",('DE01-F12'!N1488))","v":""},{"$f":"MID('DE01-F12'!G1488,1,18)","v":""},{"$f":"IF(ISBLANK('DE01-F12'!P1488),\"\",('DE01-F12'!P1488))","v":""},{"$f":"IF(ISBLANK('DE01-F12'!Q1488),\"\",('DE01-F12'!Q1488))","v":""},{"$f":"IF(ISBLANK('DE01-F12'!S1488),\"\",('DE01-F12'!S1488))","v":0}]
[{"$f":"IF(ISBLANK('DE01-F12'!N1489),\"\",('DE01-F12'!N1489))","v":""},{"$f":"MID('DE01-F12'!G1489,1,18)","v":""},{"$f":"IF(ISBLANK('DE01-F12'!P1489),\"\",('DE01-F12'!P1489))","v":""},{"$f":"IF(ISBLANK('DE01-F12'!Q1489),\"\",('DE01-F12'!Q1489))","v":""},{"$f":"IF(ISBLANK('DE01-F12'!S1489),\"\",('DE01-F12'!S1489))","v":0}]
[{"$f":"IF(ISBLANK('DE01-F12'!N1490),\"\",('DE01-F12'!N1490))","v":""},{"$f":"MID('DE01-F12'!G1490,1,18)","v":""},{"$f":"IF(ISBLANK('DE01-F12'!P1490),\"\",('DE01-F12'!P1490))","v":""},{"$f":"IF(ISBLANK('DE01-F12'!Q1490),\"\",('DE01-F12'!Q1490))","v":""},{"$f":"IF(ISBLANK('DE01-F12'!S1490),\"\",('DE01-F12'!S1490))","v":0}]
[{"$f":"IF(ISBLANK('DE01-F12'!N1491),\"\",('DE01-F12'!N1491))","v":""},{"$f":"MID('DE01-F12'!G1491,1,18)","v":""},{"$f":"IF(ISBLANK('DE01-F12'!P1491),\"\",('DE01-F12'!P1491))","v":""},{"$f":"IF(ISBLANK('DE01-F12'!Q1491),\"\",('DE01-F12'!Q1491))","v":""},{"$f":"IF(ISBLANK('DE01-F12'!S1491),\"\",('DE01-F12'!S1491))","v":0}]
[{"$f":"IF(ISBLANK('DE01-F12'!N1492),\"\",('DE01-F12'!N1492))","v":""},{"$f":"MID('DE01-F12'!G1492,1,18)","v":""},{"$f":"IF(ISBLANK('DE01-F12'!P1492),\"\",('DE01-F12'!P1492))","v":""},{"$f":"IF(ISBLANK('DE01-F12'!Q1492),\"\",('DE01-F12'!Q1492))","v":""},{"$f":"IF(ISBLANK('DE01-F12'!S1492),\"\",('DE01-F12'!S1492))","v":0}]
[{"$f":"IF(ISBLANK('DE01-F12'!N1493),\"\",('DE01-F12'!N1493))","v":""},{"$f":"MID('DE01-F12'!G1493,1,18)","v":""},{"$f":"IF(ISBLANK('DE01-F12'!P1493),\"\",('DE01-F12'!P1493))","v":""},{"$f":"IF(ISBLANK('DE01-F12'!Q1493),\"\",('DE01-F12'!Q1493))","v":""},{"$f":"IF(ISBLANK('DE01-F12'!S1493),\"\",('DE01-F12'!S1493))","v":0}]
[{"$f":"IF(ISBLANK('DE01-F12'!N1494),\"\",('DE01-F12'!N1494))","v":""},{"$f":"MID('DE01-F12'!G1494,1,18)","v":""},{"$f":"IF(ISBLANK('DE01-F12'!P1494),\"\",('DE01-F12'!P1494))","v":""},{"$f":"IF(ISBLANK('DE01-F12'!Q1494),\"\",('DE01-F12'!Q1494))","v":""},{"$f":"IF(ISBLANK('DE01-F12'!S1494),\"\",('DE01-F12'!S1494))","v":0}]
[{"$f":"IF(ISBLANK('DE01-F12'!N1495),\"\",('DE01-F12'!N1495))","v":""},{"$f":"MID('DE01-F12'!G1495,1,18)","v":""},{"$f":"IF(ISBLANK('DE01-F12'!P1495),\"\",('DE01-F12'!P1495))","v":""},{"$f":"IF(ISBLANK('DE01-F12'!Q1495),\"\",('DE01-F12'!Q1495))","v":""},{"$f":"IF(ISBLANK('DE01-F12'!S1495),\"\",('DE01-F12'!S1495))","v":0}]
[{"$f":"IF(ISBLANK('DE01-F12'!N1496),\"\",('DE01-F12'!N1496))","v":""},{"$f":"MID('DE01-F12'!G1496,1,18)","v":""},{"$f":"IF(ISBLANK('DE01-F12'!P1496),\"\",('DE01-F12'!P1496))","v":""},{"$f":"IF(ISBLANK('DE01-F12'!Q1496),\"\",('DE01-F12'!Q1496))","v":""},{"$f":"IF(ISBLANK('DE01-F12'!S1496),\"\",('DE01-F12'!S1496))","v":0}]
[{"$f":"IF(ISBLANK('DE01-F12'!N1497),\"\",('DE01-F12'!N1497))","v":""},{"$f":"MID('DE01-F12'!G1497,1,18)","v":""},{"$f":"IF(ISBLANK('DE01-F12'!P1497),\"\",('DE01-F12'!P1497))","v":""},{"$f":"IF(ISBLANK('DE01-F12'!Q1497),\"\",('DE01-F12'!Q1497))","v":""},{"$f":"IF(ISBLANK('DE01-F12'!S1497),\"\",('DE01-F12'!S1497))","v":0}]
[{"$f":"IF(ISBLANK('DE01-F12'!N1498),\"\",('DE01-F12'!N1498))","v":""},{"$f":"MID('DE01-F12'!G1498,1,18)","v":""},{"$f":"IF(ISBLANK('DE01-F12'!P1498),\"\",('DE01-F12'!P1498))","v":""},{"$f":"IF(ISBLANK('DE01-F12'!Q1498),\"\",('DE01-F12'!Q1498))","v":""},{"$f":"IF(ISBLANK('DE01-F12'!S1498),\"\",('DE01-F12'!S1498))","v":0}]
[{"$f":"IF(ISBLANK('DE01-F12'!N1499),\"\",('DE01-F12'!N1499))","v":""},{"$f":"MID('DE01-F12'!G1499,1,18)","v":""},{"$f":"IF(ISBLANK('DE01-F12'!P1499),\"\",('DE01-F12'!P1499))","v":""},{"$f":"IF(ISBLANK('DE01-F12'!Q1499),\"\",('DE01-F12'!Q1499))","v":""},{"$f":"IF(ISBLANK('DE01-F12'!S1499),\"\",('DE01-F12'!S1499))","v":0}]
[{"$f":"IF(ISBLANK('DE01-F12'!N1500),\"\",('DE01-F12'!N1500))","v":""},{"$f":"MID('DE01-F12'!G1500,1,18)","v":""},{"$f":"IF(ISBLANK('DE01-F12'!P1500),\"\",('DE01-F12'!P1500))","v":""},{"$f":"IF(ISBLANK('DE01-F12'!Q1500),\"\",('DE01-F12'!Q1500))","v":""},{"$f":"IF(ISBLANK('DE01-F12'!S1500),\"\",('DE01-F12'!S1500))","v":0}]
[{"$f":"IF(ISBLANK('DE01-F12'!N1501),\"\",('DE01-F12'!N1501))","v":""},{"$f":"MID('DE01-F12'!G1501,1,18)","v":""},{"$f":"IF(ISBLANK('DE01-F12'!P1501),\"\",('DE01-F12'!P1501))","v":""},{"$f":"IF(ISBLANK('DE01-F12'!Q1501),\"\",('DE01-F12'!Q1501))","v":""},{"$f":"IF(ISBLANK('DE01-F12'!S1501),\"\",('DE01-F12'!S1501))","v":0}]
[{"$f":"IF(ISBLANK('DE01-F12'!N1502),\"\",('DE01-F12'!N1502))","v":""},{"$f":"MID('DE01-F12'!G1502,1,18)","v":""},{"$f":"IF(ISBLANK('DE01-F12'!P1502),\"\",('DE01-F12'!P1502))","v":""},{"$f":"IF(ISBLANK('DE01-F12'!Q1502),\"\",('DE01-F12'!Q1502))","v":""},{"$f":"IF(ISBLANK('DE01-F12'!S1502),\"\",('DE01-F12'!S1502))","v":0}]
[{"$f":"IF(ISBLANK('DE01-F12'!N1503),\"\",('DE01-F12'!N1503))","v":""},{"$f":"MID('DE01-F12'!G1503,1,18)","v":""},{"$f":"IF(ISBLANK('DE01-F12'!P1503),\"\",('DE01-F12'!P1503))","v":""},{"$f":"IF(ISBLANK('DE01-F12'!Q1503),\"\",('DE01-F12'!Q1503))","v":""},{"$f":"IF(ISBLANK('DE01-F12'!S1503),\"\",('DE01-F12'!S1503))","v":0}]
[{"$f":"IF(ISBLANK('DE01-F12'!N1504),\"\",('DE01-F12'!N1504))","v":""},{"$f":"MID('DE01-F12'!G1504,1,18)","v":""},{"$f":"IF(ISBLANK('DE01-F12'!P1504),\"\",('DE01-F12'!P1504))","v":""},{"$f":"IF(ISBLANK('DE01-F12'!Q1504),\"\",('DE01-F12'!Q1504))","v":""},{"$f":"IF(ISBLANK('DE01-F12'!S1504),\"\",('DE01-F12'!S1504))","v":0}]
[{"$f":"IF(ISBLANK('DE01-F12'!N1505),\"\",('DE01-F12'!N1505))","v":""},{"$f":"MID('DE01-F12'!G1505,1,18)","v":""},{"$f":"IF(ISBLANK('DE01-F12'!P1505),\"\",('DE01-F12'!P1505))","v":""},{"$f":"IF(ISBLANK('DE01-F12'!Q1505),\"\",('DE01-F12'!Q1505))","v":""},{"$f":"IF(ISBLANK('DE01-F12'!S1505),\"\",('DE01-F12'!S1505))","v":0}]
[{"$f":"IF(ISBLANK('DE01-F12'!N1506),\"\",('DE01-F12'!N1506))","v":""},{"$f":"MID('DE01-F12'!G1506,1,18)","v":""},{"$f":"IF(ISBLANK('DE01-F12'!P1506),\"\",('DE01-F12'!P1506))","v":""},{"$f":"IF(ISBLANK('DE01-F12'!Q1506),\"\",('DE01-F12'!Q1506))","v":""},{"$f":"IF(ISBLANK('DE01-F12'!S1506),\"\",('DE01-F12'!S1506))","v":0}]
[{"$f":"IF(ISBLANK('DE01-F12'!N1507),\"\",('DE01-F12'!N1507))","v":""},{"$f":"MID('DE01-F12'!G1507,1,18)","v":""},{"$f":"IF(ISBLANK('DE01-F12'!P1507),\"\",('DE01-F12'!P1507))","v":""},{"$f":"IF(ISBLANK('DE01-F12'!Q1507),\"\",('DE01-F12'!Q1507))","v":""},{"$f":"IF(ISBLANK('DE01-F12'!S1507),\"\",('DE01-F12'!S1507))","v":0}]
[{"$f":"IF(ISBLANK('DE01-F12'!N1508),\"\",('DE01-F12'!N1508))","v":""},{"$f":"MID('DE01-F12'!G1508,1,18)","v":""},{"$f":"IF(ISBLANK('DE01-F12'!P1508),\"\",('DE01-F12'!P1508))","v":""},{"$f":"IF(ISBLANK('DE01-F12'!Q1508),\"\",('DE01-F12'!Q1508))","v":""},{"$f":"IF(ISBLANK('DE01-F12'!S1508),\"\",('DE01-F12'!S1508))","v":0}]
[{"$f":"IF(ISBLANK('DE01-F12'!N1509),\"\",('DE01-F12'!N1509))","v":""},{"$f":"MID('DE01-F12'!G1509,1,18)","v":""},{"$f":"IF(ISBLANK('DE01-F12'!P1509),\"\",('DE01-F12'!P1509))","v":""},{"$f":"IF(ISBLANK('DE01-F12'!Q1509),\"\",('DE01-F12'!Q1509))","v":""},{"$f":"IF(ISBLANK('DE01-F12'!S1509),\"\",('DE01-F12'!S1509))","v":0}]
[{"$f":"IF(ISBLANK('DE01-F12'!N1510),\"\",('DE01-F12'!N1510))","v":""},{"$f":"MID('DE01-F12'!G1510,1,18)","v":""},{"$f":"IF(ISBLANK('DE01-F12'!P1510),\"\",('DE01-F12'!P1510))","v":""},{"$f":"IF(ISBLANK('DE01-F12'!Q1510),\"\",('DE01-F12'!Q1510))","v":""},{"$f":"IF(ISBLANK('DE01-F12'!S1510),\"\",('DE01-F12'!S1510))","v":0}]
[{"$f":"IF(ISBLANK('DE01-F12'!N1511),\"\",('DE01-F12'!N1511))","v":""},{"$f":"MID('DE01-F12'!G1511,1,18)","v":""},{"$f":"IF(ISBLANK('DE01-F12'!P1511),\"\",('DE01-F12'!P1511))","v":""},{"$f":"IF(ISBLANK('DE01-F12'!Q1511),\"\",('DE01-F12'!Q1511))","v":""},{"$f":"IF(ISBLANK('DE01-F12'!S1511),\"\",('DE01-F12'!S1511))","v":0}]
[{"$f":"IF(ISBLANK('DE01-F12'!N1512),\"\",('DE01-F12'!N1512))","v":""},{"$f":"MID('DE01-F12'!G1512,1,18)","v":""},{"$f":"IF(ISBLANK('DE01-F12'!P1512),\"\",('DE01-F12'!P1512))","v":""},{"$f":"IF(ISBLANK('DE01-F12'!Q1512),\"\",('DE01-F12'!Q1512))","v":""},{"$f":"IF(ISBLANK('DE01-F12'!S1512),\"\",('DE01-F12'!S1512))","v":0}]
[{"$f":"IF(ISBLANK('DE01-F12'!N1513),\"\",('DE01-F12'!N1513))","v":""},{"$f":"MID('DE01-F12'!G1513,1,18)","v":""},{"$f":"IF(ISBLANK('DE01-F12'!P1513),\"\",('DE01-F12'!P1513))","v":""},{"$f":"IF(ISBLANK('DE01-F12'!Q1513),\"\",('DE01-F12'!Q1513))","v":""},{"$f":"IF(ISBLANK('DE01-F12'!S1513),\"\",('DE01-F12'!S1513))","v":0}]
[{"$f":"IF(ISBLANK('DE01-F12'!N1514),\"\",('DE01-F12'!N1514))","v":""},{"$f":"MID('DE01-F12'!G1514,1,18)","v":""},{"$f":"IF(ISBLANK('DE01-F12'!P1514),\"\",('DE01-F12'!P1514))","v":""},{"$f":"IF(ISBLANK('DE01-F12'!Q1514),\"\",('DE01-F12'!Q1514))","v":""},{"$f":"IF(ISBLANK('DE01-F12'!S1514),\"\",('DE01-F12'!S1514))","v":0}]
[{"$f":"IF(ISBLANK('DE01-F12'!N1515),\"\",('DE01-F12'!N1515))","v":""},{"$f":"MID('DE01-F12'!G1515,1,18)","v":""},{"$f":"IF(ISBLANK('DE01-F12'!P1515),\"\",('DE01-F12'!P1515))","v":""},{"$f":"IF(ISBLANK('DE01-F12'!Q1515),\"\",('DE01-F12'!Q1515))","v":""},{"$f":"IF(ISBLANK('DE01-F12'!S1515),\"\",('DE01-F12'!S1515))","v":0}]
[{"$f":"IF(ISBLANK('DE01-F12'!N1516),\"\",('DE01-F12'!N1516))","v":""},{"$f":"MID('DE01-F12'!G1516,1,18)","v":""},{"$f":"IF(ISBLANK('DE01-F12'!P1516),\"\",('DE01-F12'!P1516))","v":""},{"$f":"IF(ISBLANK('DE01-F12'!Q1516),\"\",('DE01-F12'!Q1516))","v":""},{"$f":"IF(ISBLANK('DE01-F12'!S1516),\"\",('DE01-F12'!S1516))","v":0}]
[{"$f":"IF(ISBLANK('DE01-F12'!N1517),\"\",('DE01-F12'!N1517))","v":""},{"$f":"MID('DE01-F12'!G1517,1,18)","v":""},{"$f":"IF(ISBLANK('DE01-F12'!P1517),\"\",('DE01-F12'!P1517))","v":""},{"$f":"IF(ISBLANK('DE01-F12'!Q1517),\"\",('DE01-F12'!Q1517))","v":""},{"$f":"IF(ISBLANK('DE01-F12'!S1517),\"\",('DE01-F12'!S1517))","v":0}]
[{"$f":"IF(ISBLANK('DE01-F12'!N1518),\"\",('DE01-F12'!N1518))","v":""},{"$f":"MID('DE01-F12'!G1518,1,18)","v":""},{"$f":"IF(ISBLANK('DE01-F12'!P1518),\"\",('DE01-F12'!P1518))","v":""},{"$f":"IF(ISBLANK('DE01-F12'!Q1518),\"\",('DE01-F12'!Q1518))","v":""},{"$f":"IF(ISBLANK('DE01-F12'!S1518),\"\",('DE01-F12'!S1518))","v":0}]
[{"$f":"IF(ISBLANK('DE01-F12'!N1519),\"\",('DE01-F12'!N1519))","v":""},{"$f":"MID('DE01-F12'!G1519,1,18)","v":""},{"$f":"IF(ISBLANK('DE01-F12'!P1519),\"\",('DE01-F12'!P1519))","v":""},{"$f":"IF(ISBLANK('DE01-F12'!Q1519),\"\",('DE01-F12'!Q1519))","v":""},{"$f":"IF(ISBLANK('DE01-F12'!S1519),\"\",('DE01-F12'!S1519))","v":0}]
[{"$f":"IF(ISBLANK('DE01-F12'!N1520),\"\",('DE01-F12'!N1520))","v":""},{"$f":"MID('DE01-F12'!G1520,1,18)","v":""},{"$f":"IF(ISBLANK('DE01-F12'!P1520),\"\",('DE01-F12'!P1520))","v":""},{"$f":"IF(ISBLANK('DE01-F12'!Q1520),\"\",('DE01-F12'!Q1520))","v":""},{"$f":"IF(ISBLANK('DE01-F12'!S1520),\"\",('DE01-F12'!S1520))","v":0}]
[{"$f":"IF(ISBLANK('DE01-F12'!N1521),\"\",('DE01-F12'!N1521))","v":""},{"$f":"MID('DE01-F12'!G1521,1,18)","v":""},{"$f":"IF(ISBLANK('DE01-F12'!P1521),\"\",('DE01-F12'!P1521))","v":""},{"$f":"IF(ISBLANK('DE01-F12'!Q1521),\"\",('DE01-F12'!Q1521))","v":""},{"$f":"IF(ISBLANK('DE01-F12'!S1521),\"\",('DE01-F12'!S1521))","v":0}]
[{"$f":"IF(ISBLANK('DE01-F12'!N1522),\"\",('DE01-F12'!N1522))","v":""},{"$f":"MID('DE01-F12'!G1522,1,18)","v":""},{"$f":"IF(ISBLANK('DE01-F12'!P1522),\"\",('DE01-F12'!P1522))","v":""},{"$f":"IF(ISBLANK('DE01-F12'!Q1522),\"\",('DE01-F12'!Q1522))","v":""},{"$f":"IF(ISBLANK('DE01-F12'!S1522),\"\",('DE01-F12'!S1522))","v":0}]
[{"$f":"IF(ISBLANK('DE01-F12'!N1523),\"\",('DE01-F12'!N1523))","v":""},{"$f":"MID('DE01-F12'!G1523,1,18)","v":""},{"$f":"IF(ISBLANK('DE01-F12'!P1523),\"\",('DE01-F12'!P1523))","v":""},{"$f":"IF(ISBLANK('DE01-F12'!Q1523),\"\",('DE01-F12'!Q1523))","v":""},{"$f":"IF(ISBLANK('DE01-F12'!S1523),\"\",('DE01-F12'!S1523))","v":0}]
[{"$f":"IF(ISBLANK('DE01-F12'!N1524),\"\",('DE01-F12'!N1524))","v":""},{"$f":"MID('DE01-F12'!G1524,1,18)","v":""},{"$f":"IF(ISBLANK('DE01-F12'!P1524),\"\",('DE01-F12'!P1524))","v":""},{"$f":"IF(ISBLANK('DE01-F12'!Q1524),\"\",('DE01-F12'!Q1524))","v":""},{"$f":"IF(ISBLANK('DE01-F12'!S1524),\"\",('DE01-F12'!S1524))","v":0}]
[{"$f":"IF(ISBLANK('DE01-F12'!N1525),\"\",('DE01-F12'!N1525))","v":""},{"$f":"MID('DE01-F12'!G1525,1,18)","v":""},{"$f":"IF(ISBLANK('DE01-F12'!P1525),\"\",('DE01-F12'!P1525))","v":""},{"$f":"IF(ISBLANK('DE01-F12'!Q1525),\"\",('DE01-F12'!Q1525))","v":""},{"$f":"IF(ISBLANK('DE01-F12'!S1525),\"\",('DE01-F12'!S1525))","v":0}]
[{"$f":"IF(ISBLANK('DE01-F12'!N1526),\"\",('DE01-F12'!N1526))","v":""},{"$f":"MID('DE01-F12'!G1526,1,18)","v":""},{"$f":"IF(ISBLANK('DE01-F12'!P1526),\"\",('DE01-F12'!P1526))","v":""},{"$f":"IF(ISBLANK('DE01-F12'!Q1526),\"\",('DE01-F12'!Q1526))","v":""},{"$f":"IF(ISBLANK('DE01-F12'!S1526),\"\",('DE01-F12'!S1526))","v":0}]
[{"$f":"IF(ISBLANK('DE01-F12'!N1527),\"\",('DE01-F12'!N1527))","v":""},{"$f":"MID('DE01-F12'!G1527,1,18)","v":""},{"$f":"IF(ISBLANK('DE01-F12'!P1527),\"\",('DE01-F12'!P1527))","v":""},{"$f":"IF(ISBLANK('DE01-F12'!Q1527),\"\",('DE01-F12'!Q1527))","v":""},{"$f":"IF(ISBLANK('DE01-F12'!S1527),\"\",('DE01-F12'!S1527))","v":0}]
[{"$f":"IF(ISBLANK('DE01-F12'!N1528),\"\",('DE01-F12'!N1528))","v":""},{"$f":"MID('DE01-F12'!G1528,1,18)","v":""},{"$f":"IF(ISBLANK('DE01-F12'!P1528),\"\",('DE01-F12'!P1528))","v":""},{"$f":"IF(ISBLANK('DE01-F12'!Q1528),\"\",('DE01-F12'!Q1528))","v":""},{"$f":"IF(ISBLANK('DE01-F12'!S1528),\"\",('DE01-F12'!S1528))","v":0}]
[{"$f":"IF(ISBLANK('DE01-F12'!N1529),\"\",('DE01-F12'!N1529))","v":""},{"$f":"MID('DE01-F12'!G1529,1,18)","v":""},{"$f":"IF(ISBLANK('DE01-F12'!P1529),\"\",('DE01-F12'!P1529))","v":""},{"$f":"IF(ISBLANK('DE01-F12'!Q1529),\"\",('DE01-F12'!Q1529))","v":""},{"$f":"IF(ISBLANK('DE01-F12'!S1529),\"\",('DE01-F12'!S1529))","v":0}]
[{"$f":"IF(ISBLANK('DE01-F12'!N1530),\"\",('DE01-F12'!N1530))","v":""},{"$f":"MID('DE01-F12'!G1530,1,18)","v":""},{"$f":"IF(ISBLANK('DE01-F12'!P1530),\"\",('DE01-F12'!P1530))","v":""},{"$f":"IF(ISBLANK('DE01-F12'!Q1530),\"\",('DE01-F12'!Q1530))","v":""},{"$f":"IF(ISBLANK('DE01-F12'!S1530),\"\",('DE01-F12'!S1530))","v":0}]
[{"$f":"IF(ISBLANK('DE01-F12'!N1531),\"\",('DE01-F12'!N1531))","v":""},{"$f":"MID('DE01-F12'!G1531,1,18)","v":""},{"$f":"IF(ISBLANK('DE01-F12'!P1531),\"\",('DE01-F12'!P1531))","v":""},{"$f":"IF(ISBLANK('DE01-F12'!Q1531),\"\",('DE01-F12'!Q1531))","v":""},{"$f":"IF(ISBLANK('DE01-F12'!S1531),\"\",('DE01-F12'!S1531))","v":0}]
[{"$f":"IF(ISBLANK('DE01-F12'!N1532),\"\",('DE01-F12'!N1532))","v":""},{"$f":"MID('DE01-F12'!G1532,1,18)","v":""},{"$f":"IF(ISBLANK('DE01-F12'!P1532),\"\",('DE01-F12'!P1532))","v":""},{"$f":"IF(ISBLANK('DE01-F12'!Q1532),\"\",('DE01-F12'!Q1532))","v":""},{"$f":"IF(ISBLANK('DE01-F12'!S1532),\"\",('DE01-F12'!S1532))","v":0}]
[{"$f":"IF(ISBLANK('DE01-F12'!N1533),\"\",('DE01-F12'!N1533))","v":""},{"$f":"MID('DE01-F12'!G1533,1,18)","v":""},{"$f":"IF(ISBLANK('DE01-F12'!P1533),\"\",('DE01-F12'!P1533))","v":""},{"$f":"IF(ISBLANK('DE01-F12'!Q1533),\"\",('DE01-F12'!Q1533))","v":""},{"$f":"IF(ISBLANK('DE01-F12'!S1533),\"\",('DE01-F12'!S1533))","v":0}]
[{"$f":"IF(ISBLANK('DE01-F12'!N1534),\"\",('DE01-F12'!N1534))","v":""},{"$f":"MID('DE01-F12'!G1534,1,18)","v":""},{"$f":"IF(ISBLANK('DE01-F12'!P1534),\"\",('DE01-F12'!P1534))","v":""},{"$f":"IF(ISBLANK('DE01-F12'!Q1534),\"\",('DE01-F12'!Q1534))","v":""},{"$f":"IF(ISBLANK('DE01-F12'!S1534),\"\",('DE01-F12'!S1534))","v":0}]
[{"$f":"IF(ISBLANK('DE01-F12'!N1535),\"\",('DE01-F12'!N1535))","v":""},{"$f":"MID('DE01-F12'!G1535,1,18)","v":""},{"$f":"IF(ISBLANK('DE01-F12'!P1535),\"\",('DE01-F12'!P1535))","v":""},{"$f":"IF(ISBLANK('DE01-F12'!Q1535),\"\",('DE01-F12'!Q1535))","v":""},{"$f":"IF(ISBLANK('DE01-F12'!S1535),\"\",('DE01-F12'!S1535))","v":0}]
[{"$f":"IF(ISBLANK('DE01-F12'!N1536),\"\",('DE01-F12'!N1536))","v":""},{"$f":"MID('DE01-F12'!G1536,1,18)","v":""},{"$f":"IF(ISBLANK('DE01-F12'!P1536),\"\",('DE01-F12'!P1536))","v":""},{"$f":"IF(ISBLANK('DE01-F12'!Q1536),\"\",('DE01-F12'!Q1536))","v":""},{"$f":"IF(ISBLANK('DE01-F12'!S1536),\"\",('DE01-F12'!S1536))","v":0}]
[{"$f":"IF(ISBLANK('DE01-F12'!N1537),\"\",('DE01-F12'!N1537))","v":""},{"$f":"MID('DE01-F12'!G1537,1,18)","v":""},{"$f":"IF(ISBLANK('DE01-F12'!P1537),\"\",('DE01-F12'!P1537))","v":""},{"$f":"IF(ISBLANK('DE01-F12'!Q1537),\"\",('DE01-F12'!Q1537))","v":""},{"$f":"IF(ISBLANK('DE01-F12'!S1537),\"\",('DE01-F12'!S1537))","v":0}]
[{"$f":"IF(ISBLANK('DE01-F12'!N1538),\"\",('DE01-F12'!N1538))","v":""},{"$f":"MID('DE01-F12'!G1538,1,18)","v":""},{"$f":"IF(ISBLANK('DE01-F12'!P1538),\"\",('DE01-F12'!P1538))","v":""},{"$f":"IF(ISBLANK('DE01-F12'!Q1538),\"\",('DE01-F12'!Q1538))","v":""},{"$f":"IF(ISBLANK('DE01-F12'!S1538),\"\",('DE01-F12'!S1538))","v":0}]
[{"$f":"IF(ISBLANK('DE01-F12'!N1539),\"\",('DE01-F12'!N1539))","v":""},{"$f":"MID('DE01-F12'!G1539,1,18)","v":""},{"$f":"IF(ISBLANK('DE01-F12'!P1539),\"\",('DE01-F12'!P1539))","v":""},{"$f":"IF(ISBLANK('DE01-F12'!Q1539),\"\",('DE01-F12'!Q1539))","v":""},{"$f":"IF(ISBLANK('DE01-F12'!S1539),\"\",('DE01-F12'!S1539))","v":0}]
[{"$f":"IF(ISBLANK('DE01-F12'!N1540),\"\",('DE01-F12'!N1540))","v":""},{"$f":"MID('DE01-F12'!G1540,1,18)","v":""},{"$f":"IF(ISBLANK('DE01-F12'!P1540),\"\",('DE01-F12'!P1540))","v":""},{"$f":"IF(ISBLANK('DE01-F12'!Q1540),\"\",('DE01-F12'!Q1540))","v":""},{"$f":"IF(ISBLANK('DE01-F12'!S1540),\"\",('DE01-F12'!S1540))","v":0}]
[{"$f":"IF(ISBLANK('DE01-F12'!N1541),\"\",('DE01-F12'!N1541))","v":""},{"$f":"MID('DE01-F12'!G1541,1,18)","v":""},{"$f":"IF(ISBLANK('DE01-F12'!P1541),\"\",('DE01-F12'!P1541))","v":""},{"$f":"IF(ISBLANK('DE01-F12'!Q1541),\"\",('DE01-F12'!Q1541))","v":""},{"$f":"IF(ISBLANK('DE01-F12'!S1541),\"\",('DE01-F12'!S1541))","v":0}]
[{"$f":"IF(ISBLANK('DE01-F12'!N1542),\"\",('DE01-F12'!N1542))","v":""},{"$f":"MID('DE01-F12'!G1542,1,18)","v":""},{"$f":"IF(ISBLANK('DE01-F12'!P1542),\"\",('DE01-F12'!P1542))","v":""},{"$f":"IF(ISBLANK('DE01-F12'!Q1542),\"\",('DE01-F12'!Q1542))","v":""},{"$f":"IF(ISBLANK('DE01-F12'!S1542),\"\",('DE01-F12'!S1542))","v":0}]
[{"$f":"IF(ISBLANK('DE01-F12'!N1543),\"\",('DE01-F12'!N1543))","v":""},{"$f":"MID('DE01-F12'!G1543,1,18)","v":""},{"$f":"IF(ISBLANK('DE01-F12'!P1543),\"\",('DE01-F12'!P1543))","v":""},{"$f":"IF(ISBLANK('DE01-F12'!Q1543),\"\",('DE01-F12'!Q1543))","v":""},{"$f":"IF(ISBLANK('DE01-F12'!S1543),\"\",('DE01-F12'!S1543))","v":0}]
[{"$f":"IF(ISBLANK('DE01-F12'!N1544),\"\",('DE01-F12'!N1544))","v":""},{"$f":"MID('DE01-F12'!G1544,1,18)","v":""},{"$f":"IF(ISBLANK('DE01-F12'!P1544),\"\",('DE01-F12'!P1544))","v":""},{"$f":"IF(ISBLANK('DE01-F12'!Q1544),\"\",('DE01-F12'!Q1544))","v":""},{"$f":"IF(ISBLANK('DE01-F12'!S1544),\"\",('DE01-F12'!S1544))","v":0}]
[{"$f":"IF(ISBLANK('DE01-F12'!N1545),\"\",('DE01-F12'!N1545))","v":""},{"$f":"MID('DE01-F12'!G1545,1,18)","v":""},{"$f":"IF(ISBLANK('DE01-F12'!P1545),\"\",('DE01-F12'!P1545))","v":""},{"$f":"IF(ISBLANK('DE01-F12'!Q1545),\"\",('DE01-F12'!Q1545))","v":""},{"$f":"IF(ISBLANK('DE01-F12'!S1545),\"\",('DE01-F12'!S1545))","v":0}]
[{"$f":"IF(ISBLANK('DE01-F12'!N1546),\"\",('DE01-F12'!N1546))","v":""},{"$f":"MID('DE01-F12'!G1546,1,18)","v":""},{"$f":"IF(ISBLANK('DE01-F12'!P1546),\"\",('DE01-F12'!P1546))","v":""},{"$f":"IF(ISBLANK('DE01-F12'!Q1546),\"\",('DE01-F12'!Q1546))","v":""},{"$f":"IF(ISBLANK('DE01-F12'!S1546),\"\",('DE01-F12'!S1546))","v":0}]
[{"$f":"IF(ISBLANK('DE01-F12'!N1547),\"\",('DE01-F12'!N1547))","v":""},{"$f":"MID('DE01-F12'!G1547,1,18)","v":""},{"$f":"IF(ISBLANK('DE01-F12'!P1547),\"\",('DE01-F12'!P1547))","v":""},{"$f":"IF(ISBLANK('DE01-F12'!Q1547),\"\",('DE01-F12'!Q1547))","v":""},{"$f":"IF(ISBLANK('DE01-F12'!S1547),\"\",('DE01-F12'!S1547))","v":0}]
[{"$f":"IF(ISBLANK('DE01-F12'!N1548),\"\",('DE01-F12'!N1548))","v":""},{"$f":"MID('DE01-F12'!G1548,1,18)","v":""},{"$f":"IF(ISBLANK('DE01-F12'!P1548),\"\",('DE01-F12'!P1548))","v":""},{"$f":"IF(ISBLANK('DE01-F12'!Q1548),\"\",('DE01-F12'!Q1548))","v":""},{"$f":"IF(ISBLANK('DE01-F12'!S1548),\"\",('DE01-F12'!S1548))","v":0}]
[{"$f":"IF(ISBLANK('DE01-F12'!N1549),\"\",('DE01-F12'!N1549))","v":""},{"$f":"MID('DE01-F12'!G1549,1,18)","v":""},{"$f":"IF(ISBLANK('DE01-F12'!P1549),\"\",('DE01-F12'!P1549))","v":""},{"$f":"IF(ISBLANK('DE01-F12'!Q1549),\"\",('DE01-F12'!Q1549))","v":""},{"$f":"IF(ISBLANK('DE01-F12'!S1549),\"\",('DE01-F12'!S1549))","v":0}]
[{"$f":"IF(ISBLANK('DE01-F12'!N1550),\"\",('DE01-F12'!N1550))","v":""},{"$f":"MID('DE01-F12'!G1550,1,18)","v":""},{"$f":"IF(ISBLANK('DE01-F12'!P1550),\"\",('DE01-F12'!P1550))","v":""},{"$f":"IF(ISBLANK('DE01-F12'!Q1550),\"\",('DE01-F12'!Q1550))","v":""},{"$f":"IF(ISBLANK('DE01-F12'!S1550),\"\",('DE01-F12'!S1550))","v":0}]
[{"$f":"IF(ISBLANK('DE01-F12'!N1551),\"\",('DE01-F12'!N1551))","v":""},{"$f":"MID('DE01-F12'!G1551,1,18)","v":""},{"$f":"IF(ISBLANK('DE01-F12'!P1551),\"\",('DE01-F12'!P1551))","v":""},{"$f":"IF(ISBLANK('DE01-F12'!Q1551),\"\",('DE01-F12'!Q1551))","v":""},{"$f":"IF(ISBLANK('DE01-F12'!S1551),\"\",('DE01-F12'!S1551))","v":0}]
[{"$f":"IF(ISBLANK('DE01-F12'!N1552),\"\",('DE01-F12'!N1552))","v":""},{"$f":"MID('DE01-F12'!G1552,1,18)","v":""},{"$f":"IF(ISBLANK('DE01-F12'!P1552),\"\",('DE01-F12'!P1552))","v":""},{"$f":"IF(ISBLANK('DE01-F12'!Q1552),\"\",('DE01-F12'!Q1552))","v":""},{"$f":"IF(ISBLANK('DE01-F12'!S1552),\"\",('DE01-F12'!S1552))","v":0}]
[{"$f":"IF(ISBLANK('DE01-F12'!N1553),\"\",('DE01-F12'!N1553))","v":""},{"$f":"MID('DE01-F12'!G1553,1,18)","v":""},{"$f":"IF(ISBLANK('DE01-F12'!P1553),\"\",('DE01-F12'!P1553))","v":""},{"$f":"IF(ISBLANK('DE01-F12'!Q1553),\"\",('DE01-F12'!Q1553))","v":""},{"$f":"IF(ISBLANK('DE01-F12'!S1553),\"\",('DE01-F12'!S1553))","v":0}]
[{"$f":"IF(ISBLANK('DE01-F12'!N1554),\"\",('DE01-F12'!N1554))","v":""},{"$f":"MID('DE01-F12'!G1554,1,18)","v":""},{"$f":"IF(ISBLANK('DE01-F12'!P1554),\"\",('DE01-F12'!P1554))","v":""},{"$f":"IF(ISBLANK('DE01-F12'!Q1554),\"\",('DE01-F12'!Q1554))","v":""},{"$f":"IF(ISBLANK('DE01-F12'!S1554),\"\",('DE01-F12'!S1554))","v":0}]
[{"$f":"IF(ISBLANK('DE01-F12'!N1555),\"\",('DE01-F12'!N1555))","v":""},{"$f":"MID('DE01-F12'!G1555,1,18)","v":""},{"$f":"IF(ISBLANK('DE01-F12'!P1555),\"\",('DE01-F12'!P1555))","v":""},{"$f":"IF(ISBLANK('DE01-F12'!Q1555),\"\",('DE01-F12'!Q1555))","v":""},{"$f":"IF(ISBLANK('DE01-F12'!S1555),\"\",('DE01-F12'!S1555))","v":0}]
[{"$f":"IF(ISBLANK('DE01-F12'!N1556),\"\",('DE01-F12'!N1556))","v":""},{"$f":"MID('DE01-F12'!G1556,1,18)","v":""},{"$f":"IF(ISBLANK('DE01-F12'!P1556),\"\",('DE01-F12'!P1556))","v":""},{"$f":"IF(ISBLANK('DE01-F12'!Q1556),\"\",('DE01-F12'!Q1556))","v":""},{"$f":"IF(ISBLANK('DE01-F12'!S1556),\"\",('DE01-F12'!S1556))","v":0}]
[{"$f":"IF(ISBLANK('DE01-F12'!N1557),\"\",('DE01-F12'!N1557))","v":""},{"$f":"MID('DE01-F12'!G1557,1,18)","v":""},{"$f":"IF(ISBLANK('DE01-F12'!P1557),\"\",('DE01-F12'!P1557))","v":""},{"$f":"IF(ISBLANK('DE01-F12'!Q1557),\"\",('DE01-F12'!Q1557))","v":""},{"$f":"IF(ISBLANK('DE01-F12'!S1557),\"\",('DE01-F12'!S1557))","v":0}]
[{"$f":"IF(ISBLANK('DE01-F12'!N1558),\"\",('DE01-F12'!N1558))","v":""},{"$f":"MID('DE01-F12'!G1558,1,18)","v":""},{"$f":"IF(ISBLANK('DE01-F12'!P1558),\"\",('DE01-F12'!P1558))","v":""},{"$f":"IF(ISBLANK('DE01-F12'!Q1558),\"\",('DE01-F12'!Q1558))","v":""},{"$f":"IF(ISBLANK('DE01-F12'!S1558),\"\",('DE01-F12'!S1558))","v":0}]
[{"$f":"IF(ISBLANK('DE01-F12'!N1559),\"\",('DE01-F12'!N1559))","v":""},{"$f":"MID('DE01-F12'!G1559,1,18)","v":""},{"$f":"IF(ISBLANK('DE01-F12'!P1559),\"\",('DE01-F12'!P1559))","v":""},{"$f":"IF(ISBLANK('DE01-F12'!Q1559),\"\",('DE01-F12'!Q1559))","v":""},{"$f":"IF(ISBLANK('DE01-F12'!S1559),\"\",('DE01-F12'!S1559))","v":0}]
[{"$f":"IF(ISBLANK('DE01-F12'!N1560),\"\",('DE01-F12'!N1560))","v":""},{"$f":"MID('DE01-F12'!G1560,1,18)","v":""},{"$f":"IF(ISBLANK('DE01-F12'!P1560),\"\",('DE01-F12'!P1560))","v":""},{"$f":"IF(ISBLANK('DE01-F12'!Q1560),\"\",('DE01-F12'!Q1560))","v":""},{"$f":"IF(ISBLANK('DE01-F12'!S1560),\"\",('DE01-F12'!S1560))","v":0}]
[{"$f":"IF(ISBLANK('DE01-F12'!N1561),\"\",('DE01-F12'!N1561))","v":""},{"$f":"MID('DE01-F12'!G1561,1,18)","v":""},{"$f":"IF(ISBLANK('DE01-F12'!P1561),\"\",('DE01-F12'!P1561))","v":""},{"$f":"IF(ISBLANK('DE01-F12'!Q1561),\"\",('DE01-F12'!Q1561))","v":""},{"$f":"IF(ISBLANK('DE01-F12'!S1561),\"\",('DE01-F12'!S1561))","v":0}]
[{"$f":"IF(ISBLANK('DE01-F12'!N1562),\"\",('DE01-F12'!N1562))","v":""},{"$f":"MID('DE01-F12'!G1562,1,18)","v":""},{"$f":"IF(ISBLANK('DE01-F12'!P1562),\"\",('DE01-F12'!P1562))","v":""},{"$f":"IF(ISBLANK('DE01-F12'!Q1562),\"\",('DE01-F12'!Q1562))","v":""},{"$f":"IF(ISBLANK('DE01-F12'!S1562),\"\",('DE01-F12'!S1562))","v":0}]
[{"$f":"IF(ISBLANK('DE01-F12'!N1563),\"\",('DE01-F12'!N1563))","v":""},{"$f":"MID('DE01-F12'!G1563,1,18)","v":""},{"$f":"IF(ISBLANK('DE01-F12'!P1563),\"\",('DE01-F12'!P1563))","v":""},{"$f":"IF(ISBLANK('DE01-F12'!Q1563),\"\",('DE01-F12'!Q1563))","v":""},{"$f":"IF(ISBLANK('DE01-F12'!S1563),\"\",('DE01-F12'!S1563))","v":0}]
[{"$f":"IF(ISBLANK('DE01-F12'!N1564),\"\",('DE01-F12'!N1564))","v":""},{"$f":"MID('DE01-F12'!G1564,1,18)","v":""},{"$f":"IF(ISBLANK('DE01-F12'!P1564),\"\",('DE01-F12'!P1564))","v":""},{"$f":"IF(ISBLANK('DE01-F12'!Q1564),\"\",('DE01-F12'!Q1564))","v":""},{"$f":"IF(ISBLANK('DE01-F12'!S1564),\"\",('DE01-F12'!S1564))","v":0}]
[{"$f":"IF(ISBLANK('DE01-F12'!N1565),\"\",('DE01-F12'!N1565))","v":""},{"$f":"MID('DE01-F12'!G1565,1,18)","v":""},{"$f":"IF(ISBLANK('DE01-F12'!P1565),\"\",('DE01-F12'!P1565))","v":""},{"$f":"IF(ISBLANK('DE01-F12'!Q1565),\"\",('DE01-F12'!Q1565))","v":""},{"$f":"IF(ISBLANK('DE01-F12'!S1565),\"\",('DE01-F12'!S1565))","v":0}]
[{"$f":"IF(ISBLANK('DE01-F12'!N1566),\"\",('DE01-F12'!N1566))","v":""},{"$f":"MID('DE01-F12'!G1566,1,18)","v":""},{"$f":"IF(ISBLANK('DE01-F12'!P1566),\"\",('DE01-F12'!P1566))","v":""},{"$f":"IF(ISBLANK('DE01-F12'!Q1566),\"\",('DE01-F12'!Q1566))","v":""},{"$f":"IF(ISBLANK('DE01-F12'!S1566),\"\",('DE01-F12'!S1566))","v":0}]
[{"$f":"IF(ISBLANK('DE01-F12'!N1567),\"\",('DE01-F12'!N1567))","v":""},{"$f":"MID('DE01-F12'!G1567,1,18)","v":""},{"$f":"IF(ISBLANK('DE01-F12'!P1567),\"\",('DE01-F12'!P1567))","v":""},{"$f":"IF(ISBLANK('DE01-F12'!Q1567),\"\",('DE01-F12'!Q1567))","v":""},{"$f":"IF(ISBLANK('DE01-F12'!S1567),\"\",('DE01-F12'!S1567))","v":0}]
[{"$f":"IF(ISBLANK('DE01-F12'!N1568),\"\",('DE01-F12'!N1568))","v":""},{"$f":"MID('DE01-F12'!G1568,1,18)","v":""},{"$f":"IF(ISBLANK('DE01-F12'!P1568),\"\",('DE01-F12'!P1568))","v":""},{"$f":"IF(ISBLANK('DE01-F12'!Q1568),\"\",('DE01-F12'!Q1568))","v":""},{"$f":"IF(ISBLANK('DE01-F12'!S1568),\"\",('DE01-F12'!S1568))","v":0}]
[{"$f":"IF(ISBLANK('DE01-F12'!N1569),\"\",('DE01-F12'!N1569))","v":""},{"$f":"MID('DE01-F12'!G1569,1,18)","v":""},{"$f":"IF(ISBLANK('DE01-F12'!P1569),\"\",('DE01-F12'!P1569))","v":""},{"$f":"IF(ISBLANK('DE01-F12'!Q1569),\"\",('DE01-F12'!Q1569))","v":""},{"$f":"IF(ISBLANK('DE01-F12'!S1569),\"\",('DE01-F12'!S1569))","v":0}]
[{"$f":"IF(ISBLANK('DE01-F12'!N1570),\"\",('DE01-F12'!N1570))","v":""},{"$f":"MID('DE01-F12'!G1570,1,18)","v":""},{"$f":"IF(ISBLANK('DE01-F12'!P1570),\"\",('DE01-F12'!P1570))","v":""},{"$f":"IF(ISBLANK('DE01-F12'!Q1570),\"\",('DE01-F12'!Q1570))","v":""},{"$f":"IF(ISBLANK('DE01-F12'!S1570),\"\",('DE01-F12'!S1570))","v":0}]
[{"$f":"IF(ISBLANK('DE01-F12'!N1571),\"\",('DE01-F12'!N1571))","v":""},{"$f":"MID('DE01-F12'!G1571,1,18)","v":""},{"$f":"IF(ISBLANK('DE01-F12'!P1571),\"\",('DE01-F12'!P1571))","v":""},{"$f":"IF(ISBLANK('DE01-F12'!Q1571),\"\",('DE01-F12'!Q1571))","v":""},{"$f":"IF(ISBLANK('DE01-F12'!S1571),\"\",('DE01-F12'!S1571))","v":0}]
[{"$f":"IF(ISBLANK('DE01-F12'!N1572),\"\",('DE01-F12'!N1572))","v":""},{"$f":"MID('DE01-F12'!G1572,1,18)","v":""},{"$f":"IF(ISBLANK('DE01-F12'!P1572),\"\",('DE01-F12'!P1572))","v":""},{"$f":"IF(ISBLANK('DE01-F12'!Q1572),\"\",('DE01-F12'!Q1572))","v":""},{"$f":"IF(ISBLANK('DE01-F12'!S1572),\"\",('DE01-F12'!S1572))","v":0}]
[{"$f":"IF(ISBLANK('DE01-F12'!N1573),\"\",('DE01-F12'!N1573))","v":""},{"$f":"MID('DE01-F12'!G1573,1,18)","v":""},{"$f":"IF(ISBLANK('DE01-F12'!P1573),\"\",('DE01-F12'!P1573))","v":""},{"$f":"IF(ISBLANK('DE01-F12'!Q1573),\"\",('DE01-F12'!Q1573))","v":""},{"$f":"IF(ISBLANK('DE01-F12'!S1573),\"\",('DE01-F12'!S1573))","v":0}]
[{"$f":"IF(ISBLANK('DE01-F12'!N1574),\"\",('DE01-F12'!N1574))","v":""},{"$f":"MID('DE01-F12'!G1574,1,18)","v":""},{"$f":"IF(ISBLANK('DE01-F12'!P1574),\"\",('DE01-F12'!P1574))","v":""},{"$f":"IF(ISBLANK('DE01-F12'!Q1574),\"\",('DE01-F12'!Q1574))","v":""},{"$f":"IF(ISBLANK('DE01-F12'!S1574),\"\",('DE01-F12'!S1574))","v":0}]
[{"$f":"IF(ISBLANK('DE01-F12'!N1575),\"\",('DE01-F12'!N1575))","v":""},{"$f":"MID('DE01-F12'!G1575,1,18)","v":""},{"$f":"IF(ISBLANK('DE01-F12'!P1575),\"\",('DE01-F12'!P1575))","v":""},{"$f":"IF(ISBLANK('DE01-F12'!Q1575),\"\",('DE01-F12'!Q1575))","v":""},{"$f":"IF(ISBLANK('DE01-F12'!S1575),\"\",('DE01-F12'!S1575))","v":0}]
[{"$f":"IF(ISBLANK('DE01-F12'!N1576),\"\",('DE01-F12'!N1576))","v":""},{"$f":"MID('DE01-F12'!G1576,1,18)","v":""},{"$f":"IF(ISBLANK('DE01-F12'!P1576),\"\",('DE01-F12'!P1576))","v":""},{"$f":"IF(ISBLANK('DE01-F12'!Q1576),\"\",('DE01-F12'!Q1576))","v":""},{"$f":"IF(ISBLANK('DE01-F12'!S1576),\"\",('DE01-F12'!S1576))","v":0}]
[{"$f":"IF(ISBLANK('DE01-F12'!N1577),\"\",('DE01-F12'!N1577))","v":""},{"$f":"MID('DE01-F12'!G1577,1,18)","v":""},{"$f":"IF(ISBLANK('DE01-F12'!P1577),\"\",('DE01-F12'!P1577))","v":""},{"$f":"IF(ISBLANK('DE01-F12'!Q1577),\"\",('DE01-F12'!Q1577))","v":""},{"$f":"IF(ISBLANK('DE01-F12'!S1577),\"\",('DE01-F12'!S1577))","v":0}]
[{"$f":"IF(ISBLANK('DE01-F12'!N1578),\"\",('DE01-F12'!N1578))","v":""},{"$f":"MID('DE01-F12'!G1578,1,18)","v":""},{"$f":"IF(ISBLANK('DE01-F12'!P1578),\"\",('DE01-F12'!P1578))","v":""},{"$f":"IF(ISBLANK('DE01-F12'!Q1578),\"\",('DE01-F12'!Q1578))","v":""},{"$f":"IF(ISBLANK('DE01-F12'!S1578),\"\",('DE01-F12'!S1578))","v":0}]
[{"$f":"IF(ISBLANK('DE01-F12'!N1579),\"\",('DE01-F12'!N1579))","v":""},{"$f":"MID('DE01-F12'!G1579,1,18)","v":""},{"$f":"IF(ISBLANK('DE01-F12'!P1579),\"\",('DE01-F12'!P1579))","v":""},{"$f":"IF(ISBLANK('DE01-F12'!Q1579),\"\",('DE01-F12'!Q1579))","v":""},{"$f":"IF(ISBLANK('DE01-F12'!S1579),\"\",('DE01-F12'!S1579))","v":0}]
[{"$f":"IF(ISBLANK('DE01-F12'!N1580),\"\",('DE01-F12'!N1580))","v":""},{"$f":"MID('DE01-F12'!G1580,1,18)","v":""},{"$f":"IF(ISBLANK('DE01-F12'!P1580),\"\",('DE01-F12'!P1580))","v":""},{"$f":"IF(ISBLANK('DE01-F12'!Q1580),\"\",('DE01-F12'!Q1580))","v":""},{"$f":"IF(ISBLANK('DE01-F12'!S1580),\"\",('DE01-F12'!S1580))","v":0}]
[{"$f":"IF(ISBLANK('DE01-F12'!N1581),\"\",('DE01-F12'!N1581))","v":""},{"$f":"MID('DE01-F12'!G1581,1,18)","v":""},{"$f":"IF(ISBLANK('DE01-F12'!P1581),\"\",('DE01-F12'!P1581))","v":""},{"$f":"IF(ISBLANK('DE01-F12'!Q1581),\"\",('DE01-F12'!Q1581))","v":""},{"$f":"IF(ISBLANK('DE01-F12'!S1581),\"\",('DE01-F12'!S1581))","v":0}]
[{"$f":"IF(ISBLANK('DE01-F12'!N1582),\"\",('DE01-F12'!N1582))","v":""},{"$f":"MID('DE01-F12'!G1582,1,18)","v":""},{"$f":"IF(ISBLANK('DE01-F12'!P1582),\"\",('DE01-F12'!P1582))","v":""},{"$f":"IF(ISBLANK('DE01-F12'!Q1582),\"\",('DE01-F12'!Q1582))","v":""},{"$f":"IF(ISBLANK('DE01-F12'!S1582),\"\",('DE01-F12'!S1582))","v":0}]
[{"$f":"IF(ISBLANK('DE01-F12'!N1583),\"\",('DE01-F12'!N1583))","v":""},{"$f":"MID('DE01-F12'!G1583,1,18)","v":""},{"$f":"IF(ISBLANK('DE01-F12'!P1583),\"\",('DE01-F12'!P1583))","v":""},{"$f":"IF(ISBLANK('DE01-F12'!Q1583),\"\",('DE01-F12'!Q1583))","v":""},{"$f":"IF(ISBLANK('DE01-F12'!S1583),\"\",('DE01-F12'!S1583))","v":0}]
[{"$f":"IF(ISBLANK('DE01-F12'!N1584),\"\",('DE01-F12'!N1584))","v":""},{"$f":"MID('DE01-F12'!G1584,1,18)","v":""},{"$f":"IF(ISBLANK('DE01-F12'!P1584),\"\",('DE01-F12'!P1584))","v":""},{"$f":"IF(ISBLANK('DE01-F12'!Q1584),\"\",('DE01-F12'!Q1584))","v":""},{"$f":"IF(ISBLANK('DE01-F12'!S1584),\"\",('DE01-F12'!S1584))","v":0}]
[{"$f":"IF(ISBLANK('DE01-F12'!N1585),\"\",('DE01-F12'!N1585))","v":""},{"$f":"MID('DE01-F12'!G1585,1,18)","v":""},{"$f":"IF(ISBLANK('DE01-F12'!P1585),\"\",('DE01-F12'!P1585))","v":""},{"$f":"IF(ISBLANK('DE01-F12'!Q1585),\"\",('DE01-F12'!Q1585))","v":""},{"$f":"IF(ISBLANK('DE01-F12'!S1585),\"\",('DE01-F12'!S1585))","v":0}]
[{"$f":"IF(ISBLANK('DE01-F12'!N1586),\"\",('DE01-F12'!N1586))","v":""},{"$f":"MID('DE01-F12'!G1586,1,18)","v":""},{"$f":"IF(ISBLANK('DE01-F12'!P1586),\"\",('DE01-F12'!P1586))","v":""},{"$f":"IF(ISBLANK('DE01-F12'!Q1586),\"\",('DE01-F12'!Q1586))","v":""},{"$f":"IF(ISBLANK('DE01-F12'!S1586),\"\",('DE01-F12'!S1586))","v":0}]
[{"$f":"IF(ISBLANK('DE01-F12'!N1587),\"\",('DE01-F12'!N1587))","v":""},{"$f":"MID('DE01-F12'!G1587,1,18)","v":""},{"$f":"IF(ISBLANK('DE01-F12'!P1587),\"\",('DE01-F12'!P1587))","v":""},{"$f":"IF(ISBLANK('DE01-F12'!Q1587),\"\",('DE01-F12'!Q1587))","v":""},{"$f":"IF(ISBLANK('DE01-F12'!S1587),\"\",('DE01-F12'!S1587))","v":0}]
[{"$f":"IF(ISBLANK('DE01-F12'!N1588),\"\",('DE01-F12'!N1588))","v":""},{"$f":"MID('DE01-F12'!G1588,1,18)","v":""},{"$f":"IF(ISBLANK('DE01-F12'!P1588),\"\",('DE01-F12'!P1588))","v":""},{"$f":"IF(ISBLANK('DE01-F12'!Q1588),\"\",('DE01-F12'!Q1588))","v":""},{"$f":"IF(ISBLANK('DE01-F12'!S1588),\"\",('DE01-F12'!S1588))","v":0}]
[{"$f":"IF(ISBLANK('DE01-F12'!N1589),\"\",('DE01-F12'!N1589))","v":""},{"$f":"MID('DE01-F12'!G1589,1,18)","v":""},{"$f":"IF(ISBLANK('DE01-F12'!P1589),\"\",('DE01-F12'!P1589))","v":""},{"$f":"IF(ISBLANK('DE01-F12'!Q1589),\"\",('DE01-F12'!Q1589))","v":""},{"$f":"IF(ISBLANK('DE01-F12'!S1589),\"\",('DE01-F12'!S1589))","v":0}]
[{"$f":"IF(ISBLANK('DE01-F12'!N1590),\"\",('DE01-F12'!N1590))","v":""},{"$f":"MID('DE01-F12'!G1590,1,18)","v":""},{"$f":"IF(ISBLANK('DE01-F12'!P1590),\"\",('DE01-F12'!P1590))","v":""},{"$f":"IF(ISBLANK('DE01-F12'!Q1590),\"\",('DE01-F12'!Q1590))","v":""},{"$f":"IF(ISBLANK('DE01-F12'!S1590),\"\",('DE01-F12'!S1590))","v":0}]
[{"$f":"IF(ISBLANK('DE01-F12'!N1591),\"\",('DE01-F12'!N1591))","v":""},{"$f":"MID('DE01-F12'!G1591,1,18)","v":""},{"$f":"IF(ISBLANK('DE01-F12'!P1591),\"\",('DE01-F12'!P1591))","v":""},{"$f":"IF(ISBLANK('DE01-F12'!Q1591),\"\",('DE01-F12'!Q1591))","v":""},{"$f":"IF(ISBLANK('DE01-F12'!S1591),\"\",('DE01-F12'!S1591))","v":0}]
[{"$f":"IF(ISBLANK('DE01-F12'!N1592),\"\",('DE01-F12'!N1592))","v":""},{"$f":"MID('DE01-F12'!G1592,1,18)","v":""},{"$f":"IF(ISBLANK('DE01-F12'!P1592),\"\",('DE01-F12'!P1592))","v":""},{"$f":"IF(ISBLANK('DE01-F12'!Q1592),\"\",('DE01-F12'!Q1592))","v":""},{"$f":"IF(ISBLANK('DE01-F12'!S1592),\"\",('DE01-F12'!S1592))","v":0}]
[{"$f":"IF(ISBLANK('DE01-F12'!N1593),\"\",('DE01-F12'!N1593))","v":""},{"$f":"MID('DE01-F12'!G1593,1,18)","v":""},{"$f":"IF(ISBLANK('DE01-F12'!P1593),\"\",('DE01-F12'!P1593))","v":""},{"$f":"IF(ISBLANK('DE01-F12'!Q1593),\"\",('DE01-F12'!Q1593))","v":""},{"$f":"IF(ISBLANK('DE01-F12'!S1593),\"\",('DE01-F12'!S1593))","v":0}]
[{"$f":"IF(ISBLANK('DE01-F12'!N1594),\"\",('DE01-F12'!N1594))","v":""},{"$f":"MID('DE01-F12'!G1594,1,18)","v":""},{"$f":"IF(ISBLANK('DE01-F12'!P1594),\"\",('DE01-F12'!P1594))","v":""},{"$f":"IF(ISBLANK('DE01-F12'!Q1594),\"\",('DE01-F12'!Q1594))","v":""},{"$f":"IF(ISBLANK('DE01-F12'!S1594),\"\",('DE01-F12'!S1594))","v":0}]
[{"$f":"IF(ISBLANK('DE01-F12'!N1595),\"\",('DE01-F12'!N1595))","v":""},{"$f":"MID('DE01-F12'!G1595,1,18)","v":""},{"$f":"IF(ISBLANK('DE01-F12'!P1595),\"\",('DE01-F12'!P1595))","v":""},{"$f":"IF(ISBLANK('DE01-F12'!Q1595),\"\",('DE01-F12'!Q1595))","v":""},{"$f":"IF(ISBLANK('DE01-F12'!S1595),\"\",('DE01-F12'!S1595))","v":0}]
[{"$f":"IF(ISBLANK('DE01-F12'!N1596),\"\",('DE01-F12'!N1596))","v":""},{"$f":"MID('DE01-F12'!G1596,1,18)","v":""},{"$f":"IF(ISBLANK('DE01-F12'!P1596),\"\",('DE01-F12'!P1596))","v":""},{"$f":"IF(ISBLANK('DE01-F12'!Q1596),\"\",('DE01-F12'!Q1596))","v":""},{"$f":"IF(ISBLANK('DE01-F12'!S1596),\"\",('DE01-F12'!S1596))","v":0}]
[{"$f":"IF(ISBLANK('DE01-F12'!N1597),\"\",('DE01-F12'!N1597))","v":""},{"$f":"MID('DE01-F12'!G1597,1,18)","v":""},{"$f":"IF(ISBLANK('DE01-F12'!P1597),\"\",('DE01-F12'!P1597))","v":""},{"$f":"IF(ISBLANK('DE01-F12'!Q1597),\"\",('DE01-F12'!Q1597))","v":""},{"$f":"IF(ISBLANK('DE01-F12'!S1597),\"\",('DE01-F12'!S1597))","v":0}]
[{"$f":"IF(ISBLANK('DE01-F12'!N1598),\"\",('DE01-F12'!N1598))","v":""},{"$f":"MID('DE01-F12'!G1598,1,18)","v":""},{"$f":"IF(ISBLANK('DE01-F12'!P1598),\"\",('DE01-F12'!P1598))","v":""},{"$f":"IF(ISBLANK('DE01-F12'!Q1598),\"\",('DE01-F12'!Q1598))","v":""},{"$f":"IF(ISBLANK('DE01-F12'!S1598),\"\",('DE01-F12'!S1598))","v":0}]
[{"$f":"IF(ISBLANK('DE01-F12'!N1599),\"\",('DE01-F12'!N1599))","v":""},{"$f":"MID('DE01-F12'!G1599,1,18)","v":""},{"$f":"IF(ISBLANK('DE01-F12'!P1599),\"\",('DE01-F12'!P1599))","v":""},{"$f":"IF(ISBLANK('DE01-F12'!Q1599),\"\",('DE01-F12'!Q1599))","v":""},{"$f":"IF(ISBLANK('DE01-F12'!S1599),\"\",('DE01-F12'!S1599))","v":0}]
[{"$f":"IF(ISBLANK('DE01-F12'!N1600),\"\",('DE01-F12'!N1600))","v":""},{"$f":"MID('DE01-F12'!G1600,1,18)","v":""},{"$f":"IF(ISBLANK('DE01-F12'!P1600),\"\",('DE01-F12'!P1600))","v":""},{"$f":"IF(ISBLANK('DE01-F12'!Q1600),\"\",('DE01-F12'!Q1600))","v":""},{"$f":"IF(ISBLANK('DE01-F12'!S1600),\"\",('DE01-F12'!S1600))","v":0}]
[{"$f":"IF(ISBLANK('DE01-F12'!N1601),\"\",('DE01-F12'!N1601))","v":""},{"$f":"MID('DE01-F12'!G1601,1,18)","v":""},{"$f":"IF(ISBLANK('DE01-F12'!P1601),\"\",('DE01-F12'!P1601))","v":""},{"$f":"IF(ISBLANK('DE01-F12'!Q1601),\"\",('DE01-F12'!Q1601))","v":""},{"$f":"IF(ISBLANK('DE01-F12'!S1601),\"\",('DE01-F12'!S1601))","v":0}]
[{"$f":"IF(ISBLANK('DE01-F12'!N1602),\"\",('DE01-F12'!N1602))","v":""},{"$f":"MID('DE01-F12'!G1602,1,18)","v":""},{"$f":"IF(ISBLANK('DE01-F12'!P1602),\"\",('DE01-F12'!P1602))","v":""},{"$f":"IF(ISBLANK('DE01-F12'!Q1602),\"\",('DE01-F12'!Q1602))","v":""},{"$f":"IF(ISBLANK('DE01-F12'!S1602),\"\",('DE01-F12'!S1602))","v":0}]
[{"$f":"IF(ISBLANK('DE01-F12'!N1603),\"\",('DE01-F12'!N1603))","v":""},{"$f":"MID('DE01-F12'!G1603,1,18)","v":""},{"$f":"IF(ISBLANK('DE01-F12'!P1603),\"\",('DE01-F12'!P1603))","v":""},{"$f":"IF(ISBLANK('DE01-F12'!Q1603),\"\",('DE01-F12'!Q1603))","v":""},{"$f":"IF(ISBLANK('DE01-F12'!S1603),\"\",('DE01-F12'!S1603))","v":0}]
[{"$f":"IF(ISBLANK('DE01-F12'!N1604),\"\",('DE01-F12'!N1604))","v":""},{"$f":"MID('DE01-F12'!G1604,1,18)","v":""},{"$f":"IF(ISBLANK('DE01-F12'!P1604),\"\",('DE01-F12'!P1604))","v":""},{"$f":"IF(ISBLANK('DE01-F12'!Q1604),\"\",('DE01-F12'!Q1604))","v":""},{"$f":"IF(ISBLANK('DE01-F12'!S1604),\"\",('DE01-F12'!S1604))","v":0}]
[{"$f":"IF(ISBLANK('DE01-F12'!N1605),\"\",('DE01-F12'!N1605))","v":""},{"$f":"MID('DE01-F12'!G1605,1,18)","v":""},{"$f":"IF(ISBLANK('DE01-F12'!P1605),\"\",('DE01-F12'!P1605))","v":""},{"$f":"IF(ISBLANK('DE01-F12'!Q1605),\"\",('DE01-F12'!Q1605))","v":""},{"$f":"IF(ISBLANK('DE01-F12'!S1605),\"\",('DE01-F12'!S1605))","v":0}]
[{"$f":"IF(ISBLANK('DE01-F12'!N1606),\"\",('DE01-F12'!N1606))","v":""},{"$f":"MID('DE01-F12'!G1606,1,18)","v":""},{"$f":"IF(ISBLANK('DE01-F12'!P1606),\"\",('DE01-F12'!P1606))","v":""},{"$f":"IF(ISBLANK('DE01-F12'!Q1606),\"\",('DE01-F12'!Q1606))","v":""},{"$f":"IF(ISBLANK('DE01-F12'!S1606),\"\",('DE01-F12'!S1606))","v":0}]
[{"$f":"IF(ISBLANK('DE01-F12'!N1607),\"\",('DE01-F12'!N1607))","v":""},{"$f":"MID('DE01-F12'!G1607,1,18)","v":""},{"$f":"IF(ISBLANK('DE01-F12'!P1607),\"\",('DE01-F12'!P1607))","v":""},{"$f":"IF(ISBLANK('DE01-F12'!Q1607),\"\",('DE01-F12'!Q1607))","v":""},{"$f":"IF(ISBLANK('DE01-F12'!S1607),\"\",('DE01-F12'!S1607))","v":0}]
[{"$f":"IF(ISBLANK('DE01-F12'!N1608),\"\",('DE01-F12'!N1608))","v":""},{"$f":"MID('DE01-F12'!G1608,1,18)","v":""},{"$f":"IF(ISBLANK('DE01-F12'!P1608),\"\",('DE01-F12'!P1608))","v":""},{"$f":"IF(ISBLANK('DE01-F12'!Q1608),\"\",('DE01-F12'!Q1608))","v":""},{"$f":"IF(ISBLANK('DE01-F12'!S1608),\"\",('DE01-F12'!S1608))","v":0}]
[{"$f":"IF(ISBLANK('DE01-F12'!N1609),\"\",('DE01-F12'!N1609))","v":""},{"$f":"MID('DE01-F12'!G1609,1,18)","v":""},{"$f":"IF(ISBLANK('DE01-F12'!P1609),\"\",('DE01-F12'!P1609))","v":""},{"$f":"IF(ISBLANK('DE01-F12'!Q1609),\"\",('DE01-F12'!Q1609))","v":""},{"$f":"IF(ISBLANK('DE01-F12'!S1609),\"\",('DE01-F12'!S1609))","v":0}]
[{"$f":"IF(ISBLANK('DE01-F12'!N1610),\"\",('DE01-F12'!N1610))","v":""},{"$f":"MID('DE01-F12'!G1610,1,18)","v":""},{"$f":"IF(ISBLANK('DE01-F12'!P1610),\"\",('DE01-F12'!P1610))","v":""},{"$f":"IF(ISBLANK('DE01-F12'!Q1610),\"\",('DE01-F12'!Q1610))","v":""},{"$f":"IF(ISBLANK('DE01-F12'!S1610),\"\",('DE01-F12'!S1610))","v":0}]
[{"$f":"IF(ISBLANK('DE01-F12'!N1611),\"\",('DE01-F12'!N1611))","v":""},{"$f":"MID('DE01-F12'!G1611,1,18)","v":""},{"$f":"IF(ISBLANK('DE01-F12'!P1611),\"\",('DE01-F12'!P1611))","v":""},{"$f":"IF(ISBLANK('DE01-F12'!Q1611),\"\",('DE01-F12'!Q1611))","v":""},{"$f":"IF(ISBLANK('DE01-F12'!S1611),\"\",('DE01-F12'!S1611))","v":0}]
[{"$f":"IF(ISBLANK('DE01-F12'!N1612),\"\",('DE01-F12'!N1612))","v":""},{"$f":"MID('DE01-F12'!G1612,1,18)","v":""},{"$f":"IF(ISBLANK('DE01-F12'!P1612),\"\",('DE01-F12'!P1612))","v":""},{"$f":"IF(ISBLANK('DE01-F12'!Q1612),\"\",('DE01-F12'!Q1612))","v":""},{"$f":"IF(ISBLANK('DE01-F12'!S1612),\"\",('DE01-F12'!S1612))","v":0}]
[{"$f":"IF(ISBLANK('DE01-F12'!N1613),\"\",('DE01-F12'!N1613))","v":""},{"$f":"MID('DE01-F12'!G1613,1,18)","v":""},{"$f":"IF(ISBLANK('DE01-F12'!P1613),\"\",('DE01-F12'!P1613))","v":""},{"$f":"IF(ISBLANK('DE01-F12'!Q1613),\"\",('DE01-F12'!Q1613))","v":""},{"$f":"IF(ISBLANK('DE01-F12'!S1613),\"\",('DE01-F12'!S1613))","v":0}]
[{"$f":"IF(ISBLANK('DE01-F12'!N1614),\"\",('DE01-F12'!N1614))","v":""},{"$f":"MID('DE01-F12'!G1614,1,18)","v":""},{"$f":"IF(ISBLANK('DE01-F12'!P1614),\"\",('DE01-F12'!P1614))","v":""},{"$f":"IF(ISBLANK('DE01-F12'!Q1614),\"\",('DE01-F12'!Q1614))","v":""},{"$f":"IF(ISBLANK('DE01-F12'!S1614),\"\",('DE01-F12'!S1614))","v":0}]
[{"$f":"IF(ISBLANK('DE01-F12'!N1615),\"\",('DE01-F12'!N1615))","v":""},{"$f":"MID('DE01-F12'!G1615,1,18)","v":""},{"$f":"IF(ISBLANK('DE01-F12'!P1615),\"\",('DE01-F12'!P1615))","v":""},{"$f":"IF(ISBLANK('DE01-F12'!Q1615),\"\",('DE01-F12'!Q1615))","v":""},{"$f":"IF(ISBLANK('DE01-F12'!S1615),\"\",('DE01-F12'!S1615))","v":0}]
[{"$f":"IF(ISBLANK('DE01-F12'!N1616),\"\",('DE01-F12'!N1616))","v":""},{"$f":"MID('DE01-F12'!G1616,1,18)","v":""},{"$f":"IF(ISBLANK('DE01-F12'!P1616),\"\",('DE01-F12'!P1616))","v":""},{"$f":"IF(ISBLANK('DE01-F12'!Q1616),\"\",('DE01-F12'!Q1616))","v":""},{"$f":"IF(ISBLANK('DE01-F12'!S1616),\"\",('DE01-F12'!S1616))","v":0}]
[{"$f":"IF(ISBLANK('DE01-F12'!N1617),\"\",('DE01-F12'!N1617))","v":""},{"$f":"MID('DE01-F12'!G1617,1,18)","v":""},{"$f":"IF(ISBLANK('DE01-F12'!P1617),\"\",('DE01-F12'!P1617))","v":""},{"$f":"IF(ISBLANK('DE01-F12'!Q1617),\"\",('DE01-F12'!Q1617))","v":""},{"$f":"IF(ISBLANK('DE01-F12'!S1617),\"\",('DE01-F12'!S1617))","v":0}]
[{"$f":"IF(ISBLANK('DE01-F12'!N1618),\"\",('DE01-F12'!N1618))","v":""},{"$f":"MID('DE01-F12'!G1618,1,18)","v":""},{"$f":"IF(ISBLANK('DE01-F12'!P1618),\"\",('DE01-F12'!P1618))","v":""},{"$f":"IF(ISBLANK('DE01-F12'!Q1618),\"\",('DE01-F12'!Q1618))","v":""},{"$f":"IF(ISBLANK('DE01-F12'!S1618),\"\",('DE01-F12'!S1618))","v":0}]
[{"$f":"IF(ISBLANK('DE01-F12'!N1619),\"\",('DE01-F12'!N1619))","v":""},{"$f":"MID('DE01-F12'!G1619,1,18)","v":""},{"$f":"IF(ISBLANK('DE01-F12'!P1619),\"\",('DE01-F12'!P1619))","v":""},{"$f":"IF(ISBLANK('DE01-F12'!Q1619),\"\",('DE01-F12'!Q1619))","v":""},{"$f":"IF(ISBLANK('DE01-F12'!S1619),\"\",('DE01-F12'!S1619))","v":0}]
[{"$f":"IF(ISBLANK('DE01-F12'!N1620),\"\",('DE01-F12'!N1620))","v":""},{"$f":"MID('DE01-F12'!G1620,1,18)","v":""},{"$f":"IF(ISBLANK('DE01-F12'!P1620),\"\",('DE01-F12'!P1620))","v":""},{"$f":"IF(ISBLANK('DE01-F12'!Q1620),\"\",('DE01-F12'!Q1620))","v":""},{"$f":"IF(ISBLANK('DE01-F12'!S1620),\"\",('DE01-F12'!S1620))","v":0}]
[{"$f":"IF(ISBLANK('DE01-F12'!N1621),\"\",('DE01-F12'!N1621))","v":""},{"$f":"MID('DE01-F12'!G1621,1,18)","v":""},{"$f":"IF(ISBLANK('DE01-F12'!P1621),\"\",('DE01-F12'!P1621))","v":""},{"$f":"IF(ISBLANK('DE01-F12'!Q1621),\"\",('DE01-F12'!Q1621))","v":""},{"$f":"IF(ISBLANK('DE01-F12'!S1621),\"\",('DE01-F12'!S1621))","v":0}]
[{"$f":"IF(ISBLANK('DE01-F12'!N1622),\"\",('DE01-F12'!N1622))","v":""},{"$f":"MID('DE01-F12'!G1622,1,18)","v":""},{"$f":"IF(ISBLANK('DE01-F12'!P1622),\"\",('DE01-F12'!P1622))","v":""},{"$f":"IF(ISBLANK('DE01-F12'!Q1622),\"\",('DE01-F12'!Q1622))","v":""},{"$f":"IF(ISBLANK('DE01-F12'!S1622),\"\",('DE01-F12'!S1622))","v":0}]
[{"$f":"IF(ISBLANK('DE01-F12'!N1623),\"\",('DE01-F12'!N1623))","v":""},{"$f":"MID('DE01-F12'!G1623,1,18)","v":""},{"$f":"IF(ISBLANK('DE01-F12'!P1623),\"\",('DE01-F12'!P1623))","v":""},{"$f":"IF(ISBLANK('DE01-F12'!Q1623),\"\",('DE01-F12'!Q1623))","v":""},{"$f":"IF(ISBLANK('DE01-F12'!S1623),\"\",('DE01-F12'!S1623))","v":0}]
[{"$f":"IF(ISBLANK('DE01-F12'!N1624),\"\",('DE01-F12'!N1624))","v":""},{"$f":"MID('DE01-F12'!G1624,1,18)","v":""},{"$f":"IF(ISBLANK('DE01-F12'!P1624),\"\",('DE01-F12'!P1624))","v":""},{"$f":"IF(ISBLANK('DE01-F12'!Q1624),\"\",('DE01-F12'!Q1624))","v":""},{"$f":"IF(ISBLANK('DE01-F12'!S1624),\"\",('DE01-F12'!S1624))","v":0}]
[{"$f":"IF(ISBLANK('DE01-F12'!N1625),\"\",('DE01-F12'!N1625))","v":""},{"$f":"MID('DE01-F12'!G1625,1,18)","v":""},{"$f":"IF(ISBLANK('DE01-F12'!P1625),\"\",('DE01-F12'!P1625))","v":""},{"$f":"IF(ISBLANK('DE01-F12'!Q1625),\"\",('DE01-F12'!Q1625))","v":""},{"$f":"IF(ISBLANK('DE01-F12'!S1625),\"\",('DE01-F12'!S1625))","v":0}]
[{"$f":"IF(ISBLANK('DE01-F12'!N1626),\"\",('DE01-F12'!N1626))","v":""},{"$f":"MID('DE01-F12'!G1626,1,18)","v":""},{"$f":"IF(ISBLANK('DE01-F12'!P1626),\"\",('DE01-F12'!P1626))","v":""},{"$f":"IF(ISBLANK('DE01-F12'!Q1626),\"\",('DE01-F12'!Q1626))","v":""},{"$f":"IF(ISBLANK('DE01-F12'!S1626),\"\",('DE01-F12'!S1626))","v":0}]
[{"$f":"IF(ISBLANK('DE01-F12'!N1627),\"\",('DE01-F12'!N1627))","v":""},{"$f":"MID('DE01-F12'!G1627,1,18)","v":""},{"$f":"IF(ISBLANK('DE01-F12'!P1627),\"\",('DE01-F12'!P1627))","v":""},{"$f":"IF(ISBLANK('DE01-F12'!Q1627),\"\",('DE01-F12'!Q1627))","v":""},{"$f":"IF(ISBLANK('DE01-F12'!S1627),\"\",('DE01-F12'!S1627))","v":0}]
[{"$f":"IF(ISBLANK('DE01-F12'!N1628),\"\",('DE01-F12'!N1628))","v":""},{"$f":"MID('DE01-F12'!G1628,1,18)","v":""},{"$f":"IF(ISBLANK('DE01-F12'!P1628),\"\",('DE01-F12'!P1628))","v":""},{"$f":"IF(ISBLANK('DE01-F12'!Q1628),\"\",('DE01-F12'!Q1628))","v":""},{"$f":"IF(ISBLANK('DE01-F12'!S1628),\"\",('DE01-F12'!S1628))","v":0}]
[{"$f":"IF(ISBLANK('DE01-F12'!N1629),\"\",('DE01-F12'!N1629))","v":""},{"$f":"MID('DE01-F12'!G1629,1,18)","v":""},{"$f":"IF(ISBLANK('DE01-F12'!P1629),\"\",('DE01-F12'!P1629))","v":""},{"$f":"IF(ISBLANK('DE01-F12'!Q1629),\"\",('DE01-F12'!Q1629))","v":""},{"$f":"IF(ISBLANK('DE01-F12'!S1629),\"\",('DE01-F12'!S1629))","v":0}]
[{"$f":"IF(ISBLANK('DE01-F12'!N1630),\"\",('DE01-F12'!N1630))","v":""},{"$f":"MID('DE01-F12'!G1630,1,18)","v":""},{"$f":"IF(ISBLANK('DE01-F12'!P1630),\"\",('DE01-F12'!P1630))","v":""},{"$f":"IF(ISBLANK('DE01-F12'!Q1630),\"\",('DE01-F12'!Q1630))","v":""},{"$f":"IF(ISBLANK('DE01-F12'!S1630),\"\",('DE01-F12'!S1630))","v":0}]
[{"$f":"IF(ISBLANK('DE01-F12'!N1631),\"\",('DE01-F12'!N1631))","v":""},{"$f":"MID('DE01-F12'!G1631,1,18)","v":""},{"$f":"IF(ISBLANK('DE01-F12'!P1631),\"\",('DE01-F12'!P1631))","v":""},{"$f":"IF(ISBLANK('DE01-F12'!Q1631),\"\",('DE01-F12'!Q1631))","v":""},{"$f":"IF(ISBLANK('DE01-F12'!S1631),\"\",('DE01-F12'!S1631))","v":0}]
[{"$f":"IF(ISBLANK('DE01-F12'!N1632),\"\",('DE01-F12'!N1632))","v":""},{"$f":"MID('DE01-F12'!G1632,1,18)","v":""},{"$f":"IF(ISBLANK('DE01-F12'!P1632),\"\",('DE01-F12'!P1632))","v":""},{"$f":"IF(ISBLANK('DE01-F12'!Q1632),\"\",('DE01-F12'!Q1632))","v":""},{"$f":"IF(ISBLANK('DE01-F12'!S1632),\"\",('DE01-F12'!S1632))","v":0}]
[{"$f":"IF(ISBLANK('DE01-F12'!N1633),\"\",('DE01-F12'!N1633))","v":""},{"$f":"MID('DE01-F12'!G1633,1,18)","v":""},{"$f":"IF(ISBLANK('DE01-F12'!P1633),\"\",('DE01-F12'!P1633))","v":""},{"$f":"IF(ISBLANK('DE01-F12'!Q1633),\"\",('DE01-F12'!Q1633))","v":""},{"$f":"IF(ISBLANK('DE01-F12'!S1633),\"\",('DE01-F12'!S1633))","v":0}]
[{"$f":"IF(ISBLANK('DE01-F12'!N1634),\"\",('DE01-F12'!N1634))","v":""},{"$f":"MID('DE01-F12'!G1634,1,18)","v":""},{"$f":"IF(ISBLANK('DE01-F12'!P1634),\"\",('DE01-F12'!P1634))","v":""},{"$f":"IF(ISBLANK('DE01-F12'!Q1634),\"\",('DE01-F12'!Q1634))","v":""},{"$f":"IF(ISBLANK('DE01-F12'!S1634),\"\",('DE01-F12'!S1634))","v":0}]
[{"$f":"IF(ISBLANK('DE01-F12'!N1635),\"\",('DE01-F12'!N1635))","v":""},{"$f":"MID('DE01-F12'!G1635,1,18)","v":""},{"$f":"IF(ISBLANK('DE01-F12'!P1635),\"\",('DE01-F12'!P1635))","v":""},{"$f":"IF(ISBLANK('DE01-F12'!Q1635),\"\",('DE01-F12'!Q1635))","v":""},{"$f":"IF(ISBLANK('DE01-F12'!S1635),\"\",('DE01-F12'!S1635))","v":0}]
[{"$f":"IF(ISBLANK('DE01-F12'!N1636),\"\",('DE01-F12'!N1636))","v":""},{"$f":"MID('DE01-F12'!G1636,1,18)","v":""},{"$f":"IF(ISBLANK('DE01-F12'!P1636),\"\",('DE01-F12'!P1636))","v":""},{"$f":"IF(ISBLANK('DE01-F12'!Q1636),\"\",('DE01-F12'!Q1636))","v":""},{"$f":"IF(ISBLANK('DE01-F12'!S1636),\"\",('DE01-F12'!S1636))","v":0}]
[{"$f":"IF(ISBLANK('DE01-F12'!N1637),\"\",('DE01-F12'!N1637))","v":""},{"$f":"MID('DE01-F12'!G1637,1,18)","v":""},{"$f":"IF(ISBLANK('DE01-F12'!P1637),\"\",('DE01-F12'!P1637))","v":""},{"$f":"IF(ISBLANK('DE01-F12'!Q1637),\"\",('DE01-F12'!Q1637))","v":""},{"$f":"IF(ISBLANK('DE01-F12'!S1637),\"\",('DE01-F12'!S1637))","v":0}]
[{"$f":"IF(ISBLANK('DE01-F12'!N1638),\"\",('DE01-F12'!N1638))","v":""},{"$f":"MID('DE01-F12'!G1638,1,18)","v":""},{"$f":"IF(ISBLANK('DE01-F12'!P1638),\"\",('DE01-F12'!P1638))","v":""},{"$f":"IF(ISBLANK('DE01-F12'!Q1638),\"\",('DE01-F12'!Q1638))","v":""},{"$f":"IF(ISBLANK('DE01-F12'!S1638),\"\",('DE01-F12'!S1638))","v":0}]
[{"$f":"IF(ISBLANK('DE01-F12'!N1639),\"\",('DE01-F12'!N1639))","v":""},{"$f":"MID('DE01-F12'!G1639,1,18)","v":""},{"$f":"IF(ISBLANK('DE01-F12'!P1639),\"\",('DE01-F12'!P1639))","v":""},{"$f":"IF(ISBLANK('DE01-F12'!Q1639),\"\",('DE01-F12'!Q1639))","v":""},{"$f":"IF(ISBLANK('DE01-F12'!S1639),\"\",('DE01-F12'!S1639))","v":0}]
[{"$f":"IF(ISBLANK('DE01-F12'!N1640),\"\",('DE01-F12'!N1640))","v":""},{"$f":"MID('DE01-F12'!G1640,1,18)","v":""},{"$f":"IF(ISBLANK('DE01-F12'!P1640),\"\",('DE01-F12'!P1640))","v":""},{"$f":"IF(ISBLANK('DE01-F12'!Q1640),\"\",('DE01-F12'!Q1640))","v":""},{"$f":"IF(ISBLANK('DE01-F12'!S1640),\"\",('DE01-F12'!S1640))","v":0}]
[{"$f":"IF(ISBLANK('DE01-F12'!N1641),\"\",('DE01-F12'!N1641))","v":""},{"$f":"MID('DE01-F12'!G1641,1,18)","v":""},{"$f":"IF(ISBLANK('DE01-F12'!P1641),\"\",('DE01-F12'!P1641))","v":""},{"$f":"IF(ISBLANK('DE01-F12'!Q1641),\"\",('DE01-F12'!Q1641))","v":""},{"$f":"IF(ISBLANK('DE01-F12'!S1641),\"\",('DE01-F12'!S1641))","v":0}]
[{"$f":"IF(ISBLANK('DE01-F12'!N1642),\"\",('DE01-F12'!N1642))","v":""},{"$f":"MID('DE01-F12'!G1642,1,18)","v":""},{"$f":"IF(ISBLANK('DE01-F12'!P1642),\"\",('DE01-F12'!P1642))","v":""},{"$f":"IF(ISBLANK('DE01-F12'!Q1642),\"\",('DE01-F12'!Q1642))","v":""},{"$f":"IF(ISBLANK('DE01-F12'!S1642),\"\",('DE01-F12'!S1642))","v":0}]
[{"$f":"IF(ISBLANK('DE01-F12'!N1643),\"\",('DE01-F12'!N1643))","v":""},{"$f":"MID('DE01-F12'!G1643,1,18)","v":""},{"$f":"IF(ISBLANK('DE01-F12'!P1643),\"\",('DE01-F12'!P1643))","v":""},{"$f":"IF(ISBLANK('DE01-F12'!Q1643),\"\",('DE01-F12'!Q1643))","v":""},{"$f":"IF(ISBLANK('DE01-F12'!S1643),\"\",('DE01-F12'!S1643))","v":0}]
[{"$f":"IF(ISBLANK('DE01-F12'!N1644),\"\",('DE01-F12'!N1644))","v":""},{"$f":"MID('DE01-F12'!G1644,1,18)","v":""},{"$f":"IF(ISBLANK('DE01-F12'!P1644),\"\",('DE01-F12'!P1644))","v":""},{"$f":"IF(ISBLANK('DE01-F12'!Q1644),\"\",('DE01-F12'!Q1644))","v":""},{"$f":"IF(ISBLANK('DE01-F12'!S1644),\"\",('DE01-F12'!S1644))","v":0}]
[{"$f":"IF(ISBLANK('DE01-F12'!N1645),\"\",('DE01-F12'!N1645))","v":""},{"$f":"MID('DE01-F12'!G1645,1,18)","v":""},{"$f":"IF(ISBLANK('DE01-F12'!P1645),\"\",('DE01-F12'!P1645))","v":""},{"$f":"IF(ISBLANK('DE01-F12'!Q1645),\"\",('DE01-F12'!Q1645))","v":""},{"$f":"IF(ISBLANK('DE01-F12'!S1645),\"\",('DE01-F12'!S1645))","v":0}]
[{"$f":"IF(ISBLANK('DE01-F12'!N1646),\"\",('DE01-F12'!N1646))","v":""},{"$f":"MID('DE01-F12'!G1646,1,18)","v":""},{"$f":"IF(ISBLANK('DE01-F12'!P1646),\"\",('DE01-F12'!P1646))","v":""},{"$f":"IF(ISBLANK('DE01-F12'!Q1646),\"\",('DE01-F12'!Q1646))","v":""},{"$f":"IF(ISBLANK('DE01-F12'!S1646),\"\",('DE01-F12'!S1646))","v":0}]
[{"$f":"IF(ISBLANK('DE01-F12'!N1647),\"\",('DE01-F12'!N1647))","v":""},{"$f":"MID('DE01-F12'!G1647,1,18)","v":""},{"$f":"IF(ISBLANK('DE01-F12'!P1647),\"\",('DE01-F12'!P1647))","v":""},{"$f":"IF(ISBLANK('DE01-F12'!Q1647),\"\",('DE01-F12'!Q1647))","v":""},{"$f":"IF(ISBLANK('DE01-F12'!S1647),\"\",('DE01-F12'!S1647))","v":0}]
[{"$f":"IF(ISBLANK('DE01-F12'!N1648),\"\",('DE01-F12'!N1648))","v":""},{"$f":"MID('DE01-F12'!G1648,1,18)","v":""},{"$f":"IF(ISBLANK('DE01-F12'!P1648),\"\",('DE01-F12'!P1648))","v":""},{"$f":"IF(ISBLANK('DE01-F12'!Q1648),\"\",('DE01-F12'!Q1648))","v":""},{"$f":"IF(ISBLANK('DE01-F12'!S1648),\"\",('DE01-F12'!S1648))","v":0}]
[{"$f":"IF(ISBLANK('DE01-F12'!N1649),\"\",('DE01-F12'!N1649))","v":""},{"$f":"MID('DE01-F12'!G1649,1,18)","v":""},{"$f":"IF(ISBLANK('DE01-F12'!P1649),\"\",('DE01-F12'!P1649))","v":""},{"$f":"IF(ISBLANK('DE01-F12'!Q1649),\"\",('DE01-F12'!Q1649))","v":""},{"$f":"IF(ISBLANK('DE01-F12'!S1649),\"\",('DE01-F12'!S1649))","v":0}]
[{"$f":"IF(ISBLANK('DE01-F12'!N1650),\"\",('DE01-F12'!N1650))","v":""},{"$f":"MID('DE01-F12'!G1650,1,18)","v":""},{"$f":"IF(ISBLANK('DE01-F12'!P1650),\"\",('DE01-F12'!P1650))","v":""},{"$f":"IF(ISBLANK('DE01-F12'!Q1650),\"\",('DE01-F12'!Q1650))","v":""},{"$f":"IF(ISBLANK('DE01-F12'!S1650),\"\",('DE01-F12'!S1650))","v":0}]
[{"$f":"IF(ISBLANK('DE01-F12'!N1651),\"\",('DE01-F12'!N1651))","v":""},{"$f":"MID('DE01-F12'!G1651,1,18)","v":""},{"$f":"IF(ISBLANK('DE01-F12'!P1651),\"\",('DE01-F12'!P1651))","v":""},{"$f":"IF(ISBLANK('DE01-F12'!Q1651),\"\",('DE01-F12'!Q1651))","v":""},{"$f":"IF(ISBLANK('DE01-F12'!S1651),\"\",('DE01-F12'!S1651))","v":0}]
[{"$f":"IF(ISBLANK('DE01-F12'!N1652),\"\",('DE01-F12'!N1652))","v":""},{"$f":"MID('DE01-F12'!G1652,1,18)","v":""},{"$f":"IF(ISBLANK('DE01-F12'!P1652),\"\",('DE01-F12'!P1652))","v":""},{"$f":"IF(ISBLANK('DE01-F12'!Q1652),\"\",('DE01-F12'!Q1652))","v":""},{"$f":"IF(ISBLANK('DE01-F12'!S1652),\"\",('DE01-F12'!S1652))","v":0}]
[{"$f":"IF(ISBLANK('DE01-F12'!N1653),\"\",('DE01-F12'!N1653))","v":""},{"$f":"MID('DE01-F12'!G1653,1,18)","v":""},{"$f":"IF(ISBLANK('DE01-F12'!P1653),\"\",('DE01-F12'!P1653))","v":""},{"$f":"IF(ISBLANK('DE01-F12'!Q1653),\"\",('DE01-F12'!Q1653))","v":""},{"$f":"IF(ISBLANK('DE01-F12'!S1653),\"\",('DE01-F12'!S1653))","v":0}]
[{"$f":"IF(ISBLANK('DE01-F12'!N1654),\"\",('DE01-F12'!N1654))","v":""},{"$f":"MID('DE01-F12'!G1654,1,18)","v":""},{"$f":"IF(ISBLANK('DE01-F12'!P1654),\"\",('DE01-F12'!P1654))","v":""},{"$f":"IF(ISBLANK('DE01-F12'!Q1654),\"\",('DE01-F12'!Q1654))","v":""},{"$f":"IF(ISBLANK('DE01-F12'!S1654),\"\",('DE01-F12'!S1654))","v":0}]
[{"$f":"IF(ISBLANK('DE01-F12'!N1655),\"\",('DE01-F12'!N1655))","v":""},{"$f":"MID('DE01-F12'!G1655,1,18)","v":""},{"$f":"IF(ISBLANK('DE01-F12'!P1655),\"\",('DE01-F12'!P1655))","v":""},{"$f":"IF(ISBLANK('DE01-F12'!Q1655),\"\",('DE01-F12'!Q1655))","v":""},{"$f":"IF(ISBLANK('DE01-F12'!S1655),\"\",('DE01-F12'!S1655))","v":0}]
[{"$f":"IF(ISBLANK('DE01-F12'!N1656),\"\",('DE01-F12'!N1656))","v":""},{"$f":"MID('DE01-F12'!G1656,1,18)","v":""},{"$f":"IF(ISBLANK('DE01-F12'!P1656),\"\",('DE01-F12'!P1656))","v":""},{"$f":"IF(ISBLANK('DE01-F12'!Q1656),\"\",('DE01-F12'!Q1656))","v":""},{"$f":"IF(ISBLANK('DE01-F12'!S1656),\"\",('DE01-F12'!S1656))","v":0}]
[{"$f":"IF(ISBLANK('DE01-F12'!N1657),\"\",('DE01-F12'!N1657))","v":""},{"$f":"MID('DE01-F12'!G1657,1,18)","v":""},{"$f":"IF(ISBLANK('DE01-F12'!P1657),\"\",('DE01-F12'!P1657))","v":""},{"$f":"IF(ISBLANK('DE01-F12'!Q1657),\"\",('DE01-F12'!Q1657))","v":""},{"$f":"IF(ISBLANK('DE01-F12'!S1657),\"\",('DE01-F12'!S1657))","v":0}]
[{"$f":"IF(ISBLANK('DE01-F12'!N1658),\"\",('DE01-F12'!N1658))","v":""},{"$f":"MID('DE01-F12'!G1658,1,18)","v":""},{"$f":"IF(ISBLANK('DE01-F12'!P1658),\"\",('DE01-F12'!P1658))","v":""},{"$f":"IF(ISBLANK('DE01-F12'!Q1658),\"\",('DE01-F12'!Q1658))","v":""},{"$f":"IF(ISBLANK('DE01-F12'!S1658),\"\",('DE01-F12'!S1658))","v":0}]
[{"$f":"IF(ISBLANK('DE01-F12'!N1659),\"\",('DE01-F12'!N1659))","v":""},{"$f":"MID('DE01-F12'!G1659,1,18)","v":""},{"$f":"IF(ISBLANK('DE01-F12'!P1659),\"\",('DE01-F12'!P1659))","v":""},{"$f":"IF(ISBLANK('DE01-F12'!Q1659),\"\",('DE01-F12'!Q1659))","v":""},{"$f":"IF(ISBLANK('DE01-F12'!S1659),\"\",('DE01-F12'!S1659))","v":0}]
[{"$f":"IF(ISBLANK('DE01-F12'!N1660),\"\",('DE01-F12'!N1660))","v":""},{"$f":"MID('DE01-F12'!G1660,1,18)","v":""},{"$f":"IF(ISBLANK('DE01-F12'!P1660),\"\",('DE01-F12'!P1660))","v":""},{"$f":"IF(ISBLANK('DE01-F12'!Q1660),\"\",('DE01-F12'!Q1660))","v":""},{"$f":"IF(ISBLANK('DE01-F12'!S1660),\"\",('DE01-F12'!S1660))","v":0}]
[{"$f":"IF(ISBLANK('DE01-F12'!N1661),\"\",('DE01-F12'!N1661))","v":""},{"$f":"MID('DE01-F12'!G1661,1,18)","v":""},{"$f":"IF(ISBLANK('DE01-F12'!P1661),\"\",('DE01-F12'!P1661))","v":""},{"$f":"IF(ISBLANK('DE01-F12'!Q1661),\"\",('DE01-F12'!Q1661))","v":""},{"$f":"IF(ISBLANK('DE01-F12'!S1661),\"\",('DE01-F12'!S1661))","v":0}]
[{"$f":"IF(ISBLANK('DE01-F12'!N1662),\"\",('DE01-F12'!N1662))","v":""},{"$f":"MID('DE01-F12'!G1662,1,18)","v":""},{"$f":"IF(ISBLANK('DE01-F12'!P1662),\"\",('DE01-F12'!P1662))","v":""},{"$f":"IF(ISBLANK('DE01-F12'!Q1662),\"\",('DE01-F12'!Q1662))","v":""},{"$f":"IF(ISBLANK('DE01-F12'!S1662),\"\",('DE01-F12'!S1662))","v":0}]
[{"$f":"IF(ISBLANK('DE01-F12'!N1663),\"\",('DE01-F12'!N1663))","v":""},{"$f":"MID('DE01-F12'!G1663,1,18)","v":""},{"$f":"IF(ISBLANK('DE01-F12'!P1663),\"\",('DE01-F12'!P1663))","v":""},{"$f":"IF(ISBLANK('DE01-F12'!Q1663),\"\",('DE01-F12'!Q1663))","v":""},{"$f":"IF(ISBLANK('DE01-F12'!S1663),\"\",('DE01-F12'!S1663))","v":0}]
[{"$f":"IF(ISBLANK('DE01-F12'!N1664),\"\",('DE01-F12'!N1664))","v":""},{"$f":"MID('DE01-F12'!G1664,1,18)","v":""},{"$f":"IF(ISBLANK('DE01-F12'!P1664),\"\",('DE01-F12'!P1664))","v":""},{"$f":"IF(ISBLANK('DE01-F12'!Q1664),\"\",('DE01-F12'!Q1664))","v":""},{"$f":"IF(ISBLANK('DE01-F12'!S1664),\"\",('DE01-F12'!S1664))","v":0}]
[{"$f":"IF(ISBLANK('DE01-F12'!N1665),\"\",('DE01-F12'!N1665))","v":""},{"$f":"MID('DE01-F12'!G1665,1,18)","v":""},{"$f":"IF(ISBLANK('DE01-F12'!P1665),\"\",('DE01-F12'!P1665))","v":""},{"$f":"IF(ISBLANK('DE01-F12'!Q1665),\"\",('DE01-F12'!Q1665))","v":""},{"$f":"IF(ISBLANK('DE01-F12'!S1665),\"\",('DE01-F12'!S1665))","v":0}]
[{"$f":"IF(ISBLANK('DE01-F12'!N1666),\"\",('DE01-F12'!N1666))","v":""},{"$f":"MID('DE01-F12'!G1666,1,18)","v":""},{"$f":"IF(ISBLANK('DE01-F12'!P1666),\"\",('DE01-F12'!P1666))","v":""},{"$f":"IF(ISBLANK('DE01-F12'!Q1666),\"\",('DE01-F12'!Q1666))","v":""},{"$f":"IF(ISBLANK('DE01-F12'!S1666),\"\",('DE01-F12'!S1666))","v":0}]
[{"$f":"IF(ISBLANK('DE01-F12'!N1667),\"\",('DE01-F12'!N1667))","v":""},{"$f":"MID('DE01-F12'!G1667,1,18)","v":""},{"$f":"IF(ISBLANK('DE01-F12'!P1667),\"\",('DE01-F12'!P1667))","v":""},{"$f":"IF(ISBLANK('DE01-F12'!Q1667),\"\",('DE01-F12'!Q1667))","v":""},{"$f":"IF(ISBLANK('DE01-F12'!S1667),\"\",('DE01-F12'!S1667))","v":0}]
[{"$f":"IF(ISBLANK('DE01-F12'!N1668),\"\",('DE01-F12'!N1668))","v":""},{"$f":"MID('DE01-F12'!G1668,1,18)","v":""},{"$f":"IF(ISBLANK('DE01-F12'!P1668),\"\",('DE01-F12'!P1668))","v":""},{"$f":"IF(ISBLANK('DE01-F12'!Q1668),\"\",('DE01-F12'!Q1668))","v":""},{"$f":"IF(ISBLANK('DE01-F12'!S1668),\"\",('DE01-F12'!S1668))","v":0}]
[{"$f":"IF(ISBLANK('DE01-F12'!N1669),\"\",('DE01-F12'!N1669))","v":""},{"$f":"MID('DE01-F12'!G1669,1,18)","v":""},{"$f":"IF(ISBLANK('DE01-F12'!P1669),\"\",('DE01-F12'!P1669))","v":""},{"$f":"IF(ISBLANK('DE01-F12'!Q1669),\"\",('DE01-F12'!Q1669))","v":""},{"$f":"IF(ISBLANK('DE01-F12'!S1669),\"\",('DE01-F12'!S1669))","v":0}]
[{"$f":"IF(ISBLANK('DE01-F12'!N1670),\"\",('DE01-F12'!N1670))","v":""},{"$f":"MID('DE01-F12'!G1670,1,18)","v":""},{"$f":"IF(ISBLANK('DE01-F12'!P1670),\"\",('DE01-F12'!P1670))","v":""},{"$f":"IF(ISBLANK('DE01-F12'!Q1670),\"\",('DE01-F12'!Q1670))","v":""},{"$f":"IF(ISBLANK('DE01-F12'!S1670),\"\",('DE01-F12'!S1670))","v":0}]
[{"$f":"IF(ISBLANK('DE01-F12'!N1671),\"\",('DE01-F12'!N1671))","v":""},{"$f":"MID('DE01-F12'!G1671,1,18)","v":""},{"$f":"IF(ISBLANK('DE01-F12'!P1671),\"\",('DE01-F12'!P1671))","v":""},{"$f":"IF(ISBLANK('DE01-F12'!Q1671),\"\",('DE01-F12'!Q1671))","v":""},{"$f":"IF(ISBLANK('DE01-F12'!S1671),\"\",('DE01-F12'!S1671))","v":0}]
[{"$f":"IF(ISBLANK('DE01-F12'!N1672),\"\",('DE01-F12'!N1672))","v":""},{"$f":"MID('DE01-F12'!G1672,1,18)","v":""},{"$f":"IF(ISBLANK('DE01-F12'!P1672),\"\",('DE01-F12'!P1672))","v":""},{"$f":"IF(ISBLANK('DE01-F12'!Q1672),\"\",('DE01-F12'!Q1672))","v":""},{"$f":"IF(ISBLANK('DE01-F12'!S1672),\"\",('DE01-F12'!S1672))","v":0}]
[{"$f":"IF(ISBLANK('DE01-F12'!N1673),\"\",('DE01-F12'!N1673))","v":""},{"$f":"MID('DE01-F12'!G1673,1,18)","v":""},{"$f":"IF(ISBLANK('DE01-F12'!P1673),\"\",('DE01-F12'!P1673))","v":""},{"$f":"IF(ISBLANK('DE01-F12'!Q1673),\"\",('DE01-F12'!Q1673))","v":""},{"$f":"IF(ISBLANK('DE01-F12'!S1673),\"\",('DE01-F12'!S1673))","v":0}]
[{"$f":"IF(ISBLANK('DE01-F12'!N1674),\"\",('DE01-F12'!N1674))","v":""},{"$f":"MID('DE01-F12'!G1674,1,18)","v":""},{"$f":"IF(ISBLANK('DE01-F12'!P1674),\"\",('DE01-F12'!P1674))","v":""},{"$f":"IF(ISBLANK('DE01-F12'!Q1674),\"\",('DE01-F12'!Q1674))","v":""},{"$f":"IF(ISBLANK('DE01-F12'!S1674),\"\",('DE01-F12'!S1674))","v":0}]
[{"$f":"IF(ISBLANK('DE01-F12'!N1675),\"\",('DE01-F12'!N1675))","v":""},{"$f":"MID('DE01-F12'!G1675,1,18)","v":""},{"$f":"IF(ISBLANK('DE01-F12'!P1675),\"\",('DE01-F12'!P1675))","v":""},{"$f":"IF(ISBLANK('DE01-F12'!Q1675),\"\",('DE01-F12'!Q1675))","v":""},{"$f":"IF(ISBLANK('DE01-F12'!S1675),\"\",('DE01-F12'!S1675))","v":0}]
[{"$f":"IF(ISBLANK('DE01-F12'!N1676),\"\",('DE01-F12'!N1676))","v":""},{"$f":"MID('DE01-F12'!G1676,1,18)","v":""},{"$f":"IF(ISBLANK('DE01-F12'!P1676),\"\",('DE01-F12'!P1676))","v":""},{"$f":"IF(ISBLANK('DE01-F12'!Q1676),\"\",('DE01-F12'!Q1676))","v":""},{"$f":"IF(ISBLANK('DE01-F12'!S1676),\"\",('DE01-F12'!S1676))","v":0}]
[{"$f":"IF(ISBLANK('DE01-F12'!N1677),\"\",('DE01-F12'!N1677))","v":""},{"$f":"MID('DE01-F12'!G1677,1,18)","v":""},{"$f":"IF(ISBLANK('DE01-F12'!P1677),\"\",('DE01-F12'!P1677))","v":""},{"$f":"IF(ISBLANK('DE01-F12'!Q1677),\"\",('DE01-F12'!Q1677))","v":""},{"$f":"IF(ISBLANK('DE01-F12'!S1677),\"\",('DE01-F12'!S1677))","v":0}]
[{"$f":"IF(ISBLANK('DE01-F12'!N1678),\"\",('DE01-F12'!N1678))","v":""},{"$f":"MID('DE01-F12'!G1678,1,18)","v":""},{"$f":"IF(ISBLANK('DE01-F12'!P1678),\"\",('DE01-F12'!P1678))","v":""},{"$f":"IF(ISBLANK('DE01-F12'!Q1678),\"\",('DE01-F12'!Q1678))","v":""},{"$f":"IF(ISBLANK('DE01-F12'!S1678),\"\",('DE01-F12'!S1678))","v":0}]
[{"$f":"IF(ISBLANK('DE01-F12'!N1679),\"\",('DE01-F12'!N1679))","v":""},{"$f":"MID('DE01-F12'!G1679,1,18)","v":""},{"$f":"IF(ISBLANK('DE01-F12'!P1679),\"\",('DE01-F12'!P1679))","v":""},{"$f":"IF(ISBLANK('DE01-F12'!Q1679),\"\",('DE01-F12'!Q1679))","v":""},{"$f":"IF(ISBLANK('DE01-F12'!S1679),\"\",('DE01-F12'!S1679))","v":0}]
[{"$f":"IF(ISBLANK('DE01-F12'!N1680),\"\",('DE01-F12'!N1680))","v":""},{"$f":"MID('DE01-F12'!G1680,1,18)","v":""},{"$f":"IF(ISBLANK('DE01-F12'!P1680),\"\",('DE01-F12'!P1680))","v":""},{"$f":"IF(ISBLANK('DE01-F12'!Q1680),\"\",('DE01-F12'!Q1680))","v":""},{"$f":"IF(ISBLANK('DE01-F12'!S1680),\"\",('DE01-F12'!S1680))","v":0}]
[{"$f":"IF(ISBLANK('DE01-F12'!N1681),\"\",('DE01-F12'!N1681))","v":""},{"$f":"MID('DE01-F12'!G1681,1,18)","v":""},{"$f":"IF(ISBLANK('DE01-F12'!P1681),\"\",('DE01-F12'!P1681))","v":""},{"$f":"IF(ISBLANK('DE01-F12'!Q1681),\"\",('DE01-F12'!Q1681))","v":""},{"$f":"IF(ISBLANK('DE01-F12'!S1681),\"\",('DE01-F12'!S1681))","v":0}]
[{"$f":"IF(ISBLANK('DE01-F12'!N1682),\"\",('DE01-F12'!N1682))","v":""},{"$f":"MID('DE01-F12'!G1682,1,18)","v":""},{"$f":"IF(ISBLANK('DE01-F12'!P1682),\"\",('DE01-F12'!P1682))","v":""},{"$f":"IF(ISBLANK('DE01-F12'!Q1682),\"\",('DE01-F12'!Q1682))","v":""},{"$f":"IF(ISBLANK('DE01-F12'!S1682),\"\",('DE01-F12'!S1682))","v":0}]
[{"$f":"IF(ISBLANK('DE01-F12'!N1683),\"\",('DE01-F12'!N1683))","v":""},{"$f":"MID('DE01-F12'!G1683,1,18)","v":""},{"$f":"IF(ISBLANK('DE01-F12'!P1683),\"\",('DE01-F12'!P1683))","v":""},{"$f":"IF(ISBLANK('DE01-F12'!Q1683),\"\",('DE01-F12'!Q1683))","v":""},{"$f":"IF(ISBLANK('DE01-F12'!S1683),\"\",('DE01-F12'!S1683))","v":0}]
[{"$f":"IF(ISBLANK('DE01-F12'!N1684),\"\",('DE01-F12'!N1684))","v":""},{"$f":"MID('DE01-F12'!G1684,1,18)","v":""},{"$f":"IF(ISBLANK('DE01-F12'!P1684),\"\",('DE01-F12'!P1684))","v":""},{"$f":"IF(ISBLANK('DE01-F12'!Q1684),\"\",('DE01-F12'!Q1684))","v":""},{"$f":"IF(ISBLANK('DE01-F12'!S1684),\"\",('DE01-F12'!S1684))","v":0}]
[{"$f":"IF(ISBLANK('DE01-F12'!N1685),\"\",('DE01-F12'!N1685))","v":""},{"$f":"MID('DE01-F12'!G1685,1,18)","v":""},{"$f":"IF(ISBLANK('DE01-F12'!P1685),\"\",('DE01-F12'!P1685))","v":""},{"$f":"IF(ISBLANK('DE01-F12'!Q1685),\"\",('DE01-F12'!Q1685))","v":""},{"$f":"IF(ISBLANK('DE01-F12'!S1685),\"\",('DE01-F12'!S1685))","v":0}]
[{"$f":"IF(ISBLANK('DE01-F12'!N1686),\"\",('DE01-F12'!N1686))","v":""},{"$f":"MID('DE01-F12'!G1686,1,18)","v":""},{"$f":"IF(ISBLANK('DE01-F12'!P1686),\"\",('DE01-F12'!P1686))","v":""},{"$f":"IF(ISBLANK('DE01-F12'!Q1686),\"\",('DE01-F12'!Q1686))","v":""},{"$f":"IF(ISBLANK('DE01-F12'!S1686),\"\",('DE01-F12'!S1686))","v":0}]
[{"$f":"IF(ISBLANK('DE01-F12'!N1687),\"\",('DE01-F12'!N1687))","v":""},{"$f":"MID('DE01-F12'!G1687,1,18)","v":""},{"$f":"IF(ISBLANK('DE01-F12'!P1687),\"\",('DE01-F12'!P1687))","v":""},{"$f":"IF(ISBLANK('DE01-F12'!Q1687),\"\",('DE01-F12'!Q1687))","v":""},{"$f":"IF(ISBLANK('DE01-F12'!S1687),\"\",('DE01-F12'!S1687))","v":0}]
[{"$f":"IF(ISBLANK('DE01-F12'!N1688),\"\",('DE01-F12'!N1688))","v":""},{"$f":"MID('DE01-F12'!G1688,1,18)","v":""},{"$f":"IF(ISBLANK('DE01-F12'!P1688),\"\",('DE01-F12'!P1688))","v":""},{"$f":"IF(ISBLANK('DE01-F12'!Q1688),\"\",('DE01-F12'!Q1688))","v":""},{"$f":"IF(ISBLANK('DE01-F12'!S1688),\"\",('DE01-F12'!S1688))","v":0}]
[{"$f":"IF(ISBLANK('DE01-F12'!N1689),\"\",('DE01-F12'!N1689))","v":""},{"$f":"MID('DE01-F12'!G1689,1,18)","v":""},{"$f":"IF(ISBLANK('DE01-F12'!P1689),\"\",('DE01-F12'!P1689))","v":""},{"$f":"IF(ISBLANK('DE01-F12'!Q1689),\"\",('DE01-F12'!Q1689))","v":""},{"$f":"IF(ISBLANK('DE01-F12'!S1689),\"\",('DE01-F12'!S1689))","v":0}]
[{"$f":"IF(ISBLANK('DE01-F12'!N1690),\"\",('DE01-F12'!N1690))","v":""},{"$f":"MID('DE01-F12'!G1690,1,18)","v":""},{"$f":"IF(ISBLANK('DE01-F12'!P1690),\"\",('DE01-F12'!P1690))","v":""},{"$f":"IF(ISBLANK('DE01-F12'!Q1690),\"\",('DE01-F12'!Q1690))","v":""},{"$f":"IF(ISBLANK('DE01-F12'!S1690),\"\",('DE01-F12'!S1690))","v":0}]
[{"$f":"IF(ISBLANK('DE01-F12'!N1691),\"\",('DE01-F12'!N1691))","v":""},{"$f":"MID('DE01-F12'!G1691,1,18)","v":""},{"$f":"IF(ISBLANK('DE01-F12'!P1691),\"\",('DE01-F12'!P1691))","v":""},{"$f":"IF(ISBLANK('DE01-F12'!Q1691),\"\",('DE01-F12'!Q1691))","v":""},{"$f":"IF(ISBLANK('DE01-F12'!S1691),\"\",('DE01-F12'!S1691))","v":0}]
[{"$f":"IF(ISBLANK('DE01-F12'!N1692),\"\",('DE01-F12'!N1692))","v":""},{"$f":"MID('DE01-F12'!G1692,1,18)","v":""},{"$f":"IF(ISBLANK('DE01-F12'!P1692),\"\",('DE01-F12'!P1692))","v":""},{"$f":"IF(ISBLANK('DE01-F12'!Q1692),\"\",('DE01-F12'!Q1692))","v":""},{"$f":"IF(ISBLANK('DE01-F12'!S1692),\"\",('DE01-F12'!S1692))","v":0}]
[{"$f":"IF(ISBLANK('DE01-F12'!N1693),\"\",('DE01-F12'!N1693))","v":""},{"$f":"MID('DE01-F12'!G1693,1,18)","v":""},{"$f":"IF(ISBLANK('DE01-F12'!P1693),\"\",('DE01-F12'!P1693))","v":""},{"$f":"IF(ISBLANK('DE01-F12'!Q1693),\"\",('DE01-F12'!Q1693))","v":""},{"$f":"IF(ISBLANK('DE01-F12'!S1693),\"\",('DE01-F12'!S1693))","v":0}]
[{"$f":"IF(ISBLANK('DE01-F12'!N1694),\"\",('DE01-F12'!N1694))","v":""},{"$f":"MID('DE01-F12'!G1694,1,18)","v":""},{"$f":"IF(ISBLANK('DE01-F12'!P1694),\"\",('DE01-F12'!P1694))","v":""},{"$f":"IF(ISBLANK('DE01-F12'!Q1694),\"\",('DE01-F12'!Q1694))","v":""},{"$f":"IF(ISBLANK('DE01-F12'!S1694),\"\",('DE01-F12'!S1694))","v":0}]
[{"$f":"IF(ISBLANK('DE01-F12'!N1695),\"\",('DE01-F12'!N1695))","v":""},{"$f":"MID('DE01-F12'!G1695,1,18)","v":""},{"$f":"IF(ISBLANK('DE01-F12'!P1695),\"\",('DE01-F12'!P1695))","v":""},{"$f":"IF(ISBLANK('DE01-F12'!Q1695),\"\",('DE01-F12'!Q1695))","v":""},{"$f":"IF(ISBLANK('DE01-F12'!S1695),\"\",('DE01-F12'!S1695))","v":0}]
[{"$f":"IF(ISBLANK('DE01-F12'!N1696),\"\",('DE01-F12'!N1696))","v":""},{"$f":"MID('DE01-F12'!G1696,1,18)","v":""},{"$f":"IF(ISBLANK('DE01-F12'!P1696),\"\",('DE01-F12'!P1696))","v":""},{"$f":"IF(ISBLANK('DE01-F12'!Q1696),\"\",('DE01-F12'!Q1696))","v":""},{"$f":"IF(ISBLANK('DE01-F12'!S1696),\"\",('DE01-F12'!S1696))","v":0}]
[{"$f":"IF(ISBLANK('DE01-F12'!N1697),\"\",('DE01-F12'!N1697))","v":""},{"$f":"MID('DE01-F12'!G1697,1,18)","v":""},{"$f":"IF(ISBLANK('DE01-F12'!P1697),\"\",('DE01-F12'!P1697))","v":""},{"$f":"IF(ISBLANK('DE01-F12'!Q1697),\"\",('DE01-F12'!Q1697))","v":""},{"$f":"IF(ISBLANK('DE01-F12'!S1697),\"\",('DE01-F12'!S1697))","v":0}]
[{"$f":"IF(ISBLANK('DE01-F12'!N1698),\"\",('DE01-F12'!N1698))","v":""},{"$f":"MID('DE01-F12'!G1698,1,18)","v":""},{"$f":"IF(ISBLANK('DE01-F12'!P1698),\"\",('DE01-F12'!P1698))","v":""},{"$f":"IF(ISBLANK('DE01-F12'!Q1698),\"\",('DE01-F12'!Q1698))","v":""},{"$f":"IF(ISBLANK('DE01-F12'!S1698),\"\",('DE01-F12'!S1698))","v":0}]
[{"$f":"IF(ISBLANK('DE01-F12'!N1699),\"\",('DE01-F12'!N1699))","v":""},{"$f":"MID('DE01-F12'!G1699,1,18)","v":""},{"$f":"IF(ISBLANK('DE01-F12'!P1699),\"\",('DE01-F12'!P1699))","v":""},{"$f":"IF(ISBLANK('DE01-F12'!Q1699),\"\",('DE01-F12'!Q1699))","v":""},{"$f":"IF(ISBLANK('DE01-F12'!S1699),\"\",('DE01-F12'!S1699))","v":0}]
[{"$f":"IF(ISBLANK('DE01-F12'!N1700),\"\",('DE01-F12'!N1700))","v":""},{"$f":"MID('DE01-F12'!G1700,1,18)","v":""},{"$f":"IF(ISBLANK('DE01-F12'!P1700),\"\",('DE01-F12'!P1700))","v":""},{"$f":"IF(ISBLANK('DE01-F12'!Q1700),\"\",('DE01-F12'!Q1700))","v":""},{"$f":"IF(ISBLANK('DE01-F12'!S1700),\"\",('DE01-F12'!S1700))","v":0}]
[{"$f":"IF(ISBLANK('DE01-F12'!N1701),\"\",('DE01-F12'!N1701))","v":""},{"$f":"MID('DE01-F12'!G1701,1,18)","v":""},{"$f":"IF(ISBLANK('DE01-F12'!P1701),\"\",('DE01-F12'!P1701))","v":""},{"$f":"IF(ISBLANK('DE01-F12'!Q1701),\"\",('DE01-F12'!Q1701))","v":""},{"$f":"IF(ISBLANK('DE01-F12'!S1701),\"\",('DE01-F12'!S1701))","v":0}]
[{"$f":"IF(ISBLANK('DE01-F12'!N1702),\"\",('DE01-F12'!N1702))","v":""},{"$f":"MID('DE01-F12'!G1702,1,18)","v":""},{"$f":"IF(ISBLANK('DE01-F12'!P1702),\"\",('DE01-F12'!P1702))","v":""},{"$f":"IF(ISBLANK('DE01-F12'!Q1702),\"\",('DE01-F12'!Q1702))","v":""},{"$f":"IF(ISBLANK('DE01-F12'!S1702),\"\",('DE01-F12'!S1702))","v":0}]
[{"$f":"IF(ISBLANK('DE01-F12'!N1703),\"\",('DE01-F12'!N1703))","v":""},{"$f":"MID('DE01-F12'!G1703,1,18)","v":""},{"$f":"IF(ISBLANK('DE01-F12'!P1703),\"\",('DE01-F12'!P1703))","v":""},{"$f":"IF(ISBLANK('DE01-F12'!Q1703),\"\",('DE01-F12'!Q1703))","v":""},{"$f":"IF(ISBLANK('DE01-F12'!S1703),\"\",('DE01-F12'!S1703))","v":0}]
[{"$f":"IF(ISBLANK('DE01-F12'!N1704),\"\",('DE01-F12'!N1704))","v":""},{"$f":"MID('DE01-F12'!G1704,1,18)","v":""},{"$f":"IF(ISBLANK('DE01-F12'!P1704),\"\",('DE01-F12'!P1704))","v":""},{"$f":"IF(ISBLANK('DE01-F12'!Q1704),\"\",('DE01-F12'!Q1704))","v":""},{"$f":"IF(ISBLANK('DE01-F12'!S1704),\"\",('DE01-F12'!S1704))","v":0}]
[{"$f":"IF(ISBLANK('DE01-F12'!N1705),\"\",('DE01-F12'!N1705))","v":""},{"$f":"MID('DE01-F12'!G1705,1,18)","v":""},{"$f":"IF(ISBLANK('DE01-F12'!P1705),\"\",('DE01-F12'!P1705))","v":""},{"$f":"IF(ISBLANK('DE01-F12'!Q1705),\"\",('DE01-F12'!Q1705))","v":""},{"$f":"IF(ISBLANK('DE01-F12'!S1705),\"\",('DE01-F12'!S1705))","v":0}]
[{"$f":"IF(ISBLANK('DE01-F12'!N1706),\"\",('DE01-F12'!N1706))","v":""},{"$f":"MID('DE01-F12'!G1706,1,18)","v":""},{"$f":"IF(ISBLANK('DE01-F12'!P1706),\"\",('DE01-F12'!P1706))","v":""},{"$f":"IF(ISBLANK('DE01-F12'!Q1706),\"\",('DE01-F12'!Q1706))","v":""},{"$f":"IF(ISBLANK('DE01-F12'!S1706),\"\",('DE01-F12'!S1706))","v":0}]
[{"$f":"IF(ISBLANK('DE01-F12'!N1707),\"\",('DE01-F12'!N1707))","v":""},{"$f":"MID('DE01-F12'!G1707,1,18)","v":""},{"$f":"IF(ISBLANK('DE01-F12'!P1707),\"\",('DE01-F12'!P1707))","v":""},{"$f":"IF(ISBLANK('DE01-F12'!Q1707),\"\",('DE01-F12'!Q1707))","v":""},{"$f":"IF(ISBLANK('DE01-F12'!S1707),\"\",('DE01-F12'!S1707))","v":0}]
[{"$f":"IF(ISBLANK('DE01-F12'!N1708),\"\",('DE01-F12'!N1708))","v":""},{"$f":"MID('DE01-F12'!G1708,1,18)","v":""},{"$f":"IF(ISBLANK('DE01-F12'!P1708),\"\",('DE01-F12'!P1708))","v":""},{"$f":"IF(ISBLANK('DE01-F12'!Q1708),\"\",('DE01-F12'!Q1708))","v":""},{"$f":"IF(ISBLANK('DE01-F12'!S1708),\"\",('DE01-F12'!S1708))","v":0}]
[{"$f":"IF(ISBLANK('DE01-F12'!N1709),\"\",('DE01-F12'!N1709))","v":""},{"$f":"MID('DE01-F12'!G1709,1,18)","v":""},{"$f":"IF(ISBLANK('DE01-F12'!P1709),\"\",('DE01-F12'!P1709))","v":""},{"$f":"IF(ISBLANK('DE01-F12'!Q1709),\"\",('DE01-F12'!Q1709))","v":""},{"$f":"IF(ISBLANK('DE01-F12'!S1709),\"\",('DE01-F12'!S1709))","v":0}]
[{"$f":"IF(ISBLANK('DE01-F12'!N1710),\"\",('DE01-F12'!N1710))","v":""},{"$f":"MID('DE01-F12'!G1710,1,18)","v":""},{"$f":"IF(ISBLANK('DE01-F12'!P1710),\"\",('DE01-F12'!P1710))","v":""},{"$f":"IF(ISBLANK('DE01-F12'!Q1710),\"\",('DE01-F12'!Q1710))","v":""},{"$f":"IF(ISBLANK('DE01-F12'!S1710),\"\",('DE01-F12'!S1710))","v":0}]
[{"$f":"IF(ISBLANK('DE01-F12'!N1711),\"\",('DE01-F12'!N1711))","v":""},{"$f":"MID('DE01-F12'!G1711,1,18)","v":""},{"$f":"IF(ISBLANK('DE01-F12'!P1711),\"\",('DE01-F12'!P1711))","v":""},{"$f":"IF(ISBLANK('DE01-F12'!Q1711),\"\",('DE01-F12'!Q1711))","v":""},{"$f":"IF(ISBLANK('DE01-F12'!S1711),\"\",('DE01-F12'!S1711))","v":0}]
[{"$f":"IF(ISBLANK('DE01-F12'!N1712),\"\",('DE01-F12'!N1712))","v":""},{"$f":"MID('DE01-F12'!G1712,1,18)","v":""},{"$f":"IF(ISBLANK('DE01-F12'!P1712),\"\",('DE01-F12'!P1712))","v":""},{"$f":"IF(ISBLANK('DE01-F12'!Q1712),\"\",('DE01-F12'!Q1712))","v":""},{"$f":"IF(ISBLANK('DE01-F12'!S1712),\"\",('DE01-F12'!S1712))","v":0}]
[{"$f":"IF(ISBLANK('DE01-F12'!N1713),\"\",('DE01-F12'!N1713))","v":""},{"$f":"MID('DE01-F12'!G1713,1,18)","v":""},{"$f":"IF(ISBLANK('DE01-F12'!P1713),\"\",('DE01-F12'!P1713))","v":""},{"$f":"IF(ISBLANK('DE01-F12'!Q1713),\"\",('DE01-F12'!Q1713))","v":""},{"$f":"IF(ISBLANK('DE01-F12'!S1713),\"\",('DE01-F12'!S1713))","v":0}]
[{"$f":"IF(ISBLANK('DE01-F12'!N1714),\"\",('DE01-F12'!N1714))","v":""},{"$f":"MID('DE01-F12'!G1714,1,18)","v":""},{"$f":"IF(ISBLANK('DE01-F12'!P1714),\"\",('DE01-F12'!P1714))","v":""},{"$f":"IF(ISBLANK('DE01-F12'!Q1714),\"\",('DE01-F12'!Q1714))","v":""},{"$f":"IF(ISBLANK('DE01-F12'!S1714),\"\",('DE01-F12'!S1714))","v":0}]
[{"$f":"IF(ISBLANK('DE01-F12'!N1715),\"\",('DE01-F12'!N1715))","v":""},{"$f":"MID('DE01-F12'!G1715,1,18)","v":""},{"$f":"IF(ISBLANK('DE01-F12'!P1715),\"\",('DE01-F12'!P1715))","v":""},{"$f":"IF(ISBLANK('DE01-F12'!Q1715),\"\",('DE01-F12'!Q1715))","v":""},{"$f":"IF(ISBLANK('DE01-F12'!S1715),\"\",('DE01-F12'!S1715))","v":0}]
[{"$f":"IF(ISBLANK('DE01-F12'!N1716),\"\",('DE01-F12'!N1716))","v":""},{"$f":"MID('DE01-F12'!G1716,1,18)","v":""},{"$f":"IF(ISBLANK('DE01-F12'!P1716),\"\",('DE01-F12'!P1716))","v":""},{"$f":"IF(ISBLANK('DE01-F12'!Q1716),\"\",('DE01-F12'!Q1716))","v":""},{"$f":"IF(ISBLANK('DE01-F12'!S1716),\"\",('DE01-F12'!S1716))","v":0}]
[{"$f":"IF(ISBLANK('DE01-F12'!N1717),\"\",('DE01-F12'!N1717))","v":""},{"$f":"MID('DE01-F12'!G1717,1,18)","v":""},{"$f":"IF(ISBLANK('DE01-F12'!P1717),\"\",('DE01-F12'!P1717))","v":""},{"$f":"IF(ISBLANK('DE01-F12'!Q1717),\"\",('DE01-F12'!Q1717))","v":""},{"$f":"IF(ISBLANK('DE01-F12'!S1717),\"\",('DE01-F12'!S1717))","v":0}]
[{"$f":"IF(ISBLANK('DE01-F12'!N1718),\"\",('DE01-F12'!N1718))","v":""},{"$f":"MID('DE01-F12'!G1718,1,18)","v":""},{"$f":"IF(ISBLANK('DE01-F12'!P1718),\"\",('DE01-F12'!P1718))","v":""},{"$f":"IF(ISBLANK('DE01-F12'!Q1718),\"\",('DE01-F12'!Q1718))","v":""},{"$f":"IF(ISBLANK('DE01-F12'!S1718),\"\",('DE01-F12'!S1718))","v":0}]
[{"$f":"IF(ISBLANK('DE01-F12'!N1719),\"\",('DE01-F12'!N1719))","v":""},{"$f":"MID('DE01-F12'!G1719,1,18)","v":""},{"$f":"IF(ISBLANK('DE01-F12'!P1719),\"\",('DE01-F12'!P1719))","v":""},{"$f":"IF(ISBLANK('DE01-F12'!Q1719),\"\",('DE01-F12'!Q1719))","v":""},{"$f":"IF(ISBLANK('DE01-F12'!S1719),\"\",('DE01-F12'!S1719))","v":0}]
[{"$f":"IF(ISBLANK('DE01-F12'!N1720),\"\",('DE01-F12'!N1720))","v":""},{"$f":"MID('DE01-F12'!G1720,1,18)","v":""},{"$f":"IF(ISBLANK('DE01-F12'!P1720),\"\",('DE01-F12'!P1720))","v":""},{"$f":"IF(ISBLANK('DE01-F12'!Q1720),\"\",('DE01-F12'!Q1720))","v":""},{"$f":"IF(ISBLANK('DE01-F12'!S1720),\"\",('DE01-F12'!S1720))","v":0}]
[{"$f":"IF(ISBLANK('DE01-F12'!N1721),\"\",('DE01-F12'!N1721))","v":""},{"$f":"MID('DE01-F12'!G1721,1,18)","v":""},{"$f":"IF(ISBLANK('DE01-F12'!P1721),\"\",('DE01-F12'!P1721))","v":""},{"$f":"IF(ISBLANK('DE01-F12'!Q1721),\"\",('DE01-F12'!Q1721))","v":""},{"$f":"IF(ISBLANK('DE01-F12'!S1721),\"\",('DE01-F12'!S1721))","v":0}]
[{"$f":"IF(ISBLANK('DE01-F12'!N1722),\"\",('DE01-F12'!N1722))","v":""},{"$f":"MID('DE01-F12'!G1722,1,18)","v":""},{"$f":"IF(ISBLANK('DE01-F12'!P1722),\"\",('DE01-F12'!P1722))","v":""},{"$f":"IF(ISBLANK('DE01-F12'!Q1722),\"\",('DE01-F12'!Q1722))","v":""},{"$f":"IF(ISBLANK('DE01-F12'!S1722),\"\",('DE01-F12'!S1722))","v":0}]
[{"$f":"IF(ISBLANK('DE01-F12'!N1723),\"\",('DE01-F12'!N1723))","v":""},{"$f":"MID('DE01-F12'!G1723,1,18)","v":""},{"$f":"IF(ISBLANK('DE01-F12'!P1723),\"\",('DE01-F12'!P1723))","v":""},{"$f":"IF(ISBLANK('DE01-F12'!Q1723),\"\",('DE01-F12'!Q1723))","v":""},{"$f":"IF(ISBLANK('DE01-F12'!S1723),\"\",('DE01-F12'!S1723))","v":0}]
[{"$f":"IF(ISBLANK('DE01-F12'!N1724),\"\",('DE01-F12'!N1724))","v":""},{"$f":"MID('DE01-F12'!G1724,1,18)","v":""},{"$f":"IF(ISBLANK('DE01-F12'!P1724),\"\",('DE01-F12'!P1724))","v":""},{"$f":"IF(ISBLANK('DE01-F12'!Q1724),\"\",('DE01-F12'!Q1724))","v":""},{"$f":"IF(ISBLANK('DE01-F12'!S1724),\"\",('DE01-F12'!S1724))","v":0}]
[{"$f":"IF(ISBLANK('DE01-F12'!N1725),\"\",('DE01-F12'!N1725))","v":""},{"$f":"MID('DE01-F12'!G1725,1,18)","v":""},{"$f":"IF(ISBLANK('DE01-F12'!P1725),\"\",('DE01-F12'!P1725))","v":""},{"$f":"IF(ISBLANK('DE01-F12'!Q1725),\"\",('DE01-F12'!Q1725))","v":""},{"$f":"IF(ISBLANK('DE01-F12'!S1725),\"\",('DE01-F12'!S1725))","v":0}]
[{"$f":"IF(ISBLANK('DE01-F12'!N1726),\"\",('DE01-F12'!N1726))","v":""},{"$f":"MID('DE01-F12'!G1726,1,18)","v":""},{"$f":"IF(ISBLANK('DE01-F12'!P1726),\"\",('DE01-F12'!P1726))","v":""},{"$f":"IF(ISBLANK('DE01-F12'!Q1726),\"\",('DE01-F12'!Q1726))","v":""},{"$f":"IF(ISBLANK('DE01-F12'!S1726),\"\",('DE01-F12'!S1726))","v":0}]
[{"$f":"IF(ISBLANK('DE01-F12'!N1727),\"\",('DE01-F12'!N1727))","v":""},{"$f":"MID('DE01-F12'!G1727,1,18)","v":""},{"$f":"IF(ISBLANK('DE01-F12'!P1727),\"\",('DE01-F12'!P1727))","v":""},{"$f":"IF(ISBLANK('DE01-F12'!Q1727),\"\",('DE01-F12'!Q1727))","v":""},{"$f":"IF(ISBLANK('DE01-F12'!S1727),\"\",('DE01-F12'!S1727))","v":0}]
[{"$f":"IF(ISBLANK('DE01-F12'!N1728),\"\",('DE01-F12'!N1728))","v":""},{"$f":"MID('DE01-F12'!G1728,1,18)","v":""},{"$f":"IF(ISBLANK('DE01-F12'!P1728),\"\",('DE01-F12'!P1728))","v":""},{"$f":"IF(ISBLANK('DE01-F12'!Q1728),\"\",('DE01-F12'!Q1728))","v":""},{"$f":"IF(ISBLANK('DE01-F12'!S1728),\"\",('DE01-F12'!S1728))","v":0}]
[{"$f":"IF(ISBLANK('DE01-F12'!N1729),\"\",('DE01-F12'!N1729))","v":""},{"$f":"MID('DE01-F12'!G1729,1,18)","v":""},{"$f":"IF(ISBLANK('DE01-F12'!P1729),\"\",('DE01-F12'!P1729))","v":""},{"$f":"IF(ISBLANK('DE01-F12'!Q1729),\"\",('DE01-F12'!Q1729))","v":""},{"$f":"IF(ISBLANK('DE01-F12'!S1729),\"\",('DE01-F12'!S1729))","v":0}]
[{"$f":"IF(ISBLANK('DE01-F12'!N1730),\"\",('DE01-F12'!N1730))","v":""},{"$f":"MID('DE01-F12'!G1730,1,18)","v":""},{"$f":"IF(ISBLANK('DE01-F12'!P1730),\"\",('DE01-F12'!P1730))","v":""},{"$f":"IF(ISBLANK('DE01-F12'!Q1730),\"\",('DE01-F12'!Q1730))","v":""},{"$f":"IF(ISBLANK('DE01-F12'!S1730),\"\",('DE01-F12'!S1730))","v":0}]
[{"$f":"IF(ISBLANK('DE01-F12'!N1731),\"\",('DE01-F12'!N1731))","v":""},{"$f":"MID('DE01-F12'!G1731,1,18)","v":""},{"$f":"IF(ISBLANK('DE01-F12'!P1731),\"\",('DE01-F12'!P1731))","v":""},{"$f":"IF(ISBLANK('DE01-F12'!Q1731),\"\",('DE01-F12'!Q1731))","v":""},{"$f":"IF(ISBLANK('DE01-F12'!S1731),\"\",('DE01-F12'!S1731))","v":0}]
[{"$f":"IF(ISBLANK('DE01-F12'!N1732),\"\",('DE01-F12'!N1732))","v":""},{"$f":"MID('DE01-F12'!G1732,1,18)","v":""},{"$f":"IF(ISBLANK('DE01-F12'!P1732),\"\",('DE01-F12'!P1732))","v":""},{"$f":"IF(ISBLANK('DE01-F12'!Q1732),\"\",('DE01-F12'!Q1732))","v":""},{"$f":"IF(ISBLANK('DE01-F12'!S1732),\"\",('DE01-F12'!S1732))","v":0}]
[{"$f":"IF(ISBLANK('DE01-F12'!N1733),\"\",('DE01-F12'!N1733))","v":""},{"$f":"MID('DE01-F12'!G1733,1,18)","v":""},{"$f":"IF(ISBLANK('DE01-F12'!P1733),\"\",('DE01-F12'!P1733))","v":""},{"$f":"IF(ISBLANK('DE01-F12'!Q1733),\"\",('DE01-F12'!Q1733))","v":""},{"$f":"IF(ISBLANK('DE01-F12'!S1733),\"\",('DE01-F12'!S1733))","v":0}]
[{"$f":"IF(ISBLANK('DE01-F12'!N1734),\"\",('DE01-F12'!N1734))","v":""},{"$f":"MID('DE01-F12'!G1734,1,18)","v":""},{"$f":"IF(ISBLANK('DE01-F12'!P1734),\"\",('DE01-F12'!P1734))","v":""},{"$f":"IF(ISBLANK('DE01-F12'!Q1734),\"\",('DE01-F12'!Q1734))","v":""},{"$f":"IF(ISBLANK('DE01-F12'!S1734),\"\",('DE01-F12'!S1734))","v":0}]
[{"$f":"IF(ISBLANK('DE01-F12'!N1735),\"\",('DE01-F12'!N1735))","v":""},{"$f":"MID('DE01-F12'!G1735,1,18)","v":""},{"$f":"IF(ISBLANK('DE01-F12'!P1735),\"\",('DE01-F12'!P1735))","v":""},{"$f":"IF(ISBLANK('DE01-F12'!Q1735),\"\",('DE01-F12'!Q1735))","v":""},{"$f":"IF(ISBLANK('DE01-F12'!S1735),\"\",('DE01-F12'!S1735))","v":0}]
[{"$f":"IF(ISBLANK('DE01-F12'!N1736),\"\",('DE01-F12'!N1736))","v":""},{"$f":"MID('DE01-F12'!G1736,1,18)","v":""},{"$f":"IF(ISBLANK('DE01-F12'!P1736),\"\",('DE01-F12'!P1736))","v":""},{"$f":"IF(ISBLANK('DE01-F12'!Q1736),\"\",('DE01-F12'!Q1736))","v":""},{"$f":"IF(ISBLANK('DE01-F12'!S1736),\"\",('DE01-F12'!S1736))","v":0}]
[{"$f":"IF(ISBLANK('DE01-F12'!N1737),\"\",('DE01-F12'!N1737))","v":""},{"$f":"MID('DE01-F12'!G1737,1,18)","v":""},{"$f":"IF(ISBLANK('DE01-F12'!P1737),\"\",('DE01-F12'!P1737))","v":""},{"$f":"IF(ISBLANK('DE01-F12'!Q1737),\"\",('DE01-F12'!Q1737))","v":""},{"$f":"IF(ISBLANK('DE01-F12'!S1737),\"\",('DE01-F12'!S1737))","v":0}]
[{"$f":"IF(ISBLANK('DE01-F12'!N1738),\"\",('DE01-F12'!N1738))","v":""},{"$f":"MID('DE01-F12'!G1738,1,18)","v":""},{"$f":"IF(ISBLANK('DE01-F12'!P1738),\"\",('DE01-F12'!P1738))","v":""},{"$f":"IF(ISBLANK('DE01-F12'!Q1738),\"\",('DE01-F12'!Q1738))","v":""},{"$f":"IF(ISBLANK('DE01-F12'!S1738),\"\",('DE01-F12'!S1738))","v":0}]
[{"$f":"IF(ISBLANK('DE01-F12'!N1739),\"\",('DE01-F12'!N1739))","v":""},{"$f":"MID('DE01-F12'!G1739,1,18)","v":""},{"$f":"IF(ISBLANK('DE01-F12'!P1739),\"\",('DE01-F12'!P1739))","v":""},{"$f":"IF(ISBLANK('DE01-F12'!Q1739),\"\",('DE01-F12'!Q1739))","v":""},{"$f":"IF(ISBLANK('DE01-F12'!S1739),\"\",('DE01-F12'!S1739))","v":0}]
[{"$f":"IF(ISBLANK('DE01-F12'!N1740),\"\",('DE01-F12'!N1740))","v":""},{"$f":"MID('DE01-F12'!G1740,1,18)","v":""},{"$f":"IF(ISBLANK('DE01-F12'!P1740),\"\",('DE01-F12'!P1740))","v":""},{"$f":"IF(ISBLANK('DE01-F12'!Q1740),\"\",('DE01-F12'!Q1740))","v":""},{"$f":"IF(ISBLANK('DE01-F12'!S1740),\"\",('DE01-F12'!S1740))","v":0}]
[{"$f":"IF(ISBLANK('DE01-F12'!N1741),\"\",('DE01-F12'!N1741))","v":""},{"$f":"MID('DE01-F12'!G1741,1,18)","v":""},{"$f":"IF(ISBLANK('DE01-F12'!P1741),\"\",('DE01-F12'!P1741))","v":""},{"$f":"IF(ISBLANK('DE01-F12'!Q1741),\"\",('DE01-F12'!Q1741))","v":""},{"$f":"IF(ISBLANK('DE01-F12'!S1741),\"\",('DE01-F12'!S1741))","v":0}]
[{"$f":"IF(ISBLANK('DE01-F12'!N1742),\"\",('DE01-F12'!N1742))","v":""},{"$f":"MID('DE01-F12'!G1742,1,18)","v":""},{"$f":"IF(ISBLANK('DE01-F12'!P1742),\"\",('DE01-F12'!P1742))","v":""},{"$f":"IF(ISBLANK('DE01-F12'!Q1742),\"\",('DE01-F12'!Q1742))","v":""},{"$f":"IF(ISBLANK('DE01-F12'!S1742),\"\",('DE01-F12'!S1742))","v":0}]
[{"$f":"IF(ISBLANK('DE01-F12'!N1743),\"\",('DE01-F12'!N1743))","v":""},{"$f":"MID('DE01-F12'!G1743,1,18)","v":""},{"$f":"IF(ISBLANK('DE01-F12'!P1743),\"\",('DE01-F12'!P1743))","v":""},{"$f":"IF(ISBLANK('DE01-F12'!Q1743),\"\",('DE01-F12'!Q1743))","v":""},{"$f":"IF(ISBLANK('DE01-F12'!S1743),\"\",('DE01-F12'!S1743))","v":0}]
[{"$f":"IF(ISBLANK('DE01-F12'!N1744),\"\",('DE01-F12'!N1744))","v":""},{"$f":"MID('DE01-F12'!G1744,1,18)","v":""},{"$f":"IF(ISBLANK('DE01-F12'!P1744),\"\",('DE01-F12'!P1744))","v":""},{"$f":"IF(ISBLANK('DE01-F12'!Q1744),\"\",('DE01-F12'!Q1744))","v":""},{"$f":"IF(ISBLANK('DE01-F12'!S1744),\"\",('DE01-F12'!S1744))","v":0}]
[{"$f":"IF(ISBLANK('DE01-F12'!N1745),\"\",('DE01-F12'!N1745))","v":""},{"$f":"MID('DE01-F12'!G1745,1,18)","v":""},{"$f":"IF(ISBLANK('DE01-F12'!P1745),\"\",('DE01-F12'!P1745))","v":""},{"$f":"IF(ISBLANK('DE01-F12'!Q1745),\"\",('DE01-F12'!Q1745))","v":""},{"$f":"IF(ISBLANK('DE01-F12'!S1745),\"\",('DE01-F12'!S1745))","v":0}]
[{"$f":"IF(ISBLANK('DE01-F12'!N1746),\"\",('DE01-F12'!N1746))","v":""},{"$f":"MID('DE01-F12'!G1746,1,18)","v":""},{"$f":"IF(ISBLANK('DE01-F12'!P1746),\"\",('DE01-F12'!P1746))","v":""},{"$f":"IF(ISBLANK('DE01-F12'!Q1746),\"\",('DE01-F12'!Q1746))","v":""},{"$f":"IF(ISBLANK('DE01-F12'!S1746),\"\",('DE01-F12'!S1746))","v":0}]
[{"$f":"IF(ISBLANK('DE01-F12'!N1747),\"\",('DE01-F12'!N1747))","v":""},{"$f":"MID('DE01-F12'!G1747,1,18)","v":""},{"$f":"IF(ISBLANK('DE01-F12'!P1747),\"\",('DE01-F12'!P1747))","v":""},{"$f":"IF(ISBLANK('DE01-F12'!Q1747),\"\",('DE01-F12'!Q1747))","v":""},{"$f":"IF(ISBLANK('DE01-F12'!S1747),\"\",('DE01-F12'!S1747))","v":0}]
[{"$f":"IF(ISBLANK('DE01-F12'!N1748),\"\",('DE01-F12'!N1748))","v":""},{"$f":"MID('DE01-F12'!G1748,1,18)","v":""},{"$f":"IF(ISBLANK('DE01-F12'!P1748),\"\",('DE01-F12'!P1748))","v":""},{"$f":"IF(ISBLANK('DE01-F12'!Q1748),\"\",('DE01-F12'!Q1748))","v":""},{"$f":"IF(ISBLANK('DE01-F12'!S1748),\"\",('DE01-F12'!S1748))","v":0}]
[{"$f":"IF(ISBLANK('DE01-F12'!N1749),\"\",('DE01-F12'!N1749))","v":""},{"$f":"MID('DE01-F12'!G1749,1,18)","v":""},{"$f":"IF(ISBLANK('DE01-F12'!P1749),\"\",('DE01-F12'!P1749))","v":""},{"$f":"IF(ISBLANK('DE01-F12'!Q1749),\"\",('DE01-F12'!Q1749))","v":""},{"$f":"IF(ISBLANK('DE01-F12'!S1749),\"\",('DE01-F12'!S1749))","v":0}]
[{"$f":"IF(ISBLANK('DE01-F12'!N1750),\"\",('DE01-F12'!N1750))","v":""},{"$f":"MID('DE01-F12'!G1750,1,18)","v":""},{"$f":"IF(ISBLANK('DE01-F12'!P1750),\"\",('DE01-F12'!P1750))","v":""},{"$f":"IF(ISBLANK('DE01-F12'!Q1750),\"\",('DE01-F12'!Q1750))","v":""},{"$f":"IF(ISBLANK('DE01-F12'!S1750),\"\",('DE01-F12'!S1750))","v":0}]
[{"$f":"IF(ISBLANK('DE01-F12'!N1751),\"\",('DE01-F12'!N1751))","v":""},{"$f":"MID('DE01-F12'!G1751,1,18)","v":""},{"$f":"IF(ISBLANK('DE01-F12'!P1751),\"\",('DE01-F12'!P1751))","v":""},{"$f":"IF(ISBLANK('DE01-F12'!Q1751),\"\",('DE01-F12'!Q1751))","v":""},{"$f":"IF(ISBLANK('DE01-F12'!S1751),\"\",('DE01-F12'!S1751))","v":0}]
[{"$f":"IF(ISBLANK('DE01-F12'!N1752),\"\",('DE01-F12'!N1752))","v":""},{"$f":"MID('DE01-F12'!G1752,1,18)","v":""},{"$f":"IF(ISBLANK('DE01-F12'!P1752),\"\",('DE01-F12'!P1752))","v":""},{"$f":"IF(ISBLANK('DE01-F12'!Q1752),\"\",('DE01-F12'!Q1752))","v":""},{"$f":"IF(ISBLANK('DE01-F12'!S1752),\"\",('DE01-F12'!S1752))","v":0}]
[{"$f":"IF(ISBLANK('DE01-F12'!N1753),\"\",('DE01-F12'!N1753))","v":""},{"$f":"MID('DE01-F12'!G1753,1,18)","v":""},{"$f":"IF(ISBLANK('DE01-F12'!P1753),\"\",('DE01-F12'!P1753))","v":""},{"$f":"IF(ISBLANK('DE01-F12'!Q1753),\"\",('DE01-F12'!Q1753))","v":""},{"$f":"IF(ISBLANK('DE01-F12'!S1753),\"\",('DE01-F12'!S1753))","v":0}]
[{"$f":"IF(ISBLANK('DE01-F12'!N1754),\"\",('DE01-F12'!N1754))","v":""},{"$f":"MID('DE01-F12'!G1754,1,18)","v":""},{"$f":"IF(ISBLANK('DE01-F12'!P1754),\"\",('DE01-F12'!P1754))","v":""},{"$f":"IF(ISBLANK('DE01-F12'!Q1754),\"\",('DE01-F12'!Q1754))","v":""},{"$f":"IF(ISBLANK('DE01-F12'!S1754),\"\",('DE01-F12'!S1754))","v":0}]
[{"$f":"IF(ISBLANK('DE01-F12'!N1755),\"\",('DE01-F12'!N1755))","v":""},{"$f":"MID('DE01-F12'!G1755,1,18)","v":""},{"$f":"IF(ISBLANK('DE01-F12'!P1755),\"\",('DE01-F12'!P1755))","v":""},{"$f":"IF(ISBLANK('DE01-F12'!Q1755),\"\",('DE01-F12'!Q1755))","v":""},{"$f":"IF(ISBLANK('DE01-F12'!S1755),\"\",('DE01-F12'!S1755))","v":0}]
[{"$f":"IF(ISBLANK('DE01-F12'!N1756),\"\",('DE01-F12'!N1756))","v":""},{"$f":"MID('DE01-F12'!G1756,1,18)","v":""},{"$f":"IF(ISBLANK('DE01-F12'!P1756),\"\",('DE01-F12'!P1756))","v":""},{"$f":"IF(ISBLANK('DE01-F12'!Q1756),\"\",('DE01-F12'!Q1756))","v":""},{"$f":"IF(ISBLANK('DE01-F12'!S1756),\"\",('DE01-F12'!S1756))","v":0}]
[{"$f":"IF(ISBLANK('DE01-F12'!N1757),\"\",('DE01-F12'!N1757))","v":""},{"$f":"MID('DE01-F12'!G1757,1,18)","v":""},{"$f":"IF(ISBLANK('DE01-F12'!P1757),\"\",('DE01-F12'!P1757))","v":""},{"$f":"IF(ISBLANK('DE01-F12'!Q1757),\"\",('DE01-F12'!Q1757))","v":""},{"$f":"IF(ISBLANK('DE01-F12'!S1757),\"\",('DE01-F12'!S1757))","v":0}]
[{"$f":"IF(ISBLANK('DE01-F12'!N1758),\"\",('DE01-F12'!N1758))","v":""},{"$f":"MID('DE01-F12'!G1758,1,18)","v":""},{"$f":"IF(ISBLANK('DE01-F12'!P1758),\"\",('DE01-F12'!P1758))","v":""},{"$f":"IF(ISBLANK('DE01-F12'!Q1758),\"\",('DE01-F12'!Q1758))","v":""},{"$f":"IF(ISBLANK('DE01-F12'!S1758),\"\",('DE01-F12'!S1758))","v":0}]
[{"$f":"IF(ISBLANK('DE01-F12'!N1759),\"\",('DE01-F12'!N1759))","v":""},{"$f":"MID('DE01-F12'!G1759,1,18)","v":""},{"$f":"IF(ISBLANK('DE01-F12'!P1759),\"\",('DE01-F12'!P1759))","v":""},{"$f":"IF(ISBLANK('DE01-F12'!Q1759),\"\",('DE01-F12'!Q1759))","v":""},{"$f":"IF(ISBLANK('DE01-F12'!S1759),\"\",('DE01-F12'!S1759))","v":0}]
[{"$f":"IF(ISBLANK('DE01-F12'!N1760),\"\",('DE01-F12'!N1760))","v":""},{"$f":"MID('DE01-F12'!G1760,1,18)","v":""},{"$f":"IF(ISBLANK('DE01-F12'!P1760),\"\",('DE01-F12'!P1760))","v":""},{"$f":"IF(ISBLANK('DE01-F12'!Q1760),\"\",('DE01-F12'!Q1760))","v":""},{"$f":"IF(ISBLANK('DE01-F12'!S1760),\"\",('DE01-F12'!S1760))","v":0}]
[{"$f":"IF(ISBLANK('DE01-F12'!N1761),\"\",('DE01-F12'!N1761))","v":""},{"$f":"MID('DE01-F12'!G1761,1,18)","v":""},{"$f":"IF(ISBLANK('DE01-F12'!P1761),\"\",('DE01-F12'!P1761))","v":""},{"$f":"IF(ISBLANK('DE01-F12'!Q1761),\"\",('DE01-F12'!Q1761))","v":""},{"$f":"IF(ISBLANK('DE01-F12'!S1761),\"\",('DE01-F12'!S1761))","v":0}]
[{"$f":"IF(ISBLANK('DE01-F12'!N1762),\"\",('DE01-F12'!N1762))","v":""},{"$f":"MID('DE01-F12'!G1762,1,18)","v":""},{"$f":"IF(ISBLANK('DE01-F12'!P1762),\"\",('DE01-F12'!P1762))","v":""},{"$f":"IF(ISBLANK('DE01-F12'!Q1762),\"\",('DE01-F12'!Q1762))","v":""},{"$f":"IF(ISBLANK('DE01-F12'!S1762),\"\",('DE01-F12'!S1762))","v":0}]
[{"$f":"IF(ISBLANK('DE01-F12'!N1763),\"\",('DE01-F12'!N1763))","v":""},{"$f":"MID('DE01-F12'!G1763,1,18)","v":""},{"$f":"IF(ISBLANK('DE01-F12'!P1763),\"\",('DE01-F12'!P1763))","v":""},{"$f":"IF(ISBLANK('DE01-F12'!Q1763),\"\",('DE01-F12'!Q1763))","v":""},{"$f":"IF(ISBLANK('DE01-F12'!S1763),\"\",('DE01-F12'!S1763))","v":0}]
[{"$f":"IF(ISBLANK('DE01-F12'!N1764),\"\",('DE01-F12'!N1764))","v":""},{"$f":"MID('DE01-F12'!G1764,1,18)","v":""},{"$f":"IF(ISBLANK('DE01-F12'!P1764),\"\",('DE01-F12'!P1764))","v":""},{"$f":"IF(ISBLANK('DE01-F12'!Q1764),\"\",('DE01-F12'!Q1764))","v":""},{"$f":"IF(ISBLANK('DE01-F12'!S1764),\"\",('DE01-F12'!S1764))","v":0}]
[{"$f":"IF(ISBLANK('DE01-F12'!N1765),\"\",('DE01-F12'!N1765))","v":""},{"$f":"MID('DE01-F12'!G1765,1,18)","v":""},{"$f":"IF(ISBLANK('DE01-F12'!P1765),\"\",('DE01-F12'!P1765))","v":""},{"$f":"IF(ISBLANK('DE01-F12'!Q1765),\"\",('DE01-F12'!Q1765))","v":""},{"$f":"IF(ISBLANK('DE01-F12'!S1765),\"\",('DE01-F12'!S1765))","v":0}]
[{"$f":"IF(ISBLANK('DE01-F12'!N1766),\"\",('DE01-F12'!N1766))","v":""},{"$f":"MID('DE01-F12'!G1766,1,18)","v":""},{"$f":"IF(ISBLANK('DE01-F12'!P1766),\"\",('DE01-F12'!P1766))","v":""},{"$f":"IF(ISBLANK('DE01-F12'!Q1766),\"\",('DE01-F12'!Q1766))","v":""},{"$f":"IF(ISBLANK('DE01-F12'!S1766),\"\",('DE01-F12'!S1766))","v":0}]
[{"$f":"IF(ISBLANK('DE01-F12'!N1767),\"\",('DE01-F12'!N1767))","v":""},{"$f":"MID('DE01-F12'!G1767,1,18)","v":""},{"$f":"IF(ISBLANK('DE01-F12'!P1767),\"\",('DE01-F12'!P1767))","v":""},{"$f":"IF(ISBLANK('DE01-F12'!Q1767),\"\",('DE01-F12'!Q1767))","v":""},{"$f":"IF(ISBLANK('DE01-F12'!S1767),\"\",('DE01-F12'!S1767))","v":0}]
[{"$f":"IF(ISBLANK('DE01-F12'!N1768),\"\",('DE01-F12'!N1768))","v":""},{"$f":"MID('DE01-F12'!G1768,1,18)","v":""},{"$f":"IF(ISBLANK('DE01-F12'!P1768),\"\",('DE01-F12'!P1768))","v":""},{"$f":"IF(ISBLANK('DE01-F12'!Q1768),\"\",('DE01-F12'!Q1768))","v":""},{"$f":"IF(ISBLANK('DE01-F12'!S1768),\"\",('DE01-F12'!S1768))","v":0}]
[{"$f":"IF(ISBLANK('DE01-F12'!N1769),\"\",('DE01-F12'!N1769))","v":""},{"$f":"MID('DE01-F12'!G1769,1,18)","v":""},{"$f":"IF(ISBLANK('DE01-F12'!P1769),\"\",('DE01-F12'!P1769))","v":""},{"$f":"IF(ISBLANK('DE01-F12'!Q1769),\"\",('DE01-F12'!Q1769))","v":""},{"$f":"IF(ISBLANK('DE01-F12'!S1769),\"\",('DE01-F12'!S1769))","v":0}]
[{"$f":"IF(ISBLANK('DE01-F12'!N1770),\"\",('DE01-F12'!N1770))","v":""},{"$f":"MID('DE01-F12'!G1770,1,18)","v":""},{"$f":"IF(ISBLANK('DE01-F12'!P1770),\"\",('DE01-F12'!P1770))","v":""},{"$f":"IF(ISBLANK('DE01-F12'!Q1770),\"\",('DE01-F12'!Q1770))","v":""},{"$f":"IF(ISBLANK('DE01-F12'!S1770),\"\",('DE01-F12'!S1770))","v":0}]
[{"$f":"IF(ISBLANK('DE01-F12'!N1771),\"\",('DE01-F12'!N1771))","v":""},{"$f":"MID('DE01-F12'!G1771,1,18)","v":""},{"$f":"IF(ISBLANK('DE01-F12'!P1771),\"\",('DE01-F12'!P1771))","v":""},{"$f":"IF(ISBLANK('DE01-F12'!Q1771),\"\",('DE01-F12'!Q1771))","v":""},{"$f":"IF(ISBLANK('DE01-F12'!S1771),\"\",('DE01-F12'!S1771))","v":0}]
[{"$f":"IF(ISBLANK('DE01-F12'!N1772),\"\",('DE01-F12'!N1772))","v":""},{"$f":"MID('DE01-F12'!G1772,1,18)","v":""},{"$f":"IF(ISBLANK('DE01-F12'!P1772),\"\",('DE01-F12'!P1772))","v":""},{"$f":"IF(ISBLANK('DE01-F12'!Q1772),\"\",('DE01-F12'!Q1772))","v":""},{"$f":"IF(ISBLANK('DE01-F12'!S1772),\"\",('DE01-F12'!S1772))","v":0}]
[{"$f":"IF(ISBLANK('DE01-F12'!N1773),\"\",('DE01-F12'!N1773))","v":""},{"$f":"MID('DE01-F12'!G1773,1,18)","v":""},{"$f":"IF(ISBLANK('DE01-F12'!P1773),\"\",('DE01-F12'!P1773))","v":""},{"$f":"IF(ISBLANK('DE01-F12'!Q1773),\"\",('DE01-F12'!Q1773))","v":""},{"$f":"IF(ISBLANK('DE01-F12'!S1773),\"\",('DE01-F12'!S1773))","v":0}]
[{"$f":"IF(ISBLANK('DE01-F12'!N1774),\"\",('DE01-F12'!N1774))","v":""},{"$f":"MID('DE01-F12'!G1774,1,18)","v":""},{"$f":"IF(ISBLANK('DE01-F12'!P1774),\"\",('DE01-F12'!P1774))","v":""},{"$f":"IF(ISBLANK('DE01-F12'!Q1774),\"\",('DE01-F12'!Q1774))","v":""},{"$f":"IF(ISBLANK('DE01-F12'!S1774),\"\",('DE01-F12'!S1774))","v":0}]
[{"$f":"IF(ISBLANK('DE01-F12'!N1775),\"\",('DE01-F12'!N1775))","v":""},{"$f":"MID('DE01-F12'!G1775,1,18)","v":""},{"$f":"IF(ISBLANK('DE01-F12'!P1775),\"\",('DE01-F12'!P1775))","v":""},{"$f":"IF(ISBLANK('DE01-F12'!Q1775),\"\",('DE01-F12'!Q1775))","v":""},{"$f":"IF(ISBLANK('DE01-F12'!S1775),\"\",('DE01-F12'!S1775))","v":0}]
[{"$f":"IF(ISBLANK('DE01-F12'!N1776),\"\",('DE01-F12'!N1776))","v":""},{"$f":"MID('DE01-F12'!G1776,1,18)","v":""},{"$f":"IF(ISBLANK('DE01-F12'!P1776),\"\",('DE01-F12'!P1776))","v":""},{"$f":"IF(ISBLANK('DE01-F12'!Q1776),\"\",('DE01-F12'!Q1776))","v":""},{"$f":"IF(ISBLANK('DE01-F12'!S1776),\"\",('DE01-F12'!S1776))","v":0}]
[{"$f":"IF(ISBLANK('DE01-F12'!N1777),\"\",('DE01-F12'!N1777))","v":""},{"$f":"MID('DE01-F12'!G1777,1,18)","v":""},{"$f":"IF(ISBLANK('DE01-F12'!P1777),\"\",('DE01-F12'!P1777))","v":""},{"$f":"IF(ISBLANK('DE01-F12'!Q1777),\"\",('DE01-F12'!Q1777))","v":""},{"$f":"IF(ISBLANK('DE01-F12'!S1777),\"\",('DE01-F12'!S1777))","v":0}]
[{"$f":"IF(ISBLANK('DE01-F12'!N1778),\"\",('DE01-F12'!N1778))","v":""},{"$f":"MID('DE01-F12'!G1778,1,18)","v":""},{"$f":"IF(ISBLANK('DE01-F12'!P1778),\"\",('DE01-F12'!P1778))","v":""},{"$f":"IF(ISBLANK('DE01-F12'!Q1778),\"\",('DE01-F12'!Q1778))","v":""},{"$f":"IF(ISBLANK('DE01-F12'!S1778),\"\",('DE01-F12'!S1778))","v":0}]
[{"$f":"IF(ISBLANK('DE01-F12'!N1779),\"\",('DE01-F12'!N1779))","v":""},{"$f":"MID('DE01-F12'!G1779,1,18)","v":""},{"$f":"IF(ISBLANK('DE01-F12'!P1779),\"\",('DE01-F12'!P1779))","v":""},{"$f":"IF(ISBLANK('DE01-F12'!Q1779),\"\",('DE01-F12'!Q1779))","v":""},{"$f":"IF(ISBLANK('DE01-F12'!S1779),\"\",('DE01-F12'!S1779))","v":0}]
[{"$f":"IF(ISBLANK('DE01-F12'!N1780),\"\",('DE01-F12'!N1780))","v":""},{"$f":"MID('DE01-F12'!G1780,1,18)","v":""},{"$f":"IF(ISBLANK('DE01-F12'!P1780),\"\",('DE01-F12'!P1780))","v":""},{"$f":"IF(ISBLANK('DE01-F12'!Q1780),\"\",('DE01-F12'!Q1780))","v":""},{"$f":"IF(ISBLANK('DE01-F12'!S1780),\"\",('DE01-F12'!S1780))","v":0}]
[{"$f":"IF(ISBLANK('DE01-F12'!N1781),\"\",('DE01-F12'!N1781))","v":""},{"$f":"MID('DE01-F12'!G1781,1,18)","v":""},{"$f":"IF(ISBLANK('DE01-F12'!P1781),\"\",('DE01-F12'!P1781))","v":""},{"$f":"IF(ISBLANK('DE01-F12'!Q1781),\"\",('DE01-F12'!Q1781))","v":""},{"$f":"IF(ISBLANK('DE01-F12'!S1781),\"\",('DE01-F12'!S1781))","v":0}]
[{"$f":"IF(ISBLANK('DE01-F12'!N1782),\"\",('DE01-F12'!N1782))","v":""},{"$f":"MID('DE01-F12'!G1782,1,18)","v":""},{"$f":"IF(ISBLANK('DE01-F12'!P1782),\"\",('DE01-F12'!P1782))","v":""},{"$f":"IF(ISBLANK('DE01-F12'!Q1782),\"\",('DE01-F12'!Q1782))","v":""},{"$f":"IF(ISBLANK('DE01-F12'!S1782),\"\",('DE01-F12'!S1782))","v":0}]
[{"$f":"IF(ISBLANK('DE01-F12'!N1783),\"\",('DE01-F12'!N1783))","v":""},{"$f":"MID('DE01-F12'!G1783,1,18)","v":""},{"$f":"IF(ISBLANK('DE01-F12'!P1783),\"\",('DE01-F12'!P1783))","v":""},{"$f":"IF(ISBLANK('DE01-F12'!Q1783),\"\",('DE01-F12'!Q1783))","v":""},{"$f":"IF(ISBLANK('DE01-F12'!S1783),\"\",('DE01-F12'!S1783))","v":0}]
[{"$f":"IF(ISBLANK('DE01-F12'!N1784),\"\",('DE01-F12'!N1784))","v":""},{"$f":"MID('DE01-F12'!G1784,1,18)","v":""},{"$f":"IF(ISBLANK('DE01-F12'!P1784),\"\",('DE01-F12'!P1784))","v":""},{"$f":"IF(ISBLANK('DE01-F12'!Q1784),\"\",('DE01-F12'!Q1784))","v":""},{"$f":"IF(ISBLANK('DE01-F12'!S1784),\"\",('DE01-F12'!S1784))","v":0}]
[{"$f":"IF(ISBLANK('DE01-F12'!N1785),\"\",('DE01-F12'!N1785))","v":""},{"$f":"MID('DE01-F12'!G1785,1,18)","v":""},{"$f":"IF(ISBLANK('DE01-F12'!P1785),\"\",('DE01-F12'!P1785))","v":""},{"$f":"IF(ISBLANK('DE01-F12'!Q1785),\"\",('DE01-F12'!Q1785))","v":""},{"$f":"IF(ISBLANK('DE01-F12'!S1785),\"\",('DE01-F12'!S1785))","v":0}]
[{"$f":"IF(ISBLANK('DE01-F12'!N1786),\"\",('DE01-F12'!N1786))","v":""},{"$f":"MID('DE01-F12'!G1786,1,18)","v":""},{"$f":"IF(ISBLANK('DE01-F12'!P1786),\"\",('DE01-F12'!P1786))","v":""},{"$f":"IF(ISBLANK('DE01-F12'!Q1786),\"\",('DE01-F12'!Q1786))","v":""},{"$f":"IF(ISBLANK('DE01-F12'!S1786),\"\",('DE01-F12'!S1786))","v":0}]
[{"$f":"IF(ISBLANK('DE01-F12'!N1787),\"\",('DE01-F12'!N1787))","v":""},{"$f":"MID('DE01-F12'!G1787,1,18)","v":""},{"$f":"IF(ISBLANK('DE01-F12'!P1787),\"\",('DE01-F12'!P1787))","v":""},{"$f":"IF(ISBLANK('DE01-F12'!Q1787),\"\",('DE01-F12'!Q1787))","v":""},{"$f":"IF(ISBLANK('DE01-F12'!S1787),\"\",('DE01-F12'!S1787))","v":0}]
[{"$f":"IF(ISBLANK('DE01-F12'!N1788),\"\",('DE01-F12'!N1788))","v":""},{"$f":"MID('DE01-F12'!G1788,1,18)","v":""},{"$f":"IF(ISBLANK('DE01-F12'!P1788),\"\",('DE01-F12'!P1788))","v":""},{"$f":"IF(ISBLANK('DE01-F12'!Q1788),\"\",('DE01-F12'!Q1788))","v":""},{"$f":"IF(ISBLANK('DE01-F12'!S1788),\"\",('DE01-F12'!S1788))","v":0}]
[{"$f":"IF(ISBLANK('DE01-F12'!N1789),\"\",('DE01-F12'!N1789))","v":""},{"$f":"MID('DE01-F12'!G1789,1,18)","v":""},{"$f":"IF(ISBLANK('DE01-F12'!P1789),\"\",('DE01-F12'!P1789))","v":""},{"$f":"IF(ISBLANK('DE01-F12'!Q1789),\"\",('DE01-F12'!Q1789))","v":""},{"$f":"IF(ISBLANK('DE01-F12'!S1789),\"\",('DE01-F12'!S1789))","v":0}]
[{"$f":"IF(ISBLANK('DE01-F12'!N1790),\"\",('DE01-F12'!N1790))","v":""},{"$f":"MID('DE01-F12'!G1790,1,18)","v":""},{"$f":"IF(ISBLANK('DE01-F12'!P1790),\"\",('DE01-F12'!P1790))","v":""},{"$f":"IF(ISBLANK('DE01-F12'!Q1790),\"\",('DE01-F12'!Q1790))","v":""},{"$f":"IF(ISBLANK('DE01-F12'!S1790),\"\",('DE01-F12'!S1790))","v":0}]
[{"$f":"IF(ISBLANK('DE01-F12'!N1791),\"\",('DE01-F12'!N1791))","v":""},{"$f":"MID('DE01-F12'!G1791,1,18)","v":""},{"$f":"IF(ISBLANK('DE01-F12'!P1791),\"\",('DE01-F12'!P1791))","v":""},{"$f":"IF(ISBLANK('DE01-F12'!Q1791),\"\",('DE01-F12'!Q1791))","v":""},{"$f":"IF(ISBLANK('DE01-F12'!S1791),\"\",('DE01-F12'!S1791))","v":0}]
[{"$f":"IF(ISBLANK('DE01-F12'!N1792),\"\",('DE01-F12'!N1792))","v":""},{"$f":"MID('DE01-F12'!G1792,1,18)","v":""},{"$f":"IF(ISBLANK('DE01-F12'!P1792),\"\",('DE01-F12'!P1792))","v":""},{"$f":"IF(ISBLANK('DE01-F12'!Q1792),\"\",('DE01-F12'!Q1792))","v":""},{"$f":"IF(ISBLANK('DE01-F12'!S1792),\"\",('DE01-F12'!S1792))","v":0}]
[{"$f":"IF(ISBLANK('DE01-F12'!N1793),\"\",('DE01-F12'!N1793))","v":""},{"$f":"MID('DE01-F12'!G1793,1,18)","v":""},{"$f":"IF(ISBLANK('DE01-F12'!P1793),\"\",('DE01-F12'!P1793))","v":""},{"$f":"IF(ISBLANK('DE01-F12'!Q1793),\"\",('DE01-F12'!Q1793))","v":""},{"$f":"IF(ISBLANK('DE01-F12'!S1793),\"\",('DE01-F12'!S1793))","v":0}]
[{"$f":"IF(ISBLANK('DE01-F12'!N1794),\"\",('DE01-F12'!N1794))","v":""},{"$f":"MID('DE01-F12'!G1794,1,18)","v":""},{"$f":"IF(ISBLANK('DE01-F12'!P1794),\"\",('DE01-F12'!P1794))","v":""},{"$f":"IF(ISBLANK('DE01-F12'!Q1794),\"\",('DE01-F12'!Q1794))","v":""},{"$f":"IF(ISBLANK('DE01-F12'!S1794),\"\",('DE01-F12'!S1794))","v":0}]
[{"$f":"IF(ISBLANK('DE01-F12'!N1795),\"\",('DE01-F12'!N1795))","v":""},{"$f":"MID('DE01-F12'!G1795,1,18)","v":""},{"$f":"IF(ISBLANK('DE01-F12'!P1795),\"\",('DE01-F12'!P1795))","v":""},{"$f":"IF(ISBLANK('DE01-F12'!Q1795),\"\",('DE01-F12'!Q1795))","v":""},{"$f":"IF(ISBLANK('DE01-F12'!S1795),\"\",('DE01-F12'!S1795))","v":0}]
[{"$f":"IF(ISBLANK('DE01-F12'!N1796),\"\",('DE01-F12'!N1796))","v":""},{"$f":"MID('DE01-F12'!G1796,1,18)","v":""},{"$f":"IF(ISBLANK('DE01-F12'!P1796),\"\",('DE01-F12'!P1796))","v":""},{"$f":"IF(ISBLANK('DE01-F12'!Q1796),\"\",('DE01-F12'!Q1796))","v":""},{"$f":"IF(ISBLANK('DE01-F12'!S1796),\"\",('DE01-F12'!S1796))","v":0}]
[{"$f":"IF(ISBLANK('DE01-F12'!N1797),\"\",('DE01-F12'!N1797))","v":""},{"$f":"MID('DE01-F12'!G1797,1,18)","v":""},{"$f":"IF(ISBLANK('DE01-F12'!P1797),\"\",('DE01-F12'!P1797))","v":""},{"$f":"IF(ISBLANK('DE01-F12'!Q1797),\"\",('DE01-F12'!Q1797))","v":""},{"$f":"IF(ISBLANK('DE01-F12'!S1797),\"\",('DE01-F12'!S1797))","v":0}]
[{"$f":"IF(ISBLANK('DE01-F12'!N1798),\"\",('DE01-F12'!N1798))","v":""},{"$f":"MID('DE01-F12'!G1798,1,18)","v":""},{"$f":"IF(ISBLANK('DE01-F12'!P1798),\"\",('DE01-F12'!P1798))","v":""},{"$f":"IF(ISBLANK('DE01-F12'!Q1798),\"\",('DE01-F12'!Q1798))","v":""},{"$f":"IF(ISBLANK('DE01-F12'!S1798),\"\",('DE01-F12'!S1798))","v":0}]
[{"$f":"IF(ISBLANK('DE01-F12'!N1799),\"\",('DE01-F12'!N1799))","v":""},{"$f":"MID('DE01-F12'!G1799,1,18)","v":""},{"$f":"IF(ISBLANK('DE01-F12'!P1799),\"\",('DE01-F12'!P1799))","v":""},{"$f":"IF(ISBLANK('DE01-F12'!Q1799),\"\",('DE01-F12'!Q1799))","v":""},{"$f":"IF(ISBLANK('DE01-F12'!S1799),\"\",('DE01-F12'!S1799))","v":0}]
[{"$f":"IF(ISBLANK('DE01-F12'!N1800),\"\",('DE01-F12'!N1800))","v":""},{"$f":"MID('DE01-F12'!G1800,1,18)","v":""},{"$f":"IF(ISBLANK('DE01-F12'!P1800),\"\",('DE01-F12'!P1800))","v":""},{"$f":"IF(ISBLANK('DE01-F12'!Q1800),\"\",('DE01-F12'!Q1800))","v":""},{"$f":"IF(ISBLANK('DE01-F12'!S1800),\"\",('DE01-F12'!S1800))","v":0}]
[{"$f":"IF(ISBLANK('DE01-F12'!N1801),\"\",('DE01-F12'!N1801))","v":""},{"$f":"MID('DE01-F12'!G1801,1,18)","v":""},{"$f":"IF(ISBLANK('DE01-F12'!P1801),\"\",('DE01-F12'!P1801))","v":""},{"$f":"IF(ISBLANK('DE01-F12'!Q1801),\"\",('DE01-F12'!Q1801))","v":""},{"$f":"IF(ISBLANK('DE01-F12'!S1801),\"\",('DE01-F12'!S1801))","v":0}]
[{"$f":"IF(ISBLANK('DE01-F12'!N1802),\"\",('DE01-F12'!N1802))","v":""},{"$f":"MID('DE01-F12'!G1802,1,18)","v":""},{"$f":"IF(ISBLANK('DE01-F12'!P1802),\"\",('DE01-F12'!P1802))","v":""},{"$f":"IF(ISBLANK('DE01-F12'!Q1802),\"\",('DE01-F12'!Q1802))","v":""},{"$f":"IF(ISBLANK('DE01-F12'!S1802),\"\",('DE01-F12'!S1802))","v":0}]
[{"$f":"IF(ISBLANK('DE01-F12'!N1803),\"\",('DE01-F12'!N1803))","v":""},{"$f":"MID('DE01-F12'!G1803,1,18)","v":""},{"$f":"IF(ISBLANK('DE01-F12'!P1803),\"\",('DE01-F12'!P1803))","v":""},{"$f":"IF(ISBLANK('DE01-F12'!Q1803),\"\",('DE01-F12'!Q1803))","v":""},{"$f":"IF(ISBLANK('DE01-F12'!S1803),\"\",('DE01-F12'!S1803))","v":0}]
[{"$f":"IF(ISBLANK('DE01-F12'!N1804),\"\",('DE01-F12'!N1804))","v":""},{"$f":"MID('DE01-F12'!G1804,1,18)","v":""},{"$f":"IF(ISBLANK('DE01-F12'!P1804),\"\",('DE01-F12'!P1804))","v":""},{"$f":"IF(ISBLANK('DE01-F12'!Q1804),\"\",('DE01-F12'!Q1804))","v":""},{"$f":"IF(ISBLANK('DE01-F12'!S1804),\"\",('DE01-F12'!S1804))","v":0}]
[{"$f":"IF(ISBLANK('DE01-F12'!N1805),\"\",('DE01-F12'!N1805))","v":""},{"$f":"MID('DE01-F12'!G1805,1,18)","v":""},{"$f":"IF(ISBLANK('DE01-F12'!P1805),\"\",('DE01-F12'!P1805))","v":""},{"$f":"IF(ISBLANK('DE01-F12'!Q1805),\"\",('DE01-F12'!Q1805))","v":""},{"$f":"IF(ISBLANK('DE01-F12'!S1805),\"\",('DE01-F12'!S1805))","v":0}]
[{"$f":"IF(ISBLANK('DE01-F12'!N1806),\"\",('DE01-F12'!N1806))","v":""},{"$f":"MID('DE01-F12'!G1806,1,18)","v":""},{"$f":"IF(ISBLANK('DE01-F12'!P1806),\"\",('DE01-F12'!P1806))","v":""},{"$f":"IF(ISBLANK('DE01-F12'!Q1806),\"\",('DE01-F12'!Q1806))","v":""},{"$f":"IF(ISBLANK('DE01-F12'!S1806),\"\",('DE01-F12'!S1806))","v":0}]
[{"$f":"IF(ISBLANK('DE01-F12'!N1807),\"\",('DE01-F12'!N1807))","v":""},{"$f":"MID('DE01-F12'!G1807,1,18)","v":""},{"$f":"IF(ISBLANK('DE01-F12'!P1807),\"\",('DE01-F12'!P1807))","v":""},{"$f":"IF(ISBLANK('DE01-F12'!Q1807),\"\",('DE01-F12'!Q1807))","v":""},{"$f":"IF(ISBLANK('DE01-F12'!S1807),\"\",('DE01-F12'!S1807))","v":0}]
[{"$f":"IF(ISBLANK('DE01-F12'!N1808),\"\",('DE01-F12'!N1808))","v":""},{"$f":"MID('DE01-F12'!G1808,1,18)","v":""},{"$f":"IF(ISBLANK('DE01-F12'!P1808),\"\",('DE01-F12'!P1808))","v":""},{"$f":"IF(ISBLANK('DE01-F12'!Q1808),\"\",('DE01-F12'!Q1808))","v":""},{"$f":"IF(ISBLANK('DE01-F12'!S1808),\"\",('DE01-F12'!S1808))","v":0}]
[{"$f":"IF(ISBLANK('DE01-F12'!N1809),\"\",('DE01-F12'!N1809))","v":""},{"$f":"MID('DE01-F12'!G1809,1,18)","v":""},{"$f":"IF(ISBLANK('DE01-F12'!P1809),\"\",('DE01-F12'!P1809))","v":""},{"$f":"IF(ISBLANK('DE01-F12'!Q1809),\"\",('DE01-F12'!Q1809))","v":""},{"$f":"IF(ISBLANK('DE01-F12'!S1809),\"\",('DE01-F12'!S1809))","v":0}]
[{"$f":"IF(ISBLANK('DE01-F12'!N1810),\"\",('DE01-F12'!N1810))","v":""},{"$f":"MID('DE01-F12'!G1810,1,18)","v":""},{"$f":"IF(ISBLANK('DE01-F12'!P1810),\"\",('DE01-F12'!P1810))","v":""},{"$f":"IF(ISBLANK('DE01-F12'!Q1810),\"\",('DE01-F12'!Q1810))","v":""},{"$f":"IF(ISBLANK('DE01-F12'!S1810),\"\",('DE01-F12'!S1810))","v":0}]
[{"$f":"IF(ISBLANK('DE01-F12'!N1811),\"\",('DE01-F12'!N1811))","v":""},{"$f":"MID('DE01-F12'!G1811,1,18)","v":""},{"$f":"IF(ISBLANK('DE01-F12'!P1811),\"\",('DE01-F12'!P1811))","v":""},{"$f":"IF(ISBLANK('DE01-F12'!Q1811),\"\",('DE01-F12'!Q1811))","v":""},{"$f":"IF(ISBLANK('DE01-F12'!S1811),\"\",('DE01-F12'!S1811))","v":0}]
[{"$f":"IF(ISBLANK('DE01-F12'!N1812),\"\",('DE01-F12'!N1812))","v":""},{"$f":"MID('DE01-F12'!G1812,1,18)","v":""},{"$f":"IF(ISBLANK('DE01-F12'!P1812),\"\",('DE01-F12'!P1812))","v":""},{"$f":"IF(ISBLANK('DE01-F12'!Q1812),\"\",('DE01-F12'!Q1812))","v":""},{"$f":"IF(ISBLANK('DE01-F12'!S1812),\"\",('DE01-F12'!S1812))","v":0}]
[{"$f":"IF(ISBLANK('DE01-F12'!N1813),\"\",('DE01-F12'!N1813))","v":""},{"$f":"MID('DE01-F12'!G1813,1,18)","v":""},{"$f":"IF(ISBLANK('DE01-F12'!P1813),\"\",('DE01-F12'!P1813))","v":""},{"$f":"IF(ISBLANK('DE01-F12'!Q1813),\"\",('DE01-F12'!Q1813))","v":""},{"$f":"IF(ISBLANK('DE01-F12'!S1813),\"\",('DE01-F12'!S1813))","v":0}]
[{"$f":"IF(ISBLANK('DE01-F12'!N1814),\"\",('DE01-F12'!N1814))","v":""},{"$f":"MID('DE01-F12'!G1814,1,18)","v":""},{"$f":"IF(ISBLANK('DE01-F12'!P1814),\"\",('DE01-F12'!P1814))","v":""},{"$f":"IF(ISBLANK('DE01-F12'!Q1814),\"\",('DE01-F12'!Q1814))","v":""},{"$f":"IF(ISBLANK('DE01-F12'!S1814),\"\",('DE01-F12'!S1814))","v":0}]
[{"$f":"IF(ISBLANK('DE01-F12'!N1815),\"\",('DE01-F12'!N1815))","v":""},{"$f":"MID('DE01-F12'!G1815,1,18)","v":""},{"$f":"IF(ISBLANK('DE01-F12'!P1815),\"\",('DE01-F12'!P1815))","v":""},{"$f":"IF(ISBLANK('DE01-F12'!Q1815),\"\",('DE01-F12'!Q1815))","v":""},{"$f":"IF(ISBLANK('DE01-F12'!S1815),\"\",('DE01-F12'!S1815))","v":0}]
[{"$f":"IF(ISBLANK('DE01-F12'!N1816),\"\",('DE01-F12'!N1816))","v":""},{"$f":"MID('DE01-F12'!G1816,1,18)","v":""},{"$f":"IF(ISBLANK('DE01-F12'!P1816),\"\",('DE01-F12'!P1816))","v":""},{"$f":"IF(ISBLANK('DE01-F12'!Q1816),\"\",('DE01-F12'!Q1816))","v":""},{"$f":"IF(ISBLANK('DE01-F12'!S1816),\"\",('DE01-F12'!S1816))","v":0}]
[{"$f":"IF(ISBLANK('DE01-F12'!N1817),\"\",('DE01-F12'!N1817))","v":""},{"$f":"MID('DE01-F12'!G1817,1,18)","v":""},{"$f":"IF(ISBLANK('DE01-F12'!P1817),\"\",('DE01-F12'!P1817))","v":""},{"$f":"IF(ISBLANK('DE01-F12'!Q1817),\"\",('DE01-F12'!Q1817))","v":""},{"$f":"IF(ISBLANK('DE01-F12'!S1817),\"\",('DE01-F12'!S1817))","v":0}]
[{"$f":"IF(ISBLANK('DE01-F12'!N1818),\"\",('DE01-F12'!N1818))","v":""},{"$f":"MID('DE01-F12'!G1818,1,18)","v":""},{"$f":"IF(ISBLANK('DE01-F12'!P1818),\"\",('DE01-F12'!P1818))","v":""},{"$f":"IF(ISBLANK('DE01-F12'!Q1818),\"\",('DE01-F12'!Q1818))","v":""},{"$f":"IF(ISBLANK('DE01-F12'!S1818),\"\",('DE01-F12'!S1818))","v":0}]
[{"$f":"IF(ISBLANK('DE01-F12'!N1819),\"\",('DE01-F12'!N1819))","v":""},{"$f":"MID('DE01-F12'!G1819,1,18)","v":""},{"$f":"IF(ISBLANK('DE01-F12'!P1819),\"\",('DE01-F12'!P1819))","v":""},{"$f":"IF(ISBLANK('DE01-F12'!Q1819),\"\",('DE01-F12'!Q1819))","v":""},{"$f":"IF(ISBLANK('DE01-F12'!S1819),\"\",('DE01-F12'!S1819))","v":0}]
[{"$f":"IF(ISBLANK('DE01-F12'!N1820),\"\",('DE01-F12'!N1820))","v":""},{"$f":"MID('DE01-F12'!G1820,1,18)","v":""},{"$f":"IF(ISBLANK('DE01-F12'!P1820),\"\",('DE01-F12'!P1820))","v":""},{"$f":"IF(ISBLANK('DE01-F12'!Q1820),\"\",('DE01-F12'!Q1820))","v":""},{"$f":"IF(ISBLANK('DE01-F12'!S1820),\"\",('DE01-F12'!S1820))","v":0}]
[{"$f":"IF(ISBLANK('DE01-F12'!N1821),\"\",('DE01-F12'!N1821))","v":""},{"$f":"MID('DE01-F12'!G1821,1,18)","v":""},{"$f":"IF(ISBLANK('DE01-F12'!P1821),\"\",('DE01-F12'!P1821))","v":""},{"$f":"IF(ISBLANK('DE01-F12'!Q1821),\"\",('DE01-F12'!Q1821))","v":""},{"$f":"IF(ISBLANK('DE01-F12'!S1821),\"\",('DE01-F12'!S1821))","v":0}]
[{"$f":"IF(ISBLANK('DE01-F12'!N1822),\"\",('DE01-F12'!N1822))","v":""},{"$f":"MID('DE01-F12'!G1822,1,18)","v":""},{"$f":"IF(ISBLANK('DE01-F12'!P1822),\"\",('DE01-F12'!P1822))","v":""},{"$f":"IF(ISBLANK('DE01-F12'!Q1822),\"\",('DE01-F12'!Q1822))","v":""},{"$f":"IF(ISBLANK('DE01-F12'!S1822),\"\",('DE01-F12'!S1822))","v":0}]
[{"$f":"IF(ISBLANK('DE01-F12'!N1823),\"\",('DE01-F12'!N1823))","v":""},{"$f":"MID('DE01-F12'!G1823,1,18)","v":""},{"$f":"IF(ISBLANK('DE01-F12'!P1823),\"\",('DE01-F12'!P1823))","v":""},{"$f":"IF(ISBLANK('DE01-F12'!Q1823),\"\",('DE01-F12'!Q1823))","v":""},{"$f":"IF(ISBLANK('DE01-F12'!S1823),\"\",('DE01-F12'!S1823))","v":0}]
[{"$f":"IF(ISBLANK('DE01-F12'!N1824),\"\",('DE01-F12'!N1824))","v":""},{"$f":"MID('DE01-F12'!G1824,1,18)","v":""},{"$f":"IF(ISBLANK('DE01-F12'!P1824),\"\",('DE01-F12'!P1824))","v":""},{"$f":"IF(ISBLANK('DE01-F12'!Q1824),\"\",('DE01-F12'!Q1824))","v":""},{"$f":"IF(ISBLANK('DE01-F12'!S1824),\"\",('DE01-F12'!S1824))","v":0}]
[{"$f":"IF(ISBLANK('DE01-F12'!N1825),\"\",('DE01-F12'!N1825))","v":""},{"$f":"MID('DE01-F12'!G1825,1,18)","v":""},{"$f":"IF(ISBLANK('DE01-F12'!P1825),\"\",('DE01-F12'!P1825))","v":""},{"$f":"IF(ISBLANK('DE01-F12'!Q1825),\"\",('DE01-F12'!Q1825))","v":""},{"$f":"IF(ISBLANK('DE01-F12'!S1825),\"\",('DE01-F12'!S1825))","v":0}]
[{"$f":"IF(ISBLANK('DE01-F12'!N1826),\"\",('DE01-F12'!N1826))","v":""},{"$f":"MID('DE01-F12'!G1826,1,18)","v":""},{"$f":"IF(ISBLANK('DE01-F12'!P1826),\"\",('DE01-F12'!P1826))","v":""},{"$f":"IF(ISBLANK('DE01-F12'!Q1826),\"\",('DE01-F12'!Q1826))","v":""},{"$f":"IF(ISBLANK('DE01-F12'!S1826),\"\",('DE01-F12'!S1826))","v":0}]
[{"$f":"IF(ISBLANK('DE01-F12'!N1827),\"\",('DE01-F12'!N1827))","v":""},{"$f":"MID('DE01-F12'!G1827,1,18)","v":""},{"$f":"IF(ISBLANK('DE01-F12'!P1827),\"\",('DE01-F12'!P1827))","v":""},{"$f":"IF(ISBLANK('DE01-F12'!Q1827),\"\",('DE01-F12'!Q1827))","v":""},{"$f":"IF(ISBLANK('DE01-F12'!S1827),\"\",('DE01-F12'!S1827))","v":0}]
[{"$f":"IF(ISBLANK('DE01-F12'!N1828),\"\",('DE01-F12'!N1828))","v":""},{"$f":"MID('DE01-F12'!G1828,1,18)","v":""},{"$f":"IF(ISBLANK('DE01-F12'!P1828),\"\",('DE01-F12'!P1828))","v":""},{"$f":"IF(ISBLANK('DE01-F12'!Q1828),\"\",('DE01-F12'!Q1828))","v":""},{"$f":"IF(ISBLANK('DE01-F12'!S1828),\"\",('DE01-F12'!S1828))","v":0}]
[{"$f":"IF(ISBLANK('DE01-F12'!N1829),\"\",('DE01-F12'!N1829))","v":""},{"$f":"MID('DE01-F12'!G1829,1,18)","v":""},{"$f":"IF(ISBLANK('DE01-F12'!P1829),\"\",('DE01-F12'!P1829))","v":""},{"$f":"IF(ISBLANK('DE01-F12'!Q1829),\"\",('DE01-F12'!Q1829))","v":""},{"$f":"IF(ISBLANK('DE01-F12'!S1829),\"\",('DE01-F12'!S1829))","v":0}]
[{"$f":"IF(ISBLANK('DE01-F12'!N1830),\"\",('DE01-F12'!N1830))","v":""},{"$f":"MID('DE01-F12'!G1830,1,18)","v":""},{"$f":"IF(ISBLANK('DE01-F12'!P1830),\"\",('DE01-F12'!P1830))","v":""},{"$f":"IF(ISBLANK('DE01-F12'!Q1830),\"\",('DE01-F12'!Q1830))","v":""},{"$f":"IF(ISBLANK('DE01-F12'!S1830),\"\",('DE01-F12'!S1830))","v":0}]
[{"$f":"IF(ISBLANK('DE01-F12'!N1831),\"\",('DE01-F12'!N1831))","v":""},{"$f":"MID('DE01-F12'!G1831,1,18)","v":""},{"$f":"IF(ISBLANK('DE01-F12'!P1831),\"\",('DE01-F12'!P1831))","v":""},{"$f":"IF(ISBLANK('DE01-F12'!Q1831),\"\",('DE01-F12'!Q1831))","v":""},{"$f":"IF(ISBLANK('DE01-F12'!S1831),\"\",('DE01-F12'!S1831))","v":0}]
[{"$f":"IF(ISBLANK('DE01-F12'!N1832),\"\",('DE01-F12'!N1832))","v":""},{"$f":"MID('DE01-F12'!G1832,1,18)","v":""},{"$f":"IF(ISBLANK('DE01-F12'!P1832),\"\",('DE01-F12'!P1832))","v":""},{"$f":"IF(ISBLANK('DE01-F12'!Q1832),\"\",('DE01-F12'!Q1832))","v":""},{"$f":"IF(ISBLANK('DE01-F12'!S1832),\"\",('DE01-F12'!S1832))","v":0}]
[{"$f":"IF(ISBLANK('DE01-F12'!N1833),\"\",('DE01-F12'!N1833))","v":""},{"$f":"MID('DE01-F12'!G1833,1,18)","v":""},{"$f":"IF(ISBLANK('DE01-F12'!P1833),\"\",('DE01-F12'!P1833))","v":""},{"$f":"IF(ISBLANK('DE01-F12'!Q1833),\"\",('DE01-F12'!Q1833))","v":""},{"$f":"IF(ISBLANK('DE01-F12'!S1833),\"\",('DE01-F12'!S1833))","v":0}]
[{"$f":"IF(ISBLANK('DE01-F12'!N1834),\"\",('DE01-F12'!N1834))","v":""},{"$f":"MID('DE01-F12'!G1834,1,18)","v":""},{"$f":"IF(ISBLANK('DE01-F12'!P1834),\"\",('DE01-F12'!P1834))","v":""},{"$f":"IF(ISBLANK('DE01-F12'!Q1834),\"\",('DE01-F12'!Q1834))","v":""},{"$f":"IF(ISBLANK('DE01-F12'!S1834),\"\",('DE01-F12'!S1834))","v":0}]
[{"$f":"IF(ISBLANK('DE01-F12'!N1835),\"\",('DE01-F12'!N1835))","v":""},{"$f":"MID('DE01-F12'!G1835,1,18)","v":""},{"$f":"IF(ISBLANK('DE01-F12'!P1835),\"\",('DE01-F12'!P1835))","v":""},{"$f":"IF(ISBLANK('DE01-F12'!Q1835),\"\",('DE01-F12'!Q1835))","v":""},{"$f":"IF(ISBLANK('DE01-F12'!S1835),\"\",('DE01-F12'!S1835))","v":0}]
[{"$f":"IF(ISBLANK('DE01-F12'!N1836),\"\",('DE01-F12'!N1836))","v":""},{"$f":"MID('DE01-F12'!G1836,1,18)","v":""},{"$f":"IF(ISBLANK('DE01-F12'!P1836),\"\",('DE01-F12'!P1836))","v":""},{"$f":"IF(ISBLANK('DE01-F12'!Q1836),\"\",('DE01-F12'!Q1836))","v":""},{"$f":"IF(ISBLANK('DE01-F12'!S1836),\"\",('DE01-F12'!S1836))","v":0}]
[{"$f":"IF(ISBLANK('DE01-F12'!N1837),\"\",('DE01-F12'!N1837))","v":""},{"$f":"MID('DE01-F12'!G1837,1,18)","v":""},{"$f":"IF(ISBLANK('DE01-F12'!P1837),\"\",('DE01-F12'!P1837))","v":""},{"$f":"IF(ISBLANK('DE01-F12'!Q1837),\"\",('DE01-F12'!Q1837))","v":""},{"$f":"IF(ISBLANK('DE01-F12'!S1837),\"\",('DE01-F12'!S1837))","v":0}]
[{"$f":"IF(ISBLANK('DE01-F12'!N1838),\"\",('DE01-F12'!N1838))","v":""},{"$f":"MID('DE01-F12'!G1838,1,18)","v":""},{"$f":"IF(ISBLANK('DE01-F12'!P1838),\"\",('DE01-F12'!P1838))","v":""},{"$f":"IF(ISBLANK('DE01-F12'!Q1838),\"\",('DE01-F12'!Q1838))","v":""},{"$f":"IF(ISBLANK('DE01-F12'!S1838),\"\",('DE01-F12'!S1838))","v":0}]
[{"$f":"IF(ISBLANK('DE01-F12'!N1839),\"\",('DE01-F12'!N1839))","v":""},{"$f":"MID('DE01-F12'!G1839,1,18)","v":""},{"$f":"IF(ISBLANK('DE01-F12'!P1839),\"\",('DE01-F12'!P1839))","v":""},{"$f":"IF(ISBLANK('DE01-F12'!Q1839),\"\",('DE01-F12'!Q1839))","v":""},{"$f":"IF(ISBLANK('DE01-F12'!S1839),\"\",('DE01-F12'!S1839))","v":0}]
[{"$f":"IF(ISBLANK('DE01-F12'!N1840),\"\",('DE01-F12'!N1840))","v":""},{"$f":"MID('DE01-F12'!G1840,1,18)","v":""},{"$f":"IF(ISBLANK('DE01-F12'!P1840),\"\",('DE01-F12'!P1840))","v":""},{"$f":"IF(ISBLANK('DE01-F12'!Q1840),\"\",('DE01-F12'!Q1840))","v":""},{"$f":"IF(ISBLANK('DE01-F12'!S1840),\"\",('DE01-F12'!S1840))","v":0}]
[{"$f":"IF(ISBLANK('DE01-F12'!N1841),\"\",('DE01-F12'!N1841))","v":""},{"$f":"MID('DE01-F12'!G1841,1,18)","v":""},{"$f":"IF(ISBLANK('DE01-F12'!P1841),\"\",('DE01-F12'!P1841))","v":""},{"$f":"IF(ISBLANK('DE01-F12'!Q1841),\"\",('DE01-F12'!Q1841))","v":""},{"$f":"IF(ISBLANK('DE01-F12'!S1841),\"\",('DE01-F12'!S1841))","v":0}]
[{"$f":"IF(ISBLANK('DE01-F12'!N1842),\"\",('DE01-F12'!N1842))","v":""},{"$f":"MID('DE01-F12'!G1842,1,18)","v":""},{"$f":"IF(ISBLANK('DE01-F12'!P1842),\"\",('DE01-F12'!P1842))","v":""},{"$f":"IF(ISBLANK('DE01-F12'!Q1842),\"\",('DE01-F12'!Q1842))","v":""},{"$f":"IF(ISBLANK('DE01-F12'!S1842),\"\",('DE01-F12'!S1842))","v":0}]
[{"$f":"IF(ISBLANK('DE01-F12'!N1843),\"\",('DE01-F12'!N1843))","v":""},{"$f":"MID('DE01-F12'!G1843,1,18)","v":""},{"$f":"IF(ISBLANK('DE01-F12'!P1843),\"\",('DE01-F12'!P1843))","v":""},{"$f":"IF(ISBLANK('DE01-F12'!Q1843),\"\",('DE01-F12'!Q1843))","v":""},{"$f":"IF(ISBLANK('DE01-F12'!S1843),\"\",('DE01-F12'!S1843))","v":0}]
[{"$f":"IF(ISBLANK('DE01-F12'!N1844),\"\",('DE01-F12'!N1844))","v":""},{"$f":"MID('DE01-F12'!G1844,1,18)","v":""},{"$f":"IF(ISBLANK('DE01-F12'!P1844),\"\",('DE01-F12'!P1844))","v":""},{"$f":"IF(ISBLANK('DE01-F12'!Q1844),\"\",('DE01-F12'!Q1844))","v":""},{"$f":"IF(ISBLANK('DE01-F12'!S1844),\"\",('DE01-F12'!S1844))","v":0}]
[{"$f":"IF(ISBLANK('DE01-F12'!N1845),\"\",('DE01-F12'!N1845))","v":""},{"$f":"MID('DE01-F12'!G1845,1,18)","v":""},{"$f":"IF(ISBLANK('DE01-F12'!P1845),\"\",('DE01-F12'!P1845))","v":""},{"$f":"IF(ISBLANK('DE01-F12'!Q1845),\"\",('DE01-F12'!Q1845))","v":""},{"$f":"IF(ISBLANK('DE01-F12'!S1845),\"\",('DE01-F12'!S1845))","v":0}]
[{"$f":"IF(ISBLANK('DE01-F12'!N1846),\"\",('DE01-F12'!N1846))","v":""},{"$f":"MID('DE01-F12'!G1846,1,18)","v":""},{"$f":"IF(ISBLANK('DE01-F12'!P1846),\"\",('DE01-F12'!P1846))","v":""},{"$f":"IF(ISBLANK('DE01-F12'!Q1846),\"\",('DE01-F12'!Q1846))","v":""},{"$f":"IF(ISBLANK('DE01-F12'!S1846),\"\",('DE01-F12'!S1846))","v":0}]
[{"$f":"IF(ISBLANK('DE01-F12'!N1847),\"\",('DE01-F12'!N1847))","v":""},{"$f":"MID('DE01-F12'!G1847,1,18)","v":""},{"$f":"IF(ISBLANK('DE01-F12'!P1847),\"\",('DE01-F12'!P1847))","v":""},{"$f":"IF(ISBLANK('DE01-F12'!Q1847),\"\",('DE01-F12'!Q1847))","v":""},{"$f":"IF(ISBLANK('DE01-F12'!S1847),\"\",('DE01-F12'!S1847))","v":0}]
[{"$f":"IF(ISBLANK('DE01-F12'!N1848),\"\",('DE01-F12'!N1848))","v":""},{"$f":"MID('DE01-F12'!G1848,1,18)","v":""},{"$f":"IF(ISBLANK('DE01-F12'!P1848),\"\",('DE01-F12'!P1848))","v":""},{"$f":"IF(ISBLANK('DE01-F12'!Q1848),\"\",('DE01-F12'!Q1848))","v":""},{"$f":"IF(ISBLANK('DE01-F12'!S1848),\"\",('DE01-F12'!S1848))","v":0}]
[{"$f":"IF(ISBLANK('DE01-F12'!N1849),\"\",('DE01-F12'!N1849))","v":""},{"$f":"MID('DE01-F12'!G1849,1,18)","v":""},{"$f":"IF(ISBLANK('DE01-F12'!P1849),\"\",('DE01-F12'!P1849))","v":""},{"$f":"IF(ISBLANK('DE01-F12'!Q1849),\"\",('DE01-F12'!Q1849))","v":""},{"$f":"IF(ISBLANK('DE01-F12'!S1849),\"\",('DE01-F12'!S1849))","v":0}]
[{"$f":"IF(ISBLANK('DE01-F12'!N1850),\"\",('DE01-F12'!N1850))","v":""},{"$f":"MID('DE01-F12'!G1850,1,18)","v":""},{"$f":"IF(ISBLANK('DE01-F12'!P1850),\"\",('DE01-F12'!P1850))","v":""},{"$f":"IF(ISBLANK('DE01-F12'!Q1850),\"\",('DE01-F12'!Q1850))","v":""},{"$f":"IF(ISBLANK('DE01-F12'!S1850),\"\",('DE01-F12'!S1850))","v":0}]
[{"$f":"IF(ISBLANK('DE01-F12'!N1851),\"\",('DE01-F12'!N1851))","v":""},{"$f":"MID('DE01-F12'!G1851,1,18)","v":""},{"$f":"IF(ISBLANK('DE01-F12'!P1851),\"\",('DE01-F12'!P1851))","v":""},{"$f":"IF(ISBLANK('DE01-F12'!Q1851),\"\",('DE01-F12'!Q1851))","v":""},{"$f":"IF(ISBLANK('DE01-F12'!S1851),\"\",('DE01-F12'!S1851))","v":0}]
[{"$f":"IF(ISBLANK('DE01-F12'!N1852),\"\",('DE01-F12'!N1852))","v":""},{"$f":"MID('DE01-F12'!G1852,1,18)","v":""},{"$f":"IF(ISBLANK('DE01-F12'!P1852),\"\",('DE01-F12'!P1852))","v":""},{"$f":"IF(ISBLANK('DE01-F12'!Q1852),\"\",('DE01-F12'!Q1852))","v":""},{"$f":"IF(ISBLANK('DE01-F12'!S1852),\"\",('DE01-F12'!S1852))","v":0}]
[{"$f":"IF(ISBLANK('DE01-F12'!N1853),\"\",('DE01-F12'!N1853))","v":""},{"$f":"MID('DE01-F12'!G1853,1,18)","v":""},{"$f":"IF(ISBLANK('DE01-F12'!P1853),\"\",('DE01-F12'!P1853))","v":""},{"$f":"IF(ISBLANK('DE01-F12'!Q1853),\"\",('DE01-F12'!Q1853))","v":""},{"$f":"IF(ISBLANK('DE01-F12'!S1853),\"\",('DE01-F12'!S1853))","v":0}]
[{"$f":"IF(ISBLANK('DE01-F12'!N1854),\"\",('DE01-F12'!N1854))","v":""},{"$f":"MID('DE01-F12'!G1854,1,18)","v":""},{"$f":"IF(ISBLANK('DE01-F12'!P1854),\"\",('DE01-F12'!P1854))","v":""},{"$f":"IF(ISBLANK('DE01-F12'!Q1854),\"\",('DE01-F12'!Q1854))","v":""},{"$f":"IF(ISBLANK('DE01-F12'!S1854),\"\",('DE01-F12'!S1854))","v":0}]
[{"$f":"IF(ISBLANK('DE01-F12'!N1855),\"\",('DE01-F12'!N1855))","v":""},{"$f":"MID('DE01-F12'!G1855,1,18)","v":""},{"$f":"IF(ISBLANK('DE01-F12'!P1855),\"\",('DE01-F12'!P1855))","v":""},{"$f":"IF(ISBLANK('DE01-F12'!Q1855),\"\",('DE01-F12'!Q1855))","v":""},{"$f":"IF(ISBLANK('DE01-F12'!S1855),\"\",('DE01-F12'!S1855))","v":0}]
[{"$f":"IF(ISBLANK('DE01-F12'!N1856),\"\",('DE01-F12'!N1856))","v":""},{"$f":"MID('DE01-F12'!G1856,1,18)","v":""},{"$f":"IF(ISBLANK('DE01-F12'!P1856),\"\",('DE01-F12'!P1856))","v":""},{"$f":"IF(ISBLANK('DE01-F12'!Q1856),\"\",('DE01-F12'!Q1856))","v":""},{"$f":"IF(ISBLANK('DE01-F12'!S1856),\"\",('DE01-F12'!S1856))","v":0}]
[{"$f":"IF(ISBLANK('DE01-F12'!N1857),\"\",('DE01-F12'!N1857))","v":""},{"$f":"MID('DE01-F12'!G1857,1,18)","v":""},{"$f":"IF(ISBLANK('DE01-F12'!P1857),\"\",('DE01-F12'!P1857))","v":""},{"$f":"IF(ISBLANK('DE01-F12'!Q1857),\"\",('DE01-F12'!Q1857))","v":""},{"$f":"IF(ISBLANK('DE01-F12'!S1857),\"\",('DE01-F12'!S1857))","v":0}]
[{"$f":"IF(ISBLANK('DE01-F12'!N1858),\"\",('DE01-F12'!N1858))","v":""},{"$f":"MID('DE01-F12'!G1858,1,18)","v":""},{"$f":"IF(ISBLANK('DE01-F12'!P1858),\"\",('DE01-F12'!P1858))","v":""},{"$f":"IF(ISBLANK('DE01-F12'!Q1858),\"\",('DE01-F12'!Q1858))","v":""},{"$f":"IF(ISBLANK('DE01-F12'!S1858),\"\",('DE01-F12'!S1858))","v":0}]
[{"$f":"IF(ISBLANK('DE01-F12'!N1859),\"\",('DE01-F12'!N1859))","v":""},{"$f":"MID('DE01-F12'!G1859,1,18)","v":""},{"$f":"IF(ISBLANK('DE01-F12'!P1859),\"\",('DE01-F12'!P1859))","v":""},{"$f":"IF(ISBLANK('DE01-F12'!Q1859),\"\",('DE01-F12'!Q1859))","v":""},{"$f":"IF(ISBLANK('DE01-F12'!S1859),\"\",('DE01-F12'!S1859))","v":0}]
[{"$f":"IF(ISBLANK('DE01-F12'!N1860),\"\",('DE01-F12'!N1860))","v":""},{"$f":"MID('DE01-F12'!G1860,1,18)","v":""},{"$f":"IF(ISBLANK('DE01-F12'!P1860),\"\",('DE01-F12'!P1860))","v":""},{"$f":"IF(ISBLANK('DE01-F12'!Q1860),\"\",('DE01-F12'!Q1860))","v":""},{"$f":"IF(ISBLANK('DE01-F12'!S1860),\"\",('DE01-F12'!S1860))","v":0}]
[{"$f":"IF(ISBLANK('DE01-F12'!N1861),\"\",('DE01-F12'!N1861))","v":""},{"$f":"MID('DE01-F12'!G1861,1,18)","v":""},{"$f":"IF(ISBLANK('DE01-F12'!P1861),\"\",('DE01-F12'!P1861))","v":""},{"$f":"IF(ISBLANK('DE01-F12'!Q1861),\"\",('DE01-F12'!Q1861))","v":""},{"$f":"IF(ISBLANK('DE01-F12'!S1861),\"\",('DE01-F12'!S1861))","v":0}]
[{"$f":"IF(ISBLANK('DE01-F12'!N1862),\"\",('DE01-F12'!N1862))","v":""},{"$f":"MID('DE01-F12'!G1862,1,18)","v":""},{"$f":"IF(ISBLANK('DE01-F12'!P1862),\"\",('DE01-F12'!P1862))","v":""},{"$f":"IF(ISBLANK('DE01-F12'!Q1862),\"\",('DE01-F12'!Q1862))","v":""},{"$f":"IF(ISBLANK('DE01-F12'!S1862),\"\",('DE01-F12'!S1862))","v":0}]
[{"$f":"IF(ISBLANK('DE01-F12'!N1863),\"\",('DE01-F12'!N1863))","v":""},{"$f":"MID('DE01-F12'!G1863,1,18)","v":""},{"$f":"IF(ISBLANK('DE01-F12'!P1863),\"\",('DE01-F12'!P1863))","v":""},{"$f":"IF(ISBLANK('DE01-F12'!Q1863),\"\",('DE01-F12'!Q1863))","v":""},{"$f":"IF(ISBLANK('DE01-F12'!S1863),\"\",('DE01-F12'!S1863))","v":0}]
[{"$f":"IF(ISBLANK('DE01-F12'!N1864),\"\",('DE01-F12'!N1864))","v":""},{"$f":"MID('DE01-F12'!G1864,1,18)","v":""},{"$f":"IF(ISBLANK('DE01-F12'!P1864),\"\",('DE01-F12'!P1864))","v":""},{"$f":"IF(ISBLANK('DE01-F12'!Q1864),\"\",('DE01-F12'!Q1864))","v":""},{"$f":"IF(ISBLANK('DE01-F12'!S1864),\"\",('DE01-F12'!S1864))","v":0}]
[{"$f":"IF(ISBLANK('DE01-F12'!N1865),\"\",('DE01-F12'!N1865))","v":""},{"$f":"MID('DE01-F12'!G1865,1,18)","v":""},{"$f":"IF(ISBLANK('DE01-F12'!P1865),\"\",('DE01-F12'!P1865))","v":""},{"$f":"IF(ISBLANK('DE01-F12'!Q1865),\"\",('DE01-F12'!Q1865))","v":""},{"$f":"IF(ISBLANK('DE01-F12'!S1865),\"\",('DE01-F12'!S1865))","v":0}]
[{"$f":"IF(ISBLANK('DE01-F12'!N1866),\"\",('DE01-F12'!N1866))","v":""},{"$f":"MID('DE01-F12'!G1866,1,18)","v":""},{"$f":"IF(ISBLANK('DE01-F12'!P1866),\"\",('DE01-F12'!P1866))","v":""},{"$f":"IF(ISBLANK('DE01-F12'!Q1866),\"\",('DE01-F12'!Q1866))","v":""},{"$f":"IF(ISBLANK('DE01-F12'!S1866),\"\",('DE01-F12'!S1866))","v":0}]
[{"$f":"IF(ISBLANK('DE01-F12'!N1867),\"\",('DE01-F12'!N1867))","v":""},{"$f":"MID('DE01-F12'!G1867,1,18)","v":""},{"$f":"IF(ISBLANK('DE01-F12'!P1867),\"\",('DE01-F12'!P1867))","v":""},{"$f":"IF(ISBLANK('DE01-F12'!Q1867),\"\",('DE01-F12'!Q1867))","v":""},{"$f":"IF(ISBLANK('DE01-F12'!S1867),\"\",('DE01-F12'!S1867))","v":0}]
[{"$f":"IF(ISBLANK('DE01-F12'!N1868),\"\",('DE01-F12'!N1868))","v":""},{"$f":"MID('DE01-F12'!G1868,1,18)","v":""},{"$f":"IF(ISBLANK('DE01-F12'!P1868),\"\",('DE01-F12'!P1868))","v":""},{"$f":"IF(ISBLANK('DE01-F12'!Q1868),\"\",('DE01-F12'!Q1868))","v":""},{"$f":"IF(ISBLANK('DE01-F12'!S1868),\"\",('DE01-F12'!S1868))","v":0}]
[{"$f":"IF(ISBLANK('DE01-F12'!N1869),\"\",('DE01-F12'!N1869))","v":""},{"$f":"MID('DE01-F12'!G1869,1,18)","v":""},{"$f":"IF(ISBLANK('DE01-F12'!P1869),\"\",('DE01-F12'!P1869))","v":""},{"$f":"IF(ISBLANK('DE01-F12'!Q1869),\"\",('DE01-F12'!Q1869))","v":""},{"$f":"IF(ISBLANK('DE01-F12'!S1869),\"\",('DE01-F12'!S1869))","v":0}]
[{"$f":"IF(ISBLANK('DE01-F12'!N1870),\"\",('DE01-F12'!N1870))","v":""},{"$f":"MID('DE01-F12'!G1870,1,18)","v":""},{"$f":"IF(ISBLANK('DE01-F12'!P1870),\"\",('DE01-F12'!P1870))","v":""},{"$f":"IF(ISBLANK('DE01-F12'!Q1870),\"\",('DE01-F12'!Q1870))","v":""},{"$f":"IF(ISBLANK('DE01-F12'!S1870),\"\",('DE01-F12'!S1870))","v":0}]
[{"$f":"IF(ISBLANK('DE01-F12'!N1871),\"\",('DE01-F12'!N1871))","v":""},{"$f":"MID('DE01-F12'!G1871,1,18)","v":""},{"$f":"IF(ISBLANK('DE01-F12'!P1871),\"\",('DE01-F12'!P1871))","v":""},{"$f":"IF(ISBLANK('DE01-F12'!Q1871),\"\",('DE01-F12'!Q1871))","v":""},{"$f":"IF(ISBLANK('DE01-F12'!S1871),\"\",('DE01-F12'!S1871))","v":0}]
[{"$f":"IF(ISBLANK('DE01-F12'!N1872),\"\",('DE01-F12'!N1872))","v":""},{"$f":"MID('DE01-F12'!G1872,1,18)","v":""},{"$f":"IF(ISBLANK('DE01-F12'!P1872),\"\",('DE01-F12'!P1872))","v":""},{"$f":"IF(ISBLANK('DE01-F12'!Q1872),\"\",('DE01-F12'!Q1872))","v":""},{"$f":"IF(ISBLANK('DE01-F12'!S1872),\"\",('DE01-F12'!S1872))","v":0}]
[{"$f":"IF(ISBLANK('DE01-F12'!N1873),\"\",('DE01-F12'!N1873))","v":""},{"$f":"MID('DE01-F12'!G1873,1,18)","v":""},{"$f":"IF(ISBLANK('DE01-F12'!P1873),\"\",('DE01-F12'!P1873))","v":""},{"$f":"IF(ISBLANK('DE01-F12'!Q1873),\"\",('DE01-F12'!Q1873))","v":""},{"$f":"IF(ISBLANK('DE01-F12'!S1873),\"\",('DE01-F12'!S1873))","v":0}]
[{"$f":"IF(ISBLANK('DE01-F12'!N1874),\"\",('DE01-F12'!N1874))","v":""},{"$f":"MID('DE01-F12'!G1874,1,18)","v":""},{"$f":"IF(ISBLANK('DE01-F12'!P1874),\"\",('DE01-F12'!P1874))","v":""},{"$f":"IF(ISBLANK('DE01-F12'!Q1874),\"\",('DE01-F12'!Q1874))","v":""},{"$f":"IF(ISBLANK('DE01-F12'!S1874),\"\",('DE01-F12'!S1874))","v":0}]
[{"$f":"IF(ISBLANK('DE01-F12'!N1875),\"\",('DE01-F12'!N1875))","v":""},{"$f":"MID('DE01-F12'!G1875,1,18)","v":""},{"$f":"IF(ISBLANK('DE01-F12'!P1875),\"\",('DE01-F12'!P1875))","v":""},{"$f":"IF(ISBLANK('DE01-F12'!Q1875),\"\",('DE01-F12'!Q1875))","v":""},{"$f":"IF(ISBLANK('DE01-F12'!S1875),\"\",('DE01-F12'!S1875))","v":0}]
[{"$f":"IF(ISBLANK('DE01-F12'!N1876),\"\",('DE01-F12'!N1876))","v":""},{"$f":"MID('DE01-F12'!G1876,1,18)","v":""},{"$f":"IF(ISBLANK('DE01-F12'!P1876),\"\",('DE01-F12'!P1876))","v":""},{"$f":"IF(ISBLANK('DE01-F12'!Q1876),\"\",('DE01-F12'!Q1876))","v":""},{"$f":"IF(ISBLANK('DE01-F12'!S1876),\"\",('DE01-F12'!S1876))","v":0}]
[{"$f":"IF(ISBLANK('DE01-F12'!N1877),\"\",('DE01-F12'!N1877))","v":""},{"$f":"MID('DE01-F12'!G1877,1,18)","v":""},{"$f":"IF(ISBLANK('DE01-F12'!P1877),\"\",('DE01-F12'!P1877))","v":""},{"$f":"IF(ISBLANK('DE01-F12'!Q1877),\"\",('DE01-F12'!Q1877))","v":""},{"$f":"IF(ISBLANK('DE01-F12'!S1877),\"\",('DE01-F12'!S1877))","v":0}]
[{"$f":"IF(ISBLANK('DE01-F12'!N1878),\"\",('DE01-F12'!N1878))","v":""},{"$f":"MID('DE01-F12'!G1878,1,18)","v":""},{"$f":"IF(ISBLANK('DE01-F12'!P1878),\"\",('DE01-F12'!P1878))","v":""},{"$f":"IF(ISBLANK('DE01-F12'!Q1878),\"\",('DE01-F12'!Q1878))","v":""},{"$f":"IF(ISBLANK('DE01-F12'!S1878),\"\",('DE01-F12'!S1878))","v":0}]
[{"$f":"IF(ISBLANK('DE01-F12'!N1879),\"\",('DE01-F12'!N1879))","v":""},{"$f":"MID('DE01-F12'!G1879,1,18)","v":""},{"$f":"IF(ISBLANK('DE01-F12'!P1879),\"\",('DE01-F12'!P1879))","v":""},{"$f":"IF(ISBLANK('DE01-F12'!Q1879),\"\",('DE01-F12'!Q1879))","v":""},{"$f":"IF(ISBLANK('DE01-F12'!S1879),\"\",('DE01-F12'!S1879))","v":0}]
[{"$f":"IF(ISBLANK('DE01-F12'!N1880),\"\",('DE01-F12'!N1880))","v":""},{"$f":"MID('DE01-F12'!G1880,1,18)","v":""},{"$f":"IF(ISBLANK('DE01-F12'!P1880),\"\",('DE01-F12'!P1880))","v":""},{"$f":"IF(ISBLANK('DE01-F12'!Q1880),\"\",('DE01-F12'!Q1880))","v":""},{"$f":"IF(ISBLANK('DE01-F12'!S1880),\"\",('DE01-F12'!S1880))","v":0}]
[{"$f":"IF(ISBLANK('DE01-F12'!N1881),\"\",('DE01-F12'!N1881))","v":""},{"$f":"MID('DE01-F12'!G1881,1,18)","v":""},{"$f":"IF(ISBLANK('DE01-F12'!P1881),\"\",('DE01-F12'!P1881))","v":""},{"$f":"IF(ISBLANK('DE01-F12'!Q1881),\"\",('DE01-F12'!Q1881))","v":""},{"$f":"IF(ISBLANK('DE01-F12'!S1881),\"\",('DE01-F12'!S1881))","v":0}]
[{"$f":"IF(ISBLANK('DE01-F12'!N1882),\"\",('DE01-F12'!N1882))","v":""},{"$f":"MID('DE01-F12'!G1882,1,18)","v":""},{"$f":"IF(ISBLANK('DE01-F12'!P1882),\"\",('DE01-F12'!P1882))","v":""},{"$f":"IF(ISBLANK('DE01-F12'!Q1882),\"\",('DE01-F12'!Q1882))","v":""},{"$f":"IF(ISBLANK('DE01-F12'!S1882),\"\",('DE01-F12'!S1882))","v":0}]
[{"$f":"IF(ISBLANK('DE01-F12'!N1883),\"\",('DE01-F12'!N1883))","v":""},{"$f":"MID('DE01-F12'!G1883,1,18)","v":""},{"$f":"IF(ISBLANK('DE01-F12'!P1883),\"\",('DE01-F12'!P1883))","v":""},{"$f":"IF(ISBLANK('DE01-F12'!Q1883),\"\",('DE01-F12'!Q1883))","v":""},{"$f":"IF(ISBLANK('DE01-F12'!S1883),\"\",('DE01-F12'!S1883))","v":0}]
[{"$f":"IF(ISBLANK('DE01-F12'!N1884),\"\",('DE01-F12'!N1884))","v":""},{"$f":"MID('DE01-F12'!G1884,1,18)","v":""},{"$f":"IF(ISBLANK('DE01-F12'!P1884),\"\",('DE01-F12'!P1884))","v":""},{"$f":"IF(ISBLANK('DE01-F12'!Q1884),\"\",('DE01-F12'!Q1884))","v":""},{"$f":"IF(ISBLANK('DE01-F12'!S1884),\"\",('DE01-F12'!S1884))","v":0}]
[{"$f":"IF(ISBLANK('DE01-F12'!N1885),\"\",('DE01-F12'!N1885))","v":""},{"$f":"MID('DE01-F12'!G1885,1,18)","v":""},{"$f":"IF(ISBLANK('DE01-F12'!P1885),\"\",('DE01-F12'!P1885))","v":""},{"$f":"IF(ISBLANK('DE01-F12'!Q1885),\"\",('DE01-F12'!Q1885))","v":""},{"$f":"IF(ISBLANK('DE01-F12'!S1885),\"\",('DE01-F12'!S1885))","v":0}]
[{"$f":"IF(ISBLANK('DE01-F12'!N1886),\"\",('DE01-F12'!N1886))","v":""},{"$f":"MID('DE01-F12'!G1886,1,18)","v":""},{"$f":"IF(ISBLANK('DE01-F12'!P1886),\"\",('DE01-F12'!P1886))","v":""},{"$f":"IF(ISBLANK('DE01-F12'!Q1886),\"\",('DE01-F12'!Q1886))","v":""},{"$f":"IF(ISBLANK('DE01-F12'!S1886),\"\",('DE01-F12'!S1886))","v":0}]
[{"$f":"IF(ISBLANK('DE01-F12'!N1887),\"\",('DE01-F12'!N1887))","v":""},{"$f":"MID('DE01-F12'!G1887,1,18)","v":""},{"$f":"IF(ISBLANK('DE01-F12'!P1887),\"\",('DE01-F12'!P1887))","v":""},{"$f":"IF(ISBLANK('DE01-F12'!Q1887),\"\",('DE01-F12'!Q1887))","v":""},{"$f":"IF(ISBLANK('DE01-F12'!S1887),\"\",('DE01-F12'!S1887))","v":0}]
[{"$f":"IF(ISBLANK('DE01-F12'!N1888),\"\",('DE01-F12'!N1888))","v":""},{"$f":"MID('DE01-F12'!G1888,1,18)","v":""},{"$f":"IF(ISBLANK('DE01-F12'!P1888),\"\",('DE01-F12'!P1888))","v":""},{"$f":"IF(ISBLANK('DE01-F12'!Q1888),\"\",('DE01-F12'!Q1888))","v":""},{"$f":"IF(ISBLANK('DE01-F12'!S1888),\"\",('DE01-F12'!S1888))","v":0}]
[{"$f":"IF(ISBLANK('DE01-F12'!N1889),\"\",('DE01-F12'!N1889))","v":""},{"$f":"MID('DE01-F12'!G1889,1,18)","v":""},{"$f":"IF(ISBLANK('DE01-F12'!P1889),\"\",('DE01-F12'!P1889))","v":""},{"$f":"IF(ISBLANK('DE01-F12'!Q1889),\"\",('DE01-F12'!Q1889))","v":""},{"$f":"IF(ISBLANK('DE01-F12'!S1889),\"\",('DE01-F12'!S1889))","v":0}]
[{"$f":"IF(ISBLANK('DE01-F12'!N1890),\"\",('DE01-F12'!N1890))","v":""},{"$f":"MID('DE01-F12'!G1890,1,18)","v":""},{"$f":"IF(ISBLANK('DE01-F12'!P1890),\"\",('DE01-F12'!P1890))","v":""},{"$f":"IF(ISBLANK('DE01-F12'!Q1890),\"\",('DE01-F12'!Q1890))","v":""},{"$f":"IF(ISBLANK('DE01-F12'!S1890),\"\",('DE01-F12'!S1890))","v":0}]
[{"$f":"IF(ISBLANK('DE01-F12'!N1891),\"\",('DE01-F12'!N1891))","v":""},{"$f":"MID('DE01-F12'!G1891,1,18)","v":""},{"$f":"IF(ISBLANK('DE01-F12'!P1891),\"\",('DE01-F12'!P1891))","v":""},{"$f":"IF(ISBLANK('DE01-F12'!Q1891),\"\",('DE01-F12'!Q1891))","v":""},{"$f":"IF(ISBLANK('DE01-F12'!S1891),\"\",('DE01-F12'!S1891))","v":0}]
[{"$f":"IF(ISBLANK('DE01-F12'!N1892),\"\",('DE01-F12'!N1892))","v":""},{"$f":"MID('DE01-F12'!G1892,1,18)","v":""},{"$f":"IF(ISBLANK('DE01-F12'!P1892),\"\",('DE01-F12'!P1892))","v":""},{"$f":"IF(ISBLANK('DE01-F12'!Q1892),\"\",('DE01-F12'!Q1892))","v":""},{"$f":"IF(ISBLANK('DE01-F12'!S1892),\"\",('DE01-F12'!S1892))","v":0}]
[{"$f":"IF(ISBLANK('DE01-F12'!N1893),\"\",('DE01-F12'!N1893))","v":""},{"$f":"MID('DE01-F12'!G1893,1,18)","v":""},{"$f":"IF(ISBLANK('DE01-F12'!P1893),\"\",('DE01-F12'!P1893))","v":""},{"$f":"IF(ISBLANK('DE01-F12'!Q1893),\"\",('DE01-F12'!Q1893))","v":""},{"$f":"IF(ISBLANK('DE01-F12'!S1893),\"\",('DE01-F12'!S1893))","v":0}]
[{"$f":"IF(ISBLANK('DE01-F12'!N1894),\"\",('DE01-F12'!N1894))","v":""},{"$f":"MID('DE01-F12'!G1894,1,18)","v":""},{"$f":"IF(ISBLANK('DE01-F12'!P1894),\"\",('DE01-F12'!P1894))","v":""},{"$f":"IF(ISBLANK('DE01-F12'!Q1894),\"\",('DE01-F12'!Q1894))","v":""},{"$f":"IF(ISBLANK('DE01-F12'!S1894),\"\",('DE01-F12'!S1894))","v":0}]
[{"$f":"IF(ISBLANK('DE01-F12'!N1895),\"\",('DE01-F12'!N1895))","v":""},{"$f":"MID('DE01-F12'!G1895,1,18)","v":""},{"$f":"IF(ISBLANK('DE01-F12'!P1895),\"\",('DE01-F12'!P1895))","v":""},{"$f":"IF(ISBLANK('DE01-F12'!Q1895),\"\",('DE01-F12'!Q1895))","v":""},{"$f":"IF(ISBLANK('DE01-F12'!S1895),\"\",('DE01-F12'!S1895))","v":0}]
[{"$f":"IF(ISBLANK('DE01-F12'!N1896),\"\",('DE01-F12'!N1896))","v":""},{"$f":"MID('DE01-F12'!G1896,1,18)","v":""},{"$f":"IF(ISBLANK('DE01-F12'!P1896),\"\",('DE01-F12'!P1896))","v":""},{"$f":"IF(ISBLANK('DE01-F12'!Q1896),\"\",('DE01-F12'!Q1896))","v":""},{"$f":"IF(ISBLANK('DE01-F12'!S1896),\"\",('DE01-F12'!S1896))","v":0}]
[{"$f":"IF(ISBLANK('DE01-F12'!N1897),\"\",('DE01-F12'!N1897))","v":""},{"$f":"MID('DE01-F12'!G1897,1,18)","v":""},{"$f":"IF(ISBLANK('DE01-F12'!P1897),\"\",('DE01-F12'!P1897))","v":""},{"$f":"IF(ISBLANK('DE01-F12'!Q1897),\"\",('DE01-F12'!Q1897))","v":""},{"$f":"IF(ISBLANK('DE01-F12'!S1897),\"\",('DE01-F12'!S1897))","v":0}]
[{"$f":"IF(ISBLANK('DE01-F12'!N1898),\"\",('DE01-F12'!N1898))","v":""},{"$f":"MID('DE01-F12'!G1898,1,18)","v":""},{"$f":"IF(ISBLANK('DE01-F12'!P1898),\"\",('DE01-F12'!P1898))","v":""},{"$f":"IF(ISBLANK('DE01-F12'!Q1898),\"\",('DE01-F12'!Q1898))","v":""},{"$f":"IF(ISBLANK('DE01-F12'!S1898),\"\",('DE01-F12'!S1898))","v":0}]
[{"$f":"IF(ISBLANK('DE01-F12'!N1899),\"\",('DE01-F12'!N1899))","v":""},{"$f":"MID('DE01-F12'!G1899,1,18)","v":""},{"$f":"IF(ISBLANK('DE01-F12'!P1899),\"\",('DE01-F12'!P1899))","v":""},{"$f":"IF(ISBLANK('DE01-F12'!Q1899),\"\",('DE01-F12'!Q1899))","v":""},{"$f":"IF(ISBLANK('DE01-F12'!S1899),\"\",('DE01-F12'!S1899))","v":0}]
[{"$f":"IF(ISBLANK('DE01-F12'!N1900),\"\",('DE01-F12'!N1900))","v":""},{"$f":"MID('DE01-F12'!G1900,1,18)","v":""},{"$f":"IF(ISBLANK('DE01-F12'!P1900),\"\",('DE01-F12'!P1900))","v":""},{"$f":"IF(ISBLANK('DE01-F12'!Q1900),\"\",('DE01-F12'!Q1900))","v":""},{"$f":"IF(ISBLANK('DE01-F12'!S1900),\"\",('DE01-F12'!S1900))","v":0}]
[{"$f":"IF(ISBLANK('DE01-F12'!N1901),\"\",('DE01-F12'!N1901))","v":""},{"$f":"MID('DE01-F12'!G1901,1,18)","v":""},{"$f":"IF(ISBLANK('DE01-F12'!P1901),\"\",('DE01-F12'!P1901))","v":""},{"$f":"IF(ISBLANK('DE01-F12'!Q1901),\"\",('DE01-F12'!Q1901))","v":""},{"$f":"IF(ISBLANK('DE01-F12'!S1901),\"\",('DE01-F12'!S1901))","v":0}]
[{"$f":"IF(ISBLANK('DE01-F12'!N1902),\"\",('DE01-F12'!N1902))","v":""},{"$f":"MID('DE01-F12'!G1902,1,18)","v":""},{"$f":"IF(ISBLANK('DE01-F12'!P1902),\"\",('DE01-F12'!P1902))","v":""},{"$f":"IF(ISBLANK('DE01-F12'!Q1902),\"\",('DE01-F12'!Q1902))","v":""},{"$f":"IF(ISBLANK('DE01-F12'!S1902),\"\",('DE01-F12'!S1902))","v":0}]
[{"$f":"IF(ISBLANK('DE01-F12'!N1903),\"\",('DE01-F12'!N1903))","v":""},{"$f":"MID('DE01-F12'!G1903,1,18)","v":""},{"$f":"IF(ISBLANK('DE01-F12'!P1903),\"\",('DE01-F12'!P1903))","v":""},{"$f":"IF(ISBLANK('DE01-F12'!Q1903),\"\",('DE01-F12'!Q1903))","v":""},{"$f":"IF(ISBLANK('DE01-F12'!S1903),\"\",('DE01-F12'!S1903))","v":0}]
[{"$f":"IF(ISBLANK('DE01-F12'!N1904),\"\",('DE01-F12'!N1904))","v":""},{"$f":"MID('DE01-F12'!G1904,1,18)","v":""},{"$f":"IF(ISBLANK('DE01-F12'!P1904),\"\",('DE01-F12'!P1904))","v":""},{"$f":"IF(ISBLANK('DE01-F12'!Q1904),\"\",('DE01-F12'!Q1904))","v":""},{"$f":"IF(ISBLANK('DE01-F12'!S1904),\"\",('DE01-F12'!S1904))","v":0}]
[{"$f":"IF(ISBLANK('DE01-F12'!N1905),\"\",('DE01-F12'!N1905))","v":""},{"$f":"MID('DE01-F12'!G1905,1,18)","v":""},{"$f":"IF(ISBLANK('DE01-F12'!P1905),\"\",('DE01-F12'!P1905))","v":""},{"$f":"IF(ISBLANK('DE01-F12'!Q1905),\"\",('DE01-F12'!Q1905))","v":""},{"$f":"IF(ISBLANK('DE01-F12'!S1905),\"\",('DE01-F12'!S1905))","v":0}]
[{"$f":"IF(ISBLANK('DE01-F12'!N1906),\"\",('DE01-F12'!N1906))","v":""},{"$f":"MID('DE01-F12'!G1906,1,18)","v":""},{"$f":"IF(ISBLANK('DE01-F12'!P1906),\"\",('DE01-F12'!P1906))","v":""},{"$f":"IF(ISBLANK('DE01-F12'!Q1906),\"\",('DE01-F12'!Q1906))","v":""},{"$f":"IF(ISBLANK('DE01-F12'!S1906),\"\",('DE01-F12'!S1906))","v":0}]
[{"$f":"IF(ISBLANK('DE01-F12'!N1907),\"\",('DE01-F12'!N1907))","v":""},{"$f":"MID('DE01-F12'!G1907,1,18)","v":""},{"$f":"IF(ISBLANK('DE01-F12'!P1907),\"\",('DE01-F12'!P1907))","v":""},{"$f":"IF(ISBLANK('DE01-F12'!Q1907),\"\",('DE01-F12'!Q1907))","v":""},{"$f":"IF(ISBLANK('DE01-F12'!S1907),\"\",('DE01-F12'!S1907))","v":0}]
[{"$f":"IF(ISBLANK('DE01-F12'!N1908),\"\",('DE01-F12'!N1908))","v":""},{"$f":"MID('DE01-F12'!G1908,1,18)","v":""},{"$f":"IF(ISBLANK('DE01-F12'!P1908),\"\",('DE01-F12'!P1908))","v":""},{"$f":"IF(ISBLANK('DE01-F12'!Q1908),\"\",('DE01-F12'!Q1908))","v":""},{"$f":"IF(ISBLANK('DE01-F12'!S1908),\"\",('DE01-F12'!S1908))","v":0}]
[{"$f":"IF(ISBLANK('DE01-F12'!N1909),\"\",('DE01-F12'!N1909))","v":""},{"$f":"MID('DE01-F12'!G1909,1,18)","v":""},{"$f":"IF(ISBLANK('DE01-F12'!P1909),\"\",('DE01-F12'!P1909))","v":""},{"$f":"IF(ISBLANK('DE01-F12'!Q1909),\"\",('DE01-F12'!Q1909))","v":""},{"$f":"IF(ISBLANK('DE01-F12'!S1909),\"\",('DE01-F12'!S1909))","v":0}]
[{"$f":"IF(ISBLANK('DE01-F12'!N1910),\"\",('DE01-F12'!N1910))","v":""},{"$f":"MID('DE01-F12'!G1910,1,18)","v":""},{"$f":"IF(ISBLANK('DE01-F12'!P1910),\"\",('DE01-F12'!P1910))","v":""},{"$f":"IF(ISBLANK('DE01-F12'!Q1910),\"\",('DE01-F12'!Q1910))","v":""},{"$f":"IF(ISBLANK('DE01-F12'!S1910),\"\",('DE01-F12'!S1910))","v":0}]
[{"$f":"IF(ISBLANK('DE01-F12'!N1911),\"\",('DE01-F12'!N1911))","v":""},{"$f":"MID('DE01-F12'!G1911,1,18)","v":""},{"$f":"IF(ISBLANK('DE01-F12'!P1911),\"\",('DE01-F12'!P1911))","v":""},{"$f":"IF(ISBLANK('DE01-F12'!Q1911),\"\",('DE01-F12'!Q1911))","v":""},{"$f":"IF(ISBLANK('DE01-F12'!S1911),\"\",('DE01-F12'!S1911))","v":0}]
[{"$f":"IF(ISBLANK('DE01-F12'!N1912),\"\",('DE01-F12'!N1912))","v":""},{"$f":"MID('DE01-F12'!G1912,1,18)","v":""},{"$f":"IF(ISBLANK('DE01-F12'!P1912),\"\",('DE01-F12'!P1912))","v":""},{"$f":"IF(ISBLANK('DE01-F12'!Q1912),\"\",('DE01-F12'!Q1912))","v":""},{"$f":"IF(ISBLANK('DE01-F12'!S1912),\"\",('DE01-F12'!S1912))","v":0}]
[{"$f":"IF(ISBLANK('DE01-F12'!N1913),\"\",('DE01-F12'!N1913))","v":""},{"$f":"MID('DE01-F12'!G1913,1,18)","v":""},{"$f":"IF(ISBLANK('DE01-F12'!P1913),\"\",('DE01-F12'!P1913))","v":""},{"$f":"IF(ISBLANK('DE01-F12'!Q1913),\"\",('DE01-F12'!Q1913))","v":""},{"$f":"IF(ISBLANK('DE01-F12'!S1913),\"\",('DE01-F12'!S1913))","v":0}]
[{"$f":"IF(ISBLANK('DE01-F12'!N1914),\"\",('DE01-F12'!N1914))","v":""},{"$f":"MID('DE01-F12'!G1914,1,18)","v":""},{"$f":"IF(ISBLANK('DE01-F12'!P1914),\"\",('DE01-F12'!P1914))","v":""},{"$f":"IF(ISBLANK('DE01-F12'!Q1914),\"\",('DE01-F12'!Q1914))","v":""},{"$f":"IF(ISBLANK('DE01-F12'!S1914),\"\",('DE01-F12'!S1914))","v":0}]
[{"$f":"IF(ISBLANK('DE01-F12'!N1915),\"\",('DE01-F12'!N1915))","v":""},{"$f":"MID('DE01-F12'!G1915,1,18)","v":""},{"$f":"IF(ISBLANK('DE01-F12'!P1915),\"\",('DE01-F12'!P1915))","v":""},{"$f":"IF(ISBLANK('DE01-F12'!Q1915),\"\",('DE01-F12'!Q1915))","v":""},{"$f":"IF(ISBLANK('DE01-F12'!S1915),\"\",('DE01-F12'!S1915))","v":0}]
[{"$f":"IF(ISBLANK('DE01-F12'!N1916),\"\",('DE01-F12'!N1916))","v":""},{"$f":"MID('DE01-F12'!G1916,1,18)","v":""},{"$f":"IF(ISBLANK('DE01-F12'!P1916),\"\",('DE01-F12'!P1916))","v":""},{"$f":"IF(ISBLANK('DE01-F12'!Q1916),\"\",('DE01-F12'!Q1916))","v":""},{"$f":"IF(ISBLANK('DE01-F12'!S1916),\"\",('DE01-F12'!S1916))","v":0}]
[{"$f":"IF(ISBLANK('DE01-F12'!N1917),\"\",('DE01-F12'!N1917))","v":""},{"$f":"MID('DE01-F12'!G1917,1,18)","v":""},{"$f":"IF(ISBLANK('DE01-F12'!P1917),\"\",('DE01-F12'!P1917))","v":""},{"$f":"IF(ISBLANK('DE01-F12'!Q1917),\"\",('DE01-F12'!Q1917))","v":""},{"$f":"IF(ISBLANK('DE01-F12'!S1917),\"\",('DE01-F12'!S1917))","v":0}]
[{"$f":"IF(ISBLANK('DE01-F12'!N1918),\"\",('DE01-F12'!N1918))","v":""},{"$f":"MID('DE01-F12'!G1918,1,18)","v":""},{"$f":"IF(ISBLANK('DE01-F12'!P1918),\"\",('DE01-F12'!P1918))","v":""},{"$f":"IF(ISBLANK('DE01-F12'!Q1918),\"\",('DE01-F12'!Q1918))","v":""},{"$f":"IF(ISBLANK('DE01-F12'!S1918),\"\",('DE01-F12'!S1918))","v":0}]
[{"$f":"IF(ISBLANK('DE01-F12'!N1919),\"\",('DE01-F12'!N1919))","v":""},{"$f":"MID('DE01-F12'!G1919,1,18)","v":""},{"$f":"IF(ISBLANK('DE01-F12'!P1919),\"\",('DE01-F12'!P1919))","v":""},{"$f":"IF(ISBLANK('DE01-F12'!Q1919),\"\",('DE01-F12'!Q1919))","v":""},{"$f":"IF(ISBLANK('DE01-F12'!S1919),\"\",('DE01-F12'!S1919))","v":0}]
[{"$f":"IF(ISBLANK('DE01-F12'!N1920),\"\",('DE01-F12'!N1920))","v":""},{"$f":"MID('DE01-F12'!G1920,1,18)","v":""},{"$f":"IF(ISBLANK('DE01-F12'!P1920),\"\",('DE01-F12'!P1920))","v":""},{"$f":"IF(ISBLANK('DE01-F12'!Q1920),\"\",('DE01-F12'!Q1920))","v":""},{"$f":"IF(ISBLANK('DE01-F12'!S1920),\"\",('DE01-F12'!S1920))","v":0}]
[{"$f":"IF(ISBLANK('DE01-F12'!N1921),\"\",('DE01-F12'!N1921))","v":""},{"$f":"MID('DE01-F12'!G1921,1,18)","v":""},{"$f":"IF(ISBLANK('DE01-F12'!P1921),\"\",('DE01-F12'!P1921))","v":""},{"$f":"IF(ISBLANK('DE01-F12'!Q1921),\"\",('DE01-F12'!Q1921))","v":""},{"$f":"IF(ISBLANK('DE01-F12'!S1921),\"\",('DE01-F12'!S1921))","v":0}]
[{"$f":"IF(ISBLANK('DE01-F12'!N1922),\"\",('DE01-F12'!N1922))","v":""},{"$f":"MID('DE01-F12'!G1922,1,18)","v":""},{"$f":"IF(ISBLANK('DE01-F12'!P1922),\"\",('DE01-F12'!P1922))","v":""},{"$f":"IF(ISBLANK('DE01-F12'!Q1922),\"\",('DE01-F12'!Q1922))","v":""},{"$f":"IF(ISBLANK('DE01-F12'!S1922),\"\",('DE01-F12'!S1922))","v":0}]
[{"$f":"IF(ISBLANK('DE01-F12'!N1923),\"\",('DE01-F12'!N1923))","v":""},{"$f":"MID('DE01-F12'!G1923,1,18)","v":""},{"$f":"IF(ISBLANK('DE01-F12'!P1923),\"\",('DE01-F12'!P1923))","v":""},{"$f":"IF(ISBLANK('DE01-F12'!Q1923),\"\",('DE01-F12'!Q1923))","v":""},{"$f":"IF(ISBLANK('DE01-F12'!S1923),\"\",('DE01-F12'!S1923))","v":0}]
[{"$f":"IF(ISBLANK('DE01-F12'!N1924),\"\",('DE01-F12'!N1924))","v":""},{"$f":"MID('DE01-F12'!G1924,1,18)","v":""},{"$f":"IF(ISBLANK('DE01-F12'!P1924),\"\",('DE01-F12'!P1924))","v":""},{"$f":"IF(ISBLANK('DE01-F12'!Q1924),\"\",('DE01-F12'!Q1924))","v":""},{"$f":"IF(ISBLANK('DE01-F12'!S1924),\"\",('DE01-F12'!S1924))","v":0}]
[{"$f":"IF(ISBLANK('DE01-F12'!N1925),\"\",('DE01-F12'!N1925))","v":""},{"$f":"MID('DE01-F12'!G1925,1,18)","v":""},{"$f":"IF(ISBLANK('DE01-F12'!P1925),\"\",('DE01-F12'!P1925))","v":""},{"$f":"IF(ISBLANK('DE01-F12'!Q1925),\"\",('DE01-F12'!Q1925))","v":""},{"$f":"IF(ISBLANK('DE01-F12'!S1925),\"\",('DE01-F12'!S1925))","v":0}]
[{"$f":"IF(ISBLANK('DE01-F12'!N1926),\"\",('DE01-F12'!N1926))","v":""},{"$f":"MID('DE01-F12'!G1926,1,18)","v":""},{"$f":"IF(ISBLANK('DE01-F12'!P1926),\"\",('DE01-F12'!P1926))","v":""},{"$f":"IF(ISBLANK('DE01-F12'!Q1926),\"\",('DE01-F12'!Q1926))","v":""},{"$f":"IF(ISBLANK('DE01-F12'!S1926),\"\",('DE01-F12'!S1926))","v":0}]
[{"$f":"IF(ISBLANK('DE01-F12'!N1927),\"\",('DE01-F12'!N1927))","v":""},{"$f":"MID('DE01-F12'!G1927,1,18)","v":""},{"$f":"IF(ISBLANK('DE01-F12'!P1927),\"\",('DE01-F12'!P1927))","v":""},{"$f":"IF(ISBLANK('DE01-F12'!Q1927),\"\",('DE01-F12'!Q1927))","v":""},{"$f":"IF(ISBLANK('DE01-F12'!S1927),\"\",('DE01-F12'!S1927))","v":0}]
[{"$f":"IF(ISBLANK('DE01-F12'!N1928),\"\",('DE01-F12'!N1928))","v":""},{"$f":"MID('DE01-F12'!G1928,1,18)","v":""},{"$f":"IF(ISBLANK('DE01-F12'!P1928),\"\",('DE01-F12'!P1928))","v":""},{"$f":"IF(ISBLANK('DE01-F12'!Q1928),\"\",('DE01-F12'!Q1928))","v":""},{"$f":"IF(ISBLANK('DE01-F12'!S1928),\"\",('DE01-F12'!S1928))","v":0}]
[{"$f":"IF(ISBLANK('DE01-F12'!N1929),\"\",('DE01-F12'!N1929))","v":""},{"$f":"MID('DE01-F12'!G1929,1,18)","v":""},{"$f":"IF(ISBLANK('DE01-F12'!P1929),\"\",('DE01-F12'!P1929))","v":""},{"$f":"IF(ISBLANK('DE01-F12'!Q1929),\"\",('DE01-F12'!Q1929))","v":""},{"$f":"IF(ISBLANK('DE01-F12'!S1929),\"\",('DE01-F12'!S1929))","v":0}]
[{"$f":"IF(ISBLANK('DE01-F12'!N1930),\"\",('DE01-F12'!N1930))","v":""},{"$f":"MID('DE01-F12'!G1930,1,18)","v":""},{"$f":"IF(ISBLANK('DE01-F12'!P1930),\"\",('DE01-F12'!P1930))","v":""},{"$f":"IF(ISBLANK('DE01-F12'!Q1930),\"\",('DE01-F12'!Q1930))","v":""},{"$f":"IF(ISBLANK('DE01-F12'!S1930),\"\",('DE01-F12'!S1930))","v":0}]
[{"$f":"IF(ISBLANK('DE01-F12'!N1931),\"\",('DE01-F12'!N1931))","v":""},{"$f":"MID('DE01-F12'!G1931,1,18)","v":""},{"$f":"IF(ISBLANK('DE01-F12'!P1931),\"\",('DE01-F12'!P1931))","v":""},{"$f":"IF(ISBLANK('DE01-F12'!Q1931),\"\",('DE01-F12'!Q1931))","v":""},{"$f":"IF(ISBLANK('DE01-F12'!S1931),\"\",('DE01-F12'!S1931))","v":0}]
[{"$f":"IF(ISBLANK('DE01-F12'!N1932),\"\",('DE01-F12'!N1932))","v":""},{"$f":"MID('DE01-F12'!G1932,1,18)","v":""},{"$f":"IF(ISBLANK('DE01-F12'!P1932),\"\",('DE01-F12'!P1932))","v":""},{"$f":"IF(ISBLANK('DE01-F12'!Q1932),\"\",('DE01-F12'!Q1932))","v":""},{"$f":"IF(ISBLANK('DE01-F12'!S1932),\"\",('DE01-F12'!S1932))","v":0}]
[{"$f":"IF(ISBLANK('DE01-F12'!N1933),\"\",('DE01-F12'!N1933))","v":""},{"$f":"MID('DE01-F12'!G1933,1,18)","v":""},{"$f":"IF(ISBLANK('DE01-F12'!P1933),\"\",('DE01-F12'!P1933))","v":""},{"$f":"IF(ISBLANK('DE01-F12'!Q1933),\"\",('DE01-F12'!Q1933))","v":""},{"$f":"IF(ISBLANK('DE01-F12'!S1933),\"\",('DE01-F12'!S1933))","v":0}]
[{"$f":"IF(ISBLANK('DE01-F12'!N1934),\"\",('DE01-F12'!N1934))","v":""},{"$f":"MID('DE01-F12'!G1934,1,18)","v":""},{"$f":"IF(ISBLANK('DE01-F12'!P1934),\"\",('DE01-F12'!P1934))","v":""},{"$f":"IF(ISBLANK('DE01-F12'!Q1934),\"\",('DE01-F12'!Q1934))","v":""},{"$f":"IF(ISBLANK('DE01-F12'!S1934),\"\",('DE01-F12'!S1934))","v":0}]
[{"$f":"IF(ISBLANK('DE01-F12'!N1935),\"\",('DE01-F12'!N1935))","v":""},{"$f":"MID('DE01-F12'!G1935,1,18)","v":""},{"$f":"IF(ISBLANK('DE01-F12'!P1935),\"\",('DE01-F12'!P1935))","v":""},{"$f":"IF(ISBLANK('DE01-F12'!Q1935),\"\",('DE01-F12'!Q1935))","v":""},{"$f":"IF(ISBLANK('DE01-F12'!S1935),\"\",('DE01-F12'!S1935))","v":0}]
[{"$f":"IF(ISBLANK('DE01-F12'!N1936),\"\",('DE01-F12'!N1936))","v":""},{"$f":"MID('DE01-F12'!G1936,1,18)","v":""},{"$f":"IF(ISBLANK('DE01-F12'!P1936),\"\",('DE01-F12'!P1936))","v":""},{"$f":"IF(ISBLANK('DE01-F12'!Q1936),\"\",('DE01-F12'!Q1936))","v":""},{"$f":"IF(ISBLANK('DE01-F12'!S1936),\"\",('DE01-F12'!S1936))","v":0}]
[{"$f":"IF(ISBLANK('DE01-F12'!N1937),\"\",('DE01-F12'!N1937))","v":""},{"$f":"MID('DE01-F12'!G1937,1,18)","v":""},{"$f":"IF(ISBLANK('DE01-F12'!P1937),\"\",('DE01-F12'!P1937))","v":""},{"$f":"IF(ISBLANK('DE01-F12'!Q1937),\"\",('DE01-F12'!Q1937))","v":""},{"$f":"IF(ISBLANK('DE01-F12'!S1937),\"\",('DE01-F12'!S1937))","v":0}]
[{"$f":"IF(ISBLANK('DE01-F12'!N1938),\"\",('DE01-F12'!N1938))","v":""},{"$f":"MID('DE01-F12'!G1938,1,18)","v":""},{"$f":"IF(ISBLANK('DE01-F12'!P1938),\"\",('DE01-F12'!P1938))","v":""},{"$f":"IF(ISBLANK('DE01-F12'!Q1938),\"\",('DE01-F12'!Q1938))","v":""},{"$f":"IF(ISBLANK('DE01-F12'!S1938),\"\",('DE01-F12'!S1938))","v":0}]
[{"$f":"IF(ISBLANK('DE01-F12'!N1939),\"\",('DE01-F12'!N1939))","v":""},{"$f":"MID('DE01-F12'!G1939,1,18)","v":""},{"$f":"IF(ISBLANK('DE01-F12'!P1939),\"\",('DE01-F12'!P1939))","v":""},{"$f":"IF(ISBLANK('DE01-F12'!Q1939),\"\",('DE01-F12'!Q1939))","v":""},{"$f":"IF(ISBLANK('DE01-F12'!S1939),\"\",('DE01-F12'!S1939))","v":0}]
[{"$f":"IF(ISBLANK('DE01-F12'!N1940),\"\",('DE01-F12'!N1940))","v":""},{"$f":"MID('DE01-F12'!G1940,1,18)","v":""},{"$f":"IF(ISBLANK('DE01-F12'!P1940),\"\",('DE01-F12'!P1940))","v":""},{"$f":"IF(ISBLANK('DE01-F12'!Q1940),\"\",('DE01-F12'!Q1940))","v":""},{"$f":"IF(ISBLANK('DE01-F12'!S1940),\"\",('DE01-F12'!S1940))","v":0}]
[{"$f":"IF(ISBLANK('DE01-F12'!N1941),\"\",('DE01-F12'!N1941))","v":""},{"$f":"MID('DE01-F12'!G1941,1,18)","v":""},{"$f":"IF(ISBLANK('DE01-F12'!P1941),\"\",('DE01-F12'!P1941))","v":""},{"$f":"IF(ISBLANK('DE01-F12'!Q1941),\"\",('DE01-F12'!Q1941))","v":""},{"$f":"IF(ISBLANK('DE01-F12'!S1941),\"\",('DE01-F12'!S1941))","v":0}]
[{"$f":"IF(ISBLANK('DE01-F12'!N1942),\"\",('DE01-F12'!N1942))","v":""},{"$f":"MID('DE01-F12'!G1942,1,18)","v":""},{"$f":"IF(ISBLANK('DE01-F12'!P1942),\"\",('DE01-F12'!P1942))","v":""},{"$f":"IF(ISBLANK('DE01-F12'!Q1942),\"\",('DE01-F12'!Q1942))","v":""},{"$f":"IF(ISBLANK('DE01-F12'!S1942),\"\",('DE01-F12'!S1942))","v":0}]
[{"$f":"IF(ISBLANK('DE01-F12'!N1943),\"\",('DE01-F12'!N1943))","v":""},{"$f":"MID('DE01-F12'!G1943,1,18)","v":""},{"$f":"IF(ISBLANK('DE01-F12'!P1943),\"\",('DE01-F12'!P1943))","v":""},{"$f":"IF(ISBLANK('DE01-F12'!Q1943),\"\",('DE01-F12'!Q1943))","v":""},{"$f":"IF(ISBLANK('DE01-F12'!S1943),\"\",('DE01-F12'!S1943))","v":0}]
[{"$f":"IF(ISBLANK('DE01-F12'!N1944),\"\",('DE01-F12'!N1944))","v":""},{"$f":"MID('DE01-F12'!G1944,1,18)","v":""},{"$f":"IF(ISBLANK('DE01-F12'!P1944),\"\",('DE01-F12'!P1944))","v":""},{"$f":"IF(ISBLANK('DE01-F12'!Q1944),\"\",('DE01-F12'!Q1944))","v":""},{"$f":"IF(ISBLANK('DE01-F12'!S1944),\"\",('DE01-F12'!S1944))","v":0}]
[{"$f":"IF(ISBLANK('DE01-F12'!N1945),\"\",('DE01-F12'!N1945))","v":""},{"$f":"MID('DE01-F12'!G1945,1,18)","v":""},{"$f":"IF(ISBLANK('DE01-F12'!P1945),\"\",('DE01-F12'!P1945))","v":""},{"$f":"IF(ISBLANK('DE01-F12'!Q1945),\"\",('DE01-F12'!Q1945))","v":""},{"$f":"IF(ISBLANK('DE01-F12'!S1945),\"\",('DE01-F12'!S1945))","v":0}]
[{"$f":"IF(ISBLANK('DE01-F12'!N1946),\"\",('DE01-F12'!N1946))","v":""},{"$f":"MID('DE01-F12'!G1946,1,18)","v":""},{"$f":"IF(ISBLANK('DE01-F12'!P1946),\"\",('DE01-F12'!P1946))","v":""},{"$f":"IF(ISBLANK('DE01-F12'!Q1946),\"\",('DE01-F12'!Q1946))","v":""},{"$f":"IF(ISBLANK('DE01-F12'!S1946),\"\",('DE01-F12'!S1946))","v":0}]
[{"$f":"IF(ISBLANK('DE01-F12'!N1947),\"\",('DE01-F12'!N1947))","v":""},{"$f":"MID('DE01-F12'!G1947,1,18)","v":""},{"$f":"IF(ISBLANK('DE01-F12'!P1947),\"\",('DE01-F12'!P1947))","v":""},{"$f":"IF(ISBLANK('DE01-F12'!Q1947),\"\",('DE01-F12'!Q1947))","v":""},{"$f":"IF(ISBLANK('DE01-F12'!S1947),\"\",('DE01-F12'!S1947))","v":0}]
[{"$f":"IF(ISBLANK('DE01-F12'!N1948),\"\",('DE01-F12'!N1948))","v":""},{"$f":"MID('DE01-F12'!G1948,1,18)","v":""},{"$f":"IF(ISBLANK('DE01-F12'!P1948),\"\",('DE01-F12'!P1948))","v":""},{"$f":"IF(ISBLANK('DE01-F12'!Q1948),\"\",('DE01-F12'!Q1948))","v":""},{"$f":"IF(ISBLANK('DE01-F12'!S1948),\"\",('DE01-F12'!S1948))","v":0}]
[{"$f":"IF(ISBLANK('DE01-F12'!N1949),\"\",('DE01-F12'!N1949))","v":""},{"$f":"MID('DE01-F12'!G1949,1,18)","v":""},{"$f":"IF(ISBLANK('DE01-F12'!P1949),\"\",('DE01-F12'!P1949))","v":""},{"$f":"IF(ISBLANK('DE01-F12'!Q1949),\"\",('DE01-F12'!Q1949))","v":""},{"$f":"IF(ISBLANK('DE01-F12'!S1949),\"\",('DE01-F12'!S1949))","v":0}]
[{"$f":"IF(ISBLANK('DE01-F12'!N1950),\"\",('DE01-F12'!N1950))","v":""},{"$f":"MID('DE01-F12'!G1950,1,18)","v":""},{"$f":"IF(ISBLANK('DE01-F12'!P1950),\"\",('DE01-F12'!P1950))","v":""},{"$f":"IF(ISBLANK('DE01-F12'!Q1950),\"\",('DE01-F12'!Q1950))","v":""},{"$f":"IF(ISBLANK('DE01-F12'!S1950),\"\",('DE01-F12'!S1950))","v":0}]
[{"$f":"IF(ISBLANK('DE01-F12'!N1951),\"\",('DE01-F12'!N1951))","v":""},{"$f":"MID('DE01-F12'!G1951,1,18)","v":""},{"$f":"IF(ISBLANK('DE01-F12'!P1951),\"\",('DE01-F12'!P1951))","v":""},{"$f":"IF(ISBLANK('DE01-F12'!Q1951),\"\",('DE01-F12'!Q1951))","v":""},{"$f":"IF(ISBLANK('DE01-F12'!S1951),\"\",('DE01-F12'!S1951))","v":0}]
[{"$f":"IF(ISBLANK('DE01-F12'!N1952),\"\",('DE01-F12'!N1952))","v":""},{"$f":"MID('DE01-F12'!G1952,1,18)","v":""},{"$f":"IF(ISBLANK('DE01-F12'!P1952),\"\",('DE01-F12'!P1952))","v":""},{"$f":"IF(ISBLANK('DE01-F12'!Q1952),\"\",('DE01-F12'!Q1952))","v":""},{"$f":"IF(ISBLANK('DE01-F12'!S1952),\"\",('DE01-F12'!S1952))","v":0}]
[{"$f":"IF(ISBLANK('DE01-F12'!N1953),\"\",('DE01-F12'!N1953))","v":""},{"$f":"MID('DE01-F12'!G1953,1,18)","v":""},{"$f":"IF(ISBLANK('DE01-F12'!P1953),\"\",('DE01-F12'!P1953))","v":""},{"$f":"IF(ISBLANK('DE01-F12'!Q1953),\"\",('DE01-F12'!Q1953))","v":""},{"$f":"IF(ISBLANK('DE01-F12'!S1953),\"\",('DE01-F12'!S1953))","v":0}]
[{"$f":"IF(ISBLANK('DE01-F12'!N1954),\"\",('DE01-F12'!N1954))","v":""},{"$f":"MID('DE01-F12'!G1954,1,18)","v":""},{"$f":"IF(ISBLANK('DE01-F12'!P1954),\"\",('DE01-F12'!P1954))","v":""},{"$f":"IF(ISBLANK('DE01-F12'!Q1954),\"\",('DE01-F12'!Q1954))","v":""},{"$f":"IF(ISBLANK('DE01-F12'!S1954),\"\",('DE01-F12'!S1954))","v":0}]
[{"$f":"IF(ISBLANK('DE01-F12'!N1955),\"\",('DE01-F12'!N1955))","v":""},{"$f":"MID('DE01-F12'!G1955,1,18)","v":""},{"$f":"IF(ISBLANK('DE01-F12'!P1955),\"\",('DE01-F12'!P1955))","v":""},{"$f":"IF(ISBLANK('DE01-F12'!Q1955),\"\",('DE01-F12'!Q1955))","v":""},{"$f":"IF(ISBLANK('DE01-F12'!S1955),\"\",('DE01-F12'!S1955))","v":0}]
[{"$f":"IF(ISBLANK('DE01-F12'!N1956),\"\",('DE01-F12'!N1956))","v":""},{"$f":"MID('DE01-F12'!G1956,1,18)","v":""},{"$f":"IF(ISBLANK('DE01-F12'!P1956),\"\",('DE01-F12'!P1956))","v":""},{"$f":"IF(ISBLANK('DE01-F12'!Q1956),\"\",('DE01-F12'!Q1956))","v":""},{"$f":"IF(ISBLANK('DE01-F12'!S1956),\"\",('DE01-F12'!S1956))","v":0}]
[{"$f":"IF(ISBLANK('DE01-F12'!N1957),\"\",('DE01-F12'!N1957))","v":""},{"$f":"MID('DE01-F12'!G1957,1,18)","v":""},{"$f":"IF(ISBLANK('DE01-F12'!P1957),\"\",('DE01-F12'!P1957))","v":""},{"$f":"IF(ISBLANK('DE01-F12'!Q1957),\"\",('DE01-F12'!Q1957))","v":""},{"$f":"IF(ISBLANK('DE01-F12'!S1957),\"\",('DE01-F12'!S1957))","v":0}]
[{"$f":"IF(ISBLANK('DE01-F12'!N1958),\"\",('DE01-F12'!N1958))","v":""},{"$f":"MID('DE01-F12'!G1958,1,18)","v":""},{"$f":"IF(ISBLANK('DE01-F12'!P1958),\"\",('DE01-F12'!P1958))","v":""},{"$f":"IF(ISBLANK('DE01-F12'!Q1958),\"\",('DE01-F12'!Q1958))","v":""},{"$f":"IF(ISBLANK('DE01-F12'!S1958),\"\",('DE01-F12'!S1958))","v":0}]
[{"$f":"IF(ISBLANK('DE01-F12'!N1959),\"\",('DE01-F12'!N1959))","v":""},{"$f":"MID('DE01-F12'!G1959,1,18)","v":""},{"$f":"IF(ISBLANK('DE01-F12'!P1959),\"\",('DE01-F12'!P1959))","v":""},{"$f":"IF(ISBLANK('DE01-F12'!Q1959),\"\",('DE01-F12'!Q1959))","v":""},{"$f":"IF(ISBLANK('DE01-F12'!S1959),\"\",('DE01-F12'!S1959))","v":0}]
[{"$f":"IF(ISBLANK('DE01-F12'!N1960),\"\",('DE01-F12'!N1960))","v":""},{"$f":"MID('DE01-F12'!G1960,1,18)","v":""},{"$f":"IF(ISBLANK('DE01-F12'!P1960),\"\",('DE01-F12'!P1960))","v":""},{"$f":"IF(ISBLANK('DE01-F12'!Q1960),\"\",('DE01-F12'!Q1960))","v":""},{"$f":"IF(ISBLANK('DE01-F12'!S1960),\"\",('DE01-F12'!S1960))","v":0}]
[{"$f":"IF(ISBLANK('DE01-F12'!N1961),\"\",('DE01-F12'!N1961))","v":""},{"$f":"MID('DE01-F12'!G1961,1,18)","v":""},{"$f":"IF(ISBLANK('DE01-F12'!P1961),\"\",('DE01-F12'!P1961))","v":""},{"$f":"IF(ISBLANK('DE01-F12'!Q1961),\"\",('DE01-F12'!Q1961))","v":""},{"$f":"IF(ISBLANK('DE01-F12'!S1961),\"\",('DE01-F12'!S1961))","v":0}]
[{"$f":"IF(ISBLANK('DE01-F12'!N1962),\"\",('DE01-F12'!N1962))","v":""},{"$f":"MID('DE01-F12'!G1962,1,18)","v":""},{"$f":"IF(ISBLANK('DE01-F12'!P1962),\"\",('DE01-F12'!P1962))","v":""},{"$f":"IF(ISBLANK('DE01-F12'!Q1962),\"\",('DE01-F12'!Q1962))","v":""},{"$f":"IF(ISBLANK('DE01-F12'!S1962),\"\",('DE01-F12'!S1962))","v":0}]
[{"$f":"IF(ISBLANK('DE01-F12'!N1963),\"\",('DE01-F12'!N1963))","v":""},{"$f":"MID('DE01-F12'!G1963,1,18)","v":""},{"$f":"IF(ISBLANK('DE01-F12'!P1963),\"\",('DE01-F12'!P1963))","v":""},{"$f":"IF(ISBLANK('DE01-F12'!Q1963),\"\",('DE01-F12'!Q1963))","v":""},{"$f":"IF(ISBLANK('DE01-F12'!S1963),\"\",('DE01-F12'!S1963))","v":0}]
[{"$f":"IF(ISBLANK('DE01-F12'!N1964),\"\",('DE01-F12'!N1964))","v":""},{"$f":"MID('DE01-F12'!G1964,1,18)","v":""},{"$f":"IF(ISBLANK('DE01-F12'!P1964),\"\",('DE01-F12'!P1964))","v":""},{"$f":"IF(ISBLANK('DE01-F12'!Q1964),\"\",('DE01-F12'!Q1964))","v":""},{"$f":"IF(ISBLANK('DE01-F12'!S1964),\"\",('DE01-F12'!S1964))","v":0}]
[{"$f":"IF(ISBLANK('DE01-F12'!N1965),\"\",('DE01-F12'!N1965))","v":""},{"$f":"MID('DE01-F12'!G1965,1,18)","v":""},{"$f":"IF(ISBLANK('DE01-F12'!P1965),\"\",('DE01-F12'!P1965))","v":""},{"$f":"IF(ISBLANK('DE01-F12'!Q1965),\"\",('DE01-F12'!Q1965))","v":""},{"$f":"IF(ISBLANK('DE01-F12'!S1965),\"\",('DE01-F12'!S1965))","v":0}]
[{"$f":"IF(ISBLANK('DE01-F12'!N1966),\"\",('DE01-F12'!N1966))","v":""},{"$f":"MID('DE01-F12'!G1966,1,18)","v":""},{"$f":"IF(ISBLANK('DE01-F12'!P1966),\"\",('DE01-F12'!P1966))","v":""},{"$f":"IF(ISBLANK('DE01-F12'!Q1966),\"\",('DE01-F12'!Q1966))","v":""},{"$f":"IF(ISBLANK('DE01-F12'!S1966),\"\",('DE01-F12'!S1966))","v":0}]
[{"$f":"IF(ISBLANK('DE01-F12'!N1967),\"\",('DE01-F12'!N1967))","v":""},{"$f":"MID('DE01-F12'!G1967,1,18)","v":""},{"$f":"IF(ISBLANK('DE01-F12'!P1967),\"\",('DE01-F12'!P1967))","v":""},{"$f":"IF(ISBLANK('DE01-F12'!Q1967),\"\",('DE01-F12'!Q1967))","v":""},{"$f":"IF(ISBLANK('DE01-F12'!S1967),\"\",('DE01-F12'!S1967))","v":0}]
[{"$f":"IF(ISBLANK('DE01-F12'!N1968),\"\",('DE01-F12'!N1968))","v":""},{"$f":"MID('DE01-F12'!G1968,1,18)","v":""},{"$f":"IF(ISBLANK('DE01-F12'!P1968),\"\",('DE01-F12'!P1968))","v":""},{"$f":"IF(ISBLANK('DE01-F12'!Q1968),\"\",('DE01-F12'!Q1968))","v":""},{"$f":"IF(ISBLANK('DE01-F12'!S1968),\"\",('DE01-F12'!S1968))","v":0}]
[{"$f":"IF(ISBLANK('DE01-F12'!N1969),\"\",('DE01-F12'!N1969))","v":""},{"$f":"MID('DE01-F12'!G1969,1,18)","v":""},{"$f":"IF(ISBLANK('DE01-F12'!P1969),\"\",('DE01-F12'!P1969))","v":""},{"$f":"IF(ISBLANK('DE01-F12'!Q1969),\"\",('DE01-F12'!Q1969))","v":""},{"$f":"IF(ISBLANK('DE01-F12'!S1969),\"\",('DE01-F12'!S1969))","v":0}]
[{"$f":"IF(ISBLANK('DE01-F12'!N1970),\"\",('DE01-F12'!N1970))","v":""},{"$f":"MID('DE01-F12'!G1970,1,18)","v":""},{"$f":"IF(ISBLANK('DE01-F12'!P1970),\"\",('DE01-F12'!P1970))","v":""},{"$f":"IF(ISBLANK('DE01-F12'!Q1970),\"\",('DE01-F12'!Q1970))","v":""},{"$f":"IF(ISBLANK('DE01-F12'!S1970),\"\",('DE01-F12'!S1970))","v":0}]
[{"$f":"IF(ISBLANK('DE01-F12'!N1971),\"\",('DE01-F12'!N1971))","v":""},{"$f":"MID('DE01-F12'!G1971,1,18)","v":""},{"$f":"IF(ISBLANK('DE01-F12'!P1971),\"\",('DE01-F12'!P1971))","v":""},{"$f":"IF(ISBLANK('DE01-F12'!Q1971),\"\",('DE01-F12'!Q1971))","v":""},{"$f":"IF(ISBLANK('DE01-F12'!S1971),\"\",('DE01-F12'!S1971))","v":0}]
[{"$f":"IF(ISBLANK('DE01-F12'!N1972),\"\",('DE01-F12'!N1972))","v":""},{"$f":"MID('DE01-F12'!G1972,1,18)","v":""},{"$f":"IF(ISBLANK('DE01-F12'!P1972),\"\",('DE01-F12'!P1972))","v":""},{"$f":"IF(ISBLANK('DE01-F12'!Q1972),\"\",('DE01-F12'!Q1972))","v":""},{"$f":"IF(ISBLANK('DE01-F12'!S1972),\"\",('DE01-F12'!S1972))","v":0}]
[{"$f":"IF(ISBLANK('DE01-F12'!N1973),\"\",('DE01-F12'!N1973))","v":""},{"$f":"MID('DE01-F12'!G1973,1,18)","v":""},{"$f":"IF(ISBLANK('DE01-F12'!P1973),\"\",('DE01-F12'!P1973))","v":""},{"$f":"IF(ISBLANK('DE01-F12'!Q1973),\"\",('DE01-F12'!Q1973))","v":""},{"$f":"IF(ISBLANK('DE01-F12'!S1973),\"\",('DE01-F12'!S1973))","v":0}]
[{"$f":"IF(ISBLANK('DE01-F12'!N1974),\"\",('DE01-F12'!N1974))","v":""},{"$f":"MID('DE01-F12'!G1974,1,18)","v":""},{"$f":"IF(ISBLANK('DE01-F12'!P1974),\"\",('DE01-F12'!P1974))","v":""},{"$f":"IF(ISBLANK('DE01-F12'!Q1974),\"\",('DE01-F12'!Q1974))","v":""},{"$f":"IF(ISBLANK('DE01-F12'!S1974),\"\",('DE01-F12'!S1974))","v":0}]
[{"$f":"IF(ISBLANK('DE01-F12'!N1975),\"\",('DE01-F12'!N1975))","v":""},{"$f":"MID('DE01-F12'!G1975,1,18)","v":""},{"$f":"IF(ISBLANK('DE01-F12'!P1975),\"\",('DE01-F12'!P1975))","v":""},{"$f":"IF(ISBLANK('DE01-F12'!Q1975),\"\",('DE01-F12'!Q1975))","v":""},{"$f":"IF(ISBLANK('DE01-F12'!S1975),\"\",('DE01-F12'!S1975))","v":0}]
[{"$f":"IF(ISBLANK('DE01-F12'!N1976),\"\",('DE01-F12'!N1976))","v":""},{"$f":"MID('DE01-F12'!G1976,1,18)","v":""},{"$f":"IF(ISBLANK('DE01-F12'!P1976),\"\",('DE01-F12'!P1976))","v":""},{"$f":"IF(ISBLANK('DE01-F12'!Q1976),\"\",('DE01-F12'!Q1976))","v":""},{"$f":"IF(ISBLANK('DE01-F12'!S1976),\"\",('DE01-F12'!S1976))","v":0}]
[{"$f":"IF(ISBLANK('DE01-F12'!N1977),\"\",('DE01-F12'!N1977))","v":""},{"$f":"MID('DE01-F12'!G1977,1,18)","v":""},{"$f":"IF(ISBLANK('DE01-F12'!P1977),\"\",('DE01-F12'!P1977))","v":""},{"$f":"IF(ISBLANK('DE01-F12'!Q1977),\"\",('DE01-F12'!Q1977))","v":""},{"$f":"IF(ISBLANK('DE01-F12'!S1977),\"\",('DE01-F12'!S1977))","v":0}]
[{"$f":"IF(ISBLANK('DE01-F12'!N1978),\"\",('DE01-F12'!N1978))","v":""},{"$f":"MID('DE01-F12'!G1978,1,18)","v":""},{"$f":"IF(ISBLANK('DE01-F12'!P1978),\"\",('DE01-F12'!P1978))","v":""},{"$f":"IF(ISBLANK('DE01-F12'!Q1978),\"\",('DE01-F12'!Q1978))","v":""},{"$f":"IF(ISBLANK('DE01-F12'!S1978),\"\",('DE01-F12'!S1978))","v":0}]
[{"$f":"IF(ISBLANK('DE01-F12'!N1979),\"\",('DE01-F12'!N1979))","v":""},{"$f":"MID('DE01-F12'!G1979,1,18)","v":""},{"$f":"IF(ISBLANK('DE01-F12'!P1979),\"\",('DE01-F12'!P1979))","v":""},{"$f":"IF(ISBLANK('DE01-F12'!Q1979),\"\",('DE01-F12'!Q1979))","v":""},{"$f":"IF(ISBLANK('DE01-F12'!S1979),\"\",('DE01-F12'!S1979))","v":0}]
[{"$f":"IF(ISBLANK('DE01-F12'!N1980),\"\",('DE01-F12'!N1980))","v":""},{"$f":"MID('DE01-F12'!G1980,1,18)","v":""},{"$f":"IF(ISBLANK('DE01-F12'!P1980),\"\",('DE01-F12'!P1980))","v":""},{"$f":"IF(ISBLANK('DE01-F12'!Q1980),\"\",('DE01-F12'!Q1980))","v":""},{"$f":"IF(ISBLANK('DE01-F12'!S1980),\"\",('DE01-F12'!S1980))","v":0}]
[{"$f":"IF(ISBLANK('DE01-F12'!N1981),\"\",('DE01-F12'!N1981))","v":""},{"$f":"MID('DE01-F12'!G1981,1,18)","v":""},{"$f":"IF(ISBLANK('DE01-F12'!P1981),\"\",('DE01-F12'!P1981))","v":""},{"$f":"IF(ISBLANK('DE01-F12'!Q1981),\"\",('DE01-F12'!Q1981))","v":""},{"$f":"IF(ISBLANK('DE01-F12'!S1981),\"\",('DE01-F12'!S1981))","v":0}]
[{"$f":"IF(ISBLANK('DE01-F12'!N1982),\"\",('DE01-F12'!N1982))","v":""},{"$f":"MID('DE01-F12'!G1982,1,18)","v":""},{"$f":"IF(ISBLANK('DE01-F12'!P1982),\"\",('DE01-F12'!P1982))","v":""},{"$f":"IF(ISBLANK('DE01-F12'!Q1982),\"\",('DE01-F12'!Q1982))","v":""},{"$f":"IF(ISBLANK('DE01-F12'!S1982),\"\",('DE01-F12'!S1982))","v":0}]
[{"$f":"IF(ISBLANK('DE01-F12'!N1983),\"\",('DE01-F12'!N1983))","v":""},{"$f":"MID('DE01-F12'!G1983,1,18)","v":""},{"$f":"IF(ISBLANK('DE01-F12'!P1983),\"\",('DE01-F12'!P1983))","v":""},{"$f":"IF(ISBLANK('DE01-F12'!Q1983),\"\",('DE01-F12'!Q1983))","v":""},{"$f":"IF(ISBLANK('DE01-F12'!S1983),\"\",('DE01-F12'!S1983))","v":0}]
[{"$f":"IF(ISBLANK('DE01-F12'!N1984),\"\",('DE01-F12'!N1984))","v":""},{"$f":"MID('DE01-F12'!G1984,1,18)","v":""},{"$f":"IF(ISBLANK('DE01-F12'!P1984),\"\",('DE01-F12'!P1984))","v":""},{"$f":"IF(ISBLANK('DE01-F12'!Q1984),\"\",('DE01-F12'!Q1984))","v":""},{"$f":"IF(ISBLANK('DE01-F12'!S1984),\"\",('DE01-F12'!S1984))","v":0}]
[{"$f":"IF(ISBLANK('DE01-F12'!N1985),\"\",('DE01-F12'!N1985))","v":""},{"$f":"MID('DE01-F12'!G1985,1,18)","v":""},{"$f":"IF(ISBLANK('DE01-F12'!P1985),\"\",('DE01-F12'!P1985))","v":""},{"$f":"IF(ISBLANK('DE01-F12'!Q1985),\"\",('DE01-F12'!Q1985))","v":""},{"$f":"IF(ISBLANK('DE01-F12'!S1985),\"\",('DE01-F12'!S1985))","v":0}]
[{"$f":"IF(ISBLANK('DE01-F12'!N1986),\"\",('DE01-F12'!N1986))","v":""},{"$f":"MID('DE01-F12'!G1986,1,18)","v":""},{"$f":"IF(ISBLANK('DE01-F12'!P1986),\"\",('DE01-F12'!P1986))","v":""},{"$f":"IF(ISBLANK('DE01-F12'!Q1986),\"\",('DE01-F12'!Q1986))","v":""},{"$f":"IF(ISBLANK('DE01-F12'!S1986),\"\",('DE01-F12'!S1986))","v":0}]
[{"$f":"IF(ISBLANK('DE01-F12'!N1987),\"\",('DE01-F12'!N1987))","v":""},{"$f":"MID('DE01-F12'!G1987,1,18)","v":""},{"$f":"IF(ISBLANK('DE01-F12'!P1987),\"\",('DE01-F12'!P1987))","v":""},{"$f":"IF(ISBLANK('DE01-F12'!Q1987),\"\",('DE01-F12'!Q1987))","v":""},{"$f":"IF(ISBLANK('DE01-F12'!S1987),\"\",('DE01-F12'!S1987))","v":0}]
[{"$f":"IF(ISBLANK('DE01-F12'!N1988),\"\",('DE01-F12'!N1988))","v":""},{"$f":"MID('DE01-F12'!G1988,1,18)","v":""},{"$f":"IF(ISBLANK('DE01-F12'!P1988),\"\",('DE01-F12'!P1988))","v":""},{"$f":"IF(ISBLANK('DE01-F12'!Q1988),\"\",('DE01-F12'!Q1988))","v":""},{"$f":"IF(ISBLANK('DE01-F12'!S1988),\"\",('DE01-F12'!S1988))","v":0}]
[{"$f":"IF(ISBLANK('DE01-F12'!N1989),\"\",('DE01-F12'!N1989))","v":""},{"$f":"MID('DE01-F12'!G1989,1,18)","v":""},{"$f":"IF(ISBLANK('DE01-F12'!P1989),\"\",('DE01-F12'!P1989))","v":""},{"$f":"IF(ISBLANK('DE01-F12'!Q1989),\"\",('DE01-F12'!Q1989))","v":""},{"$f":"IF(ISBLANK('DE01-F12'!S1989),\"\",('DE01-F12'!S1989))","v":0}]
[{"$f":"IF(ISBLANK('DE01-F12'!N1990),\"\",('DE01-F12'!N1990))","v":""},{"$f":"MID('DE01-F12'!G1990,1,18)","v":""},{"$f":"IF(ISBLANK('DE01-F12'!P1990),\"\",('DE01-F12'!P1990))","v":""},{"$f":"IF(ISBLANK('DE01-F12'!Q1990),\"\",('DE01-F12'!Q1990))","v":""},{"$f":"IF(ISBLANK('DE01-F12'!S1990),\"\",('DE01-F12'!S1990))","v":0}]
[{"$f":"IF(ISBLANK('DE01-F12'!N1991),\"\",('DE01-F12'!N1991))","v":""},{"$f":"MID('DE01-F12'!G1991,1,18)","v":""},{"$f":"IF(ISBLANK('DE01-F12'!P1991),\"\",('DE01-F12'!P1991))","v":""},{"$f":"IF(ISBLANK('DE01-F12'!Q1991),\"\",('DE01-F12'!Q1991))","v":""},{"$f":"IF(ISBLANK('DE01-F12'!S1991),\"\",('DE01-F12'!S1991))","v":0}]
[{"$f":"IF(ISBLANK('DE01-F12'!N1992),\"\",('DE01-F12'!N1992))","v":""},{"$f":"MID('DE01-F12'!G1992,1,18)","v":""},{"$f":"IF(ISBLANK('DE01-F12'!P1992),\"\",('DE01-F12'!P1992))","v":""},{"$f":"IF(ISBLANK('DE01-F12'!Q1992),\"\",('DE01-F12'!Q1992))","v":""},{"$f":"IF(ISBLANK('DE01-F12'!S1992),\"\",('DE01-F12'!S1992))","v":0}]
[{"$f":"IF(ISBLANK('DE01-F12'!N1993),\"\",('DE01-F12'!N1993))","v":""},{"$f":"MID('DE01-F12'!G1993,1,18)","v":""},{"$f":"IF(ISBLANK('DE01-F12'!P1993),\"\",('DE01-F12'!P1993))","v":""},{"$f":"IF(ISBLANK('DE01-F12'!Q1993),\"\",('DE01-F12'!Q1993))","v":""},{"$f":"IF(ISBLANK('DE01-F12'!S1993),\"\",('DE01-F12'!S1993))","v":0}]
[{"$f":"IF(ISBLANK('DE01-F12'!N1994),\"\",('DE01-F12'!N1994))","v":""},{"$f":"MID('DE01-F12'!G1994,1,18)","v":""},{"$f":"IF(ISBLANK('DE01-F12'!P1994),\"\",('DE01-F12'!P1994))","v":""},{"$f":"IF(ISBLANK('DE01-F12'!Q1994),\"\",('DE01-F12'!Q1994))","v":""},{"$f":"IF(ISBLANK('DE01-F12'!S1994),\"\",('DE01-F12'!S1994))","v":0}]
[{"$f":"IF(ISBLANK('DE01-F12'!N1995),\"\",('DE01-F12'!N1995))","v":""},{"$f":"MID('DE01-F12'!G1995,1,18)","v":""},{"$f":"IF(ISBLANK('DE01-F12'!P1995),\"\",('DE01-F12'!P1995))","v":""},{"$f":"IF(ISBLANK('DE01-F12'!Q1995),\"\",('DE01-F12'!Q1995))","v":""},{"$f":"IF(ISBLANK('DE01-F12'!S1995),\"\",('DE01-F12'!S1995))","v":0}]
[{"$f":"IF(ISBLANK('DE01-F12'!N1996),\"\",('DE01-F12'!N1996))","v":""},{"$f":"MID('DE01-F12'!G1996,1,18)","v":""},{"$f":"IF(ISBLANK('DE01-F12'!P1996),\"\",('DE01-F12'!P1996))","v":""},{"$f":"IF(ISBLANK('DE01-F12'!Q1996),\"\",('DE01-F12'!Q1996))","v":""},{"$f":"IF(ISBLANK('DE01-F12'!S1996),\"\",('DE01-F12'!S1996))","v":0}]
[{"$f":"IF(ISBLANK('DE01-F12'!N1997),\"\",('DE01-F12'!N1997))","v":""},{"$f":"MID('DE01-F12'!G1997,1,18)","v":""},{"$f":"IF(ISBLANK('DE01-F12'!P1997),\"\",('DE01-F12'!P1997))","v":""},{"$f":"IF(ISBLANK('DE01-F12'!Q1997),\"\",('DE01-F12'!Q1997))","v":""},{"$f":"IF(ISBLANK('DE01-F12'!S1997),\"\",('DE01-F12'!S1997))","v":0}]
[{"$f":"IF(ISBLANK('DE01-F12'!N1998),\"\",('DE01-F12'!N1998))","v":""},{"$f":"MID('DE01-F12'!G1998,1,18)","v":""},{"$f":"IF(ISBLANK('DE01-F12'!P1998),\"\",('DE01-F12'!P1998))","v":""},{"$f":"IF(ISBLANK('DE01-F12'!Q1998),\"\",('DE01-F12'!Q1998))","v":""},{"$f":"IF(ISBLANK('DE01-F12'!S1998),\"\",('DE01-F12'!S1998))","v":0}]
[{"$f":"IF(ISBLANK('DE01-F12'!N1999),\"\",('DE01-F12'!N1999))","v":""},{"$f":"MID('DE01-F12'!G1999,1,18)","v":""},{"$f":"IF(ISBLANK('DE01-F12'!P1999),\"\",('DE01-F12'!P1999))","v":""},{"$f":"IF(ISBLANK('DE01-F12'!Q1999),\"\",('DE01-F12'!Q1999))","v":""},{"$f":"IF(ISBLANK('DE01-F12'!S1999),\"\",('DE01-F12'!S1999))","v":0}]
[{"$f":"IF(ISBLANK('DE01-F12'!N2000),\"\",('DE01-F12'!N2000))","v":""},{"$f":"MID('DE01-F12'!G2000,1,18)","v":""},{"$f":"IF(ISBLANK('DE01-F12'!P2000),\"\",('DE01-F12'!P2000))","v":""},{"$f":"IF(ISBLANK('DE01-F12'!Q2000),\"\",('DE01-F12'!Q2000))","v":""},{"$f":"IF(ISBLANK('DE01-F12'!S2000),\"\",('DE01-F12'!S2000))","v":0}]
[{"$f":"IF(ISBLANK('DE01-F12'!N2001),\"\",('DE01-F12'!N2001))","v":""},{"$f":"MID('DE01-F12'!G2001,1,18)","v":""},{"$f":"IF(ISBLANK('DE01-F12'!P2001),\"\",('DE01-F12'!P2001))","v":""},{"$f":"IF(ISBLANK('DE01-F12'!Q2001),\"\",('DE01-F12'!Q2001))","v":""},{"$f":"IF(ISBLANK('DE01-F12'!S2001),\"\",('DE01-F12'!S2001))","v":0}]
[{"$f":"IF(ISBLANK('DE01-F12'!N2002),\"\",('DE01-F12'!N2002))","v":""},{"$f":"MID('DE01-F12'!G2002,1,18)","v":""},{"$f":"IF(ISBLANK('DE01-F12'!P2002),\"\",('DE01-F12'!P2002))","v":""},{"$f":"IF(ISBLANK('DE01-F12'!Q2002),\"\",('DE01-F12'!Q2002))","v":""},{"$f":"IF(ISBLANK('DE01-F12'!S2002),\"\",('DE01-F12'!S2002))","v":0}]
[{"$f":"IF(ISBLANK('DE01-F12'!N2003),\"\",('DE01-F12'!N2003))","v":""},{"$f":"MID('DE01-F12'!G2003,1,18)","v":""},{"$f":"IF(ISBLANK('DE01-F12'!P2003),\"\",('DE01-F12'!P2003))","v":""},{"$f":"IF(ISBLANK('DE01-F12'!Q2003),\"\",('DE01-F12'!Q2003))","v":""},{"$f":"IF(ISBLANK('DE01-F12'!S2003),\"\",('DE01-F12'!S2003))","v":0}]
[{"$f":"IF(ISBLANK('DE01-F12'!N2004),\"\",('DE01-F12'!N2004))","v":""},{"$f":"MID('DE01-F12'!G2004,1,18)","v":""},{"$f":"IF(ISBLANK('DE01-F12'!P2004),\"\",('DE01-F12'!P2004))","v":""},{"$f":"IF(ISBLANK('DE01-F12'!Q2004),\"\",('DE01-F12'!Q2004))","v":""},{"$f":"IF(ISBLANK('DE01-F12'!S2004),\"\",('DE01-F12'!S2004))","v":0}]
[{"$f":"IF(ISBLANK('DE01-F12'!N2005),\"\",('DE01-F12'!N2005))","v":""},{"$f":"MID('DE01-F12'!G2005,1,18)","v":""},{"$f":"IF(ISBLANK('DE01-F12'!P2005),\"\",('DE01-F12'!P2005))","v":""},{"$f":"IF(ISBLANK('DE01-F12'!Q2005),\"\",('DE01-F12'!Q2005))","v":""},{"$f":"IF(ISBLANK('DE01-F12'!S2005),\"\",('DE01-F12'!S2005))","v":0}]
[{"$f":"IF(ISBLANK('DE01-F12'!N2006),\"\",('DE01-F12'!N2006))","v":""},{"$f":"MID('DE01-F12'!G2006,1,18)","v":""},{"$f":"IF(ISBLANK('DE01-F12'!P2006),\"\",('DE01-F12'!P2006))","v":""},{"$f":"IF(ISBLANK('DE01-F12'!Q2006),\"\",('DE01-F12'!Q2006))","v":""},{"$f":"IF(ISBLANK('DE01-F12'!S2006),\"\",('DE01-F12'!S2006))","v":0}]
[{"$f":"IF(ISBLANK('DE01-F12'!N2007),\"\",('DE01-F12'!N2007))","v":""},{"$f":"MID('DE01-F12'!G2007,1,18)","v":""},{"$f":"IF(ISBLANK('DE01-F12'!P2007),\"\",('DE01-F12'!P2007))","v":""},{"$f":"IF(ISBLANK('DE01-F12'!Q2007),\"\",('DE01-F12'!Q2007))","v":""},{"$f":"IF(ISBLANK('DE01-F12'!S2007),\"\",('DE01-F12'!S2007))","v":0}]
[{"$f":"IF(ISBLANK('DE01-F12'!N2008),\"\",('DE01-F12'!N2008))","v":""},{"$f":"MID('DE01-F12'!G2008,1,18)","v":""},{"$f":"IF(ISBLANK('DE01-F12'!P2008),\"\",('DE01-F12'!P2008))","v":""},{"$f":"IF(ISBLANK('DE01-F12'!Q2008),\"\",('DE01-F12'!Q2008))","v":""},{"$f":"IF(ISBLANK('DE01-F12'!S2008),\"\",('DE01-F12'!S2008))","v":0}]
[{"$f":"IF(ISBLANK('DE01-F12'!N2009),\"\",('DE01-F12'!N2009))","v":""},{"$f":"MID('DE01-F12'!G2009,1,18)","v":""},{"$f":"IF(ISBLANK('DE01-F12'!P2009),\"\",('DE01-F12'!P2009))","v":""},{"$f":"IF(ISBLANK('DE01-F12'!Q2009),\"\",('DE01-F12'!Q2009))","v":""},{"$f":"IF(ISBLANK('DE01-F12'!S2009),\"\",('DE01-F12'!S2009))","v":0}]
[{"$f":"IF(ISBLANK('DE01-F12'!N2010),\"\",('DE01-F12'!N2010))","v":""},{"$f":"MID('DE01-F12'!G2010,1,18)","v":""},{"$f":"IF(ISBLANK('DE01-F12'!P2010),\"\",('DE01-F12'!P2010))","v":""},{"$f":"IF(ISBLANK('DE01-F12'!Q2010),\"\",('DE01-F12'!Q2010))","v":""},{"$f":"IF(ISBLANK('DE01-F12'!S2010),\"\",('DE01-F12'!S2010))","v":0}]
[{"$f":"IF(ISBLANK('DE01-F12'!N2011),\"\",('DE01-F12'!N2011))","v":""},{"$f":"MID('DE01-F12'!G2011,1,18)","v":""},{"$f":"IF(ISBLANK('DE01-F12'!P2011),\"\",('DE01-F12'!P2011))","v":""},{"$f":"IF(ISBLANK('DE01-F12'!Q2011),\"\",('DE01-F12'!Q2011))","v":""},{"$f":"IF(ISBLANK('DE01-F12'!S2011),\"\",('DE01-F12'!S2011))","v":0}]
[{"$f":"IF(ISBLANK('DE01-F12'!N2012),\"\",('DE01-F12'!N2012))","v":""},{"$f":"MID('DE01-F12'!G2012,1,18)","v":""},{"$f":"IF(ISBLANK('DE01-F12'!P2012),\"\",('DE01-F12'!P2012))","v":""},{"$f":"IF(ISBLANK('DE01-F12'!Q2012),\"\",('DE01-F12'!Q2012))","v":""},{"$f":"IF(ISBLANK('DE01-F12'!S2012),\"\",('DE01-F12'!S2012))","v":0}]
[{"$f":"IF(ISBLANK('DE01-F12'!N2013),\"\",('DE01-F12'!N2013))","v":""},{"$f":"MID('DE01-F12'!G2013,1,18)","v":""},{"$f":"IF(ISBLANK('DE01-F12'!P2013),\"\",('DE01-F12'!P2013))","v":""},{"$f":"IF(ISBLANK('DE01-F12'!Q2013),\"\",('DE01-F12'!Q2013))","v":""},{"$f":"IF(ISBLANK('DE01-F12'!S2013),\"\",('DE01-F12'!S2013))","v":0}]
[{"$f":"IF(ISBLANK('DE01-F12'!N2014),\"\",('DE01-F12'!N2014))","v":""},{"$f":"MID('DE01-F12'!G2014,1,18)","v":""},{"$f":"IF(ISBLANK('DE01-F12'!P2014),\"\",('DE01-F12'!P2014))","v":""},{"$f":"IF(ISBLANK('DE01-F12'!Q2014),\"\",('DE01-F12'!Q2014))","v":""},{"$f":"IF(ISBLANK('DE01-F12'!S2014),\"\",('DE01-F12'!S2014))","v":0}]
[{"$f":"IF(ISBLANK('DE01-F12'!N2015),\"\",('DE01-F12'!N2015))","v":""},{"$f":"MID('DE01-F12'!G2015,1,18)","v":""},{"$f":"IF(ISBLANK('DE01-F12'!P2015),\"\",('DE01-F12'!P2015))","v":""},{"$f":"IF(ISBLANK('DE01-F12'!Q2015),\"\",('DE01-F12'!Q2015))","v":""},{"$f":"IF(ISBLANK('DE01-F12'!S2015),\"\",('DE01-F12'!S2015))","v":0}]
[{"$f":"IF(ISBLANK('DE01-F12'!N2016),\"\",('DE01-F12'!N2016))","v":""},{"$f":"MID('DE01-F12'!G2016,1,18)","v":""},{"$f":"IF(ISBLANK('DE01-F12'!P2016),\"\",('DE01-F12'!P2016))","v":""},{"$f":"IF(ISBLANK('DE01-F12'!Q2016),\"\",('DE01-F12'!Q2016))","v":""},{"$f":"IF(ISBLANK('DE01-F12'!S2016),\"\",('DE01-F12'!S2016))","v":0}]
[{"$f":"IF(ISBLANK('DE01-F12'!N2017),\"\",('DE01-F12'!N2017))","v":""},{"$f":"MID('DE01-F12'!G2017,1,18)","v":""},{"$f":"IF(ISBLANK('DE01-F12'!P2017),\"\",('DE01-F12'!P2017))","v":""},{"$f":"IF(ISBLANK('DE01-F12'!Q2017),\"\",('DE01-F12'!Q2017))","v":""},{"$f":"IF(ISBLANK('DE01-F12'!S2017),\"\",('DE01-F12'!S2017))","v":0}]
[{"$f":"IF(ISBLANK('DE01-F12'!N2018),\"\",('DE01-F12'!N2018))","v":""},{"$f":"MID('DE01-F12'!G2018,1,18)","v":""},{"$f":"IF(ISBLANK('DE01-F12'!P2018),\"\",('DE01-F12'!P2018))","v":""},{"$f":"IF(ISBLANK('DE01-F12'!Q2018),\"\",('DE01-F12'!Q2018))","v":""},{"$f":"IF(ISBLANK('DE01-F12'!S2018),\"\",('DE01-F12'!S2018))","v":0}]
[{"$f":"IF(ISBLANK('DE01-F12'!N2019),\"\",('DE01-F12'!N2019))","v":""},{"$f":"MID('DE01-F12'!G2019,1,18)","v":""},{"$f":"IF(ISBLANK('DE01-F12'!P2019),\"\",('DE01-F12'!P2019))","v":""},{"$f":"IF(ISBLANK('DE01-F12'!Q2019),\"\",('DE01-F12'!Q2019))","v":""},{"$f":"IF(ISBLANK('DE01-F12'!S2019),\"\",('DE01-F12'!S2019))","v":0}]
[{"$f":"IF(ISBLANK('DE01-F12'!N2020),\"\",('DE01-F12'!N2020))","v":""},{"$f":"MID('DE01-F12'!G2020,1,18)","v":""},{"$f":"IF(ISBLANK('DE01-F12'!P2020),\"\",('DE01-F12'!P2020))","v":""},{"$f":"IF(ISBLANK('DE01-F12'!Q2020),\"\",('DE01-F12'!Q2020))","v":""},{"$f":"IF(ISBLANK('DE01-F12'!S2020),\"\",('DE01-F12'!S2020))","v":0}]
[{"$f":"IF(ISBLANK('DE01-F12'!N2021),\"\",('DE01-F12'!N2021))","v":""},{"$f":"MID('DE01-F12'!G2021,1,18)","v":""},{"$f":"IF(ISBLANK('DE01-F12'!P2021),\"\",('DE01-F12'!P2021))","v":""},{"$f":"IF(ISBLANK('DE01-F12'!Q2021),\"\",('DE01-F12'!Q2021))","v":""},{"$f":"IF(ISBLANK('DE01-F12'!S2021),\"\",('DE01-F12'!S2021))","v":0}]
[{"$f":"IF(ISBLANK('DE01-F12'!N2022),\"\",('DE01-F12'!N2022))","v":""},{"$f":"MID('DE01-F12'!G2022,1,18)","v":""},{"$f":"IF(ISBLANK('DE01-F12'!P2022),\"\",('DE01-F12'!P2022))","v":""},{"$f":"IF(ISBLANK('DE01-F12'!Q2022),\"\",('DE01-F12'!Q2022))","v":""},{"$f":"IF(ISBLANK('DE01-F12'!S2022),\"\",('DE01-F12'!S2022))","v":0}]
[{"$f":"IF(ISBLANK('DE01-F12'!N2023),\"\",('DE01-F12'!N2023))","v":""},{"$f":"MID('DE01-F12'!G2023,1,18)","v":""},{"$f":"IF(ISBLANK('DE01-F12'!P2023),\"\",('DE01-F12'!P2023))","v":""},{"$f":"IF(ISBLANK('DE01-F12'!Q2023),\"\",('DE01-F12'!Q2023))","v":""},{"$f":"IF(ISBLANK('DE01-F12'!S2023),\"\",('DE01-F12'!S2023))","v":0}]
[{"$f":"IF(ISBLANK('DE01-F12'!N2024),\"\",('DE01-F12'!N2024))","v":""},{"$f":"MID('DE01-F12'!G2024,1,18)","v":""},{"$f":"IF(ISBLANK('DE01-F12'!P2024),\"\",('DE01-F12'!P2024))","v":""},{"$f":"IF(ISBLANK('DE01-F12'!Q2024),\"\",('DE01-F12'!Q2024))","v":""},{"$f":"IF(ISBLANK('DE01-F12'!S2024),\"\",('DE01-F12'!S2024))","v":0}]
[{"$f":"IF(ISBLANK('DE01-F12'!N2025),\"\",('DE01-F12'!N2025))","v":""},{"$f":"MID('DE01-F12'!G2025,1,18)","v":""},{"$f":"IF(ISBLANK('DE01-F12'!P2025),\"\",('DE01-F12'!P2025))","v":""},{"$f":"IF(ISBLANK('DE01-F12'!Q2025),\"\",('DE01-F12'!Q2025))","v":""},{"$f":"IF(ISBLANK('DE01-F12'!S2025),\"\",('DE01-F12'!S2025))","v":0}]
[{"$f":"IF(ISBLANK('DE01-F12'!N2026),\"\",('DE01-F12'!N2026))","v":""},{"$f":"MID('DE01-F12'!G2026,1,18)","v":""},{"$f":"IF(ISBLANK('DE01-F12'!P2026),\"\",('DE01-F12'!P2026))","v":""},{"$f":"IF(ISBLANK('DE01-F12'!Q2026),\"\",('DE01-F12'!Q2026))","v":""},{"$f":"IF(ISBLANK('DE01-F12'!S2026),\"\",('DE01-F12'!S2026))","v":0}]
[{"$f":"IF(ISBLANK('DE01-F12'!N2027),\"\",('DE01-F12'!N2027))","v":""},{"$f":"MID('DE01-F12'!G2027,1,18)","v":""},{"$f":"IF(ISBLANK('DE01-F12'!P2027),\"\",('DE01-F12'!P2027))","v":""},{"$f":"IF(ISBLANK('DE01-F12'!Q2027),\"\",('DE01-F12'!Q2027))","v":""},{"$f":"IF(ISBLANK('DE01-F12'!S2027),\"\",('DE01-F12'!S2027))","v":0}]
[{"$f":"IF(ISBLANK('DE01-F12'!N2028),\"\",('DE01-F12'!N2028))","v":""},{"$f":"MID('DE01-F12'!G2028,1,18)","v":""},{"$f":"IF(ISBLANK('DE01-F12'!P2028),\"\",('DE01-F12'!P2028))","v":""},{"$f":"IF(ISBLANK('DE01-F12'!Q2028),\"\",('DE01-F12'!Q2028))","v":""},{"$f":"IF(ISBLANK('DE01-F12'!S2028),\"\",('DE01-F12'!S2028))","v":0}]
[{"$f":"IF(ISBLANK('DE01-F12'!N2029),\"\",('DE01-F12'!N2029))","v":""},{"$f":"MID('DE01-F12'!G2029,1,18)","v":""},{"$f":"IF(ISBLANK('DE01-F12'!P2029),\"\",('DE01-F12'!P2029))","v":""},{"$f":"IF(ISBLANK('DE01-F12'!Q2029),\"\",('DE01-F12'!Q2029))","v":""},{"$f":"IF(ISBLANK('DE01-F12'!S2029),\"\",('DE01-F12'!S2029))","v":0}]
[{"$f":"IF(ISBLANK('DE01-F12'!N2030),\"\",('DE01-F12'!N2030))","v":""},{"$f":"MID('DE01-F12'!G2030,1,18)","v":""},{"$f":"IF(ISBLANK('DE01-F12'!P2030),\"\",('DE01-F12'!P2030))","v":""},{"$f":"IF(ISBLANK('DE01-F12'!Q2030),\"\",('DE01-F12'!Q2030))","v":""},{"$f":"IF(ISBLANK('DE01-F12'!S2030),\"\",('DE01-F12'!S2030))","v":0}]
[{"$f":"IF(ISBLANK('DE01-F12'!N2031),\"\",('DE01-F12'!N2031))","v":""},{"$f":"MID('DE01-F12'!G2031,1,18)","v":""},{"$f":"IF(ISBLANK('DE01-F12'!P2031),\"\",('DE01-F12'!P2031))","v":""},{"$f":"IF(ISBLANK('DE01-F12'!Q2031),\"\",('DE01-F12'!Q2031))","v":""},{"$f":"IF(ISBLANK('DE01-F12'!S2031),\"\",('DE01-F12'!S2031))","v":0}]
[{"$f":"IF(ISBLANK('DE01-F12'!N2032),\"\",('DE01-F12'!N2032))","v":""},{"$f":"MID('DE01-F12'!G2032,1,18)","v":""},{"$f":"IF(ISBLANK('DE01-F12'!P2032),\"\",('DE01-F12'!P2032))","v":""},{"$f":"IF(ISBLANK('DE01-F12'!Q2032),\"\",('DE01-F12'!Q2032))","v":""},{"$f":"IF(ISBLANK('DE01-F12'!S2032),\"\",('DE01-F12'!S2032))","v":0}]
[{"$f":"IF(ISBLANK('DE01-F12'!N2033),\"\",('DE01-F12'!N2033))","v":""},{"$f":"MID('DE01-F12'!G2033,1,18)","v":""},{"$f":"IF(ISBLANK('DE01-F12'!P2033),\"\",('DE01-F12'!P2033))","v":""},{"$f":"IF(ISBLANK('DE01-F12'!Q2033),\"\",('DE01-F12'!Q2033))","v":""},{"$f":"IF(ISBLANK('DE01-F12'!S2033),\"\",('DE01-F12'!S2033))","v":0}]
[{"$f":"IF(ISBLANK('DE01-F12'!N2034),\"\",('DE01-F12'!N2034))","v":""},{"$f":"MID('DE01-F12'!G2034,1,18)","v":""},{"$f":"IF(ISBLANK('DE01-F12'!P2034),\"\",('DE01-F12'!P2034))","v":""},{"$f":"IF(ISBLANK('DE01-F12'!Q2034),\"\",('DE01-F12'!Q2034))","v":""},{"$f":"IF(ISBLANK('DE01-F12'!S2034),\"\",('DE01-F12'!S2034))","v":0}]
[{"$f":"IF(ISBLANK('DE01-F12'!N2035),\"\",('DE01-F12'!N2035))","v":""},{"$f":"MID('DE01-F12'!G2035,1,18)","v":""},{"$f":"IF(ISBLANK('DE01-F12'!P2035),\"\",('DE01-F12'!P2035))","v":""},{"$f":"IF(ISBLANK('DE01-F12'!Q2035),\"\",('DE01-F12'!Q2035))","v":""},{"$f":"IF(ISBLANK('DE01-F12'!S2035),\"\",('DE01-F12'!S2035))","v":0}]
[{"$f":"IF(ISBLANK('DE01-F12'!N2036),\"\",('DE01-F12'!N2036))","v":""},{"$f":"MID('DE01-F12'!G2036,1,18)","v":""},{"$f":"IF(ISBLANK('DE01-F12'!P2036),\"\",('DE01-F12'!P2036))","v":""},{"$f":"IF(ISBLANK('DE01-F12'!Q2036),\"\",('DE01-F12'!Q2036))","v":""},{"$f":"IF(ISBLANK('DE01-F12'!S2036),\"\",('DE01-F12'!S2036))","v":0}]
[{"$f":"IF(ISBLANK('DE01-F12'!N2037),\"\",('DE01-F12'!N2037))","v":""},{"$f":"MID('DE01-F12'!G2037,1,18)","v":""},{"$f":"IF(ISBLANK('DE01-F12'!P2037),\"\",('DE01-F12'!P2037))","v":""},{"$f":"IF(ISBLANK('DE01-F12'!Q2037),\"\",('DE01-F12'!Q2037))","v":""},{"$f":"IF(ISBLANK('DE01-F12'!S2037),\"\",('DE01-F12'!S2037))","v":0}]
[{"$f":"IF(ISBLANK('DE01-F12'!N2038),\"\",('DE01-F12'!N2038))","v":""},{"$f":"MID('DE01-F12'!G2038,1,18)","v":""},{"$f":"IF(ISBLANK('DE01-F12'!P2038),\"\",('DE01-F12'!P2038))","v":""},{"$f":"IF(ISBLANK('DE01-F12'!Q2038),\"\",('DE01-F12'!Q2038))","v":""},{"$f":"IF(ISBLANK('DE01-F12'!S2038),\"\",('DE01-F12'!S2038))","v":0}]
[{"$f":"IF(ISBLANK('DE01-F12'!N2039),\"\",('DE01-F12'!N2039))","v":""},{"$f":"MID('DE01-F12'!G2039,1,18)","v":""},{"$f":"IF(ISBLANK('DE01-F12'!P2039),\"\",('DE01-F12'!P2039))","v":""},{"$f":"IF(ISBLANK('DE01-F12'!Q2039),\"\",('DE01-F12'!Q2039))","v":""},{"$f":"IF(ISBLANK('DE01-F12'!S2039),\"\",('DE01-F12'!S2039))","v":0}]
[{"$f":"IF(ISBLANK('DE01-F12'!N2040),\"\",('DE01-F12'!N2040))","v":""},{"$f":"MID('DE01-F12'!G2040,1,18)","v":""},{"$f":"IF(ISBLANK('DE01-F12'!P2040),\"\",('DE01-F12'!P2040))","v":""},{"$f":"IF(ISBLANK('DE01-F12'!Q2040),\"\",('DE01-F12'!Q2040))","v":""},{"$f":"IF(ISBLANK('DE01-F12'!S2040),\"\",('DE01-F12'!S2040))","v":0}]
[{"$f":"IF(ISBLANK('DE01-F12'!N2041),\"\",('DE01-F12'!N2041))","v":""},{"$f":"MID('DE01-F12'!G2041,1,18)","v":""},{"$f":"IF(ISBLANK('DE01-F12'!P2041),\"\",('DE01-F12'!P2041))","v":""},{"$f":"IF(ISBLANK('DE01-F12'!Q2041),\"\",('DE01-F12'!Q2041))","v":""},{"$f":"IF(ISBLANK('DE01-F12'!S2041),\"\",('DE01-F12'!S2041))","v":0}]
[{"$f":"IF(ISBLANK('DE01-F12'!N2042),\"\",('DE01-F12'!N2042))","v":""},{"$f":"MID('DE01-F12'!G2042,1,18)","v":""},{"$f":"IF(ISBLANK('DE01-F12'!P2042),\"\",('DE01-F12'!P2042))","v":""},{"$f":"IF(ISBLANK('DE01-F12'!Q2042),\"\",('DE01-F12'!Q2042))","v":""},{"$f":"IF(ISBLANK('DE01-F12'!S2042),\"\",('DE01-F12'!S2042))","v":0}]
[{"$f":"IF(ISBLANK('DE01-F12'!N2043),\"\",('DE01-F12'!N2043))","v":""},{"$f":"MID('DE01-F12'!G2043,1,18)","v":""},{"$f":"IF(ISBLANK('DE01-F12'!P2043),\"\",('DE01-F12'!P2043))","v":""},{"$f":"IF(ISBLANK('DE01-F12'!Q2043),\"\",('DE01-F12'!Q2043))","v":""},{"$f":"IF(ISBLANK('DE01-F12'!S2043),\"\",('DE01-F12'!S2043))","v":0}]
[{"$f":"IF(ISBLANK('DE01-F12'!N2044),\"\",('DE01-F12'!N2044))","v":""},{"$f":"MID('DE01-F12'!G2044,1,18)","v":""},{"$f":"IF(ISBLANK('DE01-F12'!P2044),\"\",('DE01-F12'!P2044))","v":""},{"$f":"IF(ISBLANK('DE01-F12'!Q2044),\"\",('DE01-F12'!Q2044))","v":""},{"$f":"IF(ISBLANK('DE01-F12'!S2044),\"\",('DE01-F12'!S2044))","v":0}]
[{"$f":"IF(ISBLANK('DE01-F12'!N2045),\"\",('DE01-F12'!N2045))","v":""},{"$f":"MID('DE01-F12'!G2045,1,18)","v":""},{"$f":"IF(ISBLANK('DE01-F12'!P2045),\"\",('DE01-F12'!P2045))","v":""},{"$f":"IF(ISBLANK('DE01-F12'!Q2045),\"\",('DE01-F12'!Q2045))","v":""},{"$f":"IF(ISBLANK('DE01-F12'!S2045),\"\",('DE01-F12'!S2045))","v":0}]
[{"$f":"IF(ISBLANK('DE01-F12'!N2046),\"\",('DE01-F12'!N2046))","v":""},{"$f":"MID('DE01-F12'!G2046,1,18)","v":""},{"$f":"IF(ISBLANK('DE01-F12'!P2046),\"\",('DE01-F12'!P2046))","v":""},{"$f":"IF(ISBLANK('DE01-F12'!Q2046),\"\",('DE01-F12'!Q2046))","v":""},{"$f":"IF(ISBLANK('DE01-F12'!S2046),\"\",('DE01-F12'!S2046))","v":0}]
[{"$f":"IF(ISBLANK('DE01-F12'!N2047),\"\",('DE01-F12'!N2047))","v":""},{"$f":"MID('DE01-F12'!G2047,1,18)","v":""},{"$f":"IF(ISBLANK('DE01-F12'!P2047),\"\",('DE01-F12'!P2047))","v":""},{"$f":"IF(ISBLANK('DE01-F12'!Q2047),\"\",('DE01-F12'!Q2047))","v":""},{"$f":"IF(ISBLANK('DE01-F12'!S2047),\"\",('DE01-F12'!S2047))","v":0}]
[{"$f":"IF(ISBLANK('DE01-F12'!N2048),\"\",('DE01-F12'!N2048))","v":""},{"$f":"MID('DE01-F12'!G2048,1,18)","v":""},{"$f":"IF(ISBLANK('DE01-F12'!P2048),\"\",('DE01-F12'!P2048))","v":""},{"$f":"IF(ISBLANK('DE01-F12'!Q2048),\"\",('DE01-F12'!Q2048))","v":""},{"$f":"IF(ISBLANK('DE01-F12'!S2048),\"\",('DE01-F12'!S2048))","v":0}]
[{"$f":"IF(ISBLANK('DE01-F12'!N2049),\"\",('DE01-F12'!N2049))","v":""},{"$f":"MID('DE01-F12'!G2049,1,18)","v":""},{"$f":"IF(ISBLANK('DE01-F12'!P2049),\"\",('DE01-F12'!P2049))","v":""},{"$f":"IF(ISBLANK('DE01-F12'!Q2049),\"\",('DE01-F12'!Q2049))","v":""},{"$f":"IF(ISBLANK('DE01-F12'!S2049),\"\",('DE01-F12'!S2049))","v":0}]
[{"$f":"IF(ISBLANK('DE01-F12'!N2050),\"\",('DE01-F12'!N2050))","v":""},{"$f":"MID('DE01-F12'!G2050,1,18)","v":""},{"$f":"IF(ISBLANK('DE01-F12'!P2050),\"\",('DE01-F12'!P2050))","v":""},{"$f":"IF(ISBLANK('DE01-F12'!Q2050),\"\",('DE01-F12'!Q2050))","v":""},{"$f":"IF(ISBLANK('DE01-F12'!S2050),\"\",('DE01-F12'!S2050))","v":0}]
[{"$f":"IF(ISBLANK('DE01-F12'!N2051),\"\",('DE01-F12'!N2051))","v":""},{"$f":"MID('DE01-F12'!G2051,1,18)","v":""},{"$f":"IF(ISBLANK('DE01-F12'!P2051),\"\",('DE01-F12'!P2051))","v":""},{"$f":"IF(ISBLANK('DE01-F12'!Q2051),\"\",('DE01-F12'!Q2051))","v":""},{"$f":"IF(ISBLANK('DE01-F12'!S2051),\"\",('DE01-F12'!S2051))","v":0}]
[{"$f":"IF(ISBLANK('DE01-F12'!N2052),\"\",('DE01-F12'!N2052))","v":""},{"$f":"MID('DE01-F12'!G2052,1,18)","v":""},{"$f":"IF(ISBLANK('DE01-F12'!P2052),\"\",('DE01-F12'!P2052))","v":""},{"$f":"IF(ISBLANK('DE01-F12'!Q2052),\"\",('DE01-F12'!Q2052))","v":""},{"$f":"IF(ISBLANK('DE01-F12'!S2052),\"\",('DE01-F12'!S2052))","v":0}]
[{"$f":"IF(ISBLANK('DE01-F12'!N2053),\"\",('DE01-F12'!N2053))","v":""},{"$f":"MID('DE01-F12'!G2053,1,18)","v":""},{"$f":"IF(ISBLANK('DE01-F12'!P2053),\"\",('DE01-F12'!P2053))","v":""},{"$f":"IF(ISBLANK('DE01-F12'!Q2053),\"\",('DE01-F12'!Q2053))","v":""},{"$f":"IF(ISBLANK('DE01-F12'!S2053),\"\",('DE01-F12'!S2053))","v":0}]
[{"$f":"IF(ISBLANK('DE01-F12'!N2054),\"\",('DE01-F12'!N2054))","v":""},{"$f":"MID('DE01-F12'!G2054,1,18)","v":""},{"$f":"IF(ISBLANK('DE01-F12'!P2054),\"\",('DE01-F12'!P2054))","v":""},{"$f":"IF(ISBLANK('DE01-F12'!Q2054),\"\",('DE01-F12'!Q2054))","v":""},{"$f":"IF(ISBLANK('DE01-F12'!S2054),\"\",('DE01-F12'!S2054))","v":0}]
[{"$f":"IF(ISBLANK('DE01-F12'!N2055),\"\",('DE01-F12'!N2055))","v":""},{"$f":"MID('DE01-F12'!G2055,1,18)","v":""},{"$f":"IF(ISBLANK('DE01-F12'!P2055),\"\",('DE01-F12'!P2055))","v":""},{"$f":"IF(ISBLANK('DE01-F12'!Q2055),\"\",('DE01-F12'!Q2055))","v":""},{"$f":"IF(ISBLANK('DE01-F12'!S2055),\"\",('DE01-F12'!S2055))","v":0}]
[{"$f":"IF(ISBLANK('DE01-F12'!N2056),\"\",('DE01-F12'!N2056))","v":""},{"$f":"MID('DE01-F12'!G2056,1,18)","v":""},{"$f":"IF(ISBLANK('DE01-F12'!P2056),\"\",('DE01-F12'!P2056))","v":""},{"$f":"IF(ISBLANK('DE01-F12'!Q2056),\"\",('DE01-F12'!Q2056))","v":""},{"$f":"IF(ISBLANK('DE01-F12'!S2056),\"\",('DE01-F12'!S2056))","v":0}]
[{"$f":"IF(ISBLANK('DE01-F12'!N2057),\"\",('DE01-F12'!N2057))","v":""},{"$f":"MID('DE01-F12'!G2057,1,18)","v":""},{"$f":"IF(ISBLANK('DE01-F12'!P2057),\"\",('DE01-F12'!P2057))","v":""},{"$f":"IF(ISBLANK('DE01-F12'!Q2057),\"\",('DE01-F12'!Q2057))","v":""},{"$f":"IF(ISBLANK('DE01-F12'!S2057),\"\",('DE01-F12'!S2057))","v":0}]
[{"$f":"IF(ISBLANK('DE01-F12'!N2058),\"\",('DE01-F12'!N2058))","v":""},{"$f":"MID('DE01-F12'!G2058,1,18)","v":""},{"$f":"IF(ISBLANK('DE01-F12'!P2058),\"\",('DE01-F12'!P2058))","v":""},{"$f":"IF(ISBLANK('DE01-F12'!Q2058),\"\",('DE01-F12'!Q2058))","v":""},{"$f":"IF(ISBLANK('DE01-F12'!S2058),\"\",('DE01-F12'!S2058))","v":0}]
[{"$f":"IF(ISBLANK('DE01-F12'!N2059),\"\",('DE01-F12'!N2059))","v":""},{"$f":"MID('DE01-F12'!G2059,1,18)","v":""},{"$f":"IF(ISBLANK('DE01-F12'!P2059),\"\",('DE01-F12'!P2059))","v":""},{"$f":"IF(ISBLANK('DE01-F12'!Q2059),\"\",('DE01-F12'!Q2059))","v":""},{"$f":"IF(ISBLANK('DE01-F12'!S2059),\"\",('DE01-F12'!S2059))","v":0}]
[{"$f":"IF(ISBLANK('DE01-F12'!N2060),\"\",('DE01-F12'!N2060))","v":""},{"$f":"MID('DE01-F12'!G2060,1,18)","v":""},{"$f":"IF(ISBLANK('DE01-F12'!P2060),\"\",('DE01-F12'!P2060))","v":""},{"$f":"IF(ISBLANK('DE01-F12'!Q2060),\"\",('DE01-F12'!Q2060))","v":""},{"$f":"IF(ISBLANK('DE01-F12'!S2060),\"\",('DE01-F12'!S2060))","v":0}]
[{"$f":"IF(ISBLANK('DE01-F12'!N2061),\"\",('DE01-F12'!N2061))","v":""},{"$f":"MID('DE01-F12'!G2061,1,18)","v":""},{"$f":"IF(ISBLANK('DE01-F12'!P2061),\"\",('DE01-F12'!P2061))","v":""},{"$f":"IF(ISBLANK('DE01-F12'!Q2061),\"\",('DE01-F12'!Q2061))","v":""},{"$f":"IF(ISBLANK('DE01-F12'!S2061),\"\",('DE01-F12'!S2061))","v":0}]
[{"$f":"IF(ISBLANK('DE01-F12'!N2062),\"\",('DE01-F12'!N2062))","v":""},{"$f":"MID('DE01-F12'!G2062,1,18)","v":""},{"$f":"IF(ISBLANK('DE01-F12'!P2062),\"\",('DE01-F12'!P2062))","v":""},{"$f":"IF(ISBLANK('DE01-F12'!Q2062),\"\",('DE01-F12'!Q2062))","v":""},{"$f":"IF(ISBLANK('DE01-F12'!S2062),\"\",('DE01-F12'!S2062))","v":0}]
[{"$f":"IF(ISBLANK('DE01-F12'!N2063),\"\",('DE01-F12'!N2063))","v":""},{"$f":"MID('DE01-F12'!G2063,1,18)","v":""},{"$f":"IF(ISBLANK('DE01-F12'!P2063),\"\",('DE01-F12'!P2063))","v":""},{"$f":"IF(ISBLANK('DE01-F12'!Q2063),\"\",('DE01-F12'!Q2063))","v":""},{"$f":"IF(ISBLANK('DE01-F12'!S2063),\"\",('DE01-F12'!S2063))","v":0}]
[{"$f":"IF(ISBLANK('DE01-F12'!N2064),\"\",('DE01-F12'!N2064))","v":""},{"$f":"MID('DE01-F12'!G2064,1,18)","v":""},{"$f":"IF(ISBLANK('DE01-F12'!P2064),\"\",('DE01-F12'!P2064))","v":""},{"$f":"IF(ISBLANK('DE01-F12'!Q2064),\"\",('DE01-F12'!Q2064))","v":""},{"$f":"IF(ISBLANK('DE01-F12'!S2064),\"\",('DE01-F12'!S2064))","v":0}]
[{"$f":"IF(ISBLANK('DE01-F12'!N2065),\"\",('DE01-F12'!N2065))","v":""},{"$f":"MID('DE01-F12'!G2065,1,18)","v":""},{"$f":"IF(ISBLANK('DE01-F12'!P2065),\"\",('DE01-F12'!P2065))","v":""},{"$f":"IF(ISBLANK('DE01-F12'!Q2065),\"\",('DE01-F12'!Q2065))","v":""},{"$f":"IF(ISBLANK('DE01-F12'!S2065),\"\",('DE01-F12'!S2065))","v":0}]
[{"$f":"IF(ISBLANK('DE01-F12'!N2066),\"\",('DE01-F12'!N2066))","v":""},{"$f":"MID('DE01-F12'!G2066,1,18)","v":""},{"$f":"IF(ISBLANK('DE01-F12'!P2066),\"\",('DE01-F12'!P2066))","v":""},{"$f":"IF(ISBLANK('DE01-F12'!Q2066),\"\",('DE01-F12'!Q2066))","v":""},{"$f":"IF(ISBLANK('DE01-F12'!S2066),\"\",('DE01-F12'!S2066))","v":0}]
[{"$f":"IF(ISBLANK('DE01-F12'!N2067),\"\",('DE01-F12'!N2067))","v":""},{"$f":"MID('DE01-F12'!G2067,1,18)","v":""},{"$f":"IF(ISBLANK('DE01-F12'!P2067),\"\",('DE01-F12'!P2067))","v":""},{"$f":"IF(ISBLANK('DE01-F12'!Q2067),\"\",('DE01-F12'!Q2067))","v":""},{"$f":"IF(ISBLANK('DE01-F12'!S2067),\"\",('DE01-F12'!S2067))","v":0}]
[{"$f":"IF(ISBLANK('DE01-F12'!N2068),\"\",('DE01-F12'!N2068))","v":""},{"$f":"MID('DE01-F12'!G2068,1,18)","v":""},{"$f":"IF(ISBLANK('DE01-F12'!P2068),\"\",('DE01-F12'!P2068))","v":""},{"$f":"IF(ISBLANK('DE01-F12'!Q2068),\"\",('DE01-F12'!Q2068))","v":""},{"$f":"IF(ISBLANK('DE01-F12'!S2068),\"\",('DE01-F12'!S2068))","v":0}]
[{"$f":"IF(ISBLANK('DE01-F12'!N2069),\"\",('DE01-F12'!N2069))","v":""},{"$f":"MID('DE01-F12'!G2069,1,18)","v":""},{"$f":"IF(ISBLANK('DE01-F12'!P2069),\"\",('DE01-F12'!P2069))","v":""},{"$f":"IF(ISBLANK('DE01-F12'!Q2069),\"\",('DE01-F12'!Q2069))","v":""},{"$f":"IF(ISBLANK('DE01-F12'!S2069),\"\",('DE01-F12'!S2069))","v":0}]
[{"$f":"IF(ISBLANK('DE01-F12'!N2070),\"\",('DE01-F12'!N2070))","v":""},{"$f":"MID('DE01-F12'!G2070,1,18)","v":""},{"$f":"IF(ISBLANK('DE01-F12'!P2070),\"\",('DE01-F12'!P2070))","v":""},{"$f":"IF(ISBLANK('DE01-F12'!Q2070),\"\",('DE01-F12'!Q2070))","v":""},{"$f":"IF(ISBLANK('DE01-F12'!S2070),\"\",('DE01-F12'!S2070))","v":0}]
[{"$f":"IF(ISBLANK('DE01-F12'!N2071),\"\",('DE01-F12'!N2071))","v":""},{"$f":"MID('DE01-F12'!G2071,1,18)","v":""},{"$f":"IF(ISBLANK('DE01-F12'!P2071),\"\",('DE01-F12'!P2071))","v":""},{"$f":"IF(ISBLANK('DE01-F12'!Q2071),\"\",('DE01-F12'!Q2071))","v":""},{"$f":"IF(ISBLANK('DE01-F12'!S2071),\"\",('DE01-F12'!S2071))","v":0}]
[{"$f":"IF(ISBLANK('DE01-F12'!N2072),\"\",('DE01-F12'!N2072))","v":""},{"$f":"MID('DE01-F12'!G2072,1,18)","v":""},{"$f":"IF(ISBLANK('DE01-F12'!P2072),\"\",('DE01-F12'!P2072))","v":""},{"$f":"IF(ISBLANK('DE01-F12'!Q2072),\"\",('DE01-F12'!Q2072))","v":""},{"$f":"IF(ISBLANK('DE01-F12'!S2072),\"\",('DE01-F12'!S2072))","v":0}]
[{"$f":"IF(ISBLANK('DE01-F12'!N2073),\"\",('DE01-F12'!N2073))","v":""},{"$f":"MID('DE01-F12'!G2073,1,18)","v":""},{"$f":"IF(ISBLANK('DE01-F12'!P2073),\"\",('DE01-F12'!P2073))","v":""},{"$f":"IF(ISBLANK('DE01-F12'!Q2073),\"\",('DE01-F12'!Q2073))","v":""},{"$f":"IF(ISBLANK('DE01-F12'!S2073),\"\",('DE01-F12'!S2073))","v":0}]
[{"$f":"IF(ISBLANK('DE01-F12'!N2074),\"\",('DE01-F12'!N2074))","v":""},{"$f":"MID('DE01-F12'!G2074,1,18)","v":""},{"$f":"IF(ISBLANK('DE01-F12'!P2074),\"\",('DE01-F12'!P2074))","v":""},{"$f":"IF(ISBLANK('DE01-F12'!Q2074),\"\",('DE01-F12'!Q2074))","v":""},{"$f":"IF(ISBLANK('DE01-F12'!S2074),\"\",('DE01-F12'!S2074))","v":0}]
[{"$f":"IF(ISBLANK('DE01-F12'!N2075),\"\",('DE01-F12'!N2075))","v":""},{"$f":"MID('DE01-F12'!G2075,1,18)","v":""},{"$f":"IF(ISBLANK('DE01-F12'!P2075),\"\",('DE01-F12'!P2075))","v":""},{"$f":"IF(ISBLANK('DE01-F12'!Q2075),\"\",('DE01-F12'!Q2075))","v":""},{"$f":"IF(ISBLANK('DE01-F12'!S2075),\"\",('DE01-F12'!S2075))","v":0}]
[{"$f":"IF(ISBLANK('DE01-F12'!N2076),\"\",('DE01-F12'!N2076))","v":""},{"$f":"MID('DE01-F12'!G2076,1,18)","v":""},{"$f":"IF(ISBLANK('DE01-F12'!P2076),\"\",('DE01-F12'!P2076))","v":""},{"$f":"IF(ISBLANK('DE01-F12'!Q2076),\"\",('DE01-F12'!Q2076))","v":""},{"$f":"IF(ISBLANK('DE01-F12'!S2076),\"\",('DE01-F12'!S2076))","v":0}]
[{"$f":"IF(ISBLANK('DE01-F12'!N2077),\"\",('DE01-F12'!N2077))","v":""},{"$f":"MID('DE01-F12'!G2077,1,18)","v":""},{"$f":"IF(ISBLANK('DE01-F12'!P2077),\"\",('DE01-F12'!P2077))","v":""},{"$f":"IF(ISBLANK('DE01-F12'!Q2077),\"\",('DE01-F12'!Q2077))","v":""},{"$f":"IF(ISBLANK('DE01-F12'!S2077),\"\",('DE01-F12'!S2077))","v":0}]
[{"$f":"IF(ISBLANK('DE01-F12'!N2078),\"\",('DE01-F12'!N2078))","v":""},{"$f":"MID('DE01-F12'!G2078,1,18)","v":""},{"$f":"IF(ISBLANK('DE01-F12'!P2078),\"\",('DE01-F12'!P2078))","v":""},{"$f":"IF(ISBLANK('DE01-F12'!Q2078),\"\",('DE01-F12'!Q2078))","v":""},{"$f":"IF(ISBLANK('DE01-F12'!S2078),\"\",('DE01-F12'!S2078))","v":0}]
[{"$f":"IF(ISBLANK('DE01-F12'!N2079),\"\",('DE01-F12'!N2079))","v":""},{"$f":"MID('DE01-F12'!G2079,1,18)","v":""},{"$f":"IF(ISBLANK('DE01-F12'!P2079),\"\",('DE01-F12'!P2079))","v":""},{"$f":"IF(ISBLANK('DE01-F12'!Q2079),\"\",('DE01-F12'!Q2079))","v":""},{"$f":"IF(ISBLANK('DE01-F12'!S2079),\"\",('DE01-F12'!S2079))","v":0}]
[{"$f":"IF(ISBLANK('DE01-F12'!N2080),\"\",('DE01-F12'!N2080))","v":""},{"$f":"MID('DE01-F12'!G2080,1,18)","v":""},{"$f":"IF(ISBLANK('DE01-F12'!P2080),\"\",('DE01-F12'!P2080))","v":""},{"$f":"IF(ISBLANK('DE01-F12'!Q2080),\"\",('DE01-F12'!Q2080))","v":""},{"$f":"IF(ISBLANK('DE01-F12'!S2080),\"\",('DE01-F12'!S2080))","v":0}]
[{"$f":"IF(ISBLANK('DE01-F12'!N2081),\"\",('DE01-F12'!N2081))","v":""},{"$f":"MID('DE01-F12'!G2081,1,18)","v":""},{"$f":"IF(ISBLANK('DE01-F12'!P2081),\"\",('DE01-F12'!P2081))","v":""},{"$f":"IF(ISBLANK('DE01-F12'!Q2081),\"\",('DE01-F12'!Q2081))","v":""},{"$f":"IF(ISBLANK('DE01-F12'!S2081),\"\",('DE01-F12'!S2081))","v":0}]
[{"$f":"IF(ISBLANK('DE01-F12'!N2082),\"\",('DE01-F12'!N2082))","v":""},{"$f":"MID('DE01-F12'!G2082,1,18)","v":""},{"$f":"IF(ISBLANK('DE01-F12'!P2082),\"\",('DE01-F12'!P2082))","v":""},{"$f":"IF(ISBLANK('DE01-F12'!Q2082),\"\",('DE01-F12'!Q2082))","v":""},{"$f":"IF(ISBLANK('DE01-F12'!S2082),\"\",('DE01-F12'!S2082))","v":0}]
[{"$f":"IF(ISBLANK('DE01-F12'!N2083),\"\",('DE01-F12'!N2083))","v":""},{"$f":"MID('DE01-F12'!G2083,1,18)","v":""},{"$f":"IF(ISBLANK('DE01-F12'!P2083),\"\",('DE01-F12'!P2083))","v":""},{"$f":"IF(ISBLANK('DE01-F12'!Q2083),\"\",('DE01-F12'!Q2083))","v":""},{"$f":"IF(ISBLANK('DE01-F12'!S2083),\"\",('DE01-F12'!S2083))","v":0}]
[{"$f":"IF(ISBLANK('DE01-F12'!N2084),\"\",('DE01-F12'!N2084))","v":""},{"$f":"MID('DE01-F12'!G2084,1,18)","v":""},{"$f":"IF(ISBLANK('DE01-F12'!P2084),\"\",('DE01-F12'!P2084))","v":""},{"$f":"IF(ISBLANK('DE01-F12'!Q2084),\"\",('DE01-F12'!Q2084))","v":""},{"$f":"IF(ISBLANK('DE01-F12'!S2084),\"\",('DE01-F12'!S2084))","v":0}]
[{"$f":"IF(ISBLANK('DE01-F12'!N2085),\"\",('DE01-F12'!N2085))","v":""},{"$f":"MID('DE01-F12'!G2085,1,18)","v":""},{"$f":"IF(ISBLANK('DE01-F12'!P2085),\"\",('DE01-F12'!P2085))","v":""},{"$f":"IF(ISBLANK('DE01-F12'!Q2085),\"\",('DE01-F12'!Q2085))","v":""},{"$f":"IF(ISBLANK('DE01-F12'!S2085),\"\",('DE01-F12'!S2085))","v":0}]
[{"$f":"IF(ISBLANK('DE01-F12'!N2086),\"\",('DE01-F12'!N2086))","v":""},{"$f":"MID('DE01-F12'!G2086,1,18)","v":""},{"$f":"IF(ISBLANK('DE01-F12'!P2086),\"\",('DE01-F12'!P2086))","v":""},{"$f":"IF(ISBLANK('DE01-F12'!Q2086),\"\",('DE01-F12'!Q2086))","v":""},{"$f":"IF(ISBLANK('DE01-F12'!S2086),\"\",('DE01-F12'!S2086))","v":0}]
[{"$f":"IF(ISBLANK('DE01-F12'!N2087),\"\",('DE01-F12'!N2087))","v":""},{"$f":"MID('DE01-F12'!G2087,1,18)","v":""},{"$f":"IF(ISBLANK('DE01-F12'!P2087),\"\",('DE01-F12'!P2087))","v":""},{"$f":"IF(ISBLANK('DE01-F12'!Q2087),\"\",('DE01-F12'!Q2087))","v":""},{"$f":"IF(ISBLANK('DE01-F12'!S2087),\"\",('DE01-F12'!S2087))","v":0}]
[{"$f":"IF(ISBLANK('DE01-F12'!N2088),\"\",('DE01-F12'!N2088))","v":""},{"$f":"MID('DE01-F12'!G2088,1,18)","v":""},{"$f":"IF(ISBLANK('DE01-F12'!P2088),\"\",('DE01-F12'!P2088))","v":""},{"$f":"IF(ISBLANK('DE01-F12'!Q2088),\"\",('DE01-F12'!Q2088))","v":""},{"$f":"IF(ISBLANK('DE01-F12'!S2088),\"\",('DE01-F12'!S2088))","v":0}]
[{"$f":"IF(ISBLANK('DE01-F12'!N2089),\"\",('DE01-F12'!N2089))","v":""},{"$f":"MID('DE01-F12'!G2089,1,18)","v":""},{"$f":"IF(ISBLANK('DE01-F12'!P2089),\"\",('DE01-F12'!P2089))","v":""},{"$f":"IF(ISBLANK('DE01-F12'!Q2089),\"\",('DE01-F12'!Q2089))","v":""},{"$f":"IF(ISBLANK('DE01-F12'!S2089),\"\",('DE01-F12'!S2089))","v":0}]
[{"$f":"IF(ISBLANK('DE01-F12'!N2090),\"\",('DE01-F12'!N2090))","v":""},{"$f":"MID('DE01-F12'!G2090,1,18)","v":""},{"$f":"IF(ISBLANK('DE01-F12'!P2090),\"\",('DE01-F12'!P2090))","v":""},{"$f":"IF(ISBLANK('DE01-F12'!Q2090),\"\",('DE01-F12'!Q2090))","v":""},{"$f":"IF(ISBLANK('DE01-F12'!S2090),\"\",('DE01-F12'!S2090))","v":0}]
[{"$f":"IF(ISBLANK('DE01-F12'!N2091),\"\",('DE01-F12'!N2091))","v":""},{"$f":"MID('DE01-F12'!G2091,1,18)","v":""},{"$f":"IF(ISBLANK('DE01-F12'!P2091),\"\",('DE01-F12'!P2091))","v":""},{"$f":"IF(ISBLANK('DE01-F12'!Q2091),\"\",('DE01-F12'!Q2091))","v":""},{"$f":"IF(ISBLANK('DE01-F12'!S2091),\"\",('DE01-F12'!S2091))","v":0}]
[{"$f":"IF(ISBLANK('DE01-F12'!N2092),\"\",('DE01-F12'!N2092))","v":""},{"$f":"MID('DE01-F12'!G2092,1,18)","v":""},{"$f":"IF(ISBLANK('DE01-F12'!P2092),\"\",('DE01-F12'!P2092))","v":""},{"$f":"IF(ISBLANK('DE01-F12'!Q2092),\"\",('DE01-F12'!Q2092))","v":""},{"$f":"IF(ISBLANK('DE01-F12'!S2092),\"\",('DE01-F12'!S2092))","v":0}]
[{"$f":"IF(ISBLANK('DE01-F12'!N2093),\"\",('DE01-F12'!N2093))","v":""},{"$f":"MID('DE01-F12'!G2093,1,18)","v":""},{"$f":"IF(ISBLANK('DE01-F12'!P2093),\"\",('DE01-F12'!P2093))","v":""},{"$f":"IF(ISBLANK('DE01-F12'!Q2093),\"\",('DE01-F12'!Q2093))","v":""},{"$f":"IF(ISBLANK('DE01-F12'!S2093),\"\",('DE01-F12'!S2093))","v":0}]
[{"$f":"IF(ISBLANK('DE01-F12'!N2094),\"\",('DE01-F12'!N2094))","v":""},{"$f":"MID('DE01-F12'!G2094,1,18)","v":""},{"$f":"IF(ISBLANK('DE01-F12'!P2094),\"\",('DE01-F12'!P2094))","v":""},{"$f":"IF(ISBLANK('DE01-F12'!Q2094),\"\",('DE01-F12'!Q2094))","v":""},{"$f":"IF(ISBLANK('DE01-F12'!S2094),\"\",('DE01-F12'!S2094))","v":0}]
[{"$f":"IF(ISBLANK('DE01-F12'!N2095),\"\",('DE01-F12'!N2095))","v":""},{"$f":"MID('DE01-F12'!G2095,1,18)","v":""},{"$f":"IF(ISBLANK('DE01-F12'!P2095),\"\",('DE01-F12'!P2095))","v":""},{"$f":"IF(ISBLANK('DE01-F12'!Q2095),\"\",('DE01-F12'!Q2095))","v":""},{"$f":"IF(ISBLANK('DE01-F12'!S2095),\"\",('DE01-F12'!S2095))","v":0}]
[{"$f":"IF(ISBLANK('DE01-F12'!N2096),\"\",('DE01-F12'!N2096))","v":""},{"$f":"MID('DE01-F12'!G2096,1,18)","v":""},{"$f":"IF(ISBLANK('DE01-F12'!P2096),\"\",('DE01-F12'!P2096))","v":""},{"$f":"IF(ISBLANK('DE01-F12'!Q2096),\"\",('DE01-F12'!Q2096))","v":""},{"$f":"IF(ISBLANK('DE01-F12'!S2096),\"\",('DE01-F12'!S2096))","v":0}]
[{"$f":"IF(ISBLANK('DE01-F12'!N2097),\"\",('DE01-F12'!N2097))","v":""},{"$f":"MID('DE01-F12'!G2097,1,18)","v":""},{"$f":"IF(ISBLANK('DE01-F12'!P2097),\"\",('DE01-F12'!P2097))","v":""},{"$f":"IF(ISBLANK('DE01-F12'!Q2097),\"\",('DE01-F12'!Q2097))","v":""},{"$f":"IF(ISBLANK('DE01-F12'!S2097),\"\",('DE01-F12'!S2097))","v":0}]
[{"$f":"IF(ISBLANK('DE01-F12'!N2098),\"\",('DE01-F12'!N2098))","v":""},{"$f":"MID('DE01-F12'!G2098,1,18)","v":""},{"$f":"IF(ISBLANK('DE01-F12'!P2098),\"\",('DE01-F12'!P2098))","v":""},{"$f":"IF(ISBLANK('DE01-F12'!Q2098),\"\",('DE01-F12'!Q2098))","v":""},{"$f":"IF(ISBLANK('DE01-F12'!S2098),\"\",('DE01-F12'!S2098))","v":0}]
[{"$f":"IF(ISBLANK('DE01-F12'!N2099),\"\",('DE01-F12'!N2099))","v":""},{"$f":"MID('DE01-F12'!G2099,1,18)","v":""},{"$f":"IF(ISBLANK('DE01-F12'!P2099),\"\",('DE01-F12'!P2099))","v":""},{"$f":"IF(ISBLANK('DE01-F12'!Q2099),\"\",('DE01-F12'!Q2099))","v":""},{"$f":"IF(ISBLANK('DE01-F12'!S2099),\"\",('DE01-F12'!S2099))","v":0}]
[{"$f":"IF(ISBLANK('DE01-F12'!N2100),\"\",('DE01-F12'!N2100))","v":""},{"$f":"MID('DE01-F12'!G2100,1,18)","v":""},{"$f":"IF(ISBLANK('DE01-F12'!P2100),\"\",('DE01-F12'!P2100))","v":""},{"$f":"IF(ISBLANK('DE01-F12'!Q2100),\"\",('DE01-F12'!Q2100))","v":""},{"$f":"IF(ISBLANK('DE01-F12'!S2100),\"\",('DE01-F12'!S2100))","v":0}]
[{"$f":"IF(ISBLANK('DE01-F12'!N2101),\"\",('DE01-F12'!N2101))","v":""},{"$f":"MID('DE01-F12'!G2101,1,18)","v":""},{"$f":"IF(ISBLANK('DE01-F12'!P2101),\"\",('DE01-F12'!P2101))","v":""},{"$f":"IF(ISBLANK('DE01-F12'!Q2101),\"\",('DE01-F12'!Q2101))","v":""},{"$f":"IF(ISBLANK('DE01-F12'!S2101),\"\",('DE01-F12'!S2101))","v":0}]
[{"$f":"IF(ISBLANK('DE01-F12'!N2102),\"\",('DE01-F12'!N2102))","v":""},{"$f":"MID('DE01-F12'!G2102,1,18)","v":""},{"$f":"IF(ISBLANK('DE01-F12'!P2102),\"\",('DE01-F12'!P2102))","v":""},{"$f":"IF(ISBLANK('DE01-F12'!Q2102),\"\",('DE01-F12'!Q2102))","v":""},{"$f":"IF(ISBLANK('DE01-F12'!S2102),\"\",('DE01-F12'!S2102))","v":0}]
[{"$f":"IF(ISBLANK('DE01-F12'!N2103),\"\",('DE01-F12'!N2103))","v":""},{"$f":"MID('DE01-F12'!G2103,1,18)","v":""},{"$f":"IF(ISBLANK('DE01-F12'!P2103),\"\",('DE01-F12'!P2103))","v":""},{"$f":"IF(ISBLANK('DE01-F12'!Q2103),\"\",('DE01-F12'!Q2103))","v":""},{"$f":"IF(ISBLANK('DE01-F12'!S2103),\"\",('DE01-F12'!S2103))","v":0}]
[{"$f":"IF(ISBLANK('DE01-F12'!N2104),\"\",('DE01-F12'!N2104))","v":""},{"$f":"MID('DE01-F12'!G2104,1,18)","v":""},{"$f":"IF(ISBLANK('DE01-F12'!P2104),\"\",('DE01-F12'!P2104))","v":""},{"$f":"IF(ISBLANK('DE01-F12'!Q2104),\"\",('DE01-F12'!Q2104))","v":""},{"$f":"IF(ISBLANK('DE01-F12'!S2104),\"\",('DE01-F12'!S2104))","v":0}]
[{"$f":"IF(ISBLANK('DE01-F12'!N2105),\"\",('DE01-F12'!N2105))","v":""},{"$f":"MID('DE01-F12'!G2105,1,18)","v":""},{"$f":"IF(ISBLANK('DE01-F12'!P2105),\"\",('DE01-F12'!P2105))","v":""},{"$f":"IF(ISBLANK('DE01-F12'!Q2105),\"\",('DE01-F12'!Q2105))","v":""},{"$f":"IF(ISBLANK('DE01-F12'!S2105),\"\",('DE01-F12'!S2105))","v":0}]
[{"$f":"IF(ISBLANK('DE01-F12'!N2106),\"\",('DE01-F12'!N2106))","v":""},{"$f":"MID('DE01-F12'!G2106,1,18)","v":""},{"$f":"IF(ISBLANK('DE01-F12'!P2106),\"\",('DE01-F12'!P2106))","v":""},{"$f":"IF(ISBLANK('DE01-F12'!Q2106),\"\",('DE01-F12'!Q2106))","v":""},{"$f":"IF(ISBLANK('DE01-F12'!S2106),\"\",('DE01-F12'!S2106))","v":0}]
[{"$f":"IF(ISBLANK('DE01-F12'!N2107),\"\",('DE01-F12'!N2107))","v":""},{"$f":"MID('DE01-F12'!G2107,1,18)","v":""},{"$f":"IF(ISBLANK('DE01-F12'!P2107),\"\",('DE01-F12'!P2107))","v":""},{"$f":"IF(ISBLANK('DE01-F12'!Q2107),\"\",('DE01-F12'!Q2107))","v":""},{"$f":"IF(ISBLANK('DE01-F12'!S2107),\"\",('DE01-F12'!S2107))","v":0}]
[{"$f":"IF(ISBLANK('DE01-F12'!N2108),\"\",('DE01-F12'!N2108))","v":""},{"$f":"MID('DE01-F12'!G2108,1,18)","v":""},{"$f":"IF(ISBLANK('DE01-F12'!P2108),\"\",('DE01-F12'!P2108))","v":""},{"$f":"IF(ISBLANK('DE01-F12'!Q2108),\"\",('DE01-F12'!Q2108))","v":""},{"$f":"IF(ISBLANK('DE01-F12'!S2108),\"\",('DE01-F12'!S2108))","v":0}]
[{"$f":"IF(ISBLANK('DE01-F12'!N2109),\"\",('DE01-F12'!N2109))","v":""},{"$f":"MID('DE01-F12'!G2109,1,18)","v":""},{"$f":"IF(ISBLANK('DE01-F12'!P2109),\"\",('DE01-F12'!P2109))","v":""},{"$f":"IF(ISBLANK('DE01-F12'!Q2109),\"\",('DE01-F12'!Q2109))","v":""},{"$f":"IF(ISBLANK('DE01-F12'!S2109),\"\",('DE01-F12'!S2109))","v":0}]
[{"$f":"IF(ISBLANK('DE01-F12'!N2110),\"\",('DE01-F12'!N2110))","v":""},{"$f":"MID('DE01-F12'!G2110,1,18)","v":""},{"$f":"IF(ISBLANK('DE01-F12'!P2110),\"\",('DE01-F12'!P2110))","v":""},{"$f":"IF(ISBLANK('DE01-F12'!Q2110),\"\",('DE01-F12'!Q2110))","v":""},{"$f":"IF(ISBLANK('DE01-F12'!S2110),\"\",('DE01-F12'!S2110))","v":0}]
[{"$f":"IF(ISBLANK('DE01-F12'!N2111),\"\",('DE01-F12'!N2111))","v":""},{"$f":"MID('DE01-F12'!G2111,1,18)","v":""},{"$f":"IF(ISBLANK('DE01-F12'!P2111),\"\",('DE01-F12'!P2111))","v":""},{"$f":"IF(ISBLANK('DE01-F12'!Q2111),\"\",('DE01-F12'!Q2111))","v":""},{"$f":"IF(ISBLANK('DE01-F12'!S2111),\"\",('DE01-F12'!S2111))","v":0}]
[{"$f":"IF(ISBLANK('DE01-F12'!N2112),\"\",('DE01-F12'!N2112))","v":""},{"$f":"MID('DE01-F12'!G2112,1,18)","v":""},{"$f":"IF(ISBLANK('DE01-F12'!P2112),\"\",('DE01-F12'!P2112))","v":""},{"$f":"IF(ISBLANK('DE01-F12'!Q2112),\"\",('DE01-F12'!Q2112))","v":""},{"$f":"IF(ISBLANK('DE01-F12'!S2112),\"\",('DE01-F12'!S2112))","v":0}]
[{"$f":"IF(ISBLANK('DE01-F12'!N2113),\"\",('DE01-F12'!N2113))","v":""},{"$f":"MID('DE01-F12'!G2113,1,18)","v":""},{"$f":"IF(ISBLANK('DE01-F12'!P2113),\"\",('DE01-F12'!P2113))","v":""},{"$f":"IF(ISBLANK('DE01-F12'!Q2113),\"\",('DE01-F12'!Q2113))","v":""},{"$f":"IF(ISBLANK('DE01-F12'!S2113),\"\",('DE01-F12'!S2113))","v":0}]
[{"$f":"IF(ISBLANK('DE01-F12'!N2114),\"\",('DE01-F12'!N2114))","v":""},{"$f":"MID('DE01-F12'!G2114,1,18)","v":""},{"$f":"IF(ISBLANK('DE01-F12'!P2114),\"\",('DE01-F12'!P2114))","v":""},{"$f":"IF(ISBLANK('DE01-F12'!Q2114),\"\",('DE01-F12'!Q2114))","v":""},{"$f":"IF(ISBLANK('DE01-F12'!S2114),\"\",('DE01-F12'!S2114))","v":0}]
[{"$f":"IF(ISBLANK('DE01-F12'!N2115),\"\",('DE01-F12'!N2115))","v":""},{"$f":"MID('DE01-F12'!G2115,1,18)","v":""},{"$f":"IF(ISBLANK('DE01-F12'!P2115),\"\",('DE01-F12'!P2115))","v":""},{"$f":"IF(ISBLANK('DE01-F12'!Q2115),\"\",('DE01-F12'!Q2115))","v":""},{"$f":"IF(ISBLANK('DE01-F12'!S2115),\"\",('DE01-F12'!S2115))","v":0}]
[{"$f":"IF(ISBLANK('DE01-F12'!N2116),\"\",('DE01-F12'!N2116))","v":""},{"$f":"MID('DE01-F12'!G2116,1,18)","v":""},{"$f":"IF(ISBLANK('DE01-F12'!P2116),\"\",('DE01-F12'!P2116))","v":""},{"$f":"IF(ISBLANK('DE01-F12'!Q2116),\"\",('DE01-F12'!Q2116))","v":""},{"$f":"IF(ISBLANK('DE01-F12'!S2116),\"\",('DE01-F12'!S2116))","v":0}]
[{"$f":"IF(ISBLANK('DE01-F12'!N2117),\"\",('DE01-F12'!N2117))","v":""},{"$f":"MID('DE01-F12'!G2117,1,18)","v":""},{"$f":"IF(ISBLANK('DE01-F12'!P2117),\"\",('DE01-F12'!P2117))","v":""},{"$f":"IF(ISBLANK('DE01-F12'!Q2117),\"\",('DE01-F12'!Q2117))","v":""},{"$f":"IF(ISBLANK('DE01-F12'!S2117),\"\",('DE01-F12'!S2117))","v":0}]
[{"$f":"IF(ISBLANK('DE01-F12'!N2118),\"\",('DE01-F12'!N2118))","v":""},{"$f":"MID('DE01-F12'!G2118,1,18)","v":""},{"$f":"IF(ISBLANK('DE01-F12'!P2118),\"\",('DE01-F12'!P2118))","v":""},{"$f":"IF(ISBLANK('DE01-F12'!Q2118),\"\",('DE01-F12'!Q2118))","v":""},{"$f":"IF(ISBLANK('DE01-F12'!S2118),\"\",('DE01-F12'!S2118))","v":0}]
[{"$f":"IF(ISBLANK('DE01-F12'!N2119),\"\",('DE01-F12'!N2119))","v":""},{"$f":"MID('DE01-F12'!G2119,1,18)","v":""},{"$f":"IF(ISBLANK('DE01-F12'!P2119),\"\",('DE01-F12'!P2119))","v":""},{"$f":"IF(ISBLANK('DE01-F12'!Q2119),\"\",('DE01-F12'!Q2119))","v":""},{"$f":"IF(ISBLANK('DE01-F12'!S2119),\"\",('DE01-F12'!S2119))","v":0}]
[{"$f":"IF(ISBLANK('DE01-F12'!N2120),\"\",('DE01-F12'!N2120))","v":""},{"$f":"MID('DE01-F12'!G2120,1,18)","v":""},{"$f":"IF(ISBLANK('DE01-F12'!P2120),\"\",('DE01-F12'!P2120))","v":""},{"$f":"IF(ISBLANK('DE01-F12'!Q2120),\"\",('DE01-F12'!Q2120))","v":""},{"$f":"IF(ISBLANK('DE01-F12'!S2120),\"\",('DE01-F12'!S2120))","v":0}]
[{"$f":"IF(ISBLANK('DE01-F12'!N2121),\"\",('DE01-F12'!N2121))","v":""},{"$f":"MID('DE01-F12'!G2121,1,18)","v":""},{"$f":"IF(ISBLANK('DE01-F12'!P2121),\"\",('DE01-F12'!P2121))","v":""},{"$f":"IF(ISBLANK('DE01-F12'!Q2121),\"\",('DE01-F12'!Q2121))","v":""},{"$f":"IF(ISBLANK('DE01-F12'!S2121),\"\",('DE01-F12'!S2121))","v":0}]
[{"$f":"IF(ISBLANK('DE01-F12'!N2122),\"\",('DE01-F12'!N2122))","v":""},{"$f":"MID('DE01-F12'!G2122,1,18)","v":""},{"$f":"IF(ISBLANK('DE01-F12'!P2122),\"\",('DE01-F12'!P2122))","v":""},{"$f":"IF(ISBLANK('DE01-F12'!Q2122),\"\",('DE01-F12'!Q2122))","v":""},{"$f":"IF(ISBLANK('DE01-F12'!S2122),\"\",('DE01-F12'!S2122))","v":0}]
[{"$f":"IF(ISBLANK('DE01-F12'!N2123),\"\",('DE01-F12'!N2123))","v":""},{"$f":"MID('DE01-F12'!G2123,1,18)","v":""},{"$f":"IF(ISBLANK('DE01-F12'!P2123),\"\",('DE01-F12'!P2123))","v":""},{"$f":"IF(ISBLANK('DE01-F12'!Q2123),\"\",('DE01-F12'!Q2123))","v":""},{"$f":"IF(ISBLANK('DE01-F12'!S2123),\"\",('DE01-F12'!S2123))","v":0}]
[{"$f":"IF(ISBLANK('DE01-F12'!N2124),\"\",('DE01-F12'!N2124))","v":""},{"$f":"MID('DE01-F12'!G2124,1,18)","v":""},{"$f":"IF(ISBLANK('DE01-F12'!P2124),\"\",('DE01-F12'!P2124))","v":""},{"$f":"IF(ISBLANK('DE01-F12'!Q2124),\"\",('DE01-F12'!Q2124))","v":""},{"$f":"IF(ISBLANK('DE01-F12'!S2124),\"\",('DE01-F12'!S2124))","v":0}]
[{"$f":"IF(ISBLANK('DE01-F12'!N2125),\"\",('DE01-F12'!N2125))","v":""},{"$f":"MID('DE01-F12'!G2125,1,18)","v":""},{"$f":"IF(ISBLANK('DE01-F12'!P2125),\"\",('DE01-F12'!P2125))","v":""},{"$f":"IF(ISBLANK('DE01-F12'!Q2125),\"\",('DE01-F12'!Q2125))","v":""},{"$f":"IF(ISBLANK('DE01-F12'!S2125),\"\",('DE01-F12'!S2125))","v":0}]
[{"$f":"IF(ISBLANK('DE01-F12'!N2126),\"\",('DE01-F12'!N2126))","v":""},{"$f":"MID('DE01-F12'!G2126,1,18)","v":""},{"$f":"IF(ISBLANK('DE01-F12'!P2126),\"\",('DE01-F12'!P2126))","v":""},{"$f":"IF(ISBLANK('DE01-F12'!Q2126),\"\",('DE01-F12'!Q2126))","v":""},{"$f":"IF(ISBLANK('DE01-F12'!S2126),\"\",('DE01-F12'!S2126))","v":0}]
[{"$f":"IF(ISBLANK('DE01-F12'!N2127),\"\",('DE01-F12'!N2127))","v":""},{"$f":"MID('DE01-F12'!G2127,1,18)","v":""},{"$f":"IF(ISBLANK('DE01-F12'!P2127),\"\",('DE01-F12'!P2127))","v":""},{"$f":"IF(ISBLANK('DE01-F12'!Q2127),\"\",('DE01-F12'!Q2127))","v":""},{"$f":"IF(ISBLANK('DE01-F12'!S2127),\"\",('DE01-F12'!S2127))","v":0}]
[{"$f":"IF(ISBLANK('DE01-F12'!N2128),\"\",('DE01-F12'!N2128))","v":""},{"$f":"MID('DE01-F12'!G2128,1,18)","v":""},{"$f":"IF(ISBLANK('DE01-F12'!P2128),\"\",('DE01-F12'!P2128))","v":""},{"$f":"IF(ISBLANK('DE01-F12'!Q2128),\"\",('DE01-F12'!Q2128))","v":""},{"$f":"IF(ISBLANK('DE01-F12'!S2128),\"\",('DE01-F12'!S2128))","v":0}]
[{"$f":"IF(ISBLANK('DE01-F12'!N2129),\"\",('DE01-F12'!N2129))","v":""},{"$f":"MID('DE01-F12'!G2129,1,18)","v":""},{"$f":"IF(ISBLANK('DE01-F12'!P2129),\"\",('DE01-F12'!P2129))","v":""},{"$f":"IF(ISBLANK('DE01-F12'!Q2129),\"\",('DE01-F12'!Q2129))","v":""},{"$f":"IF(ISBLANK('DE01-F12'!S2129),\"\",('DE01-F12'!S2129))","v":0}]
[{"$f":"IF(ISBLANK('DE01-F12'!N2130),\"\",('DE01-F12'!N2130))","v":""},{"$f":"MID('DE01-F12'!G2130,1,18)","v":""},{"$f":"IF(ISBLANK('DE01-F12'!P2130),\"\",('DE01-F12'!P2130))","v":""},{"$f":"IF(ISBLANK('DE01-F12'!Q2130),\"\",('DE01-F12'!Q2130))","v":""},{"$f":"IF(ISBLANK('DE01-F12'!S2130),\"\",('DE01-F12'!S2130))","v":0}]
[{"$f":"IF(ISBLANK('DE01-F12'!N2131),\"\",('DE01-F12'!N2131))","v":""},{"$f":"MID('DE01-F12'!G2131,1,18)","v":""},{"$f":"IF(ISBLANK('DE01-F12'!P2131),\"\",('DE01-F12'!P2131))","v":""},{"$f":"IF(ISBLANK('DE01-F12'!Q2131),\"\",('DE01-F12'!Q2131))","v":""},{"$f":"IF(ISBLANK('DE01-F12'!S2131),\"\",('DE01-F12'!S2131))","v":0}]
[{"$f":"IF(ISBLANK('DE01-F12'!N2132),\"\",('DE01-F12'!N2132))","v":""},{"$f":"MID('DE01-F12'!G2132,1,18)","v":""},{"$f":"IF(ISBLANK('DE01-F12'!P2132),\"\",('DE01-F12'!P2132))","v":""},{"$f":"IF(ISBLANK('DE01-F12'!Q2132),\"\",('DE01-F12'!Q2132))","v":""},{"$f":"IF(ISBLANK('DE01-F12'!S2132),\"\",('DE01-F12'!S2132))","v":0}]
[{"$f":"IF(ISBLANK('DE01-F12'!N2133),\"\",('DE01-F12'!N2133))","v":""},{"$f":"MID('DE01-F12'!G2133,1,18)","v":""},{"$f":"IF(ISBLANK('DE01-F12'!P2133),\"\",('DE01-F12'!P2133))","v":""},{"$f":"IF(ISBLANK('DE01-F12'!Q2133),\"\",('DE01-F12'!Q2133))","v":""},{"$f":"IF(ISBLANK('DE01-F12'!S2133),\"\",('DE01-F12'!S2133))","v":0}]
[{"$f":"IF(ISBLANK('DE01-F12'!N2134),\"\",('DE01-F12'!N2134))","v":""},{"$f":"MID('DE01-F12'!G2134,1,18)","v":""},{"$f":"IF(ISBLANK('DE01-F12'!P2134),\"\",('DE01-F12'!P2134))","v":""},{"$f":"IF(ISBLANK('DE01-F12'!Q2134),\"\",('DE01-F12'!Q2134))","v":""},{"$f":"IF(ISBLANK('DE01-F12'!S2134),\"\",('DE01-F12'!S2134))","v":0}]
[{"$f":"IF(ISBLANK('DE01-F12'!N2135),\"\",('DE01-F12'!N2135))","v":""},{"$f":"MID('DE01-F12'!G2135,1,18)","v":""},{"$f":"IF(ISBLANK('DE01-F12'!P2135),\"\",('DE01-F12'!P2135))","v":""},{"$f":"IF(ISBLANK('DE01-F12'!Q2135),\"\",('DE01-F12'!Q2135))","v":""},{"$f":"IF(ISBLANK('DE01-F12'!S2135),\"\",('DE01-F12'!S2135))","v":0}]
[{"$f":"IF(ISBLANK('DE01-F12'!N2136),\"\",('DE01-F12'!N2136))","v":""},{"$f":"MID('DE01-F12'!G2136,1,18)","v":""},{"$f":"IF(ISBLANK('DE01-F12'!P2136),\"\",('DE01-F12'!P2136))","v":""},{"$f":"IF(ISBLANK('DE01-F12'!Q2136),\"\",('DE01-F12'!Q2136))","v":""},{"$f":"IF(ISBLANK('DE01-F12'!S2136),\"\",('DE01-F12'!S2136))","v":0}]
[{"$f":"IF(ISBLANK('DE01-F12'!N2137),\"\",('DE01-F12'!N2137))","v":""},{"$f":"MID('DE01-F12'!G2137,1,18)","v":""},{"$f":"IF(ISBLANK('DE01-F12'!P2137),\"\",('DE01-F12'!P2137))","v":""},{"$f":"IF(ISBLANK('DE01-F12'!Q2137),\"\",('DE01-F12'!Q2137))","v":""},{"$f":"IF(ISBLANK('DE01-F12'!S2137),\"\",('DE01-F12'!S2137))","v":0}]
[{"$f":"IF(ISBLANK('DE01-F12'!N2138),\"\",('DE01-F12'!N2138))","v":""},{"$f":"MID('DE01-F12'!G2138,1,18)","v":""},{"$f":"IF(ISBLANK('DE01-F12'!P2138),\"\",('DE01-F12'!P2138))","v":""},{"$f":"IF(ISBLANK('DE01-F12'!Q2138),\"\",('DE01-F12'!Q2138))","v":""},{"$f":"IF(ISBLANK('DE01-F12'!S2138),\"\",('DE01-F12'!S2138))","v":0}]
[{"$f":"IF(ISBLANK('DE01-F12'!N2139),\"\",('DE01-F12'!N2139))","v":""},{"$f":"MID('DE01-F12'!G2139,1,18)","v":""},{"$f":"IF(ISBLANK('DE01-F12'!P2139),\"\",('DE01-F12'!P2139))","v":""},{"$f":"IF(ISBLANK('DE01-F12'!Q2139),\"\",('DE01-F12'!Q2139))","v":""},{"$f":"IF(ISBLANK('DE01-F12'!S2139),\"\",('DE01-F12'!S2139))","v":0}]
[{"$f":"IF(ISBLANK('DE01-F12'!N2140),\"\",('DE01-F12'!N2140))","v":""},{"$f":"MID('DE01-F12'!G2140,1,18)","v":""},{"$f":"IF(ISBLANK('DE01-F12'!P2140),\"\",('DE01-F12'!P2140))","v":""},{"$f":"IF(ISBLANK('DE01-F12'!Q2140),\"\",('DE01-F12'!Q2140))","v":""},{"$f":"IF(ISBLANK('DE01-F12'!S2140),\"\",('DE01-F12'!S2140))","v":0}]
[{"$f":"IF(ISBLANK('DE01-F12'!N2141),\"\",('DE01-F12'!N2141))","v":""},{"$f":"MID('DE01-F12'!G2141,1,18)","v":""},{"$f":"IF(ISBLANK('DE01-F12'!P2141),\"\",('DE01-F12'!P2141))","v":""},{"$f":"IF(ISBLANK('DE01-F12'!Q2141),\"\",('DE01-F12'!Q2141))","v":""},{"$f":"IF(ISBLANK('DE01-F12'!S2141),\"\",('DE01-F12'!S2141))","v":0}]
[{"$f":"IF(ISBLANK('DE01-F12'!N2142),\"\",('DE01-F12'!N2142))","v":""},{"$f":"MID('DE01-F12'!G2142,1,18)","v":""},{"$f":"IF(ISBLANK('DE01-F12'!P2142),\"\",('DE01-F12'!P2142))","v":""},{"$f":"IF(ISBLANK('DE01-F12'!Q2142),\"\",('DE01-F12'!Q2142))","v":""},{"$f":"IF(ISBLANK('DE01-F12'!S2142),\"\",('DE01-F12'!S2142))","v":0}]
[{"$f":"IF(ISBLANK('DE01-F12'!N2143),\"\",('DE01-F12'!N2143))","v":""},{"$f":"MID('DE01-F12'!G2143,1,18)","v":""},{"$f":"IF(ISBLANK('DE01-F12'!P2143),\"\",('DE01-F12'!P2143))","v":""},{"$f":"IF(ISBLANK('DE01-F12'!Q2143),\"\",('DE01-F12'!Q2143))","v":""},{"$f":"IF(ISBLANK('DE01-F12'!S2143),\"\",('DE01-F12'!S2143))","v":0}]
[{"$f":"IF(ISBLANK('DE01-F12'!N2144),\"\",('DE01-F12'!N2144))","v":""},{"$f":"MID('DE01-F12'!G2144,1,18)","v":""},{"$f":"IF(ISBLANK('DE01-F12'!P2144),\"\",('DE01-F12'!P2144))","v":""},{"$f":"IF(ISBLANK('DE01-F12'!Q2144),\"\",('DE01-F12'!Q2144))","v":""},{"$f":"IF(ISBLANK('DE01-F12'!S2144),\"\",('DE01-F12'!S2144))","v":0}]
[{"$f":"IF(ISBLANK('DE01-F12'!N2145),\"\",('DE01-F12'!N2145))","v":""},{"$f":"MID('DE01-F12'!G2145,1,18)","v":""},{"$f":"IF(ISBLANK('DE01-F12'!P2145),\"\",('DE01-F12'!P2145))","v":""},{"$f":"IF(ISBLANK('DE01-F12'!Q2145),\"\",('DE01-F12'!Q2145))","v":""},{"$f":"IF(ISBLANK('DE01-F12'!S2145),\"\",('DE01-F12'!S2145))","v":0}]
[{"$f":"IF(ISBLANK('DE01-F12'!N2146),\"\",('DE01-F12'!N2146))","v":""},{"$f":"MID('DE01-F12'!G2146,1,18)","v":""},{"$f":"IF(ISBLANK('DE01-F12'!P2146),\"\",('DE01-F12'!P2146))","v":""},{"$f":"IF(ISBLANK('DE01-F12'!Q2146),\"\",('DE01-F12'!Q2146))","v":""},{"$f":"IF(ISBLANK('DE01-F12'!S2146),\"\",('DE01-F12'!S2146))","v":0}]
[{"$f":"IF(ISBLANK('DE01-F12'!N2147),\"\",('DE01-F12'!N2147))","v":""},{"$f":"MID('DE01-F12'!G2147,1,18)","v":""},{"$f":"IF(ISBLANK('DE01-F12'!P2147),\"\",('DE01-F12'!P2147))","v":""},{"$f":"IF(ISBLANK('DE01-F12'!Q2147),\"\",('DE01-F12'!Q2147))","v":""},{"$f":"IF(ISBLANK('DE01-F12'!S2147),\"\",('DE01-F12'!S2147))","v":0}]
[{"$f":"IF(ISBLANK('DE01-F12'!N2148),\"\",('DE01-F12'!N2148))","v":""},{"$f":"MID('DE01-F12'!G2148,1,18)","v":""},{"$f":"IF(ISBLANK('DE01-F12'!P2148),\"\",('DE01-F12'!P2148))","v":""},{"$f":"IF(ISBLANK('DE01-F12'!Q2148),\"\",('DE01-F12'!Q2148))","v":""},{"$f":"IF(ISBLANK('DE01-F12'!S2148),\"\",('DE01-F12'!S2148))","v":0}]
[{"$f":"IF(ISBLANK('DE01-F12'!N2149),\"\",('DE01-F12'!N2149))","v":""},{"$f":"MID('DE01-F12'!G2149,1,18)","v":""},{"$f":"IF(ISBLANK('DE01-F12'!P2149),\"\",('DE01-F12'!P2149))","v":""},{"$f":"IF(ISBLANK('DE01-F12'!Q2149),\"\",('DE01-F12'!Q2149))","v":""},{"$f":"IF(ISBLANK('DE01-F12'!S2149),\"\",('DE01-F12'!S2149))","v":0}]
[{"$f":"IF(ISBLANK('DE01-F12'!N2150),\"\",('DE01-F12'!N2150))","v":""},{"$f":"MID('DE01-F12'!G2150,1,18)","v":""},{"$f":"IF(ISBLANK('DE01-F12'!P2150),\"\",('DE01-F12'!P2150))","v":""},{"$f":"IF(ISBLANK('DE01-F12'!Q2150),\"\",('DE01-F12'!Q2150))","v":""},{"$f":"IF(ISBLANK('DE01-F12'!S2150),\"\",('DE01-F12'!S2150))","v":0}]
[{"$f":"IF(ISBLANK('DE01-F12'!N2151),\"\",('DE01-F12'!N2151))","v":""},{"$f":"MID('DE01-F12'!G2151,1,18)","v":""},{"$f":"IF(ISBLANK('DE01-F12'!P2151),\"\",('DE01-F12'!P2151))","v":""},{"$f":"IF(ISBLANK('DE01-F12'!Q2151),\"\",('DE01-F12'!Q2151))","v":""},{"$f":"IF(ISBLANK('DE01-F12'!S2151),\"\",('DE01-F12'!S2151))","v":0}]
[{"$f":"IF(ISBLANK('DE01-F12'!N2152),\"\",('DE01-F12'!N2152))","v":""},{"$f":"MID('DE01-F12'!G2152,1,18)","v":""},{"$f":"IF(ISBLANK('DE01-F12'!P2152),\"\",('DE01-F12'!P2152))","v":""},{"$f":"IF(ISBLANK('DE01-F12'!Q2152),\"\",('DE01-F12'!Q2152))","v":""},{"$f":"IF(ISBLANK('DE01-F12'!S2152),\"\",('DE01-F12'!S2152))","v":0}]
[{"$f":"IF(ISBLANK('DE01-F12'!N2153),\"\",('DE01-F12'!N2153))","v":""},{"$f":"MID('DE01-F12'!G2153,1,18)","v":""},{"$f":"IF(ISBLANK('DE01-F12'!P2153),\"\",('DE01-F12'!P2153))","v":""},{"$f":"IF(ISBLANK('DE01-F12'!Q2153),\"\",('DE01-F12'!Q2153))","v":""},{"$f":"IF(ISBLANK('DE01-F12'!S2153),\"\",('DE01-F12'!S2153))","v":0}]
[{"$f":"IF(ISBLANK('DE01-F12'!N2154),\"\",('DE01-F12'!N2154))","v":""},{"$f":"MID('DE01-F12'!G2154,1,18)","v":""},{"$f":"IF(ISBLANK('DE01-F12'!P2154),\"\",('DE01-F12'!P2154))","v":""},{"$f":"IF(ISBLANK('DE01-F12'!Q2154),\"\",('DE01-F12'!Q2154))","v":""},{"$f":"IF(ISBLANK('DE01-F12'!S2154),\"\",('DE01-F12'!S2154))","v":0}]
[{"$f":"IF(ISBLANK('DE01-F12'!N2155),\"\",('DE01-F12'!N2155))","v":""},{"$f":"MID('DE01-F12'!G2155,1,18)","v":""},{"$f":"IF(ISBLANK('DE01-F12'!P2155),\"\",('DE01-F12'!P2155))","v":""},{"$f":"IF(ISBLANK('DE01-F12'!Q2155),\"\",('DE01-F12'!Q2155))","v":""},{"$f":"IF(ISBLANK('DE01-F12'!S2155),\"\",('DE01-F12'!S2155))","v":0}]
[{"$f":"IF(ISBLANK('DE01-F12'!N2156),\"\",('DE01-F12'!N2156))","v":""},{"$f":"MID('DE01-F12'!G2156,1,18)","v":""},{"$f":"IF(ISBLANK('DE01-F12'!P2156),\"\",('DE01-F12'!P2156))","v":""},{"$f":"IF(ISBLANK('DE01-F12'!Q2156),\"\",('DE01-F12'!Q2156))","v":""},{"$f":"IF(ISBLANK('DE01-F12'!S2156),\"\",('DE01-F12'!S2156))","v":0}]
[{"$f":"IF(ISBLANK('DE01-F12'!N2157),\"\",('DE01-F12'!N2157))","v":""},{"$f":"MID('DE01-F12'!G2157,1,18)","v":""},{"$f":"IF(ISBLANK('DE01-F12'!P2157),\"\",('DE01-F12'!P2157))","v":""},{"$f":"IF(ISBLANK('DE01-F12'!Q2157),\"\",('DE01-F12'!Q2157))","v":""},{"$f":"IF(ISBLANK('DE01-F12'!S2157),\"\",('DE01-F12'!S2157))","v":0}]
[{"$f":"IF(ISBLANK('DE01-F12'!N2158),\"\",('DE01-F12'!N2158))","v":""},{"$f":"MID('DE01-F12'!G2158,1,18)","v":""},{"$f":"IF(ISBLANK('DE01-F12'!P2158),\"\",('DE01-F12'!P2158))","v":""},{"$f":"IF(ISBLANK('DE01-F12'!Q2158),\"\",('DE01-F12'!Q2158))","v":""},{"$f":"IF(ISBLANK('DE01-F12'!S2158),\"\",('DE01-F12'!S2158))","v":0}]
[{"$f":"IF(ISBLANK('DE01-F12'!N2159),\"\",('DE01-F12'!N2159))","v":""},{"$f":"MID('DE01-F12'!G2159,1,18)","v":""},{"$f":"IF(ISBLANK('DE01-F12'!P2159),\"\",('DE01-F12'!P2159))","v":""},{"$f":"IF(ISBLANK('DE01-F12'!Q2159),\"\",('DE01-F12'!Q2159))","v":""},{"$f":"IF(ISBLANK('DE01-F12'!S2159),\"\",('DE01-F12'!S2159))","v":0}]
[{"$f":"IF(ISBLANK('DE01-F12'!N2160),\"\",('DE01-F12'!N2160))","v":""},{"$f":"MID('DE01-F12'!G2160,1,18)","v":""},{"$f":"IF(ISBLANK('DE01-F12'!P2160),\"\",('DE01-F12'!P2160))","v":""},{"$f":"IF(ISBLANK('DE01-F12'!Q2160),\"\",('DE01-F12'!Q2160))","v":""},{"$f":"IF(ISBLANK('DE01-F12'!S2160),\"\",('DE01-F12'!S2160))","v":0}]
[{"$f":"IF(ISBLANK('DE01-F12'!N2161),\"\",('DE01-F12'!N2161))","v":""},{"$f":"MID('DE01-F12'!G2161,1,18)","v":""},{"$f":"IF(ISBLANK('DE01-F12'!P2161),\"\",('DE01-F12'!P2161))","v":""},{"$f":"IF(ISBLANK('DE01-F12'!Q2161),\"\",('DE01-F12'!Q2161))","v":""},{"$f":"IF(ISBLANK('DE01-F12'!S2161),\"\",('DE01-F12'!S2161))","v":0}]
[{"$f":"IF(ISBLANK('DE01-F12'!N2162),\"\",('DE01-F12'!N2162))","v":""},{"$f":"MID('DE01-F12'!G2162,1,18)","v":""},{"$f":"IF(ISBLANK('DE01-F12'!P2162),\"\",('DE01-F12'!P2162))","v":""},{"$f":"IF(ISBLANK('DE01-F12'!Q2162),\"\",('DE01-F12'!Q2162))","v":""},{"$f":"IF(ISBLANK('DE01-F12'!S2162),\"\",('DE01-F12'!S2162))","v":0}]
[{"$f":"IF(ISBLANK('DE01-F12'!N2163),\"\",('DE01-F12'!N2163))","v":""},{"$f":"MID('DE01-F12'!G2163,1,18)","v":""},{"$f":"IF(ISBLANK('DE01-F12'!P2163),\"\",('DE01-F12'!P2163))","v":""},{"$f":"IF(ISBLANK('DE01-F12'!Q2163),\"\",('DE01-F12'!Q2163))","v":""},{"$f":"IF(ISBLANK('DE01-F12'!S2163),\"\",('DE01-F12'!S2163))","v":0}]
[{"$f":"IF(ISBLANK('DE01-F12'!N2164),\"\",('DE01-F12'!N2164))","v":""},{"$f":"MID('DE01-F12'!G2164,1,18)","v":""},{"$f":"IF(ISBLANK('DE01-F12'!P2164),\"\",('DE01-F12'!P2164))","v":""},{"$f":"IF(ISBLANK('DE01-F12'!Q2164),\"\",('DE01-F12'!Q2164))","v":""},{"$f":"IF(ISBLANK('DE01-F12'!S2164),\"\",('DE01-F12'!S2164))","v":0}]
[{"$f":"IF(ISBLANK('DE01-F12'!N2165),\"\",('DE01-F12'!N2165))","v":""},{"$f":"MID('DE01-F12'!G2165,1,18)","v":""},{"$f":"IF(ISBLANK('DE01-F12'!P2165),\"\",('DE01-F12'!P2165))","v":""},{"$f":"IF(ISBLANK('DE01-F12'!Q2165),\"\",('DE01-F12'!Q2165))","v":""},{"$f":"IF(ISBLANK('DE01-F12'!S2165),\"\",('DE01-F12'!S2165))","v":0}]
[{"$f":"IF(ISBLANK('DE01-F12'!N2166),\"\",('DE01-F12'!N2166))","v":""},{"$f":"MID('DE01-F12'!G2166,1,18)","v":""},{"$f":"IF(ISBLANK('DE01-F12'!P2166),\"\",('DE01-F12'!P2166))","v":""},{"$f":"IF(ISBLANK('DE01-F12'!Q2166),\"\",('DE01-F12'!Q2166))","v":""},{"$f":"IF(ISBLANK('DE01-F12'!S2166),\"\",('DE01-F12'!S2166))","v":0}]
[{"$f":"IF(ISBLANK('DE01-F12'!N2167),\"\",('DE01-F12'!N2167))","v":""},{"$f":"MID('DE01-F12'!G2167,1,18)","v":""},{"$f":"IF(ISBLANK('DE01-F12'!P2167),\"\",('DE01-F12'!P2167))","v":""},{"$f":"IF(ISBLANK('DE01-F12'!Q2167),\"\",('DE01-F12'!Q2167))","v":""},{"$f":"IF(ISBLANK('DE01-F12'!S2167),\"\",('DE01-F12'!S2167))","v":0}]
[{"$f":"IF(ISBLANK('DE01-F12'!N2168),\"\",('DE01-F12'!N2168))","v":""},{"$f":"MID('DE01-F12'!G2168,1,18)","v":""},{"$f":"IF(ISBLANK('DE01-F12'!P2168),\"\",('DE01-F12'!P2168))","v":""},{"$f":"IF(ISBLANK('DE01-F12'!Q2168),\"\",('DE01-F12'!Q2168))","v":""},{"$f":"IF(ISBLANK('DE01-F12'!S2168),\"\",('DE01-F12'!S2168))","v":0}]
[{"$f":"IF(ISBLANK('DE01-F12'!N2169),\"\",('DE01-F12'!N2169))","v":""},{"$f":"MID('DE01-F12'!G2169,1,18)","v":""},{"$f":"IF(ISBLANK('DE01-F12'!P2169),\"\",('DE01-F12'!P2169))","v":""},{"$f":"IF(ISBLANK('DE01-F12'!Q2169),\"\",('DE01-F12'!Q2169))","v":""},{"$f":"IF(ISBLANK('DE01-F12'!S2169),\"\",('DE01-F12'!S2169))","v":0}]
[{"$f":"IF(ISBLANK('DE01-F12'!N2170),\"\",('DE01-F12'!N2170))","v":""},{"$f":"MID('DE01-F12'!G2170,1,18)","v":""},{"$f":"IF(ISBLANK('DE01-F12'!P2170),\"\",('DE01-F12'!P2170))","v":""},{"$f":"IF(ISBLANK('DE01-F12'!Q2170),\"\",('DE01-F12'!Q2170))","v":""},{"$f":"IF(ISBLANK('DE01-F12'!S2170),\"\",('DE01-F12'!S2170))","v":0}]
[{"$f":"IF(ISBLANK('DE01-F12'!N2171),\"\",('DE01-F12'!N2171))","v":""},{"$f":"MID('DE01-F12'!G2171,1,18)","v":""},{"$f":"IF(ISBLANK('DE01-F12'!P2171),\"\",('DE01-F12'!P2171))","v":""},{"$f":"IF(ISBLANK('DE01-F12'!Q2171),\"\",('DE01-F12'!Q2171))","v":""},{"$f":"IF(ISBLANK('DE01-F12'!S2171),\"\",('DE01-F12'!S2171))","v":0}]
[{"$f":"IF(ISBLANK('DE01-F12'!N2172),\"\",('DE01-F12'!N2172))","v":""},{"$f":"MID('DE01-F12'!G2172,1,18)","v":""},{"$f":"IF(ISBLANK('DE01-F12'!P2172),\"\",('DE01-F12'!P2172))","v":""},{"$f":"IF(ISBLANK('DE01-F12'!Q2172),\"\",('DE01-F12'!Q2172))","v":""},{"$f":"IF(ISBLANK('DE01-F12'!S2172),\"\",('DE01-F12'!S2172))","v":0}]
[{"$f":"IF(ISBLANK('DE01-F12'!N2173),\"\",('DE01-F12'!N2173))","v":""},{"$f":"MID('DE01-F12'!G2173,1,18)","v":""},{"$f":"IF(ISBLANK('DE01-F12'!P2173),\"\",('DE01-F12'!P2173))","v":""},{"$f":"IF(ISBLANK('DE01-F12'!Q2173),\"\",('DE01-F12'!Q2173))","v":""},{"$f":"IF(ISBLANK('DE01-F12'!S2173),\"\",('DE01-F12'!S2173))","v":0}]
[{"$f":"IF(ISBLANK('DE01-F12'!N2174),\"\",('DE01-F12'!N2174))","v":""},{"$f":"MID('DE01-F12'!G2174,1,18)","v":""},{"$f":"IF(ISBLANK('DE01-F12'!P2174),\"\",('DE01-F12'!P2174))","v":""},{"$f":"IF(ISBLANK('DE01-F12'!Q2174),\"\",('DE01-F12'!Q2174))","v":""},{"$f":"IF(ISBLANK('DE01-F12'!S2174),\"\",('DE01-F12'!S2174))","v":0}]
[{"$f":"IF(ISBLANK('DE01-F12'!N2175),\"\",('DE01-F12'!N2175))","v":""},{"$f":"MID('DE01-F12'!G2175,1,18)","v":""},{"$f":"IF(ISBLANK('DE01-F12'!P2175),\"\",('DE01-F12'!P2175))","v":""},{"$f":"IF(ISBLANK('DE01-F12'!Q2175),\"\",('DE01-F12'!Q2175))","v":""},{"$f":"IF(ISBLANK('DE01-F12'!S2175),\"\",('DE01-F12'!S2175))","v":0}]
[{"$f":"IF(ISBLANK('DE01-F12'!N2176),\"\",('DE01-F12'!N2176))","v":""},{"$f":"MID('DE01-F12'!G2176,1,18)","v":""},{"$f":"IF(ISBLANK('DE01-F12'!P2176),\"\",('DE01-F12'!P2176))","v":""},{"$f":"IF(ISBLANK('DE01-F12'!Q2176),\"\",('DE01-F12'!Q2176))","v":""},{"$f":"IF(ISBLANK('DE01-F12'!S2176),\"\",('DE01-F12'!S2176))","v":0}]
[{"$f":"IF(ISBLANK('DE01-F12'!N2177),\"\",('DE01-F12'!N2177))","v":""},{"$f":"MID('DE01-F12'!G2177,1,18)","v":""},{"$f":"IF(ISBLANK('DE01-F12'!P2177),\"\",('DE01-F12'!P2177))","v":""},{"$f":"IF(ISBLANK('DE01-F12'!Q2177),\"\",('DE01-F12'!Q2177))","v":""},{"$f":"IF(ISBLANK('DE01-F12'!S2177),\"\",('DE01-F12'!S2177))","v":0}]
[{"$f":"IF(ISBLANK('DE01-F12'!N2178),\"\",('DE01-F12'!N2178))","v":""},{"$f":"MID('DE01-F12'!G2178,1,18)","v":""},{"$f":"IF(ISBLANK('DE01-F12'!P2178),\"\",('DE01-F12'!P2178))","v":""},{"$f":"IF(ISBLANK('DE01-F12'!Q2178),\"\",('DE01-F12'!Q2178))","v":""},{"$f":"IF(ISBLANK('DE01-F12'!S2178),\"\",('DE01-F12'!S2178))","v":0}]
[{"$f":"IF(ISBLANK('DE01-F12'!N2179),\"\",('DE01-F12'!N2179))","v":""},{"$f":"MID('DE01-F12'!G2179,1,18)","v":""},{"$f":"IF(ISBLANK('DE01-F12'!P2179),\"\",('DE01-F12'!P2179))","v":""},{"$f":"IF(ISBLANK('DE01-F12'!Q2179),\"\",('DE01-F12'!Q2179))","v":""},{"$f":"IF(ISBLANK('DE01-F12'!S2179),\"\",('DE01-F12'!S2179))","v":0}]
[{"$f":"IF(ISBLANK('DE01-F12'!N2180),\"\",('DE01-F12'!N2180))","v":""},{"$f":"MID('DE01-F12'!G2180,1,18)","v":""},{"$f":"IF(ISBLANK('DE01-F12'!P2180),\"\",('DE01-F12'!P2180))","v":""},{"$f":"IF(ISBLANK('DE01-F12'!Q2180),\"\",('DE01-F12'!Q2180))","v":""},{"$f":"IF(ISBLANK('DE01-F12'!S2180),\"\",('DE01-F12'!S2180))","v":0}]
[{"$f":"IF(ISBLANK('DE01-F12'!N2181),\"\",('DE01-F12'!N2181))","v":""},{"$f":"MID('DE01-F12'!G2181,1,18)","v":""},{"$f":"IF(ISBLANK('DE01-F12'!P2181),\"\",('DE01-F12'!P2181))","v":""},{"$f":"IF(ISBLANK('DE01-F12'!Q2181),\"\",('DE01-F12'!Q2181))","v":""},{"$f":"IF(ISBLANK('DE01-F12'!S2181),\"\",('DE01-F12'!S2181))","v":0}]
[{"$f":"IF(ISBLANK('DE01-F12'!N2182),\"\",('DE01-F12'!N2182))","v":""},{"$f":"MID('DE01-F12'!G2182,1,18)","v":""},{"$f":"IF(ISBLANK('DE01-F12'!P2182),\"\",('DE01-F12'!P2182))","v":""},{"$f":"IF(ISBLANK('DE01-F12'!Q2182),\"\",('DE01-F12'!Q2182))","v":""},{"$f":"IF(ISBLANK('DE01-F12'!S2182),\"\",('DE01-F12'!S2182))","v":0}]
[{"$f":"IF(ISBLANK('DE01-F12'!N2183),\"\",('DE01-F12'!N2183))","v":""},{"$f":"MID('DE01-F12'!G2183,1,18)","v":""},{"$f":"IF(ISBLANK('DE01-F12'!P2183),\"\",('DE01-F12'!P2183))","v":""},{"$f":"IF(ISBLANK('DE01-F12'!Q2183),\"\",('DE01-F12'!Q2183))","v":""},{"$f":"IF(ISBLANK('DE01-F12'!S2183),\"\",('DE01-F12'!S2183))","v":0}]
[{"$f":"IF(ISBLANK('DE01-F12'!N2184),\"\",('DE01-F12'!N2184))","v":""},{"$f":"MID('DE01-F12'!G2184,1,18)","v":""},{"$f":"IF(ISBLANK('DE01-F12'!P2184),\"\",('DE01-F12'!P2184))","v":""},{"$f":"IF(ISBLANK('DE01-F12'!Q2184),\"\",('DE01-F12'!Q2184))","v":""},{"$f":"IF(ISBLANK('DE01-F12'!S2184),\"\",('DE01-F12'!S2184))","v":0}]
[{"$f":"IF(ISBLANK('DE01-F12'!N2185),\"\",('DE01-F12'!N2185))","v":""},{"$f":"MID('DE01-F12'!G2185,1,18)","v":""},{"$f":"IF(ISBLANK('DE01-F12'!P2185),\"\",('DE01-F12'!P2185))","v":""},{"$f":"IF(ISBLANK('DE01-F12'!Q2185),\"\",('DE01-F12'!Q2185))","v":""},{"$f":"IF(ISBLANK('DE01-F12'!S2185),\"\",('DE01-F12'!S2185))","v":0}]
[{"$f":"IF(ISBLANK('DE01-F12'!N2186),\"\",('DE01-F12'!N2186))","v":""},{"$f":"MID('DE01-F12'!G2186,1,18)","v":""},{"$f":"IF(ISBLANK('DE01-F12'!P2186),\"\",('DE01-F12'!P2186))","v":""},{"$f":"IF(ISBLANK('DE01-F12'!Q2186),\"\",('DE01-F12'!Q2186))","v":""},{"$f":"IF(ISBLANK('DE01-F12'!S2186),\"\",('DE01-F12'!S2186))","v":0}]
[{"$f":"IF(ISBLANK('DE01-F12'!N2187),\"\",('DE01-F12'!N2187))","v":""},{"$f":"MID('DE01-F12'!G2187,1,18)","v":""},{"$f":"IF(ISBLANK('DE01-F12'!P2187),\"\",('DE01-F12'!P2187))","v":""},{"$f":"IF(ISBLANK('DE01-F12'!Q2187),\"\",('DE01-F12'!Q2187))","v":""},{"$f":"IF(ISBLANK('DE01-F12'!S2187),\"\",('DE01-F12'!S2187))","v":0}]
[{"$f":"IF(ISBLANK('DE01-F12'!N2188),\"\",('DE01-F12'!N2188))","v":""},{"$f":"MID('DE01-F12'!G2188,1,18)","v":""},{"$f":"IF(ISBLANK('DE01-F12'!P2188),\"\",('DE01-F12'!P2188))","v":""},{"$f":"IF(ISBLANK('DE01-F12'!Q2188),\"\",('DE01-F12'!Q2188))","v":""},{"$f":"IF(ISBLANK('DE01-F12'!S2188),\"\",('DE01-F12'!S2188))","v":0}]
[{"$f":"IF(ISBLANK('DE01-F12'!N2189),\"\",('DE01-F12'!N2189))","v":""},{"$f":"MID('DE01-F12'!G2189,1,18)","v":""},{"$f":"IF(ISBLANK('DE01-F12'!P2189),\"\",('DE01-F12'!P2189))","v":""},{"$f":"IF(ISBLANK('DE01-F12'!Q2189),\"\",('DE01-F12'!Q2189))","v":""},{"$f":"IF(ISBLANK('DE01-F12'!S2189),\"\",('DE01-F12'!S2189))","v":0}]
[{"$f":"IF(ISBLANK('DE01-F12'!N2190),\"\",('DE01-F12'!N2190))","v":""},{"$f":"MID('DE01-F12'!G2190,1,18)","v":""},{"$f":"IF(ISBLANK('DE01-F12'!P2190),\"\",('DE01-F12'!P2190))","v":""},{"$f":"IF(ISBLANK('DE01-F12'!Q2190),\"\",('DE01-F12'!Q2190))","v":""},{"$f":"IF(ISBLANK('DE01-F12'!S2190),\"\",('DE01-F12'!S2190))","v":0}]
[{"$f":"IF(ISBLANK('DE01-F12'!N2191),\"\",('DE01-F12'!N2191))","v":""},{"$f":"MID('DE01-F12'!G2191,1,18)","v":""},{"$f":"IF(ISBLANK('DE01-F12'!P2191),\"\",('DE01-F12'!P2191))","v":""},{"$f":"IF(ISBLANK('DE01-F12'!Q2191),\"\",('DE01-F12'!Q2191))","v":""},{"$f":"IF(ISBLANK('DE01-F12'!S2191),\"\",('DE01-F12'!S2191))","v":0}]
[{"$f":"IF(ISBLANK('DE01-F12'!N2192),\"\",('DE01-F12'!N2192))","v":""},{"$f":"MID('DE01-F12'!G2192,1,18)","v":""},{"$f":"IF(ISBLANK('DE01-F12'!P2192),\"\",('DE01-F12'!P2192))","v":""},{"$f":"IF(ISBLANK('DE01-F12'!Q2192),\"\",('DE01-F12'!Q2192))","v":""},{"$f":"IF(ISBLANK('DE01-F12'!S2192),\"\",('DE01-F12'!S2192))","v":0}]
[{"$f":"IF(ISBLANK('DE01-F12'!N2193),\"\",('DE01-F12'!N2193))","v":""},{"$f":"MID('DE01-F12'!G2193,1,18)","v":""},{"$f":"IF(ISBLANK('DE01-F12'!P2193),\"\",('DE01-F12'!P2193))","v":""},{"$f":"IF(ISBLANK('DE01-F12'!Q2193),\"\",('DE01-F12'!Q2193))","v":""},{"$f":"IF(ISBLANK('DE01-F12'!S2193),\"\",('DE01-F12'!S2193))","v":0}]
[{"$f":"IF(ISBLANK('DE01-F12'!N2194),\"\",('DE01-F12'!N2194))","v":""},{"$f":"MID('DE01-F12'!G2194,1,18)","v":""},{"$f":"IF(ISBLANK('DE01-F12'!P2194),\"\",('DE01-F12'!P2194))","v":""},{"$f":"IF(ISBLANK('DE01-F12'!Q2194),\"\",('DE01-F12'!Q2194))","v":""},{"$f":"IF(ISBLANK('DE01-F12'!S2194),\"\",('DE01-F12'!S2194))","v":0}]
[{"$f":"IF(ISBLANK('DE01-F12'!N2195),\"\",('DE01-F12'!N2195))","v":""},{"$f":"MID('DE01-F12'!G2195,1,18)","v":""},{"$f":"IF(ISBLANK('DE01-F12'!P2195),\"\",('DE01-F12'!P2195))","v":""},{"$f":"IF(ISBLANK('DE01-F12'!Q2195),\"\",('DE01-F12'!Q2195))","v":""},{"$f":"IF(ISBLANK('DE01-F12'!S2195),\"\",('DE01-F12'!S2195))","v":0}]
[{"$f":"IF(ISBLANK('DE01-F12'!N2196),\"\",('DE01-F12'!N2196))","v":""},{"$f":"MID('DE01-F12'!G2196,1,18)","v":""},{"$f":"IF(ISBLANK('DE01-F12'!P2196),\"\",('DE01-F12'!P2196))","v":""},{"$f":"IF(ISBLANK('DE01-F12'!Q2196),\"\",('DE01-F12'!Q2196))","v":""},{"$f":"IF(ISBLANK('DE01-F12'!S2196),\"\",('DE01-F12'!S2196))","v":0}]
[{"$f":"IF(ISBLANK('DE01-F12'!N2197),\"\",('DE01-F12'!N2197))","v":""},{"$f":"MID('DE01-F12'!G2197,1,18)","v":""},{"$f":"IF(ISBLANK('DE01-F12'!P2197),\"\",('DE01-F12'!P2197))","v":""},{"$f":"IF(ISBLANK('DE01-F12'!Q2197),\"\",('DE01-F12'!Q2197))","v":""},{"$f":"IF(ISBLANK('DE01-F12'!S2197),\"\",('DE01-F12'!S2197))","v":0}]
[{"$f":"IF(ISBLANK('DE01-F12'!N2198),\"\",('DE01-F12'!N2198))","v":""},{"$f":"MID('DE01-F12'!G2198,1,18)","v":""},{"$f":"IF(ISBLANK('DE01-F12'!P2198),\"\",('DE01-F12'!P2198))","v":""},{"$f":"IF(ISBLANK('DE01-F12'!Q2198),\"\",('DE01-F12'!Q2198))","v":""},{"$f":"IF(ISBLANK('DE01-F12'!S2198),\"\",('DE01-F12'!S2198))","v":0}]
[{"$f":"IF(ISBLANK('DE01-F12'!N2199),\"\",('DE01-F12'!N2199))","v":""},{"$f":"MID('DE01-F12'!G2199,1,18)","v":""},{"$f":"IF(ISBLANK('DE01-F12'!P2199),\"\",('DE01-F12'!P2199))","v":""},{"$f":"IF(ISBLANK('DE01-F12'!Q2199),\"\",('DE01-F12'!Q2199))","v":""},{"$f":"IF(ISBLANK('DE01-F12'!S2199),\"\",('DE01-F12'!S2199))","v":0}]
[{"$f":"IF(ISBLANK('DE01-F12'!N2200),\"\",('DE01-F12'!N2200))","v":""},{"$f":"MID('DE01-F12'!G2200,1,18)","v":""},{"$f":"IF(ISBLANK('DE01-F12'!P2200),\"\",('DE01-F12'!P2200))","v":""},{"$f":"IF(ISBLANK('DE01-F12'!Q2200),\"\",('DE01-F12'!Q2200))","v":""},{"$f":"IF(ISBLANK('DE01-F12'!S2200),\"\",('DE01-F12'!S2200))","v":0}]
[{"$f":"IF(ISBLANK('DE01-F12'!N2201),\"\",('DE01-F12'!N2201))","v":""},{"$f":"MID('DE01-F12'!G2201,1,18)","v":""},{"$f":"IF(ISBLANK('DE01-F12'!P2201),\"\",('DE01-F12'!P2201))","v":""},{"$f":"IF(ISBLANK('DE01-F12'!Q2201),\"\",('DE01-F12'!Q2201))","v":""},{"$f":"IF(ISBLANK('DE01-F12'!S2201),\"\",('DE01-F12'!S2201))","v":0}]
[{"$f":"IF(ISBLANK('DE01-F12'!N2202),\"\",('DE01-F12'!N2202))","v":""},{"$f":"MID('DE01-F12'!G2202,1,18)","v":""},{"$f":"IF(ISBLANK('DE01-F12'!P2202),\"\",('DE01-F12'!P2202))","v":""},{"$f":"IF(ISBLANK('DE01-F12'!Q2202),\"\",('DE01-F12'!Q2202))","v":""},{"$f":"IF(ISBLANK('DE01-F12'!S2202),\"\",('DE01-F12'!S2202))","v":0}]
[{"$f":"IF(ISBLANK('DE01-F12'!N2203),\"\",('DE01-F12'!N2203))","v":""},{"$f":"MID('DE01-F12'!G2203,1,18)","v":""},{"$f":"IF(ISBLANK('DE01-F12'!P2203),\"\",('DE01-F12'!P2203))","v":""},{"$f":"IF(ISBLANK('DE01-F12'!Q2203),\"\",('DE01-F12'!Q2203))","v":""},{"$f":"IF(ISBLANK('DE01-F12'!S2203),\"\",('DE01-F12'!S2203))","v":0}]
[{"$f":"IF(ISBLANK('DE01-F12'!N2204),\"\",('DE01-F12'!N2204))","v":""},{"$f":"MID('DE01-F12'!G2204,1,18)","v":""},{"$f":"IF(ISBLANK('DE01-F12'!P2204),\"\",('DE01-F12'!P2204))","v":""},{"$f":"IF(ISBLANK('DE01-F12'!Q2204),\"\",('DE01-F12'!Q2204))","v":""},{"$f":"IF(ISBLANK('DE01-F12'!S2204),\"\",('DE01-F12'!S2204))","v":0}]
[{"$f":"IF(ISBLANK('DE01-F12'!N2205),\"\",('DE01-F12'!N2205))","v":""},{"$f":"MID('DE01-F12'!G2205,1,18)","v":""},{"$f":"IF(ISBLANK('DE01-F12'!P2205),\"\",('DE01-F12'!P2205))","v":""},{"$f":"IF(ISBLANK('DE01-F12'!Q2205),\"\",('DE01-F12'!Q2205))","v":""},{"$f":"IF(ISBLANK('DE01-F12'!S2205),\"\",('DE01-F12'!S2205))","v":0}]
[{"$f":"IF(ISBLANK('DE01-F12'!N2206),\"\",('DE01-F12'!N2206))","v":""},{"$f":"MID('DE01-F12'!G2206,1,18)","v":""},{"$f":"IF(ISBLANK('DE01-F12'!P2206),\"\",('DE01-F12'!P2206))","v":""},{"$f":"IF(ISBLANK('DE01-F12'!Q2206),\"\",('DE01-F12'!Q2206))","v":""},{"$f":"IF(ISBLANK('DE01-F12'!S2206),\"\",('DE01-F12'!S2206))","v":0}]
[{"$f":"IF(ISBLANK('DE01-F12'!N2207),\"\",('DE01-F12'!N2207))","v":""},{"$f":"MID('DE01-F12'!G2207,1,18)","v":""},{"$f":"IF(ISBLANK('DE01-F12'!P2207),\"\",('DE01-F12'!P2207))","v":""},{"$f":"IF(ISBLANK('DE01-F12'!Q2207),\"\",('DE01-F12'!Q2207))","v":""},{"$f":"IF(ISBLANK('DE01-F12'!S2207),\"\",('DE01-F12'!S2207))","v":0}]
[{"$f":"IF(ISBLANK('DE01-F12'!N2208),\"\",('DE01-F12'!N2208))","v":""},{"$f":"MID('DE01-F12'!G2208,1,18)","v":""},{"$f":"IF(ISBLANK('DE01-F12'!P2208),\"\",('DE01-F12'!P2208))","v":""},{"$f":"IF(ISBLANK('DE01-F12'!Q2208),\"\",('DE01-F12'!Q2208))","v":""},{"$f":"IF(ISBLANK('DE01-F12'!S2208),\"\",('DE01-F12'!S2208))","v":0}]
[{"$f":"IF(ISBLANK('DE01-F12'!N2209),\"\",('DE01-F12'!N2209))","v":""},{"$f":"MID('DE01-F12'!G2209,1,18)","v":""},{"$f":"IF(ISBLANK('DE01-F12'!P2209),\"\",('DE01-F12'!P2209))","v":""},{"$f":"IF(ISBLANK('DE01-F12'!Q2209),\"\",('DE01-F12'!Q2209))","v":""},{"$f":"IF(ISBLANK('DE01-F12'!S2209),\"\",('DE01-F12'!S2209))","v":0}]
[{"$f":"IF(ISBLANK('DE01-F12'!N2210),\"\",('DE01-F12'!N2210))","v":""},{"$f":"MID('DE01-F12'!G2210,1,18)","v":""},{"$f":"IF(ISBLANK('DE01-F12'!P2210),\"\",('DE01-F12'!P2210))","v":""},{"$f":"IF(ISBLANK('DE01-F12'!Q2210),\"\",('DE01-F12'!Q2210))","v":""},{"$f":"IF(ISBLANK('DE01-F12'!S2210),\"\",('DE01-F12'!S2210))","v":0}]
[{"$f":"IF(ISBLANK('DE01-F12'!N2211),\"\",('DE01-F12'!N2211))","v":""},{"$f":"MID('DE01-F12'!G2211,1,18)","v":""},{"$f":"IF(ISBLANK('DE01-F12'!P2211),\"\",('DE01-F12'!P2211))","v":""},{"$f":"IF(ISBLANK('DE01-F12'!Q2211),\"\",('DE01-F12'!Q2211))","v":""},{"$f":"IF(ISBLANK('DE01-F12'!S2211),\"\",('DE01-F12'!S2211))","v":0}]
[{"$f":"IF(ISBLANK('DE01-F12'!N2212),\"\",('DE01-F12'!N2212))","v":""},{"$f":"MID('DE01-F12'!G2212,1,18)","v":""},{"$f":"IF(ISBLANK('DE01-F12'!P2212),\"\",('DE01-F12'!P2212))","v":""},{"$f":"IF(ISBLANK('DE01-F12'!Q2212),\"\",('DE01-F12'!Q2212))","v":""},{"$f":"IF(ISBLANK('DE01-F12'!S2212),\"\",('DE01-F12'!S2212))","v":0}]
[{"$f":"IF(ISBLANK('DE01-F12'!N2213),\"\",('DE01-F12'!N2213))","v":""},{"$f":"MID('DE01-F12'!G2213,1,18)","v":""},{"$f":"IF(ISBLANK('DE01-F12'!P2213),\"\",('DE01-F12'!P2213))","v":""},{"$f":"IF(ISBLANK('DE01-F12'!Q2213),\"\",('DE01-F12'!Q2213))","v":""},{"$f":"IF(ISBLANK('DE01-F12'!S2213),\"\",('DE01-F12'!S2213))","v":0}]
[{"$f":"IF(ISBLANK('DE01-F12'!N2214),\"\",('DE01-F12'!N2214))","v":""},{"$f":"MID('DE01-F12'!G2214,1,18)","v":""},{"$f":"IF(ISBLANK('DE01-F12'!P2214),\"\",('DE01-F12'!P2214))","v":""},{"$f":"IF(ISBLANK('DE01-F12'!Q2214),\"\",('DE01-F12'!Q2214))","v":""},{"$f":"IF(ISBLANK('DE01-F12'!S2214),\"\",('DE01-F12'!S2214))","v":0}]
[{"$f":"IF(ISBLANK('DE01-F12'!N2215),\"\",('DE01-F12'!N2215))","v":""},{"$f":"MID('DE01-F12'!G2215,1,18)","v":""},{"$f":"IF(ISBLANK('DE01-F12'!P2215),\"\",('DE01-F12'!P2215))","v":""},{"$f":"IF(ISBLANK('DE01-F12'!Q2215),\"\",('DE01-F12'!Q2215))","v":""},{"$f":"IF(ISBLANK('DE01-F12'!S2215),\"\",('DE01-F12'!S2215))","v":0}]
[{"$f":"IF(ISBLANK('DE01-F12'!N2216),\"\",('DE01-F12'!N2216))","v":""},{"$f":"MID('DE01-F12'!G2216,1,18)","v":""},{"$f":"IF(ISBLANK('DE01-F12'!P2216),\"\",('DE01-F12'!P2216))","v":""},{"$f":"IF(ISBLANK('DE01-F12'!Q2216),\"\",('DE01-F12'!Q2216))","v":""},{"$f":"IF(ISBLANK('DE01-F12'!S2216),\"\",('DE01-F12'!S2216))","v":0}]
[{"$f":"IF(ISBLANK('DE01-F12'!N2217),\"\",('DE01-F12'!N2217))","v":""},{"$f":"MID('DE01-F12'!G2217,1,18)","v":""},{"$f":"IF(ISBLANK('DE01-F12'!P2217),\"\",('DE01-F12'!P2217))","v":""},{"$f":"IF(ISBLANK('DE01-F12'!Q2217),\"\",('DE01-F12'!Q2217))","v":""},{"$f":"IF(ISBLANK('DE01-F12'!S2217),\"\",('DE01-F12'!S2217))","v":0}]
[{"$f":"IF(ISBLANK('DE01-F12'!N2218),\"\",('DE01-F12'!N2218))","v":""},{"$f":"MID('DE01-F12'!G2218,1,18)","v":""},{"$f":"IF(ISBLANK('DE01-F12'!P2218),\"\",('DE01-F12'!P2218))","v":""},{"$f":"IF(ISBLANK('DE01-F12'!Q2218),\"\",('DE01-F12'!Q2218))","v":""},{"$f":"IF(ISBLANK('DE01-F12'!S2218),\"\",('DE01-F12'!S2218))","v":0}]
[{"$f":"IF(ISBLANK('DE01-F12'!N2219),\"\",('DE01-F12'!N2219))","v":""},{"$f":"MID('DE01-F12'!G2219,1,18)","v":""},{"$f":"IF(ISBLANK('DE01-F12'!P2219),\"\",('DE01-F12'!P2219))","v":""},{"$f":"IF(ISBLANK('DE01-F12'!Q2219),\"\",('DE01-F12'!Q2219))","v":""},{"$f":"IF(ISBLANK('DE01-F12'!S2219),\"\",('DE01-F12'!S2219))","v":0}]
[{"$f":"IF(ISBLANK('DE01-F12'!N2220),\"\",('DE01-F12'!N2220))","v":""},{"$f":"MID('DE01-F12'!G2220,1,18)","v":""},{"$f":"IF(ISBLANK('DE01-F12'!P2220),\"\",('DE01-F12'!P2220))","v":""},{"$f":"IF(ISBLANK('DE01-F12'!Q2220),\"\",('DE01-F12'!Q2220))","v":""},{"$f":"IF(ISBLANK('DE01-F12'!S2220),\"\",('DE01-F12'!S2220))","v":0}]
[{"$f":"IF(ISBLANK('DE01-F12'!N2221),\"\",('DE01-F12'!N2221))","v":""},{"$f":"MID('DE01-F12'!G2221,1,18)","v":""},{"$f":"IF(ISBLANK('DE01-F12'!P2221),\"\",('DE01-F12'!P2221))","v":""},{"$f":"IF(ISBLANK('DE01-F12'!Q2221),\"\",('DE01-F12'!Q2221))","v":""},{"$f":"IF(ISBLANK('DE01-F12'!S2221),\"\",('DE01-F12'!S2221))","v":0}]
[{"$f":"IF(ISBLANK('DE01-F12'!N2222),\"\",('DE01-F12'!N2222))","v":""},{"$f":"MID('DE01-F12'!G2222,1,18)","v":""},{"$f":"IF(ISBLANK('DE01-F12'!P2222),\"\",('DE01-F12'!P2222))","v":""},{"$f":"IF(ISBLANK('DE01-F12'!Q2222),\"\",('DE01-F12'!Q2222))","v":""},{"$f":"IF(ISBLANK('DE01-F12'!S2222),\"\",('DE01-F12'!S2222))","v":0}]
[{"$f":"IF(ISBLANK('DE01-F12'!N2223),\"\",('DE01-F12'!N2223))","v":""},{"$f":"MID('DE01-F12'!G2223,1,18)","v":""},{"$f":"IF(ISBLANK('DE01-F12'!P2223),\"\",('DE01-F12'!P2223))","v":""},{"$f":"IF(ISBLANK('DE01-F12'!Q2223),\"\",('DE01-F12'!Q2223))","v":""},{"$f":"IF(ISBLANK('DE01-F12'!S2223),\"\",('DE01-F12'!S2223))","v":0}]
[{"$f":"IF(ISBLANK('DE01-F12'!N2224),\"\",('DE01-F12'!N2224))","v":""},{"$f":"MID('DE01-F12'!G2224,1,18)","v":""},{"$f":"IF(ISBLANK('DE01-F12'!P2224),\"\",('DE01-F12'!P2224))","v":""},{"$f":"IF(ISBLANK('DE01-F12'!Q2224),\"\",('DE01-F12'!Q2224))","v":""},{"$f":"IF(ISBLANK('DE01-F12'!S2224),\"\",('DE01-F12'!S2224))","v":0}]
[{"$f":"IF(ISBLANK('DE01-F12'!N2225),\"\",('DE01-F12'!N2225))","v":""},{"$f":"MID('DE01-F12'!G2225,1,18)","v":""},{"$f":"IF(ISBLANK('DE01-F12'!P2225),\"\",('DE01-F12'!P2225))","v":""},{"$f":"IF(ISBLANK('DE01-F12'!Q2225),\"\",('DE01-F12'!Q2225))","v":""},{"$f":"IF(ISBLANK('DE01-F12'!S2225),\"\",('DE01-F12'!S2225))","v":0}]
[{"$f":"IF(ISBLANK('DE01-F12'!N2226),\"\",('DE01-F12'!N2226))","v":""},{"$f":"MID('DE01-F12'!G2226,1,18)","v":""},{"$f":"IF(ISBLANK('DE01-F12'!P2226),\"\",('DE01-F12'!P2226))","v":""},{"$f":"IF(ISBLANK('DE01-F12'!Q2226),\"\",('DE01-F12'!Q2226))","v":""},{"$f":"IF(ISBLANK('DE01-F12'!S2226),\"\",('DE01-F12'!S2226))","v":0}]
[{"$f":"IF(ISBLANK('DE01-F12'!N2227),\"\",('DE01-F12'!N2227))","v":""},{"$f":"MID('DE01-F12'!G2227,1,18)","v":""},{"$f":"IF(ISBLANK('DE01-F12'!P2227),\"\",('DE01-F12'!P2227))","v":""},{"$f":"IF(ISBLANK('DE01-F12'!Q2227),\"\",('DE01-F12'!Q2227))","v":""},{"$f":"IF(ISBLANK('DE01-F12'!S2227),\"\",('DE01-F12'!S2227))","v":0}]
[{"$f":"IF(ISBLANK('DE01-F12'!N2228),\"\",('DE01-F12'!N2228))","v":""},{"$f":"MID('DE01-F12'!G2228,1,18)","v":""},{"$f":"IF(ISBLANK('DE01-F12'!P2228),\"\",('DE01-F12'!P2228))","v":""},{"$f":"IF(ISBLANK('DE01-F12'!Q2228),\"\",('DE01-F12'!Q2228))","v":""},{"$f":"IF(ISBLANK('DE01-F12'!S2228),\"\",('DE01-F12'!S2228))","v":0}]
[{"$f":"IF(ISBLANK('DE01-F12'!N2229),\"\",('DE01-F12'!N2229))","v":""},{"$f":"MID('DE01-F12'!G2229,1,18)","v":""},{"$f":"IF(ISBLANK('DE01-F12'!P2229),\"\",('DE01-F12'!P2229))","v":""},{"$f":"IF(ISBLANK('DE01-F12'!Q2229),\"\",('DE01-F12'!Q2229))","v":""},{"$f":"IF(ISBLANK('DE01-F12'!S2229),\"\",('DE01-F12'!S2229))","v":0}]
[{"$f":"IF(ISBLANK('DE01-F12'!N2230),\"\",('DE01-F12'!N2230))","v":""},{"$f":"MID('DE01-F12'!G2230,1,18)","v":""},{"$f":"IF(ISBLANK('DE01-F12'!P2230),\"\",('DE01-F12'!P2230))","v":""},{"$f":"IF(ISBLANK('DE01-F12'!Q2230),\"\",('DE01-F12'!Q2230))","v":""},{"$f":"IF(ISBLANK('DE01-F12'!S2230),\"\",('DE01-F12'!S2230))","v":0}]
[{"$f":"IF(ISBLANK('DE01-F12'!N2231),\"\",('DE01-F12'!N2231))","v":""},{"$f":"MID('DE01-F12'!G2231,1,18)","v":""},{"$f":"IF(ISBLANK('DE01-F12'!P2231),\"\",('DE01-F12'!P2231))","v":""},{"$f":"IF(ISBLANK('DE01-F12'!Q2231),\"\",('DE01-F12'!Q2231))","v":""},{"$f":"IF(ISBLANK('DE01-F12'!S2231),\"\",('DE01-F12'!S2231))","v":0}]
[{"$f":"IF(ISBLANK('DE01-F12'!N2232),\"\",('DE01-F12'!N2232))","v":""},{"$f":"MID('DE01-F12'!G2232,1,18)","v":""},{"$f":"IF(ISBLANK('DE01-F12'!P2232),\"\",('DE01-F12'!P2232))","v":""},{"$f":"IF(ISBLANK('DE01-F12'!Q2232),\"\",('DE01-F12'!Q2232))","v":""},{"$f":"IF(ISBLANK('DE01-F12'!S2232),\"\",('DE01-F12'!S2232))","v":0}]
[{"$f":"IF(ISBLANK('DE01-F12'!N2233),\"\",('DE01-F12'!N2233))","v":""},{"$f":"MID('DE01-F12'!G2233,1,18)","v":""},{"$f":"IF(ISBLANK('DE01-F12'!P2233),\"\",('DE01-F12'!P2233))","v":""},{"$f":"IF(ISBLANK('DE01-F12'!Q2233),\"\",('DE01-F12'!Q2233))","v":""},{"$f":"IF(ISBLANK('DE01-F12'!S2233),\"\",('DE01-F12'!S2233))","v":0}]
[{"$f":"IF(ISBLANK('DE01-F12'!N2234),\"\",('DE01-F12'!N2234))","v":""},{"$f":"MID('DE01-F12'!G2234,1,18)","v":""},{"$f":"IF(ISBLANK('DE01-F12'!P2234),\"\",('DE01-F12'!P2234))","v":""},{"$f":"IF(ISBLANK('DE01-F12'!Q2234),\"\",('DE01-F12'!Q2234))","v":""},{"$f":"IF(ISBLANK('DE01-F12'!S2234),\"\",('DE01-F12'!S2234))","v":0}]
[{"$f":"IF(ISBLANK('DE01-F12'!N2235),\"\",('DE01-F12'!N2235))","v":""},{"$f":"MID('DE01-F12'!G2235,1,18)","v":""},{"$f":"IF(ISBLANK('DE01-F12'!P2235),\"\",('DE01-F12'!P2235))","v":""},{"$f":"IF(ISBLANK('DE01-F12'!Q2235),\"\",('DE01-F12'!Q2235))","v":""},{"$f":"IF(ISBLANK('DE01-F12'!S2235),\"\",('DE01-F12'!S2235))","v":0}]
[{"$f":"IF(ISBLANK('DE01-F12'!N2236),\"\",('DE01-F12'!N2236))","v":""},{"$f":"MID('DE01-F12'!G2236,1,18)","v":""},{"$f":"IF(ISBLANK('DE01-F12'!P2236),\"\",('DE01-F12'!P2236))","v":""},{"$f":"IF(ISBLANK('DE01-F12'!Q2236),\"\",('DE01-F12'!Q2236))","v":""},{"$f":"IF(ISBLANK('DE01-F12'!S2236),\"\",('DE01-F12'!S2236))","v":0}]
[{"$f":"IF(ISBLANK('DE01-F12'!N2237),\"\",('DE01-F12'!N2237))","v":""},{"$f":"MID('DE01-F12'!G2237,1,18)","v":""},{"$f":"IF(ISBLANK('DE01-F12'!P2237),\"\",('DE01-F12'!P2237))","v":""},{"$f":"IF(ISBLANK('DE01-F12'!Q2237),\"\",('DE01-F12'!Q2237))","v":""},{"$f":"IF(ISBLANK('DE01-F12'!S2237),\"\",('DE01-F12'!S2237))","v":0}]
[{"$f":"IF(ISBLANK('DE01-F12'!N2238),\"\",('DE01-F12'!N2238))","v":""},{"$f":"MID('DE01-F12'!G2238,1,18)","v":""},{"$f":"IF(ISBLANK('DE01-F12'!P2238),\"\",('DE01-F12'!P2238))","v":""},{"$f":"IF(ISBLANK('DE01-F12'!Q2238),\"\",('DE01-F12'!Q2238))","v":""},{"$f":"IF(ISBLANK('DE01-F12'!S2238),\"\",('DE01-F12'!S2238))","v":0}]
[{"$f":"IF(ISBLANK('DE01-F12'!N2239),\"\",('DE01-F12'!N2239))","v":""},{"$f":"MID('DE01-F12'!G2239,1,18)","v":""},{"$f":"IF(ISBLANK('DE01-F12'!P2239),\"\",('DE01-F12'!P2239))","v":""},{"$f":"IF(ISBLANK('DE01-F12'!Q2239),\"\",('DE01-F12'!Q2239))","v":""},{"$f":"IF(ISBLANK('DE01-F12'!S2239),\"\",('DE01-F12'!S2239))","v":0}]
[{"$f":"IF(ISBLANK('DE01-F12'!N2240),\"\",('DE01-F12'!N2240))","v":""},{"$f":"MID('DE01-F12'!G2240,1,18)","v":""},{"$f":"IF(ISBLANK('DE01-F12'!P2240),\"\",('DE01-F12'!P2240))","v":""},{"$f":"IF(ISBLANK('DE01-F12'!Q2240),\"\",('DE01-F12'!Q2240))","v":""},{"$f":"IF(ISBLANK('DE01-F12'!S2240),\"\",('DE01-F12'!S2240))","v":0}]
[{"$f":"IF(ISBLANK('DE01-F12'!N2241),\"\",('DE01-F12'!N2241))","v":""},{"$f":"MID('DE01-F12'!G2241,1,18)","v":""},{"$f":"IF(ISBLANK('DE01-F12'!P2241),\"\",('DE01-F12'!P2241))","v":""},{"$f":"IF(ISBLANK('DE01-F12'!Q2241),\"\",('DE01-F12'!Q2241))","v":""},{"$f":"IF(ISBLANK('DE01-F12'!S2241),\"\",('DE01-F12'!S2241))","v":0}]
[{"$f":"IF(ISBLANK('DE01-F12'!N2242),\"\",('DE01-F12'!N2242))","v":""},{"$f":"MID('DE01-F12'!G2242,1,18)","v":""},{"$f":"IF(ISBLANK('DE01-F12'!P2242),\"\",('DE01-F12'!P2242))","v":""},{"$f":"IF(ISBLANK('DE01-F12'!Q2242),\"\",('DE01-F12'!Q2242))","v":""},{"$f":"IF(ISBLANK('DE01-F12'!S2242),\"\",('DE01-F12'!S2242))","v":0}]
[{"$f":"IF(ISBLANK('DE01-F12'!N2243),\"\",('DE01-F12'!N2243))","v":""},{"$f":"MID('DE01-F12'!G2243,1,18)","v":""},{"$f":"IF(ISBLANK('DE01-F12'!P2243),\"\",('DE01-F12'!P2243))","v":""},{"$f":"IF(ISBLANK('DE01-F12'!Q2243),\"\",('DE01-F12'!Q2243))","v":""},{"$f":"IF(ISBLANK('DE01-F12'!S2243),\"\",('DE01-F12'!S2243))","v":0}]
[{"$f":"IF(ISBLANK('DE01-F12'!N2244),\"\",('DE01-F12'!N2244))","v":""},{"$f":"MID('DE01-F12'!G2244,1,18)","v":""},{"$f":"IF(ISBLANK('DE01-F12'!P2244),\"\",('DE01-F12'!P2244))","v":""},{"$f":"IF(ISBLANK('DE01-F12'!Q2244),\"\",('DE01-F12'!Q2244))","v":""},{"$f":"IF(ISBLANK('DE01-F12'!S2244),\"\",('DE01-F12'!S2244))","v":0}]
[{"$f":"IF(ISBLANK('DE01-F12'!N2245),\"\",('DE01-F12'!N2245))","v":""},{"$f":"MID('DE01-F12'!G2245,1,18)","v":""},{"$f":"IF(ISBLANK('DE01-F12'!P2245),\"\",('DE01-F12'!P2245))","v":""},{"$f":"IF(ISBLANK('DE01-F12'!Q2245),\"\",('DE01-F12'!Q2245))","v":""},{"$f":"IF(ISBLANK('DE01-F12'!S2245),\"\",('DE01-F12'!S2245))","v":0}]
[{"$f":"IF(ISBLANK('DE01-F12'!N2246),\"\",('DE01-F12'!N2246))","v":""},{"$f":"MID('DE01-F12'!G2246,1,18)","v":""},{"$f":"IF(ISBLANK('DE01-F12'!P2246),\"\",('DE01-F12'!P2246))","v":""},{"$f":"IF(ISBLANK('DE01-F12'!Q2246),\"\",('DE01-F12'!Q2246))","v":""},{"$f":"IF(ISBLANK('DE01-F12'!S2246),\"\",('DE01-F12'!S2246))","v":0}]
[{"$f":"IF(ISBLANK('DE01-F12'!N2247),\"\",('DE01-F12'!N2247))","v":""},{"$f":"MID('DE01-F12'!G2247,1,18)","v":""},{"$f":"IF(ISBLANK('DE01-F12'!P2247),\"\",('DE01-F12'!P2247))","v":""},{"$f":"IF(ISBLANK('DE01-F12'!Q2247),\"\",('DE01-F12'!Q2247))","v":""},{"$f":"IF(ISBLANK('DE01-F12'!S2247),\"\",('DE01-F12'!S2247))","v":0}]
[{"$f":"IF(ISBLANK('DE01-F12'!N2248),\"\",('DE01-F12'!N2248))","v":""},{"$f":"MID('DE01-F12'!G2248,1,18)","v":""},{"$f":"IF(ISBLANK('DE01-F12'!P2248),\"\",('DE01-F12'!P2248))","v":""},{"$f":"IF(ISBLANK('DE01-F12'!Q2248),\"\",('DE01-F12'!Q2248))","v":""},{"$f":"IF(ISBLANK('DE01-F12'!S2248),\"\",('DE01-F12'!S2248))","v":0}]
[{"$f":"IF(ISBLANK('DE01-F12'!N2249),\"\",('DE01-F12'!N2249))","v":""},{"$f":"MID('DE01-F12'!G2249,1,18)","v":""},{"$f":"IF(ISBLANK('DE01-F12'!P2249),\"\",('DE01-F12'!P2249))","v":""},{"$f":"IF(ISBLANK('DE01-F12'!Q2249),\"\",('DE01-F12'!Q2249))","v":""},{"$f":"IF(ISBLANK('DE01-F12'!S2249),\"\",('DE01-F12'!S2249))","v":0}]
[{"$f":"IF(ISBLANK('DE01-F12'!N2250),\"\",('DE01-F12'!N2250))","v":""},{"$f":"MID('DE01-F12'!G2250,1,18)","v":""},{"$f":"IF(ISBLANK('DE01-F12'!P2250),\"\",('DE01-F12'!P2250))","v":""},{"$f":"IF(ISBLANK('DE01-F12'!Q2250),\"\",('DE01-F12'!Q2250))","v":""},{"$f":"IF(ISBLANK('DE01-F12'!S2250),\"\",('DE01-F12'!S2250))","v":0}]
[{"$f":"IF(ISBLANK('DE01-F12'!N2251),\"\",('DE01-F12'!N2251))","v":""},{"$f":"MID('DE01-F12'!G2251,1,18)","v":""},{"$f":"IF(ISBLANK('DE01-F12'!P2251),\"\",('DE01-F12'!P2251))","v":""},{"$f":"IF(ISBLANK('DE01-F12'!Q2251),\"\",('DE01-F12'!Q2251))","v":""},{"$f":"IF(ISBLANK('DE01-F12'!S2251),\"\",('DE01-F12'!S2251))","v":0}]
[{"$f":"IF(ISBLANK('DE01-F12'!N2252),\"\",('DE01-F12'!N2252))","v":""},{"$f":"MID('DE01-F12'!G2252,1,18)","v":""},{"$f":"IF(ISBLANK('DE01-F12'!P2252),\"\",('DE01-F12'!P2252))","v":""},{"$f":"IF(ISBLANK('DE01-F12'!Q2252),\"\",('DE01-F12'!Q2252))","v":""},{"$f":"IF(ISBLANK('DE01-F12'!S2252),\"\",('DE01-F12'!S2252))","v":0}]
[{"$f":"IF(ISBLANK('DE01-F12'!N2253),\"\",('DE01-F12'!N2253))","v":""},{"$f":"MID('DE01-F12'!G2253,1,18)","v":""},{"$f":"IF(ISBLANK('DE01-F12'!P2253),\"\",('DE01-F12'!P2253))","v":""},{"$f":"IF(ISBLANK('DE01-F12'!Q2253),\"\",('DE01-F12'!Q2253))","v":""},{"$f":"IF(ISBLANK('DE01-F12'!S2253),\"\",('DE01-F12'!S2253))","v":0}]
[{"$f":"IF(ISBLANK('DE01-F12'!N2254),\"\",('DE01-F12'!N2254))","v":""},{"$f":"MID('DE01-F12'!G2254,1,18)","v":""},{"$f":"IF(ISBLANK('DE01-F12'!P2254),\"\",('DE01-F12'!P2254))","v":""},{"$f":"IF(ISBLANK('DE01-F12'!Q2254),\"\",('DE01-F12'!Q2254))","v":""},{"$f":"IF(ISBLANK('DE01-F12'!S2254),\"\",('DE01-F12'!S2254))","v":0}]
[{"$f":"IF(ISBLANK('DE01-F12'!N2255),\"\",('DE01-F12'!N2255))","v":""},{"$f":"MID('DE01-F12'!G2255,1,18)","v":""},{"$f":"IF(ISBLANK('DE01-F12'!P2255),\"\",('DE01-F12'!P2255))","v":""},{"$f":"IF(ISBLANK('DE01-F12'!Q2255),\"\",('DE01-F12'!Q2255))","v":""},{"$f":"IF(ISBLANK('DE01-F12'!S2255),\"\",('DE01-F12'!S2255))","v":0}]
[{"$f":"IF(ISBLANK('DE01-F12'!N2256),\"\",('DE01-F12'!N2256))","v":""},{"$f":"MID('DE01-F12'!G2256,1,18)","v":""},{"$f":"IF(ISBLANK('DE01-F12'!P2256),\"\",('DE01-F12'!P2256))","v":""},{"$f":"IF(ISBLANK('DE01-F12'!Q2256),\"\",('DE01-F12'!Q2256))","v":""},{"$f":"IF(ISBLANK('DE01-F12'!S2256),\"\",('DE01-F12'!S2256))","v":0}]
[{"$f":"IF(ISBLANK('DE01-F12'!N2257),\"\",('DE01-F12'!N2257))","v":""},{"$f":"MID('DE01-F12'!G2257,1,18)","v":""},{"$f":"IF(ISBLANK('DE01-F12'!P2257),\"\",('DE01-F12'!P2257))","v":""},{"$f":"IF(ISBLANK('DE01-F12'!Q2257),\"\",('DE01-F12'!Q2257))","v":""},{"$f":"IF(ISBLANK('DE01-F12'!S2257),\"\",('DE01-F12'!S2257))","v":0}]
[{"$f":"IF(ISBLANK('DE01-F12'!N2258),\"\",('DE01-F12'!N2258))","v":""},{"$f":"MID('DE01-F12'!G2258,1,18)","v":""},{"$f":"IF(ISBLANK('DE01-F12'!P2258),\"\",('DE01-F12'!P2258))","v":""},{"$f":"IF(ISBLANK('DE01-F12'!Q2258),\"\",('DE01-F12'!Q2258))","v":""},{"$f":"IF(ISBLANK('DE01-F12'!S2258),\"\",('DE01-F12'!S2258))","v":0}]
[{"$f":"IF(ISBLANK('DE01-F12'!N2259),\"\",('DE01-F12'!N2259))","v":""},{"$f":"MID('DE01-F12'!G2259,1,18)","v":""},{"$f":"IF(ISBLANK('DE01-F12'!P2259),\"\",('DE01-F12'!P2259))","v":""},{"$f":"IF(ISBLANK('DE01-F12'!Q2259),\"\",('DE01-F12'!Q2259))","v":""},{"$f":"IF(ISBLANK('DE01-F12'!S2259),\"\",('DE01-F12'!S2259))","v":0}]
[{"$f":"IF(ISBLANK('DE01-F12'!N2260),\"\",('DE01-F12'!N2260))","v":""},{"$f":"MID('DE01-F12'!G2260,1,18)","v":""},{"$f":"IF(ISBLANK('DE01-F12'!P2260),\"\",('DE01-F12'!P2260))","v":""},{"$f":"IF(ISBLANK('DE01-F12'!Q2260),\"\",('DE01-F12'!Q2260))","v":""},{"$f":"IF(ISBLANK('DE01-F12'!S2260),\"\",('DE01-F12'!S2260))","v":0}]
[{"$f":"IF(ISBLANK('DE01-F12'!N2261),\"\",('DE01-F12'!N2261))","v":""},{"$f":"MID('DE01-F12'!G2261,1,18)","v":""},{"$f":"IF(ISBLANK('DE01-F12'!P2261),\"\",('DE01-F12'!P2261))","v":""},{"$f":"IF(ISBLANK('DE01-F12'!Q2261),\"\",('DE01-F12'!Q2261))","v":""},{"$f":"IF(ISBLANK('DE01-F12'!S2261),\"\",('DE01-F12'!S2261))","v":0}]
[{"$f":"IF(ISBLANK('DE01-F12'!N2262),\"\",('DE01-F12'!N2262))","v":""},{"$f":"MID('DE01-F12'!G2262,1,18)","v":""},{"$f":"IF(ISBLANK('DE01-F12'!P2262),\"\",('DE01-F12'!P2262))","v":""},{"$f":"IF(ISBLANK('DE01-F12'!Q2262),\"\",('DE01-F12'!Q2262))","v":""},{"$f":"IF(ISBLANK('DE01-F12'!S2262),\"\",('DE01-F12'!S2262))","v":0}]
[{"$f":"IF(ISBLANK('DE01-F12'!N2263),\"\",('DE01-F12'!N2263))","v":""},{"$f":"MID('DE01-F12'!G2263,1,18)","v":""},{"$f":"IF(ISBLANK('DE01-F12'!P2263),\"\",('DE01-F12'!P2263))","v":""},{"$f":"IF(ISBLANK('DE01-F12'!Q2263),\"\",('DE01-F12'!Q2263))","v":""},{"$f":"IF(ISBLANK('DE01-F12'!S2263),\"\",('DE01-F12'!S2263))","v":0}]
[{"$f":"IF(ISBLANK('DE01-F12'!N2264),\"\",('DE01-F12'!N2264))","v":""},{"$f":"MID('DE01-F12'!G2264,1,18)","v":""},{"$f":"IF(ISBLANK('DE01-F12'!P2264),\"\",('DE01-F12'!P2264))","v":""},{"$f":"IF(ISBLANK('DE01-F12'!Q2264),\"\",('DE01-F12'!Q2264))","v":""},{"$f":"IF(ISBLANK('DE01-F12'!S2264),\"\",('DE01-F12'!S2264))","v":0}]
[{"$f":"IF(ISBLANK('DE01-F12'!N2265),\"\",('DE01-F12'!N2265))","v":""},{"$f":"MID('DE01-F12'!G2265,1,18)","v":""},{"$f":"IF(ISBLANK('DE01-F12'!P2265),\"\",('DE01-F12'!P2265))","v":""},{"$f":"IF(ISBLANK('DE01-F12'!Q2265),\"\",('DE01-F12'!Q2265))","v":""},{"$f":"IF(ISBLANK('DE01-F12'!S2265),\"\",('DE01-F12'!S2265))","v":0}]
[{"$f":"IF(ISBLANK('DE01-F12'!N2266),\"\",('DE01-F12'!N2266))","v":""},{"$f":"MID('DE01-F12'!G2266,1,18)","v":""},{"$f":"IF(ISBLANK('DE01-F12'!P2266),\"\",('DE01-F12'!P2266))","v":""},{"$f":"IF(ISBLANK('DE01-F12'!Q2266),\"\",('DE01-F12'!Q2266))","v":""},{"$f":"IF(ISBLANK('DE01-F12'!S2266),\"\",('DE01-F12'!S2266))","v":0}]
[{"$f":"IF(ISBLANK('DE01-F12'!N2267),\"\",('DE01-F12'!N2267))","v":""},{"$f":"MID('DE01-F12'!G2267,1,18)","v":""},{"$f":"IF(ISBLANK('DE01-F12'!P2267),\"\",('DE01-F12'!P2267))","v":""},{"$f":"IF(ISBLANK('DE01-F12'!Q2267),\"\",('DE01-F12'!Q2267))","v":""},{"$f":"IF(ISBLANK('DE01-F12'!S2267),\"\",('DE01-F12'!S2267))","v":0}]
[{"$f":"IF(ISBLANK('DE01-F12'!N2268),\"\",('DE01-F12'!N2268))","v":""},{"$f":"MID('DE01-F12'!G2268,1,18)","v":""},{"$f":"IF(ISBLANK('DE01-F12'!P2268),\"\",('DE01-F12'!P2268))","v":""},{"$f":"IF(ISBLANK('DE01-F12'!Q2268),\"\",('DE01-F12'!Q2268))","v":""},{"$f":"IF(ISBLANK('DE01-F12'!S2268),\"\",('DE01-F12'!S2268))","v":0}]
[{"$f":"IF(ISBLANK('DE01-F12'!N2269),\"\",('DE01-F12'!N2269))","v":""},{"$f":"MID('DE01-F12'!G2269,1,18)","v":""},{"$f":"IF(ISBLANK('DE01-F12'!P2269),\"\",('DE01-F12'!P2269))","v":""},{"$f":"IF(ISBLANK('DE01-F12'!Q2269),\"\",('DE01-F12'!Q2269))","v":""},{"$f":"IF(ISBLANK('DE01-F12'!S2269),\"\",('DE01-F12'!S2269))","v":0}]
[{"$f":"IF(ISBLANK('DE01-F12'!N2270),\"\",('DE01-F12'!N2270))","v":""},{"$f":"MID('DE01-F12'!G2270,1,18)","v":""},{"$f":"IF(ISBLANK('DE01-F12'!P2270),\"\",('DE01-F12'!P2270))","v":""},{"$f":"IF(ISBLANK('DE01-F12'!Q2270),\"\",('DE01-F12'!Q2270))","v":""},{"$f":"IF(ISBLANK('DE01-F12'!S2270),\"\",('DE01-F12'!S2270))","v":0}]
[{"$f":"IF(ISBLANK('DE01-F12'!N2271),\"\",('DE01-F12'!N2271))","v":""},{"$f":"MID('DE01-F12'!G2271,1,18)","v":""},{"$f":"IF(ISBLANK('DE01-F12'!P2271),\"\",('DE01-F12'!P2271))","v":""},{"$f":"IF(ISBLANK('DE01-F12'!Q2271),\"\",('DE01-F12'!Q2271))","v":""},{"$f":"IF(ISBLANK('DE01-F12'!S2271),\"\",('DE01-F12'!S2271))","v":0}]
[{"$f":"IF(ISBLANK('DE01-F12'!N2272),\"\",('DE01-F12'!N2272))","v":""},{"$f":"MID('DE01-F12'!G2272,1,18)","v":""},{"$f":"IF(ISBLANK('DE01-F12'!P2272),\"\",('DE01-F12'!P2272))","v":""},{"$f":"IF(ISBLANK('DE01-F12'!Q2272),\"\",('DE01-F12'!Q2272))","v":""},{"$f":"IF(ISBLANK('DE01-F12'!S2272),\"\",('DE01-F12'!S2272))","v":0}]
[{"$f":"IF(ISBLANK('DE01-F12'!N2273),\"\",('DE01-F12'!N2273))","v":""},{"$f":"MID('DE01-F12'!G2273,1,18)","v":""},{"$f":"IF(ISBLANK('DE01-F12'!P2273),\"\",('DE01-F12'!P2273))","v":""},{"$f":"IF(ISBLANK('DE01-F12'!Q2273),\"\",('DE01-F12'!Q2273))","v":""},{"$f":"IF(ISBLANK('DE01-F12'!S2273),\"\",('DE01-F12'!S2273))","v":0}]
[{"$f":"IF(ISBLANK('DE01-F12'!N2274),\"\",('DE01-F12'!N2274))","v":""},{"$f":"MID('DE01-F12'!G2274,1,18)","v":""},{"$f":"IF(ISBLANK('DE01-F12'!P2274),\"\",('DE01-F12'!P2274))","v":""},{"$f":"IF(ISBLANK('DE01-F12'!Q2274),\"\",('DE01-F12'!Q2274))","v":""},{"$f":"IF(ISBLANK('DE01-F12'!S2274),\"\",('DE01-F12'!S2274))","v":0}]
[{"$f":"IF(ISBLANK('DE01-F12'!N2275),\"\",('DE01-F12'!N2275))","v":""},{"$f":"MID('DE01-F12'!G2275,1,18)","v":""},{"$f":"IF(ISBLANK('DE01-F12'!P2275),\"\",('DE01-F12'!P2275))","v":""},{"$f":"IF(ISBLANK('DE01-F12'!Q2275),\"\",('DE01-F12'!Q2275))","v":""},{"$f":"IF(ISBLANK('DE01-F12'!S2275),\"\",('DE01-F12'!S2275))","v":0}]
[{"$f":"IF(ISBLANK('DE01-F12'!N2276),\"\",('DE01-F12'!N2276))","v":""},{"$f":"MID('DE01-F12'!G2276,1,18)","v":""},{"$f":"IF(ISBLANK('DE01-F12'!P2276),\"\",('DE01-F12'!P2276))","v":""},{"$f":"IF(ISBLANK('DE01-F12'!Q2276),\"\",('DE01-F12'!Q2276))","v":""},{"$f":"IF(ISBLANK('DE01-F12'!S2276),\"\",('DE01-F12'!S2276))","v":0}]
[{"$f":"IF(ISBLANK('DE01-F12'!N2277),\"\",('DE01-F12'!N2277))","v":""},{"$f":"MID('DE01-F12'!G2277,1,18)","v":""},{"$f":"IF(ISBLANK('DE01-F12'!P2277),\"\",('DE01-F12'!P2277))","v":""},{"$f":"IF(ISBLANK('DE01-F12'!Q2277),\"\",('DE01-F12'!Q2277))","v":""},{"$f":"IF(ISBLANK('DE01-F12'!S2277),\"\",('DE01-F12'!S2277))","v":0}]
[{"$f":"IF(ISBLANK('DE01-F12'!N2278),\"\",('DE01-F12'!N2278))","v":""},{"$f":"MID('DE01-F12'!G2278,1,18)","v":""},{"$f":"IF(ISBLANK('DE01-F12'!P2278),\"\",('DE01-F12'!P2278))","v":""},{"$f":"IF(ISBLANK('DE01-F12'!Q2278),\"\",('DE01-F12'!Q2278))","v":""},{"$f":"IF(ISBLANK('DE01-F12'!S2278),\"\",('DE01-F12'!S2278))","v":0}]
[{"$f":"IF(ISBLANK('DE01-F12'!N2279),\"\",('DE01-F12'!N2279))","v":""},{"$f":"MID('DE01-F12'!G2279,1,18)","v":""},{"$f":"IF(ISBLANK('DE01-F12'!P2279),\"\",('DE01-F12'!P2279))","v":""},{"$f":"IF(ISBLANK('DE01-F12'!Q2279),\"\",('DE01-F12'!Q2279))","v":""},{"$f":"IF(ISBLANK('DE01-F12'!S2279),\"\",('DE01-F12'!S2279))","v":0}]
[{"$f":"IF(ISBLANK('DE01-F12'!N2280),\"\",('DE01-F12'!N2280))","v":""},{"$f":"MID('DE01-F12'!G2280,1,18)","v":""},{"$f":"IF(ISBLANK('DE01-F12'!P2280),\"\",('DE01-F12'!P2280))","v":""},{"$f":"IF(ISBLANK('DE01-F12'!Q2280),\"\",('DE01-F12'!Q2280))","v":""},{"$f":"IF(ISBLANK('DE01-F12'!S2280),\"\",('DE01-F12'!S2280))","v":0}]
[{"$f":"IF(ISBLANK('DE01-F12'!N2281),\"\",('DE01-F12'!N2281))","v":""},{"$f":"MID('DE01-F12'!G2281,1,18)","v":""},{"$f":"IF(ISBLANK('DE01-F12'!P2281),\"\",('DE01-F12'!P2281))","v":""},{"$f":"IF(ISBLANK('DE01-F12'!Q2281),\"\",('DE01-F12'!Q2281))","v":""},{"$f":"IF(ISBLANK('DE01-F12'!S2281),\"\",('DE01-F12'!S2281))","v":0}]
[{"$f":"IF(ISBLANK('DE01-F12'!N2282),\"\",('DE01-F12'!N2282))","v":""},{"$f":"MID('DE01-F12'!G2282,1,18)","v":""},{"$f":"IF(ISBLANK('DE01-F12'!P2282),\"\",('DE01-F12'!P2282))","v":""},{"$f":"IF(ISBLANK('DE01-F12'!Q2282),\"\",('DE01-F12'!Q2282))","v":""},{"$f":"IF(ISBLANK('DE01-F12'!S2282),\"\",('DE01-F12'!S2282))","v":0}]
[{"$f":"IF(ISBLANK('DE01-F12'!N2283),\"\",('DE01-F12'!N2283))","v":""},{"$f":"MID('DE01-F12'!G2283,1,18)","v":""},{"$f":"IF(ISBLANK('DE01-F12'!P2283),\"\",('DE01-F12'!P2283))","v":""},{"$f":"IF(ISBLANK('DE01-F12'!Q2283),\"\",('DE01-F12'!Q2283))","v":""},{"$f":"IF(ISBLANK('DE01-F12'!S2283),\"\",('DE01-F12'!S2283))","v":0}]
[{"$f":"IF(ISBLANK('DE01-F12'!N2284),\"\",('DE01-F12'!N2284))","v":""},{"$f":"MID('DE01-F12'!G2284,1,18)","v":""},{"$f":"IF(ISBLANK('DE01-F12'!P2284),\"\",('DE01-F12'!P2284))","v":""},{"$f":"IF(ISBLANK('DE01-F12'!Q2284),\"\",('DE01-F12'!Q2284))","v":""},{"$f":"IF(ISBLANK('DE01-F12'!S2284),\"\",('DE01-F12'!S2284))","v":0}]
[{"$f":"IF(ISBLANK('DE01-F12'!N2285),\"\",('DE01-F12'!N2285))","v":""},{"$f":"MID('DE01-F12'!G2285,1,18)","v":""},{"$f":"IF(ISBLANK('DE01-F12'!P2285),\"\",('DE01-F12'!P2285))","v":""},{"$f":"IF(ISBLANK('DE01-F12'!Q2285),\"\",('DE01-F12'!Q2285))","v":""},{"$f":"IF(ISBLANK('DE01-F12'!S2285),\"\",('DE01-F12'!S2285))","v":0}]
[{"$f":"IF(ISBLANK('DE01-F12'!N2286),\"\",('DE01-F12'!N2286))","v":""},{"$f":"MID('DE01-F12'!G2286,1,18)","v":""},{"$f":"IF(ISBLANK('DE01-F12'!P2286),\"\",('DE01-F12'!P2286))","v":""},{"$f":"IF(ISBLANK('DE01-F12'!Q2286),\"\",('DE01-F12'!Q2286))","v":""},{"$f":"IF(ISBLANK('DE01-F12'!S2286),\"\",('DE01-F12'!S2286))","v":0}]
[{"$f":"IF(ISBLANK('DE01-F12'!N2287),\"\",('DE01-F12'!N2287))","v":""},{"$f":"MID('DE01-F12'!G2287,1,18)","v":""},{"$f":"IF(ISBLANK('DE01-F12'!P2287),\"\",('DE01-F12'!P2287))","v":""},{"$f":"IF(ISBLANK('DE01-F12'!Q2287),\"\",('DE01-F12'!Q2287))","v":""},{"$f":"IF(ISBLANK('DE01-F12'!S2287),\"\",('DE01-F12'!S2287))","v":0}]
[{"$f":"IF(ISBLANK('DE01-F12'!N2288),\"\",('DE01-F12'!N2288))","v":""},{"$f":"MID('DE01-F12'!G2288,1,18)","v":""},{"$f":"IF(ISBLANK('DE01-F12'!P2288),\"\",('DE01-F12'!P2288))","v":""},{"$f":"IF(ISBLANK('DE01-F12'!Q2288),\"\",('DE01-F12'!Q2288))","v":""},{"$f":"IF(ISBLANK('DE01-F12'!S2288),\"\",('DE01-F12'!S2288))","v":0}]
[{"$f":"IF(ISBLANK('DE01-F12'!N2289),\"\",('DE01-F12'!N2289))","v":""},{"$f":"MID('DE01-F12'!G2289,1,18)","v":""},{"$f":"IF(ISBLANK('DE01-F12'!P2289),\"\",('DE01-F12'!P2289))","v":""},{"$f":"IF(ISBLANK('DE01-F12'!Q2289),\"\",('DE01-F12'!Q2289))","v":""},{"$f":"IF(ISBLANK('DE01-F12'!S2289),\"\",('DE01-F12'!S2289))","v":0}]
[{"$f":"IF(ISBLANK('DE01-F12'!N2290),\"\",('DE01-F12'!N2290))","v":""},{"$f":"MID('DE01-F12'!G2290,1,18)","v":""},{"$f":"IF(ISBLANK('DE01-F12'!P2290),\"\",('DE01-F12'!P2290))","v":""},{"$f":"IF(ISBLANK('DE01-F12'!Q2290),\"\",('DE01-F12'!Q2290))","v":""},{"$f":"IF(ISBLANK('DE01-F12'!S2290),\"\",('DE01-F12'!S2290))","v":0}]
[{"$f":"IF(ISBLANK('DE01-F12'!N2291),\"\",('DE01-F12'!N2291))","v":""},{"$f":"MID('DE01-F12'!G2291,1,18)","v":""},{"$f":"IF(ISBLANK('DE01-F12'!P2291),\"\",('DE01-F12'!P2291))","v":""},{"$f":"IF(ISBLANK('DE01-F12'!Q2291),\"\",('DE01-F12'!Q2291))","v":""},{"$f":"IF(ISBLANK('DE01-F12'!S2291),\"\",('DE01-F12'!S2291))","v":0}]
[{"$f":"IF(ISBLANK('DE01-F12'!N2292),\"\",('DE01-F12'!N2292))","v":""},{"$f":"MID('DE01-F12'!G2292,1,18)","v":""},{"$f":"IF(ISBLANK('DE01-F12'!P2292),\"\",('DE01-F12'!P2292))","v":""},{"$f":"IF(ISBLANK('DE01-F12'!Q2292),\"\",('DE01-F12'!Q2292))","v":""},{"$f":"IF(ISBLANK('DE01-F12'!S2292),\"\",('DE01-F12'!S2292))","v":0}]
[{"$f":"IF(ISBLANK('DE01-F12'!N2293),\"\",('DE01-F12'!N2293))","v":""},{"$f":"MID('DE01-F12'!G2293,1,18)","v":""},{"$f":"IF(ISBLANK('DE01-F12'!P2293),\"\",('DE01-F12'!P2293))","v":""},{"$f":"IF(ISBLANK('DE01-F12'!Q2293),\"\",('DE01-F12'!Q2293))","v":""},{"$f":"IF(ISBLANK('DE01-F12'!S2293),\"\",('DE01-F12'!S2293))","v":0}]
[{"$f":"IF(ISBLANK('DE01-F12'!N2294),\"\",('DE01-F12'!N2294))","v":""},{"$f":"MID('DE01-F12'!G2294,1,18)","v":""},{"$f":"IF(ISBLANK('DE01-F12'!P2294),\"\",('DE01-F12'!P2294))","v":""},{"$f":"IF(ISBLANK('DE01-F12'!Q2294),\"\",('DE01-F12'!Q2294))","v":""},{"$f":"IF(ISBLANK('DE01-F12'!S2294),\"\",('DE01-F12'!S2294))","v":0}]
[{"$f":"IF(ISBLANK('DE01-F12'!N2295),\"\",('DE01-F12'!N2295))","v":""},{"$f":"MID('DE01-F12'!G2295,1,18)","v":""},{"$f":"IF(ISBLANK('DE01-F12'!P2295),\"\",('DE01-F12'!P2295))","v":""},{"$f":"IF(ISBLANK('DE01-F12'!Q2295),\"\",('DE01-F12'!Q2295))","v":""},{"$f":"IF(ISBLANK('DE01-F12'!S2295),\"\",('DE01-F12'!S2295))","v":0}]
[{"$f":"IF(ISBLANK('DE01-F12'!N2296),\"\",('DE01-F12'!N2296))","v":""},{"$f":"MID('DE01-F12'!G2296,1,18)","v":""},{"$f":"IF(ISBLANK('DE01-F12'!P2296),\"\",('DE01-F12'!P2296))","v":""},{"$f":"IF(ISBLANK('DE01-F12'!Q2296),\"\",('DE01-F12'!Q2296))","v":""},{"$f":"IF(ISBLANK('DE01-F12'!S2296),\"\",('DE01-F12'!S2296))","v":0}]
[{"$f":"IF(ISBLANK('DE01-F12'!N2297),\"\",('DE01-F12'!N2297))","v":""},{"$f":"MID('DE01-F12'!G2297,1,18)","v":""},{"$f":"IF(ISBLANK('DE01-F12'!P2297),\"\",('DE01-F12'!P2297))","v":""},{"$f":"IF(ISBLANK('DE01-F12'!Q2297),\"\",('DE01-F12'!Q2297))","v":""},{"$f":"IF(ISBLANK('DE01-F12'!S2297),\"\",('DE01-F12'!S2297))","v":0}]
[{"$f":"IF(ISBLANK('DE01-F12'!N2298),\"\",('DE01-F12'!N2298))","v":""},{"$f":"MID('DE01-F12'!G2298,1,18)","v":""},{"$f":"IF(ISBLANK('DE01-F12'!P2298),\"\",('DE01-F12'!P2298))","v":""},{"$f":"IF(ISBLANK('DE01-F12'!Q2298),\"\",('DE01-F12'!Q2298))","v":""},{"$f":"IF(ISBLANK('DE01-F12'!S2298),\"\",('DE01-F12'!S2298))","v":0}]
[{"$f":"IF(ISBLANK('DE01-F12'!N2299),\"\",('DE01-F12'!N2299))","v":""},{"$f":"MID('DE01-F12'!G2299,1,18)","v":""},{"$f":"IF(ISBLANK('DE01-F12'!P2299),\"\",('DE01-F12'!P2299))","v":""},{"$f":"IF(ISBLANK('DE01-F12'!Q2299),\"\",('DE01-F12'!Q2299))","v":""},{"$f":"IF(ISBLANK('DE01-F12'!S2299),\"\",('DE01-F12'!S2299))","v":0}]
[{"$f":"IF(ISBLANK('DE01-F12'!N2300),\"\",('DE01-F12'!N2300))","v":""},{"$f":"MID('DE01-F12'!G2300,1,18)","v":""},{"$f":"IF(ISBLANK('DE01-F12'!P2300),\"\",('DE01-F12'!P2300))","v":""},{"$f":"IF(ISBLANK('DE01-F12'!Q2300),\"\",('DE01-F12'!Q2300))","v":""},{"$f":"IF(ISBLANK('DE01-F12'!S2300),\"\",('DE01-F12'!S2300))","v":0}]
[{"$f":"IF(ISBLANK('DE01-F12'!N2301),\"\",('DE01-F12'!N2301))","v":""},{"$f":"MID('DE01-F12'!G2301,1,18)","v":""},{"$f":"IF(ISBLANK('DE01-F12'!P2301),\"\",('DE01-F12'!P2301))","v":""},{"$f":"IF(ISBLANK('DE01-F12'!Q2301),\"\",('DE01-F12'!Q2301))","v":""},{"$f":"IF(ISBLANK('DE01-F12'!S2301),\"\",('DE01-F12'!S2301))","v":0}]
[{"$f":"IF(ISBLANK('DE01-F12'!N2302),\"\",('DE01-F12'!N2302))","v":""},{"$f":"MID('DE01-F12'!G2302,1,18)","v":""},{"$f":"IF(ISBLANK('DE01-F12'!P2302),\"\",('DE01-F12'!P2302))","v":""},{"$f":"IF(ISBLANK('DE01-F12'!Q2302),\"\",('DE01-F12'!Q2302))","v":""},{"$f":"IF(ISBLANK('DE01-F12'!S2302),\"\",('DE01-F12'!S2302))","v":0}]
[{"$f":"IF(ISBLANK('DE01-F12'!N2303),\"\",('DE01-F12'!N2303))","v":""},{"$f":"MID('DE01-F12'!G2303,1,18)","v":""},{"$f":"IF(ISBLANK('DE01-F12'!P2303),\"\",('DE01-F12'!P2303))","v":""},{"$f":"IF(ISBLANK('DE01-F12'!Q2303),\"\",('DE01-F12'!Q2303))","v":""},{"$f":"IF(ISBLANK('DE01-F12'!S2303),\"\",('DE01-F12'!S2303))","v":0}]
[{"$f":"IF(ISBLANK('DE01-F12'!N2304),\"\",('DE01-F12'!N2304))","v":""},{"$f":"MID('DE01-F12'!G2304,1,18)","v":""},{"$f":"IF(ISBLANK('DE01-F12'!P2304),\"\",('DE01-F12'!P2304))","v":""},{"$f":"IF(ISBLANK('DE01-F12'!Q2304),\"\",('DE01-F12'!Q2304))","v":""},{"$f":"IF(ISBLANK('DE01-F12'!S2304),\"\",('DE01-F12'!S2304))","v":0}]
[{"$f":"IF(ISBLANK('DE01-F12'!N2305),\"\",('DE01-F12'!N2305))","v":""},{"$f":"MID('DE01-F12'!G2305,1,18)","v":""},{"$f":"IF(ISBLANK('DE01-F12'!P2305),\"\",('DE01-F12'!P2305))","v":""},{"$f":"IF(ISBLANK('DE01-F12'!Q2305),\"\",('DE01-F12'!Q2305))","v":""},{"$f":"IF(ISBLANK('DE01-F12'!S2305),\"\",('DE01-F12'!S2305))","v":0}]
[{"$f":"IF(ISBLANK('DE01-F12'!N2306),\"\",('DE01-F12'!N2306))","v":""},{"$f":"MID('DE01-F12'!G2306,1,18)","v":""},{"$f":"IF(ISBLANK('DE01-F12'!P2306),\"\",('DE01-F12'!P2306))","v":""},{"$f":"IF(ISBLANK('DE01-F12'!Q2306),\"\",('DE01-F12'!Q2306))","v":""},{"$f":"IF(ISBLANK('DE01-F12'!S2306),\"\",('DE01-F12'!S2306))","v":0}]
[{"$f":"IF(ISBLANK('DE01-F12'!N2307),\"\",('DE01-F12'!N2307))","v":""},{"$f":"MID('DE01-F12'!G2307,1,18)","v":""},{"$f":"IF(ISBLANK('DE01-F12'!P2307),\"\",('DE01-F12'!P2307))","v":""},{"$f":"IF(ISBLANK('DE01-F12'!Q2307),\"\",('DE01-F12'!Q2307))","v":""},{"$f":"IF(ISBLANK('DE01-F12'!S2307),\"\",('DE01-F12'!S2307))","v":0}]
[{"$f":"IF(ISBLANK('DE01-F12'!N2308),\"\",('DE01-F12'!N2308))","v":""},{"$f":"MID('DE01-F12'!G2308,1,18)","v":""},{"$f":"IF(ISBLANK('DE01-F12'!P2308),\"\",('DE01-F12'!P2308))","v":""},{"$f":"IF(ISBLANK('DE01-F12'!Q2308),\"\",('DE01-F12'!Q2308))","v":""},{"$f":"IF(ISBLANK('DE01-F12'!S2308),\"\",('DE01-F12'!S2308))","v":0}]
[{"$f":"IF(ISBLANK('DE01-F12'!N2309),\"\",('DE01-F12'!N2309))","v":""},{"$f":"MID('DE01-F12'!G2309,1,18)","v":""},{"$f":"IF(ISBLANK('DE01-F12'!P2309),\"\",('DE01-F12'!P2309))","v":""},{"$f":"IF(ISBLANK('DE01-F12'!Q2309),\"\",('DE01-F12'!Q2309))","v":""},{"$f":"IF(ISBLANK('DE01-F12'!S2309),\"\",('DE01-F12'!S2309))","v":0}]
[{"$f":"IF(ISBLANK('DE01-F12'!N2310),\"\",('DE01-F12'!N2310))","v":""},{"$f":"MID('DE01-F12'!G2310,1,18)","v":""},{"$f":"IF(ISBLANK('DE01-F12'!P2310),\"\",('DE01-F12'!P2310))","v":""},{"$f":"IF(ISBLANK('DE01-F12'!Q2310),\"\",('DE01-F12'!Q2310))","v":""},{"$f":"IF(ISBLANK('DE01-F12'!S2310),\"\",('DE01-F12'!S2310))","v":0}]
[{"$f":"IF(ISBLANK('DE01-F12'!N2311),\"\",('DE01-F12'!N2311))","v":""},{"$f":"MID('DE01-F12'!G2311,1,18)","v":""},{"$f":"IF(ISBLANK('DE01-F12'!P2311),\"\",('DE01-F12'!P2311))","v":""},{"$f":"IF(ISBLANK('DE01-F12'!Q2311),\"\",('DE01-F12'!Q2311))","v":""},{"$f":"IF(ISBLANK('DE01-F12'!S2311),\"\",('DE01-F12'!S2311))","v":0}]
[{"$f":"IF(ISBLANK('DE01-F12'!N2312),\"\",('DE01-F12'!N2312))","v":""},{"$f":"MID('DE01-F12'!G2312,1,18)","v":""},{"$f":"IF(ISBLANK('DE01-F12'!P2312),\"\",('DE01-F12'!P2312))","v":""},{"$f":"IF(ISBLANK('DE01-F12'!Q2312),\"\",('DE01-F12'!Q2312))","v":""},{"$f":"IF(ISBLANK('DE01-F12'!S2312),\"\",('DE01-F12'!S2312))","v":0}]
[{"$f":"IF(ISBLANK('DE01-F12'!N2313),\"\",('DE01-F12'!N2313))","v":""},{"$f":"MID('DE01-F12'!G2313,1,18)","v":""},{"$f":"IF(ISBLANK('DE01-F12'!P2313),\"\",('DE01-F12'!P2313))","v":""},{"$f":"IF(ISBLANK('DE01-F12'!Q2313),\"\",('DE01-F12'!Q2313))","v":""},{"$f":"IF(ISBLANK('DE01-F12'!S2313),\"\",('DE01-F12'!S2313))","v":0}]
[{"$f":"IF(ISBLANK('DE01-F12'!N2314),\"\",('DE01-F12'!N2314))","v":""},{"$f":"MID('DE01-F12'!G2314,1,18)","v":""},{"$f":"IF(ISBLANK('DE01-F12'!P2314),\"\",('DE01-F12'!P2314))","v":""},{"$f":"IF(ISBLANK('DE01-F12'!Q2314),\"\",('DE01-F12'!Q2314))","v":""},{"$f":"IF(ISBLANK('DE01-F12'!S2314),\"\",('DE01-F12'!S2314))","v":0}]
[{"$f":"IF(ISBLANK('DE01-F12'!N2315),\"\",('DE01-F12'!N2315))","v":""},{"$f":"MID('DE01-F12'!G2315,1,18)","v":""},{"$f":"IF(ISBLANK('DE01-F12'!P2315),\"\",('DE01-F12'!P2315))","v":""},{"$f":"IF(ISBLANK('DE01-F12'!Q2315),\"\",('DE01-F12'!Q2315))","v":""},{"$f":"IF(ISBLANK('DE01-F12'!S2315),\"\",('DE01-F12'!S2315))","v":0}]
[{"$f":"IF(ISBLANK('DE01-F12'!N2316),\"\",('DE01-F12'!N2316))","v":""},{"$f":"MID('DE01-F12'!G2316,1,18)","v":""},{"$f":"IF(ISBLANK('DE01-F12'!P2316),\"\",('DE01-F12'!P2316))","v":""},{"$f":"IF(ISBLANK('DE01-F12'!Q2316),\"\",('DE01-F12'!Q2316))","v":""},{"$f":"IF(ISBLANK('DE01-F12'!S2316),\"\",('DE01-F12'!S2316))","v":0}]
[{"$f":"IF(ISBLANK('DE01-F12'!N2317),\"\",('DE01-F12'!N2317))","v":""},{"$f":"MID('DE01-F12'!G2317,1,18)","v":""},{"$f":"IF(ISBLANK('DE01-F12'!P2317),\"\",('DE01-F12'!P2317))","v":""},{"$f":"IF(ISBLANK('DE01-F12'!Q2317),\"\",('DE01-F12'!Q2317))","v":""},{"$f":"IF(ISBLANK('DE01-F12'!S2317),\"\",('DE01-F12'!S2317))","v":0}]
[{"$f":"IF(ISBLANK('DE01-F12'!N2318),\"\",('DE01-F12'!N2318))","v":""},{"$f":"MID('DE01-F12'!G2318,1,18)","v":""},{"$f":"IF(ISBLANK('DE01-F12'!P2318),\"\",('DE01-F12'!P2318))","v":""},{"$f":"IF(ISBLANK('DE01-F12'!Q2318),\"\",('DE01-F12'!Q2318))","v":""},{"$f":"IF(ISBLANK('DE01-F12'!S2318),\"\",('DE01-F12'!S2318))","v":0}]
[{"$f":"IF(ISBLANK('DE01-F12'!N2319),\"\",('DE01-F12'!N2319))","v":""},{"$f":"MID('DE01-F12'!G2319,1,18)","v":""},{"$f":"IF(ISBLANK('DE01-F12'!P2319),\"\",('DE01-F12'!P2319))","v":""},{"$f":"IF(ISBLANK('DE01-F12'!Q2319),\"\",('DE01-F12'!Q2319))","v":""},{"$f":"IF(ISBLANK('DE01-F12'!S2319),\"\",('DE01-F12'!S2319))","v":0}]
[{"$f":"IF(ISBLANK('DE01-F12'!N2320),\"\",('DE01-F12'!N2320))","v":""},{"$f":"MID('DE01-F12'!G2320,1,18)","v":""},{"$f":"IF(ISBLANK('DE01-F12'!P2320),\"\",('DE01-F12'!P2320))","v":""},{"$f":"IF(ISBLANK('DE01-F12'!Q2320),\"\",('DE01-F12'!Q2320))","v":""},{"$f":"IF(ISBLANK('DE01-F12'!S2320),\"\",('DE01-F12'!S2320))","v":0}]
[{"$f":"IF(ISBLANK('DE01-F12'!N2321),\"\",('DE01-F12'!N2321))","v":""},{"$f":"MID('DE01-F12'!G2321,1,18)","v":""},{"$f":"IF(ISBLANK('DE01-F12'!P2321),\"\",('DE01-F12'!P2321))","v":""},{"$f":"IF(ISBLANK('DE01-F12'!Q2321),\"\",('DE01-F12'!Q2321))","v":""},{"$f":"IF(ISBLANK('DE01-F12'!S2321),\"\",('DE01-F12'!S2321))","v":0}]
[{"$f":"IF(ISBLANK('DE01-F12'!N2322),\"\",('DE01-F12'!N2322))","v":""},{"$f":"MID('DE01-F12'!G2322,1,18)","v":""},{"$f":"IF(ISBLANK('DE01-F12'!P2322),\"\",('DE01-F12'!P2322))","v":""},{"$f":"IF(ISBLANK('DE01-F12'!Q2322),\"\",('DE01-F12'!Q2322))","v":""},{"$f":"IF(ISBLANK('DE01-F12'!S2322),\"\",('DE01-F12'!S2322))","v":0}]
[{"$f":"IF(ISBLANK('DE01-F12'!N2323),\"\",('DE01-F12'!N2323))","v":""},{"$f":"MID('DE01-F12'!G2323,1,18)","v":""},{"$f":"IF(ISBLANK('DE01-F12'!P2323),\"\",('DE01-F12'!P2323))","v":""},{"$f":"IF(ISBLANK('DE01-F12'!Q2323),\"\",('DE01-F12'!Q2323))","v":""},{"$f":"IF(ISBLANK('DE01-F12'!S2323),\"\",('DE01-F12'!S2323))","v":0}]
[{"$f":"IF(ISBLANK('DE01-F12'!N2324),\"\",('DE01-F12'!N2324))","v":""},{"$f":"MID('DE01-F12'!G2324,1,18)","v":""},{"$f":"IF(ISBLANK('DE01-F12'!P2324),\"\",('DE01-F12'!P2324))","v":""},{"$f":"IF(ISBLANK('DE01-F12'!Q2324),\"\",('DE01-F12'!Q2324))","v":""},{"$f":"IF(ISBLANK('DE01-F12'!S2324),\"\",('DE01-F12'!S2324))","v":0}]
[{"$f":"IF(ISBLANK('DE01-F12'!N2325),\"\",('DE01-F12'!N2325))","v":""},{"$f":"MID('DE01-F12'!G2325,1,18)","v":""},{"$f":"IF(ISBLANK('DE01-F12'!P2325),\"\",('DE01-F12'!P2325))","v":""},{"$f":"IF(ISBLANK('DE01-F12'!Q2325),\"\",('DE01-F12'!Q2325))","v":""},{"$f":"IF(ISBLANK('DE01-F12'!S2325),\"\",('DE01-F12'!S2325))","v":0}]
[{"$f":"IF(ISBLANK('DE01-F12'!N2326),\"\",('DE01-F12'!N2326))","v":""},{"$f":"MID('DE01-F12'!G2326,1,18)","v":""},{"$f":"IF(ISBLANK('DE01-F12'!P2326),\"\",('DE01-F12'!P2326))","v":""},{"$f":"IF(ISBLANK('DE01-F12'!Q2326),\"\",('DE01-F12'!Q2326))","v":""},{"$f":"IF(ISBLANK('DE01-F12'!S2326),\"\",('DE01-F12'!S2326))","v":0}]
[{"$f":"IF(ISBLANK('DE01-F12'!N2327),\"\",('DE01-F12'!N2327))","v":""},{"$f":"MID('DE01-F12'!G2327,1,18)","v":""},{"$f":"IF(ISBLANK('DE01-F12'!P2327),\"\",('DE01-F12'!P2327))","v":""},{"$f":"IF(ISBLANK('DE01-F12'!Q2327),\"\",('DE01-F12'!Q2327))","v":""},{"$f":"IF(ISBLANK('DE01-F12'!S2327),\"\",('DE01-F12'!S2327))","v":0}]
[{"$f":"IF(ISBLANK('DE01-F12'!N2328),\"\",('DE01-F12'!N2328))","v":""},{"$f":"MID('DE01-F12'!G2328,1,18)","v":""},{"$f":"IF(ISBLANK('DE01-F12'!P2328),\"\",('DE01-F12'!P2328))","v":""},{"$f":"IF(ISBLANK('DE01-F12'!Q2328),\"\",('DE01-F12'!Q2328))","v":""},{"$f":"IF(ISBLANK('DE01-F12'!S2328),\"\",('DE01-F12'!S2328))","v":0}]
[{"$f":"IF(ISBLANK('DE01-F12'!N2329),\"\",('DE01-F12'!N2329))","v":""},{"$f":"MID('DE01-F12'!G2329,1,18)","v":""},{"$f":"IF(ISBLANK('DE01-F12'!P2329),\"\",('DE01-F12'!P2329))","v":""},{"$f":"IF(ISBLANK('DE01-F12'!Q2329),\"\",('DE01-F12'!Q2329))","v":""},{"$f":"IF(ISBLANK('DE01-F12'!S2329),\"\",('DE01-F12'!S2329))","v":0}]
[{"$f":"IF(ISBLANK('DE01-F12'!N2330),\"\",('DE01-F12'!N2330))","v":""},{"$f":"MID('DE01-F12'!G2330,1,18)","v":""},{"$f":"IF(ISBLANK('DE01-F12'!P2330),\"\",('DE01-F12'!P2330))","v":""},{"$f":"IF(ISBLANK('DE01-F12'!Q2330),\"\",('DE01-F12'!Q2330))","v":""},{"$f":"IF(ISBLANK('DE01-F12'!S2330),\"\",('DE01-F12'!S2330))","v":0}]
[{"$f":"IF(ISBLANK('DE01-F12'!N2331),\"\",('DE01-F12'!N2331))","v":""},{"$f":"MID('DE01-F12'!G2331,1,18)","v":""},{"$f":"IF(ISBLANK('DE01-F12'!P2331),\"\",('DE01-F12'!P2331))","v":""},{"$f":"IF(ISBLANK('DE01-F12'!Q2331),\"\",('DE01-F12'!Q2331))","v":""},{"$f":"IF(ISBLANK('DE01-F12'!S2331),\"\",('DE01-F12'!S2331))","v":0}]
[{"$f":"IF(ISBLANK('DE01-F12'!N2332),\"\",('DE01-F12'!N2332))","v":""},{"$f":"MID('DE01-F12'!G2332,1,18)","v":""},{"$f":"IF(ISBLANK('DE01-F12'!P2332),\"\",('DE01-F12'!P2332))","v":""},{"$f":"IF(ISBLANK('DE01-F12'!Q2332),\"\",('DE01-F12'!Q2332))","v":""},{"$f":"IF(ISBLANK('DE01-F12'!S2332),\"\",('DE01-F12'!S2332))","v":0}]
[{"$f":"IF(ISBLANK('DE01-F12'!N2333),\"\",('DE01-F12'!N2333))","v":""},{"$f":"MID('DE01-F12'!G2333,1,18)","v":""},{"$f":"IF(ISBLANK('DE01-F12'!P2333),\"\",('DE01-F12'!P2333))","v":""},{"$f":"IF(ISBLANK('DE01-F12'!Q2333),\"\",('DE01-F12'!Q2333))","v":""},{"$f":"IF(ISBLANK('DE01-F12'!S2333),\"\",('DE01-F12'!S2333))","v":0}]
[{"$f":"IF(ISBLANK('DE01-F12'!N2334),\"\",('DE01-F12'!N2334))","v":""},{"$f":"MID('DE01-F12'!G2334,1,18)","v":""},{"$f":"IF(ISBLANK('DE01-F12'!P2334),\"\",('DE01-F12'!P2334))","v":""},{"$f":"IF(ISBLANK('DE01-F12'!Q2334),\"\",('DE01-F12'!Q2334))","v":""},{"$f":"IF(ISBLANK('DE01-F12'!S2334),\"\",('DE01-F12'!S2334))","v":0}]
[{"$f":"IF(ISBLANK('DE01-F12'!N2335),\"\",('DE01-F12'!N2335))","v":""},{"$f":"MID('DE01-F12'!G2335,1,18)","v":""},{"$f":"IF(ISBLANK('DE01-F12'!P2335),\"\",('DE01-F12'!P2335))","v":""},{"$f":"IF(ISBLANK('DE01-F12'!Q2335),\"\",('DE01-F12'!Q2335))","v":""},{"$f":"IF(ISBLANK('DE01-F12'!S2335),\"\",('DE01-F12'!S2335))","v":0}]
[{"$f":"IF(ISBLANK('DE01-F12'!N2336),\"\",('DE01-F12'!N2336))","v":""},{"$f":"MID('DE01-F12'!G2336,1,18)","v":""},{"$f":"IF(ISBLANK('DE01-F12'!P2336),\"\",('DE01-F12'!P2336))","v":""},{"$f":"IF(ISBLANK('DE01-F12'!Q2336),\"\",('DE01-F12'!Q2336))","v":""},{"$f":"IF(ISBLANK('DE01-F12'!S2336),\"\",('DE01-F12'!S2336))","v":0}]
[{"$f":"IF(ISBLANK('DE01-F12'!N2337),\"\",('DE01-F12'!N2337))","v":""},{"$f":"MID('DE01-F12'!G2337,1,18)","v":""},{"$f":"IF(ISBLANK('DE01-F12'!P2337),\"\",('DE01-F12'!P2337))","v":""},{"$f":"IF(ISBLANK('DE01-F12'!Q2337),\"\",('DE01-F12'!Q2337))","v":""},{"$f":"IF(ISBLANK('DE01-F12'!S2337),\"\",('DE01-F12'!S2337))","v":0}]
[{"$f":"IF(ISBLANK('DE01-F12'!N2338),\"\",('DE01-F12'!N2338))","v":""},{"$f":"MID('DE01-F12'!G2338,1,18)","v":""},{"$f":"IF(ISBLANK('DE01-F12'!P2338),\"\",('DE01-F12'!P2338))","v":""},{"$f":"IF(ISBLANK('DE01-F12'!Q2338),\"\",('DE01-F12'!Q2338))","v":""},{"$f":"IF(ISBLANK('DE01-F12'!S2338),\"\",('DE01-F12'!S2338))","v":0}]
[{"$f":"IF(ISBLANK('DE01-F12'!N2339),\"\",('DE01-F12'!N2339))","v":""},{"$f":"MID('DE01-F12'!G2339,1,18)","v":""},{"$f":"IF(ISBLANK('DE01-F12'!P2339),\"\",('DE01-F12'!P2339))","v":""},{"$f":"IF(ISBLANK('DE01-F12'!Q2339),\"\",('DE01-F12'!Q2339))","v":""},{"$f":"IF(ISBLANK('DE01-F12'!S2339),\"\",('DE01-F12'!S2339))","v":0}]
[{"$f":"IF(ISBLANK('DE01-F12'!N2340),\"\",('DE01-F12'!N2340))","v":""},{"$f":"MID('DE01-F12'!G2340,1,18)","v":""},{"$f":"IF(ISBLANK('DE01-F12'!P2340),\"\",('DE01-F12'!P2340))","v":""},{"$f":"IF(ISBLANK('DE01-F12'!Q2340),\"\",('DE01-F12'!Q2340))","v":""},{"$f":"IF(ISBLANK('DE01-F12'!S2340),\"\",('DE01-F12'!S2340))","v":0}]
[{"$f":"IF(ISBLANK('DE01-F12'!N2341),\"\",('DE01-F12'!N2341))","v":""},{"$f":"MID('DE01-F12'!G2341,1,18)","v":""},{"$f":"IF(ISBLANK('DE01-F12'!P2341),\"\",('DE01-F12'!P2341))","v":""},{"$f":"IF(ISBLANK('DE01-F12'!Q2341),\"\",('DE01-F12'!Q2341))","v":""},{"$f":"IF(ISBLANK('DE01-F12'!S2341),\"\",('DE01-F12'!S2341))","v":0}]
[{"$f":"IF(ISBLANK('DE01-F12'!N2342),\"\",('DE01-F12'!N2342))","v":""},{"$f":"MID('DE01-F12'!G2342,1,18)","v":""},{"$f":"IF(ISBLANK('DE01-F12'!P2342),\"\",('DE01-F12'!P2342))","v":""},{"$f":"IF(ISBLANK('DE01-F12'!Q2342),\"\",('DE01-F12'!Q2342))","v":""},{"$f":"IF(ISBLANK('DE01-F12'!S2342),\"\",('DE01-F12'!S2342))","v":0}]
[{"$f":"IF(ISBLANK('DE01-F12'!N2343),\"\",('DE01-F12'!N2343))","v":""},{"$f":"MID('DE01-F12'!G2343,1,18)","v":""},{"$f":"IF(ISBLANK('DE01-F12'!P2343),\"\",('DE01-F12'!P2343))","v":""},{"$f":"IF(ISBLANK('DE01-F12'!Q2343),\"\",('DE01-F12'!Q2343))","v":""},{"$f":"IF(ISBLANK('DE01-F12'!S2343),\"\",('DE01-F12'!S2343))","v":0}]
[{"$f":"IF(ISBLANK('DE01-F12'!N2344),\"\",('DE01-F12'!N2344))","v":""},{"$f":"MID('DE01-F12'!G2344,1,18)","v":""},{"$f":"IF(ISBLANK('DE01-F12'!P2344),\"\",('DE01-F12'!P2344))","v":""},{"$f":"IF(ISBLANK('DE01-F12'!Q2344),\"\",('DE01-F12'!Q2344))","v":""},{"$f":"IF(ISBLANK('DE01-F12'!S2344),\"\",('DE01-F12'!S2344))","v":0}]
[{"$f":"IF(ISBLANK('DE01-F12'!N2345),\"\",('DE01-F12'!N2345))","v":""},{"$f":"MID('DE01-F12'!G2345,1,18)","v":""},{"$f":"IF(ISBLANK('DE01-F12'!P2345),\"\",('DE01-F12'!P2345))","v":""},{"$f":"IF(ISBLANK('DE01-F12'!Q2345),\"\",('DE01-F12'!Q2345))","v":""},{"$f":"IF(ISBLANK('DE01-F12'!S2345),\"\",('DE01-F12'!S2345))","v":0}]
[{"$f":"IF(ISBLANK('DE01-F12'!N2346),\"\",('DE01-F12'!N2346))","v":""},{"$f":"MID('DE01-F12'!G2346,1,18)","v":""},{"$f":"IF(ISBLANK('DE01-F12'!P2346),\"\",('DE01-F12'!P2346))","v":""},{"$f":"IF(ISBLANK('DE01-F12'!Q2346),\"\",('DE01-F12'!Q2346))","v":""},{"$f":"IF(ISBLANK('DE01-F12'!S2346),\"\",('DE01-F12'!S2346))","v":0}]
[{"$f":"IF(ISBLANK('DE01-F12'!N2347),\"\",('DE01-F12'!N2347))","v":""},{"$f":"MID('DE01-F12'!G2347,1,18)","v":""},{"$f":"IF(ISBLANK('DE01-F12'!P2347),\"\",('DE01-F12'!P2347))","v":""},{"$f":"IF(ISBLANK('DE01-F12'!Q2347),\"\",('DE01-F12'!Q2347))","v":""},{"$f":"IF(ISBLANK('DE01-F12'!S2347),\"\",('DE01-F12'!S2347))","v":0}]
[{"$f":"IF(ISBLANK('DE01-F12'!N2348),\"\",('DE01-F12'!N2348))","v":""},{"$f":"MID('DE01-F12'!G2348,1,18)","v":""},{"$f":"IF(ISBLANK('DE01-F12'!P2348),\"\",('DE01-F12'!P2348))","v":""},{"$f":"IF(ISBLANK('DE01-F12'!Q2348),\"\",('DE01-F12'!Q2348))","v":""},{"$f":"IF(ISBLANK('DE01-F12'!S2348),\"\",('DE01-F12'!S2348))","v":0}]
[{"$f":"IF(ISBLANK('DE01-F12'!N2349),\"\",('DE01-F12'!N2349))","v":""},{"$f":"MID('DE01-F12'!G2349,1,18)","v":""},{"$f":"IF(ISBLANK('DE01-F12'!P2349),\"\",('DE01-F12'!P2349))","v":""},{"$f":"IF(ISBLANK('DE01-F12'!Q2349),\"\",('DE01-F12'!Q2349))","v":""},{"$f":"IF(ISBLANK('DE01-F12'!S2349),\"\",('DE01-F12'!S2349))","v":0}]
[{"$f":"IF(ISBLANK('DE01-F12'!N2350),\"\",('DE01-F12'!N2350))","v":""},{"$f":"MID('DE01-F12'!G2350,1,18)","v":""},{"$f":"IF(ISBLANK('DE01-F12'!P2350),\"\",('DE01-F12'!P2350))","v":""},{"$f":"IF(ISBLANK('DE01-F12'!Q2350),\"\",('DE01-F12'!Q2350))","v":""},{"$f":"IF(ISBLANK('DE01-F12'!S2350),\"\",('DE01-F12'!S2350))","v":0}]
[{"$f":"IF(ISBLANK('DE01-F12'!N2351),\"\",('DE01-F12'!N2351))","v":""},{"$f":"MID('DE01-F12'!G2351,1,18)","v":""},{"$f":"IF(ISBLANK('DE01-F12'!P2351),\"\",('DE01-F12'!P2351))","v":""},{"$f":"IF(ISBLANK('DE01-F12'!Q2351),\"\",('DE01-F12'!Q2351))","v":""},{"$f":"IF(ISBLANK('DE01-F12'!S2351),\"\",('DE01-F12'!S2351))","v":0}]
[{"$f":"IF(ISBLANK('DE01-F12'!N2352),\"\",('DE01-F12'!N2352))","v":""},{"$f":"MID('DE01-F12'!G2352,1,18)","v":""},{"$f":"IF(ISBLANK('DE01-F12'!P2352),\"\",('DE01-F12'!P2352))","v":""},{"$f":"IF(ISBLANK('DE01-F12'!Q2352),\"\",('DE01-F12'!Q2352))","v":""},{"$f":"IF(ISBLANK('DE01-F12'!S2352),\"\",('DE01-F12'!S2352))","v":0}]
[{"$f":"IF(ISBLANK('DE01-F12'!N2353),\"\",('DE01-F12'!N2353))","v":""},{"$f":"MID('DE01-F12'!G2353,1,18)","v":""},{"$f":"IF(ISBLANK('DE01-F12'!P2353),\"\",('DE01-F12'!P2353))","v":""},{"$f":"IF(ISBLANK('DE01-F12'!Q2353),\"\",('DE01-F12'!Q2353))","v":""},{"$f":"IF(ISBLANK('DE01-F12'!S2353),\"\",('DE01-F12'!S2353))","v":0}]
[{"$f":"IF(ISBLANK('DE01-F12'!N2354),\"\",('DE01-F12'!N2354))","v":""},{"$f":"MID('DE01-F12'!G2354,1,18)","v":""},{"$f":"IF(ISBLANK('DE01-F12'!P2354),\"\",('DE01-F12'!P2354))","v":""},{"$f":"IF(ISBLANK('DE01-F12'!Q2354),\"\",('DE01-F12'!Q2354))","v":""},{"$f":"IF(ISBLANK('DE01-F12'!S2354),\"\",('DE01-F12'!S2354))","v":0}]
[{"$f":"IF(ISBLANK('DE01-F12'!N2355),\"\",('DE01-F12'!N2355))","v":""},{"$f":"MID('DE01-F12'!G2355,1,18)","v":""},{"$f":"IF(ISBLANK('DE01-F12'!P2355),\"\",('DE01-F12'!P2355))","v":""},{"$f":"IF(ISBLANK('DE01-F12'!Q2355),\"\",('DE01-F12'!Q2355))","v":""},{"$f":"IF(ISBLANK('DE01-F12'!S2355),\"\",('DE01-F12'!S2355))","v":0}]
[{"$f":"IF(ISBLANK('DE01-F12'!N2356),\"\",('DE01-F12'!N2356))","v":""},{"$f":"MID('DE01-F12'!G2356,1,18)","v":""},{"$f":"IF(ISBLANK('DE01-F12'!P2356),\"\",('DE01-F12'!P2356))","v":""},{"$f":"IF(ISBLANK('DE01-F12'!Q2356),\"\",('DE01-F12'!Q2356))","v":""},{"$f":"IF(ISBLANK('DE01-F12'!S2356),\"\",('DE01-F12'!S2356))","v":0}]
[{"$f":"IF(ISBLANK('DE01-F12'!N2357),\"\",('DE01-F12'!N2357))","v":""},{"$f":"MID('DE01-F12'!G2357,1,18)","v":""},{"$f":"IF(ISBLANK('DE01-F12'!P2357),\"\",('DE01-F12'!P2357))","v":""},{"$f":"IF(ISBLANK('DE01-F12'!Q2357),\"\",('DE01-F12'!Q2357))","v":""},{"$f":"IF(ISBLANK('DE01-F12'!S2357),\"\",('DE01-F12'!S2357))","v":0}]
[{"$f":"IF(ISBLANK('DE01-F12'!N2358),\"\",('DE01-F12'!N2358))","v":""},{"$f":"MID('DE01-F12'!G2358,1,18)","v":""},{"$f":"IF(ISBLANK('DE01-F12'!P2358),\"\",('DE01-F12'!P2358))","v":""},{"$f":"IF(ISBLANK('DE01-F12'!Q2358),\"\",('DE01-F12'!Q2358))","v":""},{"$f":"IF(ISBLANK('DE01-F12'!S2358),\"\",('DE01-F12'!S2358))","v":0}]
[{"$f":"IF(ISBLANK('DE01-F12'!N2359),\"\",('DE01-F12'!N2359))","v":""},{"$f":"MID('DE01-F12'!G2359,1,18)","v":""},{"$f":"IF(ISBLANK('DE01-F12'!P2359),\"\",('DE01-F12'!P2359))","v":""},{"$f":"IF(ISBLANK('DE01-F12'!Q2359),\"\",('DE01-F12'!Q2359))","v":""},{"$f":"IF(ISBLANK('DE01-F12'!S2359),\"\",('DE01-F12'!S2359))","v":0}]
[{"$f":"IF(ISBLANK('DE01-F12'!N2360),\"\",('DE01-F12'!N2360))","v":""},{"$f":"MID('DE01-F12'!G2360,1,18)","v":""},{"$f":"IF(ISBLANK('DE01-F12'!P2360),\"\",('DE01-F12'!P2360))","v":""},{"$f":"IF(ISBLANK('DE01-F12'!Q2360),\"\",('DE01-F12'!Q2360))","v":""},{"$f":"IF(ISBLANK('DE01-F12'!S2360),\"\",('DE01-F12'!S2360))","v":0}]
[{"$f":"IF(ISBLANK('DE01-F12'!N2361),\"\",('DE01-F12'!N2361))","v":""},{"$f":"MID('DE01-F12'!G2361,1,18)","v":""},{"$f":"IF(ISBLANK('DE01-F12'!P2361),\"\",('DE01-F12'!P2361))","v":""},{"$f":"IF(ISBLANK('DE01-F12'!Q2361),\"\",('DE01-F12'!Q2361))","v":""},{"$f":"IF(ISBLANK('DE01-F12'!S2361),\"\",('DE01-F12'!S2361))","v":0}]
[{"$f":"IF(ISBLANK('DE01-F12'!N2362),\"\",('DE01-F12'!N2362))","v":""},{"$f":"MID('DE01-F12'!G2362,1,18)","v":""},{"$f":"IF(ISBLANK('DE01-F12'!P2362),\"\",('DE01-F12'!P2362))","v":""},{"$f":"IF(ISBLANK('DE01-F12'!Q2362),\"\",('DE01-F12'!Q2362))","v":""},{"$f":"IF(ISBLANK('DE01-F12'!S2362),\"\",('DE01-F12'!S2362))","v":0}]
[{"$f":"IF(ISBLANK('DE01-F12'!N2363),\"\",('DE01-F12'!N2363))","v":""},{"$f":"MID('DE01-F12'!G2363,1,18)","v":""},{"$f":"IF(ISBLANK('DE01-F12'!P2363),\"\",('DE01-F12'!P2363))","v":""},{"$f":"IF(ISBLANK('DE01-F12'!Q2363),\"\",('DE01-F12'!Q2363))","v":""},{"$f":"IF(ISBLANK('DE01-F12'!S2363),\"\",('DE01-F12'!S2363))","v":0}]
[{"$f":"IF(ISBLANK('DE01-F12'!N2364),\"\",('DE01-F12'!N2364))","v":""},{"$f":"MID('DE01-F12'!G2364,1,18)","v":""},{"$f":"IF(ISBLANK('DE01-F12'!P2364),\"\",('DE01-F12'!P2364))","v":""},{"$f":"IF(ISBLANK('DE01-F12'!Q2364),\"\",('DE01-F12'!Q2364))","v":""},{"$f":"IF(ISBLANK('DE01-F12'!S2364),\"\",('DE01-F12'!S2364))","v":0}]
[{"$f":"IF(ISBLANK('DE01-F12'!N2365),\"\",('DE01-F12'!N2365))","v":""},{"$f":"MID('DE01-F12'!G2365,1,18)","v":""},{"$f":"IF(ISBLANK('DE01-F12'!P2365),\"\",('DE01-F12'!P2365))","v":""},{"$f":"IF(ISBLANK('DE01-F12'!Q2365),\"\",('DE01-F12'!Q2365))","v":""},{"$f":"IF(ISBLANK('DE01-F12'!S2365),\"\",('DE01-F12'!S2365))","v":0}]
[{"$f":"IF(ISBLANK('DE01-F12'!N2366),\"\",('DE01-F12'!N2366))","v":""},{"$f":"MID('DE01-F12'!G2366,1,18)","v":""},{"$f":"IF(ISBLANK('DE01-F12'!P2366),\"\",('DE01-F12'!P2366))","v":""},{"$f":"IF(ISBLANK('DE01-F12'!Q2366),\"\",('DE01-F12'!Q2366))","v":""},{"$f":"IF(ISBLANK('DE01-F12'!S2366),\"\",('DE01-F12'!S2366))","v":0}]
[{"$f":"IF(ISBLANK('DE01-F12'!N2367),\"\",('DE01-F12'!N2367))","v":""},{"$f":"MID('DE01-F12'!G2367,1,18)","v":""},{"$f":"IF(ISBLANK('DE01-F12'!P2367),\"\",('DE01-F12'!P2367))","v":""},{"$f":"IF(ISBLANK('DE01-F12'!Q2367),\"\",('DE01-F12'!Q2367))","v":""},{"$f":"IF(ISBLANK('DE01-F12'!S2367),\"\",('DE01-F12'!S2367))","v":0}]
[{"$f":"IF(ISBLANK('DE01-F12'!N2368),\"\",('DE01-F12'!N2368))","v":""},{"$f":"MID('DE01-F12'!G2368,1,18)","v":""},{"$f":"IF(ISBLANK('DE01-F12'!P2368),\"\",('DE01-F12'!P2368))","v":""},{"$f":"IF(ISBLANK('DE01-F12'!Q2368),\"\",('DE01-F12'!Q2368))","v":""},{"$f":"IF(ISBLANK('DE01-F12'!S2368),\"\",('DE01-F12'!S2368))","v":0}]
[{"$f":"IF(ISBLANK('DE01-F12'!N2369),\"\",('DE01-F12'!N2369))","v":""},{"$f":"MID('DE01-F12'!G2369,1,18)","v":""},{"$f":"IF(ISBLANK('DE01-F12'!P2369),\"\",('DE01-F12'!P2369))","v":""},{"$f":"IF(ISBLANK('DE01-F12'!Q2369),\"\",('DE01-F12'!Q2369))","v":""},{"$f":"IF(ISBLANK('DE01-F12'!S2369),\"\",('DE01-F12'!S2369))","v":0}]
[{"$f":"IF(ISBLANK('DE01-F12'!N2370),\"\",('DE01-F12'!N2370))","v":""},{"$f":"MID('DE01-F12'!G2370,1,18)","v":""},{"$f":"IF(ISBLANK('DE01-F12'!P2370),\"\",('DE01-F12'!P2370))","v":""},{"$f":"IF(ISBLANK('DE01-F12'!Q2370),\"\",('DE01-F12'!Q2370))","v":""},{"$f":"IF(ISBLANK('DE01-F12'!S2370),\"\",('DE01-F12'!S2370))","v":0}]
[{"$f":"IF(ISBLANK('DE01-F12'!N2371),\"\",('DE01-F12'!N2371))","v":""},{"$f":"MID('DE01-F12'!G2371,1,18)","v":""},{"$f":"IF(ISBLANK('DE01-F12'!P2371),\"\",('DE01-F12'!P2371))","v":""},{"$f":"IF(ISBLANK('DE01-F12'!Q2371),\"\",('DE01-F12'!Q2371))","v":""},{"$f":"IF(ISBLANK('DE01-F12'!S2371),\"\",('DE01-F12'!S2371))","v":0}]
[{"$f":"IF(ISBLANK('DE01-F12'!N2372),\"\",('DE01-F12'!N2372))","v":""},{"$f":"MID('DE01-F12'!G2372,1,18)","v":""},{"$f":"IF(ISBLANK('DE01-F12'!P2372),\"\",('DE01-F12'!P2372))","v":""},{"$f":"IF(ISBLANK('DE01-F12'!Q2372),\"\",('DE01-F12'!Q2372))","v":""},{"$f":"IF(ISBLANK('DE01-F12'!S2372),\"\",('DE01-F12'!S2372))","v":0}]
[{"$f":"IF(ISBLANK('DE01-F12'!N2373),\"\",('DE01-F12'!N2373))","v":""},{"$f":"MID('DE01-F12'!G2373,1,18)","v":""},{"$f":"IF(ISBLANK('DE01-F12'!P2373),\"\",('DE01-F12'!P2373))","v":""},{"$f":"IF(ISBLANK('DE01-F12'!Q2373),\"\",('DE01-F12'!Q2373))","v":""},{"$f":"IF(ISBLANK('DE01-F12'!S2373),\"\",('DE01-F12'!S2373))","v":0}]
[{"$f":"IF(ISBLANK('DE01-F12'!N2374),\"\",('DE01-F12'!N2374))","v":""},{"$f":"MID('DE01-F12'!G2374,1,18)","v":""},{"$f":"IF(ISBLANK('DE01-F12'!P2374),\"\",('DE01-F12'!P2374))","v":""},{"$f":"IF(ISBLANK('DE01-F12'!Q2374),\"\",('DE01-F12'!Q2374))","v":""},{"$f":"IF(ISBLANK('DE01-F12'!S2374),\"\",('DE01-F12'!S2374))","v":0}]
[{"$f":"IF(ISBLANK('DE01-F12'!N2375),\"\",('DE01-F12'!N2375))","v":""},{"$f":"MID('DE01-F12'!G2375,1,18)","v":""},{"$f":"IF(ISBLANK('DE01-F12'!P2375),\"\",('DE01-F12'!P2375))","v":""},{"$f":"IF(ISBLANK('DE01-F12'!Q2375),\"\",('DE01-F12'!Q2375))","v":""},{"$f":"IF(ISBLANK('DE01-F12'!S2375),\"\",('DE01-F12'!S2375))","v":0}]
[{"$f":"IF(ISBLANK('DE01-F12'!N2376),\"\",('DE01-F12'!N2376))","v":""},{"$f":"MID('DE01-F12'!G2376,1,18)","v":""},{"$f":"IF(ISBLANK('DE01-F12'!P2376),\"\",('DE01-F12'!P2376))","v":""},{"$f":"IF(ISBLANK('DE01-F12'!Q2376),\"\",('DE01-F12'!Q2376))","v":""},{"$f":"IF(ISBLANK('DE01-F12'!S2376),\"\",('DE01-F12'!S2376))","v":0}]
[{"$f":"IF(ISBLANK('DE01-F12'!N2377),\"\",('DE01-F12'!N2377))","v":""},{"$f":"MID('DE01-F12'!G2377,1,18)","v":""},{"$f":"IF(ISBLANK('DE01-F12'!P2377),\"\",('DE01-F12'!P2377))","v":""},{"$f":"IF(ISBLANK('DE01-F12'!Q2377),\"\",('DE01-F12'!Q2377))","v":""},{"$f":"IF(ISBLANK('DE01-F12'!S2377),\"\",('DE01-F12'!S2377))","v":0}]
[{"$f":"IF(ISBLANK('DE01-F12'!N2378),\"\",('DE01-F12'!N2378))","v":""},{"$f":"MID('DE01-F12'!G2378,1,18)","v":""},{"$f":"IF(ISBLANK('DE01-F12'!P2378),\"\",('DE01-F12'!P2378))","v":""},{"$f":"IF(ISBLANK('DE01-F12'!Q2378),\"\",('DE01-F12'!Q2378))","v":""},{"$f":"IF(ISBLANK('DE01-F12'!S2378),\"\",('DE01-F12'!S2378))","v":0}]
[{"$f":"IF(ISBLANK('DE01-F12'!N2379),\"\",('DE01-F12'!N2379))","v":""},{"$f":"MID('DE01-F12'!G2379,1,18)","v":""},{"$f":"IF(ISBLANK('DE01-F12'!P2379),\"\",('DE01-F12'!P2379))","v":""},{"$f":"IF(ISBLANK('DE01-F12'!Q2379),\"\",('DE01-F12'!Q2379))","v":""},{"$f":"IF(ISBLANK('DE01-F12'!S2379),\"\",('DE01-F12'!S2379))","v":0}]
[{"$f":"IF(ISBLANK('DE01-F12'!N2380),\"\",('DE01-F12'!N2380))","v":""},{"$f":"MID('DE01-F12'!G2380,1,18)","v":""},{"$f":"IF(ISBLANK('DE01-F12'!P2380),\"\",('DE01-F12'!P2380))","v":""},{"$f":"IF(ISBLANK('DE01-F12'!Q2380),\"\",('DE01-F12'!Q2380))","v":""},{"$f":"IF(ISBLANK('DE01-F12'!S2380),\"\",('DE01-F12'!S2380))","v":0}]
[{"$f":"IF(ISBLANK('DE01-F12'!N2381),\"\",('DE01-F12'!N2381))","v":""},{"$f":"MID('DE01-F12'!G2381,1,18)","v":""},{"$f":"IF(ISBLANK('DE01-F12'!P2381),\"\",('DE01-F12'!P2381))","v":""},{"$f":"IF(ISBLANK('DE01-F12'!Q2381),\"\",('DE01-F12'!Q2381))","v":""},{"$f":"IF(ISBLANK('DE01-F12'!S2381),\"\",('DE01-F12'!S2381))","v":0}]
[{"$f":"IF(ISBLANK('DE01-F12'!N2382),\"\",('DE01-F12'!N2382))","v":""},{"$f":"MID('DE01-F12'!G2382,1,18)","v":""},{"$f":"IF(ISBLANK('DE01-F12'!P2382),\"\",('DE01-F12'!P2382))","v":""},{"$f":"IF(ISBLANK('DE01-F12'!Q2382),\"\",('DE01-F12'!Q2382))","v":""},{"$f":"IF(ISBLANK('DE01-F12'!S2382),\"\",('DE01-F12'!S2382))","v":0}]
[{"$f":"IF(ISBLANK('DE01-F12'!N2383),\"\",('DE01-F12'!N2383))","v":""},{"$f":"MID('DE01-F12'!G2383,1,18)","v":""},{"$f":"IF(ISBLANK('DE01-F12'!P2383),\"\",('DE01-F12'!P2383))","v":""},{"$f":"IF(ISBLANK('DE01-F12'!Q2383),\"\",('DE01-F12'!Q2383))","v":""},{"$f":"IF(ISBLANK('DE01-F12'!S2383),\"\",('DE01-F12'!S2383))","v":0}]
[{"$f":"IF(ISBLANK('DE01-F12'!N2384),\"\",('DE01-F12'!N2384))","v":""},{"$f":"MID('DE01-F12'!G2384,1,18)","v":""},{"$f":"IF(ISBLANK('DE01-F12'!P2384),\"\",('DE01-F12'!P2384))","v":""},{"$f":"IF(ISBLANK('DE01-F12'!Q2384),\"\",('DE01-F12'!Q2384))","v":""},{"$f":"IF(ISBLANK('DE01-F12'!S2384),\"\",('DE01-F12'!S2384))","v":0}]
[{"$f":"IF(ISBLANK('DE01-F12'!N2385),\"\",('DE01-F12'!N2385))","v":""},{"$f":"MID('DE01-F12'!G2385,1,18)","v":""},{"$f":"IF(ISBLANK('DE01-F12'!P2385),\"\",('DE01-F12'!P2385))","v":""},{"$f":"IF(ISBLANK('DE01-F12'!Q2385),\"\",('DE01-F12'!Q2385))","v":""},{"$f":"IF(ISBLANK('DE01-F12'!S2385),\"\",('DE01-F12'!S2385))","v":0}]
[{"$f":"IF(ISBLANK('DE01-F12'!N2386),\"\",('DE01-F12'!N2386))","v":""},{"$f":"MID('DE01-F12'!G2386,1,18)","v":""},{"$f":"IF(ISBLANK('DE01-F12'!P2386),\"\",('DE01-F12'!P2386))","v":""},{"$f":"IF(ISBLANK('DE01-F12'!Q2386),\"\",('DE01-F12'!Q2386))","v":""},{"$f":"IF(ISBLANK('DE01-F12'!S2386),\"\",('DE01-F12'!S2386))","v":0}]
[{"$f":"IF(ISBLANK('DE01-F12'!N2387),\"\",('DE01-F12'!N2387))","v":""},{"$f":"MID('DE01-F12'!G2387,1,18)","v":""},{"$f":"IF(ISBLANK('DE01-F12'!P2387),\"\",('DE01-F12'!P2387))","v":""},{"$f":"IF(ISBLANK('DE01-F12'!Q2387),\"\",('DE01-F12'!Q2387))","v":""},{"$f":"IF(ISBLANK('DE01-F12'!S2387),\"\",('DE01-F12'!S2387))","v":0}]
[{"$f":"IF(ISBLANK('DE01-F12'!N2388),\"\",('DE01-F12'!N2388))","v":""},{"$f":"MID('DE01-F12'!G2388,1,18)","v":""},{"$f":"IF(ISBLANK('DE01-F12'!P2388),\"\",('DE01-F12'!P2388))","v":""},{"$f":"IF(ISBLANK('DE01-F12'!Q2388),\"\",('DE01-F12'!Q2388))","v":""},{"$f":"IF(ISBLANK('DE01-F12'!S2388),\"\",('DE01-F12'!S2388))","v":0}]
[{"$f":"IF(ISBLANK('DE01-F12'!N2389),\"\",('DE01-F12'!N2389))","v":""},{"$f":"MID('DE01-F12'!G2389,1,18)","v":""},{"$f":"IF(ISBLANK('DE01-F12'!P2389),\"\",('DE01-F12'!P2389))","v":""},{"$f":"IF(ISBLANK('DE01-F12'!Q2389),\"\",('DE01-F12'!Q2389))","v":""},{"$f":"IF(ISBLANK('DE01-F12'!S2389),\"\",('DE01-F12'!S2389))","v":0}]
[{"$f":"IF(ISBLANK('DE01-F12'!N2390),\"\",('DE01-F12'!N2390))","v":""},{"$f":"MID('DE01-F12'!G2390,1,18)","v":""},{"$f":"IF(ISBLANK('DE01-F12'!P2390),\"\",('DE01-F12'!P2390))","v":""},{"$f":"IF(ISBLANK('DE01-F12'!Q2390),\"\",('DE01-F12'!Q2390))","v":""},{"$f":"IF(ISBLANK('DE01-F12'!S2390),\"\",('DE01-F12'!S2390))","v":0}]
[{"$f":"IF(ISBLANK('DE01-F12'!N2391),\"\",('DE01-F12'!N2391))","v":""},{"$f":"MID('DE01-F12'!G2391,1,18)","v":""},{"$f":"IF(ISBLANK('DE01-F12'!P2391),\"\",('DE01-F12'!P2391))","v":""},{"$f":"IF(ISBLANK('DE01-F12'!Q2391),\"\",('DE01-F12'!Q2391))","v":""},{"$f":"IF(ISBLANK('DE01-F12'!S2391),\"\",('DE01-F12'!S2391))","v":0}]
[{"$f":"IF(ISBLANK('DE01-F12'!N2392),\"\",('DE01-F12'!N2392))","v":""},{"$f":"MID('DE01-F12'!G2392,1,18)","v":""},{"$f":"IF(ISBLANK('DE01-F12'!P2392),\"\",('DE01-F12'!P2392))","v":""},{"$f":"IF(ISBLANK('DE01-F12'!Q2392),\"\",('DE01-F12'!Q2392))","v":""},{"$f":"IF(ISBLANK('DE01-F12'!S2392),\"\",('DE01-F12'!S2392))","v":0}]
[{"$f":"IF(ISBLANK('DE01-F12'!N2393),\"\",('DE01-F12'!N2393))","v":""},{"$f":"MID('DE01-F12'!G2393,1,18)","v":""},{"$f":"IF(ISBLANK('DE01-F12'!P2393),\"\",('DE01-F12'!P2393))","v":""},{"$f":"IF(ISBLANK('DE01-F12'!Q2393),\"\",('DE01-F12'!Q2393))","v":""},{"$f":"IF(ISBLANK('DE01-F12'!S2393),\"\",('DE01-F12'!S2393))","v":0}]
[{"$f":"IF(ISBLANK('DE01-F12'!N2394),\"\",('DE01-F12'!N2394))","v":""},{"$f":"MID('DE01-F12'!G2394,1,18)","v":""},{"$f":"IF(ISBLANK('DE01-F12'!P2394),\"\",('DE01-F12'!P2394))","v":""},{"$f":"IF(ISBLANK('DE01-F12'!Q2394),\"\",('DE01-F12'!Q2394))","v":""},{"$f":"IF(ISBLANK('DE01-F12'!S2394),\"\",('DE01-F12'!S2394))","v":0}]
[{"$f":"IF(ISBLANK('DE01-F12'!N2395),\"\",('DE01-F12'!N2395))","v":""},{"$f":"MID('DE01-F12'!G2395,1,18)","v":""},{"$f":"IF(ISBLANK('DE01-F12'!P2395),\"\",('DE01-F12'!P2395))","v":""},{"$f":"IF(ISBLANK('DE01-F12'!Q2395),\"\",('DE01-F12'!Q2395))","v":""},{"$f":"IF(ISBLANK('DE01-F12'!S2395),\"\",('DE01-F12'!S2395))","v":0}]
[{"$f":"IF(ISBLANK('DE01-F12'!N2396),\"\",('DE01-F12'!N2396))","v":""},{"$f":"MID('DE01-F12'!G2396,1,18)","v":""},{"$f":"IF(ISBLANK('DE01-F12'!P2396),\"\",('DE01-F12'!P2396))","v":""},{"$f":"IF(ISBLANK('DE01-F12'!Q2396),\"\",('DE01-F12'!Q2396))","v":""},{"$f":"IF(ISBLANK('DE01-F12'!S2396),\"\",('DE01-F12'!S2396))","v":0}]
[{"$f":"IF(ISBLANK('DE01-F12'!N2397),\"\",('DE01-F12'!N2397))","v":""},{"$f":"MID('DE01-F12'!G2397,1,18)","v":""},{"$f":"IF(ISBLANK('DE01-F12'!P2397),\"\",('DE01-F12'!P2397))","v":""},{"$f":"IF(ISBLANK('DE01-F12'!Q2397),\"\",('DE01-F12'!Q2397))","v":""},{"$f":"IF(ISBLANK('DE01-F12'!S2397),\"\",('DE01-F12'!S2397))","v":0}]
[{"$f":"IF(ISBLANK('DE01-F12'!N2398),\"\",('DE01-F12'!N2398))","v":""},{"$f":"MID('DE01-F12'!G2398,1,18)","v":""},{"$f":"IF(ISBLANK('DE01-F12'!P2398),\"\",('DE01-F12'!P2398))","v":""},{"$f":"IF(ISBLANK('DE01-F12'!Q2398),\"\",('DE01-F12'!Q2398))","v":""},{"$f":"IF(ISBLANK('DE01-F12'!S2398),\"\",('DE01-F12'!S2398))","v":0}]
[{"$f":"IF(ISBLANK('DE01-F12'!N2399),\"\",('DE01-F12'!N2399))","v":""},{"$f":"MID('DE01-F12'!G2399,1,18)","v":""},{"$f":"IF(ISBLANK('DE01-F12'!P2399),\"\",('DE01-F12'!P2399))","v":""},{"$f":"IF(ISBLANK('DE01-F12'!Q2399),\"\",('DE01-F12'!Q2399))","v":""},{"$f":"IF(ISBLANK('DE01-F12'!S2399),\"\",('DE01-F12'!S2399))","v":0}]
[{"$f":"IF(ISBLANK('DE01-F12'!N2400),\"\",('DE01-F12'!N2400))","v":""},{"$f":"MID('DE01-F12'!G2400,1,18)","v":""},{"$f":"IF(ISBLANK('DE01-F12'!P2400),\"\",('DE01-F12'!P2400))","v":""},{"$f":"IF(ISBLANK('DE01-F12'!Q2400),\"\",('DE01-F12'!Q2400))","v":""},{"$f":"IF(ISBLANK('DE01-F12'!S2400),\"\",('DE01-F12'!S2400))","v":0}]
[{"$f":"IF(ISBLANK('DE01-F12'!N2401),\"\",('DE01-F12'!N2401))","v":""},{"$f":"MID('DE01-F12'!G2401,1,18)","v":""},{"$f":"IF(ISBLANK('DE01-F12'!P2401),\"\",('DE01-F12'!P2401))","v":""},{"$f":"IF(ISBLANK('DE01-F12'!Q2401),\"\",('DE01-F12'!Q2401))","v":""},{"$f":"IF(ISBLANK('DE01-F12'!S2401),\"\",('DE01-F12'!S2401))","v":0}]
[{"$f":"IF(ISBLANK('DE01-F12'!N2402),\"\",('DE01-F12'!N2402))","v":""},{"$f":"MID('DE01-F12'!G2402,1,18)","v":""},{"$f":"IF(ISBLANK('DE01-F12'!P2402),\"\",('DE01-F12'!P2402))","v":""},{"$f":"IF(ISBLANK('DE01-F12'!Q2402),\"\",('DE01-F12'!Q2402))","v":""},{"$f":"IF(ISBLANK('DE01-F12'!S2402),\"\",('DE01-F12'!S2402))","v":0}]
[{"$f":"IF(ISBLANK('DE01-F12'!N2403),\"\",('DE01-F12'!N2403))","v":""},{"$f":"MID('DE01-F12'!G2403,1,18)","v":""},{"$f":"IF(ISBLANK('DE01-F12'!P2403),\"\",('DE01-F12'!P2403))","v":""},{"$f":"IF(ISBLANK('DE01-F12'!Q2403),\"\",('DE01-F12'!Q2403))","v":""},{"$f":"IF(ISBLANK('DE01-F12'!S2403),\"\",('DE01-F12'!S2403))","v":0}]
[{"$f":"IF(ISBLANK('DE01-F12'!N2404),\"\",('DE01-F12'!N2404))","v":""},{"$f":"MID('DE01-F12'!G2404,1,18)","v":""},{"$f":"IF(ISBLANK('DE01-F12'!P2404),\"\",('DE01-F12'!P2404))","v":""},{"$f":"IF(ISBLANK('DE01-F12'!Q2404),\"\",('DE01-F12'!Q2404))","v":""},{"$f":"IF(ISBLANK('DE01-F12'!S2404),\"\",('DE01-F12'!S2404))","v":0}]
[{"$f":"IF(ISBLANK('DE01-F12'!N2405),\"\",('DE01-F12'!N2405))","v":""},{"$f":"MID('DE01-F12'!G2405,1,18)","v":""},{"$f":"IF(ISBLANK('DE01-F12'!P2405),\"\",('DE01-F12'!P2405))","v":""},{"$f":"IF(ISBLANK('DE01-F12'!Q2405),\"\",('DE01-F12'!Q2405))","v":""},{"$f":"IF(ISBLANK('DE01-F12'!S2405),\"\",('DE01-F12'!S2405))","v":0}]
[{"$f":"IF(ISBLANK('DE01-F12'!N2406),\"\",('DE01-F12'!N2406))","v":""},{"$f":"MID('DE01-F12'!G2406,1,18)","v":""},{"$f":"IF(ISBLANK('DE01-F12'!P2406),\"\",('DE01-F12'!P2406))","v":""},{"$f":"IF(ISBLANK('DE01-F12'!Q2406),\"\",('DE01-F12'!Q2406))","v":""},{"$f":"IF(ISBLANK('DE01-F12'!S2406),\"\",('DE01-F12'!S2406))","v":0}]
[{"$f":"IF(ISBLANK('DE01-F12'!N2407),\"\",('DE01-F12'!N2407))","v":""},{"$f":"MID('DE01-F12'!G2407,1,18)","v":""},{"$f":"IF(ISBLANK('DE01-F12'!P2407),\"\",('DE01-F12'!P2407))","v":""},{"$f":"IF(ISBLANK('DE01-F12'!Q2407),\"\",('DE01-F12'!Q2407))","v":""},{"$f":"IF(ISBLANK('DE01-F12'!S2407),\"\",('DE01-F12'!S2407))","v":0}]
[{"$f":"IF(ISBLANK('DE01-F12'!N2408),\"\",('DE01-F12'!N2408))","v":""},{"$f":"MID('DE01-F12'!G2408,1,18)","v":""},{"$f":"IF(ISBLANK('DE01-F12'!P2408),\"\",('DE01-F12'!P2408))","v":""},{"$f":"IF(ISBLANK('DE01-F12'!Q2408),\"\",('DE01-F12'!Q2408))","v":""},{"$f":"IF(ISBLANK('DE01-F12'!S2408),\"\",('DE01-F12'!S2408))","v":0}]
[{"$f":"IF(ISBLANK('DE01-F12'!N2409),\"\",('DE01-F12'!N2409))","v":""},{"$f":"MID('DE01-F12'!G2409,1,18)","v":""},{"$f":"IF(ISBLANK('DE01-F12'!P2409),\"\",('DE01-F12'!P2409))","v":""},{"$f":"IF(ISBLANK('DE01-F12'!Q2409),\"\",('DE01-F12'!Q2409))","v":""},{"$f":"IF(ISBLANK('DE01-F12'!S2409),\"\",('DE01-F12'!S2409))","v":0}]
[{"$f":"IF(ISBLANK('DE01-F12'!N2410),\"\",('DE01-F12'!N2410))","v":""},{"$f":"MID('DE01-F12'!G2410,1,18)","v":""},{"$f":"IF(ISBLANK('DE01-F12'!P2410),\"\",('DE01-F12'!P2410))","v":""},{"$f":"IF(ISBLANK('DE01-F12'!Q2410),\"\",('DE01-F12'!Q2410))","v":""},{"$f":"IF(ISBLANK('DE01-F12'!S2410),\"\",('DE01-F12'!S2410))","v":0}]
[{"$f":"IF(ISBLANK('DE01-F12'!N2411),\"\",('DE01-F12'!N2411))","v":""},{"$f":"MID('DE01-F12'!G2411,1,18)","v":""},{"$f":"IF(ISBLANK('DE01-F12'!P2411),\"\",('DE01-F12'!P2411))","v":""},{"$f":"IF(ISBLANK('DE01-F12'!Q2411),\"\",('DE01-F12'!Q2411))","v":""},{"$f":"IF(ISBLANK('DE01-F12'!S2411),\"\",('DE01-F12'!S2411))","v":0}]
[{"$f":"IF(ISBLANK('DE01-F12'!N2412),\"\",('DE01-F12'!N2412))","v":""},{"$f":"MID('DE01-F12'!G2412,1,18)","v":""},{"$f":"IF(ISBLANK('DE01-F12'!P2412),\"\",('DE01-F12'!P2412))","v":""},{"$f":"IF(ISBLANK('DE01-F12'!Q2412),\"\",('DE01-F12'!Q2412))","v":""},{"$f":"IF(ISBLANK('DE01-F12'!S2412),\"\",('DE01-F12'!S2412))","v":0}]
[{"$f":"IF(ISBLANK('DE01-F12'!N2413),\"\",('DE01-F12'!N2413))","v":""},{"$f":"MID('DE01-F12'!G2413,1,18)","v":""},{"$f":"IF(ISBLANK('DE01-F12'!P2413),\"\",('DE01-F12'!P2413))","v":""},{"$f":"IF(ISBLANK('DE01-F12'!Q2413),\"\",('DE01-F12'!Q2413))","v":""},{"$f":"IF(ISBLANK('DE01-F12'!S2413),\"\",('DE01-F12'!S2413))","v":0}]
[{"$f":"IF(ISBLANK('DE01-F12'!N2414),\"\",('DE01-F12'!N2414))","v":""},{"$f":"MID('DE01-F12'!G2414,1,18)","v":""},{"$f":"IF(ISBLANK('DE01-F12'!P2414),\"\",('DE01-F12'!P2414))","v":""},{"$f":"IF(ISBLANK('DE01-F12'!Q2414),\"\",('DE01-F12'!Q2414))","v":""},{"$f":"IF(ISBLANK('DE01-F12'!S2414),\"\",('DE01-F12'!S2414))","v":0}]
[{"$f":"IF(ISBLANK('DE01-F12'!N2415),\"\",('DE01-F12'!N2415))","v":""},{"$f":"MID('DE01-F12'!G2415,1,18)","v":""},{"$f":"IF(ISBLANK('DE01-F12'!P2415),\"\",('DE01-F12'!P2415))","v":""},{"$f":"IF(ISBLANK('DE01-F12'!Q2415),\"\",('DE01-F12'!Q2415))","v":""},{"$f":"IF(ISBLANK('DE01-F12'!S2415),\"\",('DE01-F12'!S2415))","v":0}]
[{"$f":"IF(ISBLANK('DE01-F12'!N2416),\"\",('DE01-F12'!N2416))","v":""},{"$f":"MID('DE01-F12'!G2416,1,18)","v":""},{"$f":"IF(ISBLANK('DE01-F12'!P2416),\"\",('DE01-F12'!P2416))","v":""},{"$f":"IF(ISBLANK('DE01-F12'!Q2416),\"\",('DE01-F12'!Q2416))","v":""},{"$f":"IF(ISBLANK('DE01-F12'!S2416),\"\",('DE01-F12'!S2416))","v":0}]
[{"$f":"IF(ISBLANK('DE01-F12'!N2417),\"\",('DE01-F12'!N2417))","v":""},{"$f":"MID('DE01-F12'!G2417,1,18)","v":""},{"$f":"IF(ISBLANK('DE01-F12'!P2417),\"\",('DE01-F12'!P2417))","v":""},{"$f":"IF(ISBLANK('DE01-F12'!Q2417),\"\",('DE01-F12'!Q2417))","v":""},{"$f":"IF(ISBLANK('DE01-F12'!S2417),\"\",('DE01-F12'!S2417))","v":0}]
[{"$f":"IF(ISBLANK('DE01-F12'!N2418),\"\",('DE01-F12'!N2418))","v":""},{"$f":"MID('DE01-F12'!G2418,1,18)","v":""},{"$f":"IF(ISBLANK('DE01-F12'!P2418),\"\",('DE01-F12'!P2418))","v":""},{"$f":"IF(ISBLANK('DE01-F12'!Q2418),\"\",('DE01-F12'!Q2418))","v":""},{"$f":"IF(ISBLANK('DE01-F12'!S2418),\"\",('DE01-F12'!S2418))","v":0}]
[{"$f":"IF(ISBLANK('DE01-F12'!N2419),\"\",('DE01-F12'!N2419))","v":""},{"$f":"MID('DE01-F12'!G2419,1,18)","v":""},{"$f":"IF(ISBLANK('DE01-F12'!P2419),\"\",('DE01-F12'!P2419))","v":""},{"$f":"IF(ISBLANK('DE01-F12'!Q2419),\"\",('DE01-F12'!Q2419))","v":""},{"$f":"IF(ISBLANK('DE01-F12'!S2419),\"\",('DE01-F12'!S2419))","v":0}]
[{"$f":"IF(ISBLANK('DE01-F12'!N2420),\"\",('DE01-F12'!N2420))","v":""},{"$f":"MID('DE01-F12'!G2420,1,18)","v":""},{"$f":"IF(ISBLANK('DE01-F12'!P2420),\"\",('DE01-F12'!P2420))","v":""},{"$f":"IF(ISBLANK('DE01-F12'!Q2420),\"\",('DE01-F12'!Q2420))","v":""},{"$f":"IF(ISBLANK('DE01-F12'!S2420),\"\",('DE01-F12'!S2420))","v":0}]
[{"$f":"IF(ISBLANK('DE01-F12'!N2421),\"\",('DE01-F12'!N2421))","v":""},{"$f":"MID('DE01-F12'!G2421,1,18)","v":""},{"$f":"IF(ISBLANK('DE01-F12'!P2421),\"\",('DE01-F12'!P2421))","v":""},{"$f":"IF(ISBLANK('DE01-F12'!Q2421),\"\",('DE01-F12'!Q2421))","v":""},{"$f":"IF(ISBLANK('DE01-F12'!S2421),\"\",('DE01-F12'!S2421))","v":0}]
[{"$f":"IF(ISBLANK('DE01-F12'!N2422),\"\",('DE01-F12'!N2422))","v":""},{"$f":"MID('DE01-F12'!G2422,1,18)","v":""},{"$f":"IF(ISBLANK('DE01-F12'!P2422),\"\",('DE01-F12'!P2422))","v":""},{"$f":"IF(ISBLANK('DE01-F12'!Q2422),\"\",('DE01-F12'!Q2422))","v":""},{"$f":"IF(ISBLANK('DE01-F12'!S2422),\"\",('DE01-F12'!S2422))","v":0}]
[{"$f":"IF(ISBLANK('DE01-F12'!N2423),\"\",('DE01-F12'!N2423))","v":""},{"$f":"MID('DE01-F12'!G2423,1,18)","v":""},{"$f":"IF(ISBLANK('DE01-F12'!P2423),\"\",('DE01-F12'!P2423))","v":""},{"$f":"IF(ISBLANK('DE01-F12'!Q2423),\"\",('DE01-F12'!Q2423))","v":""},{"$f":"IF(ISBLANK('DE01-F12'!S2423),\"\",('DE01-F12'!S2423))","v":0}]
[{"$f":"IF(ISBLANK('DE01-F12'!N2424),\"\",('DE01-F12'!N2424))","v":""},{"$f":"MID('DE01-F12'!G2424,1,18)","v":""},{"$f":"IF(ISBLANK('DE01-F12'!P2424),\"\",('DE01-F12'!P2424))","v":""},{"$f":"IF(ISBLANK('DE01-F12'!Q2424),\"\",('DE01-F12'!Q2424))","v":""},{"$f":"IF(ISBLANK('DE01-F12'!S2424),\"\",('DE01-F12'!S2424))","v":0}]
[{"$f":"IF(ISBLANK('DE01-F12'!N2425),\"\",('DE01-F12'!N2425))","v":""},{"$f":"MID('DE01-F12'!G2425,1,18)","v":""},{"$f":"IF(ISBLANK('DE01-F12'!P2425),\"\",('DE01-F12'!P2425))","v":""},{"$f":"IF(ISBLANK('DE01-F12'!Q2425),\"\",('DE01-F12'!Q2425))","v":""},{"$f":"IF(ISBLANK('DE01-F12'!S2425),\"\",('DE01-F12'!S2425))","v":0}]
[{"$f":"IF(ISBLANK('DE01-F12'!N2426),\"\",('DE01-F12'!N2426))","v":""},{"$f":"MID('DE01-F12'!G2426,1,18)","v":""},{"$f":"IF(ISBLANK('DE01-F12'!P2426),\"\",('DE01-F12'!P2426))","v":""},{"$f":"IF(ISBLANK('DE01-F12'!Q2426),\"\",('DE01-F12'!Q2426))","v":""},{"$f":"IF(ISBLANK('DE01-F12'!S2426),\"\",('DE01-F12'!S2426))","v":0}]
[{"$f":"IF(ISBLANK('DE01-F12'!N2427),\"\",('DE01-F12'!N2427))","v":""},{"$f":"MID('DE01-F12'!G2427,1,18)","v":""},{"$f":"IF(ISBLANK('DE01-F12'!P2427),\"\",('DE01-F12'!P2427))","v":""},{"$f":"IF(ISBLANK('DE01-F12'!Q2427),\"\",('DE01-F12'!Q2427))","v":""},{"$f":"IF(ISBLANK('DE01-F12'!S2427),\"\",('DE01-F12'!S2427))","v":0}]
[{"$f":"IF(ISBLANK('DE01-F12'!N2428),\"\",('DE01-F12'!N2428))","v":""},{"$f":"MID('DE01-F12'!G2428,1,18)","v":""},{"$f":"IF(ISBLANK('DE01-F12'!P2428),\"\",('DE01-F12'!P2428))","v":""},{"$f":"IF(ISBLANK('DE01-F12'!Q2428),\"\",('DE01-F12'!Q2428))","v":""},{"$f":"IF(ISBLANK('DE01-F12'!S2428),\"\",('DE01-F12'!S2428))","v":0}]
[{"$f":"IF(ISBLANK('DE01-F12'!N2429),\"\",('DE01-F12'!N2429))","v":""},{"$f":"MID('DE01-F12'!G2429,1,18)","v":""},{"$f":"IF(ISBLANK('DE01-F12'!P2429),\"\",('DE01-F12'!P2429))","v":""},{"$f":"IF(ISBLANK('DE01-F12'!Q2429),\"\",('DE01-F12'!Q2429))","v":""},{"$f":"IF(ISBLANK('DE01-F12'!S2429),\"\",('DE01-F12'!S2429))","v":0}]
[{"$f":"IF(ISBLANK('DE01-F12'!N2430),\"\",('DE01-F12'!N2430))","v":""},{"$f":"MID('DE01-F12'!G2430,1,18)","v":""},{"$f":"IF(ISBLANK('DE01-F12'!P2430),\"\",('DE01-F12'!P2430))","v":""},{"$f":"IF(ISBLANK('DE01-F12'!Q2430),\"\",('DE01-F12'!Q2430))","v":""},{"$f":"IF(ISBLANK('DE01-F12'!S2430),\"\",('DE01-F12'!S2430))","v":0}]
[{"$f":"IF(ISBLANK('DE01-F12'!N2431),\"\",('DE01-F12'!N2431))","v":""},{"$f":"MID('DE01-F12'!G2431,1,18)","v":""},{"$f":"IF(ISBLANK('DE01-F12'!P2431),\"\",('DE01-F12'!P2431))","v":""},{"$f":"IF(ISBLANK('DE01-F12'!Q2431),\"\",('DE01-F12'!Q2431))","v":""},{"$f":"IF(ISBLANK('DE01-F12'!S2431),\"\",('DE01-F12'!S2431))","v":0}]
[{"$f":"IF(ISBLANK('DE01-F12'!N2432),\"\",('DE01-F12'!N2432))","v":""},{"$f":"MID('DE01-F12'!G2432,1,18)","v":""},{"$f":"IF(ISBLANK('DE01-F12'!P2432),\"\",('DE01-F12'!P2432))","v":""},{"$f":"IF(ISBLANK('DE01-F12'!Q2432),\"\",('DE01-F12'!Q2432))","v":""},{"$f":"IF(ISBLANK('DE01-F12'!S2432),\"\",('DE01-F12'!S2432))","v":0}]
[{"$f":"IF(ISBLANK('DE01-F12'!N2433),\"\",('DE01-F12'!N2433))","v":""},{"$f":"MID('DE01-F12'!G2433,1,18)","v":""},{"$f":"IF(ISBLANK('DE01-F12'!P2433),\"\",('DE01-F12'!P2433))","v":""},{"$f":"IF(ISBLANK('DE01-F12'!Q2433),\"\",('DE01-F12'!Q2433))","v":""},{"$f":"IF(ISBLANK('DE01-F12'!S2433),\"\",('DE01-F12'!S2433))","v":0}]
[{"$f":"IF(ISBLANK('DE01-F12'!N2434),\"\",('DE01-F12'!N2434))","v":""},{"$f":"MID('DE01-F12'!G2434,1,18)","v":""},{"$f":"IF(ISBLANK('DE01-F12'!P2434),\"\",('DE01-F12'!P2434))","v":""},{"$f":"IF(ISBLANK('DE01-F12'!Q2434),\"\",('DE01-F12'!Q2434))","v":""},{"$f":"IF(ISBLANK('DE01-F12'!S2434),\"\",('DE01-F12'!S2434))","v":0}]
[{"$f":"IF(ISBLANK('DE01-F12'!N2435),\"\",('DE01-F12'!N2435))","v":""},{"$f":"MID('DE01-F12'!G2435,1,18)","v":""},{"$f":"IF(ISBLANK('DE01-F12'!P2435),\"\",('DE01-F12'!P2435))","v":""},{"$f":"IF(ISBLANK('DE01-F12'!Q2435),\"\",('DE01-F12'!Q2435))","v":""},{"$f":"IF(ISBLANK('DE01-F12'!S2435),\"\",('DE01-F12'!S2435))","v":0}]
[{"$f":"IF(ISBLANK('DE01-F12'!N2436),\"\",('DE01-F12'!N2436))","v":""},{"$f":"MID('DE01-F12'!G2436,1,18)","v":""},{"$f":"IF(ISBLANK('DE01-F12'!P2436),\"\",('DE01-F12'!P2436))","v":""},{"$f":"IF(ISBLANK('DE01-F12'!Q2436),\"\",('DE01-F12'!Q2436))","v":""},{"$f":"IF(ISBLANK('DE01-F12'!S2436),\"\",('DE01-F12'!S2436))","v":0}]
[{"$f":"IF(ISBLANK('DE01-F12'!N2437),\"\",('DE01-F12'!N2437))","v":""},{"$f":"MID('DE01-F12'!G2437,1,18)","v":""},{"$f":"IF(ISBLANK('DE01-F12'!P2437),\"\",('DE01-F12'!P2437))","v":""},{"$f":"IF(ISBLANK('DE01-F12'!Q2437),\"\",('DE01-F12'!Q2437))","v":""},{"$f":"IF(ISBLANK('DE01-F12'!S2437),\"\",('DE01-F12'!S2437))","v":0}]
[{"$f":"IF(ISBLANK('DE01-F12'!N2438),\"\",('DE01-F12'!N2438))","v":""},{"$f":"MID('DE01-F12'!G2438,1,18)","v":""},{"$f":"IF(ISBLANK('DE01-F12'!P2438),\"\",('DE01-F12'!P2438))","v":""},{"$f":"IF(ISBLANK('DE01-F12'!Q2438),\"\",('DE01-F12'!Q2438))","v":""},{"$f":"IF(ISBLANK('DE01-F12'!S2438),\"\",('DE01-F12'!S2438))","v":0}]
[{"$f":"IF(ISBLANK('DE01-F12'!N2439),\"\",('DE01-F12'!N2439))","v":""},{"$f":"MID('DE01-F12'!G2439,1,18)","v":""},{"$f":"IF(ISBLANK('DE01-F12'!P2439),\"\",('DE01-F12'!P2439))","v":""},{"$f":"IF(ISBLANK('DE01-F12'!Q2439),\"\",('DE01-F12'!Q2439))","v":""},{"$f":"IF(ISBLANK('DE01-F12'!S2439),\"\",('DE01-F12'!S2439))","v":0}]
[{"$f":"IF(ISBLANK('DE01-F12'!N2440),\"\",('DE01-F12'!N2440))","v":""},{"$f":"MID('DE01-F12'!G2440,1,18)","v":""},{"$f":"IF(ISBLANK('DE01-F12'!P2440),\"\",('DE01-F12'!P2440))","v":""},{"$f":"IF(ISBLANK('DE01-F12'!Q2440),\"\",('DE01-F12'!Q2440))","v":""},{"$f":"IF(ISBLANK('DE01-F12'!S2440),\"\",('DE01-F12'!S2440))","v":0}]
[{"$f":"IF(ISBLANK('DE01-F12'!N2441),\"\",('DE01-F12'!N2441))","v":""},{"$f":"MID('DE01-F12'!G2441,1,18)","v":""},{"$f":"IF(ISBLANK('DE01-F12'!P2441),\"\",('DE01-F12'!P2441))","v":""},{"$f":"IF(ISBLANK('DE01-F12'!Q2441),\"\",('DE01-F12'!Q2441))","v":""},{"$f":"IF(ISBLANK('DE01-F12'!S2441),\"\",('DE01-F12'!S2441))","v":0}]
[{"$f":"IF(ISBLANK('DE01-F12'!N2442),\"\",('DE01-F12'!N2442))","v":""},{"$f":"MID('DE01-F12'!G2442,1,18)","v":""},{"$f":"IF(ISBLANK('DE01-F12'!P2442),\"\",('DE01-F12'!P2442))","v":""},{"$f":"IF(ISBLANK('DE01-F12'!Q2442),\"\",('DE01-F12'!Q2442))","v":""},{"$f":"IF(ISBLANK('DE01-F12'!S2442),\"\",('DE01-F12'!S2442))","v":0}]
[{"$f":"IF(ISBLANK('DE01-F12'!N2443),\"\",('DE01-F12'!N2443))","v":""},{"$f":"MID('DE01-F12'!G2443,1,18)","v":""},{"$f":"IF(ISBLANK('DE01-F12'!P2443),\"\",('DE01-F12'!P2443))","v":""},{"$f":"IF(ISBLANK('DE01-F12'!Q2443),\"\",('DE01-F12'!Q2443))","v":""},{"$f":"IF(ISBLANK('DE01-F12'!S2443),\"\",('DE01-F12'!S2443))","v":0}]
[{"$f":"IF(ISBLANK('DE01-F12'!N2444),\"\",('DE01-F12'!N2444))","v":""},{"$f":"MID('DE01-F12'!G2444,1,18)","v":""},{"$f":"IF(ISBLANK('DE01-F12'!P2444),\"\",('DE01-F12'!P2444))","v":""},{"$f":"IF(ISBLANK('DE01-F12'!Q2444),\"\",('DE01-F12'!Q2444))","v":""},{"$f":"IF(ISBLANK('DE01-F12'!S2444),\"\",('DE01-F12'!S2444))","v":0}]
[{"$f":"IF(ISBLANK('DE01-F12'!N2445),\"\",('DE01-F12'!N2445))","v":""},{"$f":"MID('DE01-F12'!G2445,1,18)","v":""},{"$f":"IF(ISBLANK('DE01-F12'!P2445),\"\",('DE01-F12'!P2445))","v":""},{"$f":"IF(ISBLANK('DE01-F12'!Q2445),\"\",('DE01-F12'!Q2445))","v":""},{"$f":"IF(ISBLANK('DE01-F12'!S2445),\"\",('DE01-F12'!S2445))","v":0}]
[{"$f":"IF(ISBLANK('DE01-F12'!N2446),\"\",('DE01-F12'!N2446))","v":""},{"$f":"MID('DE01-F12'!G2446,1,18)","v":""},{"$f":"IF(ISBLANK('DE01-F12'!P2446),\"\",('DE01-F12'!P2446))","v":""},{"$f":"IF(ISBLANK('DE01-F12'!Q2446),\"\",('DE01-F12'!Q2446))","v":""},{"$f":"IF(ISBLANK('DE01-F12'!S2446),\"\",('DE01-F12'!S2446))","v":0}]
[{"$f":"IF(ISBLANK('DE01-F12'!N2447),\"\",('DE01-F12'!N2447))","v":""},{"$f":"MID('DE01-F12'!G2447,1,18)","v":""},{"$f":"IF(ISBLANK('DE01-F12'!P2447),\"\",('DE01-F12'!P2447))","v":""},{"$f":"IF(ISBLANK('DE01-F12'!Q2447),\"\",('DE01-F12'!Q2447))","v":""},{"$f":"IF(ISBLANK('DE01-F12'!S2447),\"\",('DE01-F12'!S2447))","v":0}]
[{"$f":"IF(ISBLANK('DE01-F12'!N2448),\"\",('DE01-F12'!N2448))","v":""},{"$f":"MID('DE01-F12'!G2448,1,18)","v":""},{"$f":"IF(ISBLANK('DE01-F12'!P2448),\"\",('DE01-F12'!P2448))","v":""},{"$f":"IF(ISBLANK('DE01-F12'!Q2448),\"\",('DE01-F12'!Q2448))","v":""},{"$f":"IF(ISBLANK('DE01-F12'!S2448),\"\",('DE01-F12'!S2448))","v":0}]
[{"$f":"IF(ISBLANK('DE01-F12'!N2449),\"\",('DE01-F12'!N2449))","v":""},{"$f":"MID('DE01-F12'!G2449,1,18)","v":""},{"$f":"IF(ISBLANK('DE01-F12'!P2449),\"\",('DE01-F12'!P2449))","v":""},{"$f":"IF(ISBLANK('DE01-F12'!Q2449),\"\",('DE01-F12'!Q2449))","v":""},{"$f":"IF(ISBLANK('DE01-F12'!S2449),\"\",('DE01-F12'!S2449))","v":0}]
[{"$f":"IF(ISBLANK('DE01-F12'!N2450),\"\",('DE01-F12'!N2450))","v":""},{"$f":"MID('DE01-F12'!G2450,1,18)","v":""},{"$f":"IF(ISBLANK('DE01-F12'!P2450),\"\",('DE01-F12'!P2450))","v":""},{"$f":"IF(ISBLANK('DE01-F12'!Q2450),\"\",('DE01-F12'!Q2450))","v":""},{"$f":"IF(ISBLANK('DE01-F12'!S2450),\"\",('DE01-F12'!S2450))","v":0}]
[{"$f":"IF(ISBLANK('DE01-F12'!N2451),\"\",('DE01-F12'!N2451))","v":""},{"$f":"MID('DE01-F12'!G2451,1,18)","v":""},{"$f":"IF(ISBLANK('DE01-F12'!P2451),\"\",('DE01-F12'!P2451))","v":""},{"$f":"IF(ISBLANK('DE01-F12'!Q2451),\"\",('DE01-F12'!Q2451))","v":""},{"$f":"IF(ISBLANK('DE01-F12'!S2451),\"\",('DE01-F12'!S2451))","v":0}]
[{"$f":"IF(ISBLANK('DE01-F12'!N2452),\"\",('DE01-F12'!N2452))","v":""},{"$f":"MID('DE01-F12'!G2452,1,18)","v":""},{"$f":"IF(ISBLANK('DE01-F12'!P2452),\"\",('DE01-F12'!P2452))","v":""},{"$f":"IF(ISBLANK('DE01-F12'!Q2452),\"\",('DE01-F12'!Q2452))","v":""},{"$f":"IF(ISBLANK('DE01-F12'!S2452),\"\",('DE01-F12'!S2452))","v":0}]
[{"$f":"IF(ISBLANK('DE01-F12'!N2453),\"\",('DE01-F12'!N2453))","v":""},{"$f":"MID('DE01-F12'!G2453,1,18)","v":""},{"$f":"IF(ISBLANK('DE01-F12'!P2453),\"\",('DE01-F12'!P2453))","v":""},{"$f":"IF(ISBLANK('DE01-F12'!Q2453),\"\",('DE01-F12'!Q2453))","v":""},{"$f":"IF(ISBLANK('DE01-F12'!S2453),\"\",('DE01-F12'!S2453))","v":0}]
[{"$f":"IF(ISBLANK('DE01-F12'!N2454),\"\",('DE01-F12'!N2454))","v":""},{"$f":"MID('DE01-F12'!G2454,1,18)","v":""},{"$f":"IF(ISBLANK('DE01-F12'!P2454),\"\",('DE01-F12'!P2454))","v":""},{"$f":"IF(ISBLANK('DE01-F12'!Q2454),\"\",('DE01-F12'!Q2454))","v":""},{"$f":"IF(ISBLANK('DE01-F12'!S2454),\"\",('DE01-F12'!S2454))","v":0}]
[{"$f":"IF(ISBLANK('DE01-F12'!N2455),\"\",('DE01-F12'!N2455))","v":""},{"$f":"MID('DE01-F12'!G2455,1,18)","v":""},{"$f":"IF(ISBLANK('DE01-F12'!P2455),\"\",('DE01-F12'!P2455))","v":""},{"$f":"IF(ISBLANK('DE01-F12'!Q2455),\"\",('DE01-F12'!Q2455))","v":""},{"$f":"IF(ISBLANK('DE01-F12'!S2455),\"\",('DE01-F12'!S2455))","v":0}]
[{"$f":"IF(ISBLANK('DE01-F12'!N2456),\"\",('DE01-F12'!N2456))","v":""},{"$f":"MID('DE01-F12'!G2456,1,18)","v":""},{"$f":"IF(ISBLANK('DE01-F12'!P2456),\"\",('DE01-F12'!P2456))","v":""},{"$f":"IF(ISBLANK('DE01-F12'!Q2456),\"\",('DE01-F12'!Q2456))","v":""},{"$f":"IF(ISBLANK('DE01-F12'!S2456),\"\",('DE01-F12'!S2456))","v":0}]
[{"$f":"IF(ISBLANK('DE01-F12'!N2457),\"\",('DE01-F12'!N2457))","v":""},{"$f":"MID('DE01-F12'!G2457,1,18)","v":""},{"$f":"IF(ISBLANK('DE01-F12'!P2457),\"\",('DE01-F12'!P2457))","v":""},{"$f":"IF(ISBLANK('DE01-F12'!Q2457),\"\",('DE01-F12'!Q2457))","v":""},{"$f":"IF(ISBLANK('DE01-F12'!S2457),\"\",('DE01-F12'!S2457))","v":0}]
[{"$f":"IF(ISBLANK('DE01-F12'!N2458),\"\",('DE01-F12'!N2458))","v":""},{"$f":"MID('DE01-F12'!G2458,1,18)","v":""},{"$f":"IF(ISBLANK('DE01-F12'!P2458),\"\",('DE01-F12'!P2458))","v":""},{"$f":"IF(ISBLANK('DE01-F12'!Q2458),\"\",('DE01-F12'!Q2458))","v":""},{"$f":"IF(ISBLANK('DE01-F12'!S2458),\"\",('DE01-F12'!S2458))","v":0}]
[{"$f":"IF(ISBLANK('DE01-F12'!N2459),\"\",('DE01-F12'!N2459))","v":""},{"$f":"MID('DE01-F12'!G2459,1,18)","v":""},{"$f":"IF(ISBLANK('DE01-F12'!P2459),\"\",('DE01-F12'!P2459))","v":""},{"$f":"IF(ISBLANK('DE01-F12'!Q2459),\"\",('DE01-F12'!Q2459))","v":""},{"$f":"IF(ISBLANK('DE01-F12'!S2459),\"\",('DE01-F12'!S2459))","v":0}]
[{"$f":"IF(ISBLANK('DE01-F12'!N2460),\"\",('DE01-F12'!N2460))","v":""},{"$f":"MID('DE01-F12'!G2460,1,18)","v":""},{"$f":"IF(ISBLANK('DE01-F12'!P2460),\"\",('DE01-F12'!P2460))","v":""},{"$f":"IF(ISBLANK('DE01-F12'!Q2460),\"\",('DE01-F12'!Q2460))","v":""},{"$f":"IF(ISBLANK('DE01-F12'!S2460),\"\",('DE01-F12'!S2460))","v":0}]
[{"$f":"IF(ISBLANK('DE01-F12'!N2461),\"\",('DE01-F12'!N2461))","v":""},{"$f":"MID('DE01-F12'!G2461,1,18)","v":""},{"$f":"IF(ISBLANK('DE01-F12'!P2461),\"\",('DE01-F12'!P2461))","v":""},{"$f":"IF(ISBLANK('DE01-F12'!Q2461),\"\",('DE01-F12'!Q2461))","v":""},{"$f":"IF(ISBLANK('DE01-F12'!S2461),\"\",('DE01-F12'!S2461))","v":0}]
[{"$f":"IF(ISBLANK('DE01-F12'!N2462),\"\",('DE01-F12'!N2462))","v":""},{"$f":"MID('DE01-F12'!G2462,1,18)","v":""},{"$f":"IF(ISBLANK('DE01-F12'!P2462),\"\",('DE01-F12'!P2462))","v":""},{"$f":"IF(ISBLANK('DE01-F12'!Q2462),\"\",('DE01-F12'!Q2462))","v":""},{"$f":"IF(ISBLANK('DE01-F12'!S2462),\"\",('DE01-F12'!S2462))","v":0}]
[{"$f":"IF(ISBLANK('DE01-F12'!N2463),\"\",('DE01-F12'!N2463))","v":""},{"$f":"MID('DE01-F12'!G2463,1,18)","v":""},{"$f":"IF(ISBLANK('DE01-F12'!P2463),\"\",('DE01-F12'!P2463))","v":""},{"$f":"IF(ISBLANK('DE01-F12'!Q2463),\"\",('DE01-F12'!Q2463))","v":""},{"$f":"IF(ISBLANK('DE01-F12'!S2463),\"\",('DE01-F12'!S2463))","v":0}]
[{"$f":"IF(ISBLANK('DE01-F12'!N2464),\"\",('DE01-F12'!N2464))","v":""},{"$f":"MID('DE01-F12'!G2464,1,18)","v":""},{"$f":"IF(ISBLANK('DE01-F12'!P2464),\"\",('DE01-F12'!P2464))","v":""},{"$f":"IF(ISBLANK('DE01-F12'!Q2464),\"\",('DE01-F12'!Q2464))","v":""},{"$f":"IF(ISBLANK('DE01-F12'!S2464),\"\",('DE01-F12'!S2464))","v":0}]
[{"$f":"IF(ISBLANK('DE01-F12'!N2465),\"\",('DE01-F12'!N2465))","v":""},{"$f":"MID('DE01-F12'!G2465,1,18)","v":""},{"$f":"IF(ISBLANK('DE01-F12'!P2465),\"\",('DE01-F12'!P2465))","v":""},{"$f":"IF(ISBLANK('DE01-F12'!Q2465),\"\",('DE01-F12'!Q2465))","v":""},{"$f":"IF(ISBLANK('DE01-F12'!S2465),\"\",('DE01-F12'!S2465))","v":0}]
[{"$f":"IF(ISBLANK('DE01-F12'!N2466),\"\",('DE01-F12'!N2466))","v":""},{"$f":"MID('DE01-F12'!G2466,1,18)","v":""},{"$f":"IF(ISBLANK('DE01-F12'!P2466),\"\",('DE01-F12'!P2466))","v":""},{"$f":"IF(ISBLANK('DE01-F12'!Q2466),\"\",('DE01-F12'!Q2466))","v":""},{"$f":"IF(ISBLANK('DE01-F12'!S2466),\"\",('DE01-F12'!S2466))","v":0}]
[{"$f":"IF(ISBLANK('DE01-F12'!N2467),\"\",('DE01-F12'!N2467))","v":""},{"$f":"MID('DE01-F12'!G2467,1,18)","v":""},{"$f":"IF(ISBLANK('DE01-F12'!P2467),\"\",('DE01-F12'!P2467))","v":""},{"$f":"IF(ISBLANK('DE01-F12'!Q2467),\"\",('DE01-F12'!Q2467))","v":""},{"$f":"IF(ISBLANK('DE01-F12'!S2467),\"\",('DE01-F12'!S2467))","v":0}]
[{"$f":"IF(ISBLANK('DE01-F12'!N2468),\"\",('DE01-F12'!N2468))","v":""},{"$f":"MID('DE01-F12'!G2468,1,18)","v":""},{"$f":"IF(ISBLANK('DE01-F12'!P2468),\"\",('DE01-F12'!P2468))","v":""},{"$f":"IF(ISBLANK('DE01-F12'!Q2468),\"\",('DE01-F12'!Q2468))","v":""},{"$f":"IF(ISBLANK('DE01-F12'!S2468),\"\",('DE01-F12'!S2468))","v":0}]
[{"$f":"IF(ISBLANK('DE01-F12'!N2469),\"\",('DE01-F12'!N2469))","v":""},{"$f":"MID('DE01-F12'!G2469,1,18)","v":""},{"$f":"IF(ISBLANK('DE01-F12'!P2469),\"\",('DE01-F12'!P2469))","v":""},{"$f":"IF(ISBLANK('DE01-F12'!Q2469),\"\",('DE01-F12'!Q2469))","v":""},{"$f":"IF(ISBLANK('DE01-F12'!S2469),\"\",('DE01-F12'!S2469))","v":0}]
[{"$f":"IF(ISBLANK('DE01-F12'!N2470),\"\",('DE01-F12'!N2470))","v":""},{"$f":"MID('DE01-F12'!G2470,1,18)","v":""},{"$f":"IF(ISBLANK('DE01-F12'!P2470),\"\",('DE01-F12'!P2470))","v":""},{"$f":"IF(ISBLANK('DE01-F12'!Q2470),\"\",('DE01-F12'!Q2470))","v":""},{"$f":"IF(ISBLANK('DE01-F12'!S2470),\"\",('DE01-F12'!S2470))","v":0}]
[{"$f":"IF(ISBLANK('DE01-F12'!N2471),\"\",('DE01-F12'!N2471))","v":""},{"$f":"MID('DE01-F12'!G2471,1,18)","v":""},{"$f":"IF(ISBLANK('DE01-F12'!P2471),\"\",('DE01-F12'!P2471))","v":""},{"$f":"IF(ISBLANK('DE01-F12'!Q2471),\"\",('DE01-F12'!Q2471))","v":""},{"$f":"IF(ISBLANK('DE01-F12'!S2471),\"\",('DE01-F12'!S2471))","v":0}]
[{"$f":"IF(ISBLANK('DE01-F12'!N2472),\"\",('DE01-F12'!N2472))","v":""},{"$f":"MID('DE01-F12'!G2472,1,18)","v":""},{"$f":"IF(ISBLANK('DE01-F12'!P2472),\"\",('DE01-F12'!P2472))","v":""},{"$f":"IF(ISBLANK('DE01-F12'!Q2472),\"\",('DE01-F12'!Q2472))","v":""},{"$f":"IF(ISBLANK('DE01-F12'!S2472),\"\",('DE01-F12'!S2472))","v":0}]
[{"$f":"IF(ISBLANK('DE01-F12'!N2473),\"\",('DE01-F12'!N2473))","v":""},{"$f":"MID('DE01-F12'!G2473,1,18)","v":""},{"$f":"IF(ISBLANK('DE01-F12'!P2473),\"\",('DE01-F12'!P2473))","v":""},{"$f":"IF(ISBLANK('DE01-F12'!Q2473),\"\",('DE01-F12'!Q2473))","v":""},{"$f":"IF(ISBLANK('DE01-F12'!S2473),\"\",('DE01-F12'!S2473))","v":0}]
[{"$f":"IF(ISBLANK('DE01-F12'!N2474),\"\",('DE01-F12'!N2474))","v":""},{"$f":"MID('DE01-F12'!G2474,1,18)","v":""},{"$f":"IF(ISBLANK('DE01-F12'!P2474),\"\",('DE01-F12'!P2474))","v":""},{"$f":"IF(ISBLANK('DE01-F12'!Q2474),\"\",('DE01-F12'!Q2474))","v":""},{"$f":"IF(ISBLANK('DE01-F12'!S2474),\"\",('DE01-F12'!S2474))","v":0}]
[{"$f":"IF(ISBLANK('DE01-F12'!N2475),\"\",('DE01-F12'!N2475))","v":""},{"$f":"MID('DE01-F12'!G2475,1,18)","v":""},{"$f":"IF(ISBLANK('DE01-F12'!P2475),\"\",('DE01-F12'!P2475))","v":""},{"$f":"IF(ISBLANK('DE01-F12'!Q2475),\"\",('DE01-F12'!Q2475))","v":""},{"$f":"IF(ISBLANK('DE01-F12'!S2475),\"\",('DE01-F12'!S2475))","v":0}]
[{"$f":"IF(ISBLANK('DE01-F12'!N2476),\"\",('DE01-F12'!N2476))","v":""},{"$f":"MID('DE01-F12'!G2476,1,18)","v":""},{"$f":"IF(ISBLANK('DE01-F12'!P2476),\"\",('DE01-F12'!P2476))","v":""},{"$f":"IF(ISBLANK('DE01-F12'!Q2476),\"\",('DE01-F12'!Q2476))","v":""},{"$f":"IF(ISBLANK('DE01-F12'!S2476),\"\",('DE01-F12'!S2476))","v":0}]
[{"$f":"IF(ISBLANK('DE01-F12'!N2477),\"\",('DE01-F12'!N2477))","v":""},{"$f":"MID('DE01-F12'!G2477,1,18)","v":""},{"$f":"IF(ISBLANK('DE01-F12'!P2477),\"\",('DE01-F12'!P2477))","v":""},{"$f":"IF(ISBLANK('DE01-F12'!Q2477),\"\",('DE01-F12'!Q2477))","v":""},{"$f":"IF(ISBLANK('DE01-F12'!S2477),\"\",('DE01-F12'!S2477))","v":0}]
[{"$f":"IF(ISBLANK('DE01-F12'!N2478),\"\",('DE01-F12'!N2478))","v":""},{"$f":"MID('DE01-F12'!G2478,1,18)","v":""},{"$f":"IF(ISBLANK('DE01-F12'!P2478),\"\",('DE01-F12'!P2478))","v":""},{"$f":"IF(ISBLANK('DE01-F12'!Q2478),\"\",('DE01-F12'!Q2478))","v":""},{"$f":"IF(ISBLANK('DE01-F12'!S2478),\"\",('DE01-F12'!S2478))","v":0}]
[{"$f":"IF(ISBLANK('DE01-F12'!N2479),\"\",('DE01-F12'!N2479))","v":""},{"$f":"MID('DE01-F12'!G2479,1,18)","v":""},{"$f":"IF(ISBLANK('DE01-F12'!P2479),\"\",('DE01-F12'!P2479))","v":""},{"$f":"IF(ISBLANK('DE01-F12'!Q2479),\"\",('DE01-F12'!Q2479))","v":""},{"$f":"IF(ISBLANK('DE01-F12'!S2479),\"\",('DE01-F12'!S2479))","v":0}]
[{"$f":"IF(ISBLANK('DE01-F12'!N2480),\"\",('DE01-F12'!N2480))","v":""},{"$f":"MID('DE01-F12'!G2480,1,18)","v":""},{"$f":"IF(ISBLANK('DE01-F12'!P2480),\"\",('DE01-F12'!P2480))","v":""},{"$f":"IF(ISBLANK('DE01-F12'!Q2480),\"\",('DE01-F12'!Q2480))","v":""},{"$f":"IF(ISBLANK('DE01-F12'!S2480),\"\",('DE01-F12'!S2480))","v":0}]
[{"$f":"IF(ISBLANK('DE01-F12'!N2481),\"\",('DE01-F12'!N2481))","v":""},{"$f":"MID('DE01-F12'!G2481,1,18)","v":""},{"$f":"IF(ISBLANK('DE01-F12'!P2481),\"\",('DE01-F12'!P2481))","v":""},{"$f":"IF(ISBLANK('DE01-F12'!Q2481),\"\",('DE01-F12'!Q2481))","v":""},{"$f":"IF(ISBLANK('DE01-F12'!S2481),\"\",('DE01-F12'!S2481))","v":0}]
[{"$f":"IF(ISBLANK('DE01-F12'!N2482),\"\",('DE01-F12'!N2482))","v":""},{"$f":"MID('DE01-F12'!G2482,1,18)","v":""},{"$f":"IF(ISBLANK('DE01-F12'!P2482),\"\",('DE01-F12'!P2482))","v":""},{"$f":"IF(ISBLANK('DE01-F12'!Q2482),\"\",('DE01-F12'!Q2482))","v":""},{"$f":"IF(ISBLANK('DE01-F12'!S2482),\"\",('DE01-F12'!S2482))","v":0}]
[{"$f":"IF(ISBLANK('DE01-F12'!N2483),\"\",('DE01-F12'!N2483))","v":""},{"$f":"MID('DE01-F12'!G2483,1,18)","v":""},{"$f":"IF(ISBLANK('DE01-F12'!P2483),\"\",('DE01-F12'!P2483))","v":""},{"$f":"IF(ISBLANK('DE01-F12'!Q2483),\"\",('DE01-F12'!Q2483))","v":""},{"$f":"IF(ISBLANK('DE01-F12'!S2483),\"\",('DE01-F12'!S2483))","v":0}]
[{"$f":"IF(ISBLANK('DE01-F12'!N2484),\"\",('DE01-F12'!N2484))","v":""},{"$f":"MID('DE01-F12'!G2484,1,18)","v":""},{"$f":"IF(ISBLANK('DE01-F12'!P2484),\"\",('DE01-F12'!P2484))","v":""},{"$f":"IF(ISBLANK('DE01-F12'!Q2484),\"\",('DE01-F12'!Q2484))","v":""},{"$f":"IF(ISBLANK('DE01-F12'!S2484),\"\",('DE01-F12'!S2484))","v":0}]
[{"$f":"IF(ISBLANK('DE01-F12'!N2485),\"\",('DE01-F12'!N2485))","v":""},{"$f":"MID('DE01-F12'!G2485,1,18)","v":""},{"$f":"IF(ISBLANK('DE01-F12'!P2485),\"\",('DE01-F12'!P2485))","v":""},{"$f":"IF(ISBLANK('DE01-F12'!Q2485),\"\",('DE01-F12'!Q2485))","v":""},{"$f":"IF(ISBLANK('DE01-F12'!S2485),\"\",('DE01-F12'!S2485))","v":0}]
[{"$f":"IF(ISBLANK('DE01-F12'!N2486),\"\",('DE01-F12'!N2486))","v":""},{"$f":"MID('DE01-F12'!G2486,1,18)","v":""},{"$f":"IF(ISBLANK('DE01-F12'!P2486),\"\",('DE01-F12'!P2486))","v":""},{"$f":"IF(ISBLANK('DE01-F12'!Q2486),\"\",('DE01-F12'!Q2486))","v":""},{"$f":"IF(ISBLANK('DE01-F12'!S2486),\"\",('DE01-F12'!S2486))","v":0}]
[{"$f":"IF(ISBLANK('DE01-F12'!N2487),\"\",('DE01-F12'!N2487))","v":""},{"$f":"MID('DE01-F12'!G2487,1,18)","v":""},{"$f":"IF(ISBLANK('DE01-F12'!P2487),\"\",('DE01-F12'!P2487))","v":""},{"$f":"IF(ISBLANK('DE01-F12'!Q2487),\"\",('DE01-F12'!Q2487))","v":""},{"$f":"IF(ISBLANK('DE01-F12'!S2487),\"\",('DE01-F12'!S2487))","v":0}]
[{"$f":"IF(ISBLANK('DE01-F12'!N2488),\"\",('DE01-F12'!N2488))","v":""},{"$f":"MID('DE01-F12'!G2488,1,18)","v":""},{"$f":"IF(ISBLANK('DE01-F12'!P2488),\"\",('DE01-F12'!P2488))","v":""},{"$f":"IF(ISBLANK('DE01-F12'!Q2488),\"\",('DE01-F12'!Q2488))","v":""},{"$f":"IF(ISBLANK('DE01-F12'!S2488),\"\",('DE01-F12'!S2488))","v":0}]
[{"$f":"IF(ISBLANK('DE01-F12'!N2489),\"\",('DE01-F12'!N2489))","v":""},{"$f":"MID('DE01-F12'!G2489,1,18)","v":""},{"$f":"IF(ISBLANK('DE01-F12'!P2489),\"\",('DE01-F12'!P2489))","v":""},{"$f":"IF(ISBLANK('DE01-F12'!Q2489),\"\",('DE01-F12'!Q2489))","v":""},{"$f":"IF(ISBLANK('DE01-F12'!S2489),\"\",('DE01-F12'!S2489))","v":0}]
[{"$f":"IF(ISBLANK('DE01-F12'!N2490),\"\",('DE01-F12'!N2490))","v":""},{"$f":"MID('DE01-F12'!G2490,1,18)","v":""},{"$f":"IF(ISBLANK('DE01-F12'!P2490),\"\",('DE01-F12'!P2490))","v":""},{"$f":"IF(ISBLANK('DE01-F12'!Q2490),\"\",('DE01-F12'!Q2490))","v":""},{"$f":"IF(ISBLANK('DE01-F12'!S2490),\"\",('DE01-F12'!S2490))","v":0}]
[{"$f":"IF(ISBLANK('DE01-F12'!N2491),\"\",('DE01-F12'!N2491))","v":""},{"$f":"MID('DE01-F12'!G2491,1,18)","v":""},{"$f":"IF(ISBLANK('DE01-F12'!P2491),\"\",('DE01-F12'!P2491))","v":""},{"$f":"IF(ISBLANK('DE01-F12'!Q2491),\"\",('DE01-F12'!Q2491))","v":""},{"$f":"IF(ISBLANK('DE01-F12'!S2491),\"\",('DE01-F12'!S2491))","v":0}]
[{"$f":"IF(ISBLANK('DE01-F12'!N2492),\"\",('DE01-F12'!N2492))","v":""},{"$f":"MID('DE01-F12'!G2492,1,18)","v":""},{"$f":"IF(ISBLANK('DE01-F12'!P2492),\"\",('DE01-F12'!P2492))","v":""},{"$f":"IF(ISBLANK('DE01-F12'!Q2492),\"\",('DE01-F12'!Q2492))","v":""},{"$f":"IF(ISBLANK('DE01-F12'!S2492),\"\",('DE01-F12'!S2492))","v":0}]
[{"$f":"IF(ISBLANK('DE01-F12'!N2493),\"\",('DE01-F12'!N2493))","v":""},{"$f":"MID('DE01-F12'!G2493,1,18)","v":""},{"$f":"IF(ISBLANK('DE01-F12'!P2493),\"\",('DE01-F12'!P2493))","v":""},{"$f":"IF(ISBLANK('DE01-F12'!Q2493),\"\",('DE01-F12'!Q2493))","v":""},{"$f":"IF(ISBLANK('DE01-F12'!S2493),\"\",('DE01-F12'!S2493))","v":0}]
[{"$f":"IF(ISBLANK('DE01-F12'!N2494),\"\",('DE01-F12'!N2494))","v":""},{"$f":"MID('DE01-F12'!G2494,1,18)","v":""},{"$f":"IF(ISBLANK('DE01-F12'!P2494),\"\",('DE01-F12'!P2494))","v":""},{"$f":"IF(ISBLANK('DE01-F12'!Q2494),\"\",('DE01-F12'!Q2494))","v":""},{"$f":"IF(ISBLANK('DE01-F12'!S2494),\"\",('DE01-F12'!S2494))","v":0}]
[{"$f":"IF(ISBLANK('DE01-F12'!N2495),\"\",('DE01-F12'!N2495))","v":""},{"$f":"MID('DE01-F12'!G2495,1,18)","v":""},{"$f":"IF(ISBLANK('DE01-F12'!P2495),\"\",('DE01-F12'!P2495))","v":""},{"$f":"IF(ISBLANK('DE01-F12'!Q2495),\"\",('DE01-F12'!Q2495))","v":""},{"$f":"IF(ISBLANK('DE01-F12'!S2495),\"\",('DE01-F12'!S2495))","v":0}]
[{"$f":"IF(ISBLANK('DE01-F12'!N2496),\"\",('DE01-F12'!N2496))","v":""},{"$f":"MID('DE01-F12'!G2496,1,18)","v":""},{"$f":"IF(ISBLANK('DE01-F12'!P2496),\"\",('DE01-F12'!P2496))","v":""},{"$f":"IF(ISBLANK('DE01-F12'!Q2496),\"\",('DE01-F12'!Q2496))","v":""},{"$f":"IF(ISBLANK('DE01-F12'!S2496),\"\",('DE01-F12'!S2496))","v":0}]
[{"$f":"IF(ISBLANK('DE01-F12'!N2497),\"\",('DE01-F12'!N2497))","v":""},{"$f":"MID('DE01-F12'!G2497,1,18)","v":""},{"$f":"IF(ISBLANK('DE01-F12'!P2497),\"\",('DE01-F12'!P2497))","v":""},{"$f":"IF(ISBLANK('DE01-F12'!Q2497),\"\",('DE01-F12'!Q2497))","v":""},{"$f":"IF(ISBLANK('DE01-F12'!S2497),\"\",('DE01-F12'!S2497))","v":0}]
[{"$f":"IF(ISBLANK('DE01-F12'!N2498),\"\",('DE01-F12'!N2498))","v":""},{"$f":"MID('DE01-F12'!G2498,1,18)","v":""},{"$f":"IF(ISBLANK('DE01-F12'!P2498),\"\",('DE01-F12'!P2498))","v":""},{"$f":"IF(ISBLANK('DE01-F12'!Q2498),\"\",('DE01-F12'!Q2498))","v":""},{"$f":"IF(ISBLANK('DE01-F12'!S2498),\"\",('DE01-F12'!S2498))","v":0}]
[{"$f":"IF(ISBLANK('DE01-F12'!N2499),\"\",('DE01-F12'!N2499))","v":""},{"$f":"MID('DE01-F12'!G2499,1,18)","v":""},{"$f":"IF(ISBLANK('DE01-F12'!P2499),\"\",('DE01-F12'!P2499))","v":""},{"$f":"IF(ISBLANK('DE01-F12'!Q2499),\"\",('DE01-F12'!Q2499))","v":""},{"$f":"IF(ISBLANK('DE01-F12'!S2499),\"\",('DE01-F12'!S2499))","v":0}]
[{"$f":"IF(ISBLANK('DE01-F12'!N2500),\"\",('DE01-F12'!N2500))","v":""},{"$f":"MID('DE01-F12'!G2500,1,18)","v":""},{"$f":"IF(ISBLANK('DE01-F12'!P2500),\"\",('DE01-F12'!P2500))","v":""},{"$f":"IF(ISBLANK('DE01-F12'!Q2500),\"\",('DE01-F12'!Q2500))","v":""},{"$f":"IF(ISBLANK('DE01-F12'!S2500),\"\",('DE01-F12'!S2500))","v":0}]
[{"$f":"IF(ISBLANK('DE01-F12'!N2501),\"\",('DE01-F12'!N2501))","v":""},{"$f":"MID('DE01-F12'!G2501,1,18)","v":""},{"$f":"IF(ISBLANK('DE01-F12'!P2501),\"\",('DE01-F12'!P2501))","v":""},{"$f":"IF(ISBLANK('DE01-F12'!Q2501),\"\",('DE01-F12'!Q2501))","v":""},{"$f":"IF(ISBLANK('DE01-F12'!S2501),\"\",('DE01-F12'!S2501))","v":0}]
[{"$f":"IF(ISBLANK('DE01-F12'!N2502),\"\",('DE01-F12'!N2502))","v":""},{"$f":"MID('DE01-F12'!G2502,1,18)","v":""},{"$f":"IF(ISBLANK('DE01-F12'!P2502),\"\",('DE01-F12'!P2502))","v":""},{"$f":"IF(ISBLANK('DE01-F12'!Q2502),\"\",('DE01-F12'!Q2502))","v":""},{"$f":"IF(ISBLANK('DE01-F12'!S2502),\"\",('DE01-F12'!S2502))","v":0}]
[{"$f":"IF(ISBLANK('DE01-F12'!N2503),\"\",('DE01-F12'!N2503))","v":""},{"$f":"MID('DE01-F12'!G2503,1,18)","v":""},{"$f":"IF(ISBLANK('DE01-F12'!P2503),\"\",('DE01-F12'!P2503))","v":""},{"$f":"IF(ISBLANK('DE01-F12'!Q2503),\"\",('DE01-F12'!Q2503))","v":""},{"$f":"IF(ISBLANK('DE01-F12'!S2503),\"\",('DE01-F12'!S2503))","v":0}]
[{"$f":"IF(ISBLANK('DE01-F12'!N2504),\"\",('DE01-F12'!N2504))","v":""},{"$f":"MID('DE01-F12'!G2504,1,18)","v":""},{"$f":"IF(ISBLANK('DE01-F12'!P2504),\"\",('DE01-F12'!P2504))","v":""},{"$f":"IF(ISBLANK('DE01-F12'!Q2504),\"\",('DE01-F12'!Q2504))","v":""},{"$f":"IF(ISBLANK('DE01-F12'!S2504),\"\",('DE01-F12'!S2504))","v":0}]
[{"$f":"IF(ISBLANK('DE01-F12'!N2505),\"\",('DE01-F12'!N2505))","v":""},{"$f":"MID('DE01-F12'!G2505,1,18)","v":""},{"$f":"IF(ISBLANK('DE01-F12'!P2505),\"\",('DE01-F12'!P2505))","v":""},{"$f":"IF(ISBLANK('DE01-F12'!Q2505),\"\",('DE01-F12'!Q2505))","v":""},{"$f":"IF(ISBLANK('DE01-F12'!S2505),\"\",('DE01-F12'!S2505))","v":0}]
[{"$f":"IF(ISBLANK('DE01-F12'!N2506),\"\",('DE01-F12'!N2506))","v":""},{"$f":"MID('DE01-F12'!G2506,1,18)","v":""},{"$f":"IF(ISBLANK('DE01-F12'!P2506),\"\",('DE01-F12'!P2506))","v":""},{"$f":"IF(ISBLANK('DE01-F12'!Q2506),\"\",('DE01-F12'!Q2506))","v":""},{"$f":"IF(ISBLANK('DE01-F12'!S2506),\"\",('DE01-F12'!S2506))","v":0}]
[{"$f":"IF(ISBLANK('DE01-F12'!N2507),\"\",('DE01-F12'!N2507))","v":""},{"$f":"MID('DE01-F12'!G2507,1,18)","v":""},{"$f":"IF(ISBLANK('DE01-F12'!P2507),\"\",('DE01-F12'!P2507))","v":""},{"$f":"IF(ISBLANK('DE01-F12'!Q2507),\"\",('DE01-F12'!Q2507))","v":""},{"$f":"IF(ISBLANK('DE01-F12'!S2507),\"\",('DE01-F12'!S2507))","v":0}]
[{"$f":"IF(ISBLANK('DE01-F12'!N2508),\"\",('DE01-F12'!N2508))","v":""},{"$f":"MID('DE01-F12'!G2508,1,18)","v":""},{"$f":"IF(ISBLANK('DE01-F12'!P2508),\"\",('DE01-F12'!P2508))","v":""},{"$f":"IF(ISBLANK('DE01-F12'!Q2508),\"\",('DE01-F12'!Q2508))","v":""},{"$f":"IF(ISBLANK('DE01-F12'!S2508),\"\",('DE01-F12'!S2508))","v":0}]
[{"$f":"IF(ISBLANK('DE01-F12'!N2509),\"\",('DE01-F12'!N2509))","v":""},{"$f":"MID('DE01-F12'!G2509,1,18)","v":""},{"$f":"IF(ISBLANK('DE01-F12'!P2509),\"\",('DE01-F12'!P2509))","v":""},{"$f":"IF(ISBLANK('DE01-F12'!Q2509),\"\",('DE01-F12'!Q2509))","v":""},{"$f":"IF(ISBLANK('DE01-F12'!S2509),\"\",('DE01-F12'!S2509))","v":0}]
[{"$f":"IF(ISBLANK('DE01-F12'!N2510),\"\",('DE01-F12'!N2510))","v":""},{"$f":"MID('DE01-F12'!G2510,1,18)","v":""},{"$f":"IF(ISBLANK('DE01-F12'!P2510),\"\",('DE01-F12'!P2510))","v":""},{"$f":"IF(ISBLANK('DE01-F12'!Q2510),\"\",('DE01-F12'!Q2510))","v":""},{"$f":"IF(ISBLANK('DE01-F12'!S2510),\"\",('DE01-F12'!S2510))","v":0}]
[{"$f":"IF(ISBLANK('DE01-F12'!N2511),\"\",('DE01-F12'!N2511))","v":""},{"$f":"MID('DE01-F12'!G2511,1,18)","v":""},{"$f":"IF(ISBLANK('DE01-F12'!P2511),\"\",('DE01-F12'!P2511))","v":""},{"$f":"IF(ISBLANK('DE01-F12'!Q2511),\"\",('DE01-F12'!Q2511))","v":""},{"$f":"IF(ISBLANK('DE01-F12'!S2511),\"\",('DE01-F12'!S2511))","v":0}]
[{"$f":"IF(ISBLANK('DE01-F12'!N2512),\"\",('DE01-F12'!N2512))","v":""},{"$f":"MID('DE01-F12'!G2512,1,18)","v":""},{"$f":"IF(ISBLANK('DE01-F12'!P2512),\"\",('DE01-F12'!P2512))","v":""},{"$f":"IF(ISBLANK('DE01-F12'!Q2512),\"\",('DE01-F12'!Q2512))","v":""},{"$f":"IF(ISBLANK('DE01-F12'!S2512),\"\",('DE01-F12'!S2512))","v":0}]
[{"$f":"IF(ISBLANK('DE01-F12'!N2513),\"\",('DE01-F12'!N2513))","v":""},{"$f":"MID('DE01-F12'!G2513,1,18)","v":""},{"$f":"IF(ISBLANK('DE01-F12'!P2513),\"\",('DE01-F12'!P2513))","v":""},{"$f":"IF(ISBLANK('DE01-F12'!Q2513),\"\",('DE01-F12'!Q2513))","v":""},{"$f":"IF(ISBLANK('DE01-F12'!S2513),\"\",('DE01-F12'!S2513))","v":0}]
[{"$f":"IF(ISBLANK('DE01-F12'!N2514),\"\",('DE01-F12'!N2514))","v":""},{"$f":"MID('DE01-F12'!G2514,1,18)","v":""},{"$f":"IF(ISBLANK('DE01-F12'!P2514),\"\",('DE01-F12'!P2514))","v":""},{"$f":"IF(ISBLANK('DE01-F12'!Q2514),\"\",('DE01-F12'!Q2514))","v":""},{"$f":"IF(ISBLANK('DE01-F12'!S2514),\"\",('DE01-F12'!S2514))","v":0}]
[{"$f":"IF(ISBLANK('DE01-F12'!N2515),\"\",('DE01-F12'!N2515))","v":""},{"$f":"MID('DE01-F12'!G2515,1,18)","v":""},{"$f":"IF(ISBLANK('DE01-F12'!P2515),\"\",('DE01-F12'!P2515))","v":""},{"$f":"IF(ISBLANK('DE01-F12'!Q2515),\"\",('DE01-F12'!Q2515))","v":""},{"$f":"IF(ISBLANK('DE01-F12'!S2515),\"\",('DE01-F12'!S2515))","v":0}]
[{"$f":"IF(ISBLANK('DE01-F12'!N2516),\"\",('DE01-F12'!N2516))","v":""},{"$f":"MID('DE01-F12'!G2516,1,18)","v":""},{"$f":"IF(ISBLANK('DE01-F12'!P2516),\"\",('DE01-F12'!P2516))","v":""},{"$f":"IF(ISBLANK('DE01-F12'!Q2516),\"\",('DE01-F12'!Q2516))","v":""},{"$f":"IF(ISBLANK('DE01-F12'!S2516),\"\",('DE01-F12'!S2516))","v":0}]
[{"$f":"IF(ISBLANK('DE01-F12'!N2517),\"\",('DE01-F12'!N2517))","v":""},{"$f":"MID('DE01-F12'!G2517,1,18)","v":""},{"$f":"IF(ISBLANK('DE01-F12'!P2517),\"\",('DE01-F12'!P2517))","v":""},{"$f":"IF(ISBLANK('DE01-F12'!Q2517),\"\",('DE01-F12'!Q2517))","v":""},{"$f":"IF(ISBLANK('DE01-F12'!S2517),\"\",('DE01-F12'!S2517))","v":0}]
[{"$f":"IF(ISBLANK('DE01-F12'!N2518),\"\",('DE01-F12'!N2518))","v":""},{"$f":"MID('DE01-F12'!G2518,1,18)","v":""},{"$f":"IF(ISBLANK('DE01-F12'!P2518),\"\",('DE01-F12'!P2518))","v":""},{"$f":"IF(ISBLANK('DE01-F12'!Q2518),\"\",('DE01-F12'!Q2518))","v":""},{"$f":"IF(ISBLANK('DE01-F12'!S2518),\"\",('DE01-F12'!S2518))","v":0}]
[{"$f":"IF(ISBLANK('DE01-F12'!N2519),\"\",('DE01-F12'!N2519))","v":""},{"$f":"MID('DE01-F12'!G2519,1,18)","v":""},{"$f":"IF(ISBLANK('DE01-F12'!P2519),\"\",('DE01-F12'!P2519))","v":""},{"$f":"IF(ISBLANK('DE01-F12'!Q2519),\"\",('DE01-F12'!Q2519))","v":""},{"$f":"IF(ISBLANK('DE01-F12'!S2519),\"\",('DE01-F12'!S2519))","v":0}]
[{"$f":"IF(ISBLANK('DE01-F12'!N2520),\"\",('DE01-F12'!N2520))","v":""},{"$f":"MID('DE01-F12'!G2520,1,18)","v":""},{"$f":"IF(ISBLANK('DE01-F12'!P2520),\"\",('DE01-F12'!P2520))","v":""},{"$f":"IF(ISBLANK('DE01-F12'!Q2520),\"\",('DE01-F12'!Q2520))","v":""},{"$f":"IF(ISBLANK('DE01-F12'!S2520),\"\",('DE01-F12'!S2520))","v":0}]
[{"$f":"IF(ISBLANK('DE01-F12'!N2521),\"\",('DE01-F12'!N2521))","v":""},{"$f":"MID('DE01-F12'!G2521,1,18)","v":""},{"$f":"IF(ISBLANK('DE01-F12'!P2521),\"\",('DE01-F12'!P2521))","v":""},{"$f":"IF(ISBLANK('DE01-F12'!Q2521),\"\",('DE01-F12'!Q2521))","v":""},{"$f":"IF(ISBLANK('DE01-F12'!S2521),\"\",('DE01-F12'!S2521))","v":0}]
[{"$f":"IF(ISBLANK('DE01-F12'!N2522),\"\",('DE01-F12'!N2522))","v":""},{"$f":"MID('DE01-F12'!G2522,1,18)","v":""},{"$f":"IF(ISBLANK('DE01-F12'!P2522),\"\",('DE01-F12'!P2522))","v":""},{"$f":"IF(ISBLANK('DE01-F12'!Q2522),\"\",('DE01-F12'!Q2522))","v":""},{"$f":"IF(ISBLANK('DE01-F12'!S2522),\"\",('DE01-F12'!S2522))","v":0}]
[{"$f":"IF(ISBLANK('DE01-F12'!N2523),\"\",('DE01-F12'!N2523))","v":""},{"$f":"MID('DE01-F12'!G2523,1,18)","v":""},{"$f":"IF(ISBLANK('DE01-F12'!P2523),\"\",('DE01-F12'!P2523))","v":""},{"$f":"IF(ISBLANK('DE01-F12'!Q2523),\"\",('DE01-F12'!Q2523))","v":""},{"$f":"IF(ISBLANK('DE01-F12'!S2523),\"\",('DE01-F12'!S2523))","v":0}]
[{"$f":"IF(ISBLANK('DE01-F12'!N2524),\"\",('DE01-F12'!N2524))","v":""},{"$f":"MID('DE01-F12'!G2524,1,18)","v":""},{"$f":"IF(ISBLANK('DE01-F12'!P2524),\"\",('DE01-F12'!P2524))","v":""},{"$f":"IF(ISBLANK('DE01-F12'!Q2524),\"\",('DE01-F12'!Q2524))","v":""},{"$f":"IF(ISBLANK('DE01-F12'!S2524),\"\",('DE01-F12'!S2524))","v":0}]
[{"$f":"IF(ISBLANK('DE01-F12'!N2525),\"\",('DE01-F12'!N2525))","v":""},{"$f":"MID('DE01-F12'!G2525,1,18)","v":""},{"$f":"IF(ISBLANK('DE01-F12'!P2525),\"\",('DE01-F12'!P2525))","v":""},{"$f":"IF(ISBLANK('DE01-F12'!Q2525),\"\",('DE01-F12'!Q2525))","v":""},{"$f":"IF(ISBLANK('DE01-F12'!S2525),\"\",('DE01-F12'!S2525))","v":0}]
[{"$f":"IF(ISBLANK('DE01-F12'!N2526),\"\",('DE01-F12'!N2526))","v":""},{"$f":"MID('DE01-F12'!G2526,1,18)","v":""},{"$f":"IF(ISBLANK('DE01-F12'!P2526),\"\",('DE01-F12'!P2526))","v":""},{"$f":"IF(ISBLANK('DE01-F12'!Q2526),\"\",('DE01-F12'!Q2526))","v":""},{"$f":"IF(ISBLANK('DE01-F12'!S2526),\"\",('DE01-F12'!S2526))","v":0}]
[{"$f":"IF(ISBLANK('DE01-F12'!N2527),\"\",('DE01-F12'!N2527))","v":""},{"$f":"MID('DE01-F12'!G2527,1,18)","v":""},{"$f":"IF(ISBLANK('DE01-F12'!P2527),\"\",('DE01-F12'!P2527))","v":""},{"$f":"IF(ISBLANK('DE01-F12'!Q2527),\"\",('DE01-F12'!Q2527))","v":""},{"$f":"IF(ISBLANK('DE01-F12'!S2527),\"\",('DE01-F12'!S2527))","v":0}]
[{"$f":"IF(ISBLANK('DE01-F12'!N2528),\"\",('DE01-F12'!N2528))","v":""},{"$f":"MID('DE01-F12'!G2528,1,18)","v":""},{"$f":"IF(ISBLANK('DE01-F12'!P2528),\"\",('DE01-F12'!P2528))","v":""},{"$f":"IF(ISBLANK('DE01-F12'!Q2528),\"\",('DE01-F12'!Q2528))","v":""},{"$f":"IF(ISBLANK('DE01-F12'!S2528),\"\",('DE01-F12'!S2528))","v":0}]
[{"$f":"IF(ISBLANK('DE01-F12'!N2529),\"\",('DE01-F12'!N2529))","v":""},{"$f":"MID('DE01-F12'!G2529,1,18)","v":""},{"$f":"IF(ISBLANK('DE01-F12'!P2529),\"\",('DE01-F12'!P2529))","v":""},{"$f":"IF(ISBLANK('DE01-F12'!Q2529),\"\",('DE01-F12'!Q2529))","v":""},{"$f":"IF(ISBLANK('DE01-F12'!S2529),\"\",('DE01-F12'!S2529))","v":0}]
[{"$f":"IF(ISBLANK('DE01-F12'!N2530),\"\",('DE01-F12'!N2530))","v":""},{"$f":"MID('DE01-F12'!G2530,1,18)","v":""},{"$f":"IF(ISBLANK('DE01-F12'!P2530),\"\",('DE01-F12'!P2530))","v":""},{"$f":"IF(ISBLANK('DE01-F12'!Q2530),\"\",('DE01-F12'!Q2530))","v":""},{"$f":"IF(ISBLANK('DE01-F12'!S2530),\"\",('DE01-F12'!S2530))","v":0}]
[{"$f":"IF(ISBLANK('DE01-F12'!N2531),\"\",('DE01-F12'!N2531))","v":""},{"$f":"MID('DE01-F12'!G2531,1,18)","v":""},{"$f":"IF(ISBLANK('DE01-F12'!P2531),\"\",('DE01-F12'!P2531))","v":""},{"$f":"IF(ISBLANK('DE01-F12'!Q2531),\"\",('DE01-F12'!Q2531))","v":""},{"$f":"IF(ISBLANK('DE01-F12'!S2531),\"\",('DE01-F12'!S2531))","v":0}]
[{"$f":"IF(ISBLANK('DE01-F12'!N2532),\"\",('DE01-F12'!N2532))","v":""},{"$f":"MID('DE01-F12'!G2532,1,18)","v":""},{"$f":"IF(ISBLANK('DE01-F12'!P2532),\"\",('DE01-F12'!P2532))","v":""},{"$f":"IF(ISBLANK('DE01-F12'!Q2532),\"\",('DE01-F12'!Q2532))","v":""},{"$f":"IF(ISBLANK('DE01-F12'!S2532),\"\",('DE01-F12'!S2532))","v":0}]
[{"$f":"IF(ISBLANK('DE01-F12'!N2533),\"\",('DE01-F12'!N2533))","v":""},{"$f":"MID('DE01-F12'!G2533,1,18)","v":""},{"$f":"IF(ISBLANK('DE01-F12'!P2533),\"\",('DE01-F12'!P2533))","v":""},{"$f":"IF(ISBLANK('DE01-F12'!Q2533),\"\",('DE01-F12'!Q2533))","v":""},{"$f":"IF(ISBLANK('DE01-F12'!S2533),\"\",('DE01-F12'!S2533))","v":0}]
[{"$f":"IF(ISBLANK('DE01-F12'!N2534),\"\",('DE01-F12'!N2534))","v":""},{"$f":"MID('DE01-F12'!G2534,1,18)","v":""},{"$f":"IF(ISBLANK('DE01-F12'!P2534),\"\",('DE01-F12'!P2534))","v":""},{"$f":"IF(ISBLANK('DE01-F12'!Q2534),\"\",('DE01-F12'!Q2534))","v":""},{"$f":"IF(ISBLANK('DE01-F12'!S2534),\"\",('DE01-F12'!S2534))","v":0}]
[{"$f":"IF(ISBLANK('DE01-F12'!N2535),\"\",('DE01-F12'!N2535))","v":""},{"$f":"MID('DE01-F12'!G2535,1,18)","v":""},{"$f":"IF(ISBLANK('DE01-F12'!P2535),\"\",('DE01-F12'!P2535))","v":""},{"$f":"IF(ISBLANK('DE01-F12'!Q2535),\"\",('DE01-F12'!Q2535))","v":""},{"$f":"IF(ISBLANK('DE01-F12'!S2535),\"\",('DE01-F12'!S2535))","v":0}]
[{"$f":"IF(ISBLANK('DE01-F12'!N2536),\"\",('DE01-F12'!N2536))","v":""},{"$f":"MID('DE01-F12'!G2536,1,18)","v":""},{"$f":"IF(ISBLANK('DE01-F12'!P2536),\"\",('DE01-F12'!P2536))","v":""},{"$f":"IF(ISBLANK('DE01-F12'!Q2536),\"\",('DE01-F12'!Q2536))","v":""},{"$f":"IF(ISBLANK('DE01-F12'!S2536),\"\",('DE01-F12'!S2536))","v":0}]
[{"$f":"IF(ISBLANK('DE01-F12'!N2537),\"\",('DE01-F12'!N2537))","v":""},{"$f":"MID('DE01-F12'!G2537,1,18)","v":""},{"$f":"IF(ISBLANK('DE01-F12'!P2537),\"\",('DE01-F12'!P2537))","v":""},{"$f":"IF(ISBLANK('DE01-F12'!Q2537),\"\",('DE01-F12'!Q2537))","v":""},{"$f":"IF(ISBLANK('DE01-F12'!S2537),\"\",('DE01-F12'!S2537))","v":0}]
[{"$f":"IF(ISBLANK('DE01-F12'!N2538),\"\",('DE01-F12'!N2538))","v":""},{"$f":"MID('DE01-F12'!G2538,1,18)","v":""},{"$f":"IF(ISBLANK('DE01-F12'!P2538),\"\",('DE01-F12'!P2538))","v":""},{"$f":"IF(ISBLANK('DE01-F12'!Q2538),\"\",('DE01-F12'!Q2538))","v":""},{"$f":"IF(ISBLANK('DE01-F12'!S2538),\"\",('DE01-F12'!S2538))","v":0}]
[{"$f":"IF(ISBLANK('DE01-F12'!N2539),\"\",('DE01-F12'!N2539))","v":""},{"$f":"MID('DE01-F12'!G2539,1,18)","v":""},{"$f":"IF(ISBLANK('DE01-F12'!P2539),\"\",('DE01-F12'!P2539))","v":""},{"$f":"IF(ISBLANK('DE01-F12'!Q2539),\"\",('DE01-F12'!Q2539))","v":""},{"$f":"IF(ISBLANK('DE01-F12'!S2539),\"\",('DE01-F12'!S2539))","v":0}]
[{"$f":"IF(ISBLANK('DE01-F12'!N2540),\"\",('DE01-F12'!N2540))","v":""},{"$f":"MID('DE01-F12'!G2540,1,18)","v":""},{"$f":"IF(ISBLANK('DE01-F12'!P2540),\"\",('DE01-F12'!P2540))","v":""},{"$f":"IF(ISBLANK('DE01-F12'!Q2540),\"\",('DE01-F12'!Q2540))","v":""},{"$f":"IF(ISBLANK('DE01-F12'!S2540),\"\",('DE01-F12'!S2540))","v":0}]
[{"$f":"IF(ISBLANK('DE01-F12'!N2541),\"\",('DE01-F12'!N2541))","v":""},{"$f":"MID('DE01-F12'!G2541,1,18)","v":""},{"$f":"IF(ISBLANK('DE01-F12'!P2541),\"\",('DE01-F12'!P2541))","v":""},{"$f":"IF(ISBLANK('DE01-F12'!Q2541),\"\",('DE01-F12'!Q2541))","v":""},{"$f":"IF(ISBLANK('DE01-F12'!S2541),\"\",('DE01-F12'!S2541))","v":0}]
[{"$f":"IF(ISBLANK('DE01-F12'!N2542),\"\",('DE01-F12'!N2542))","v":""},{"$f":"MID('DE01-F12'!G2542,1,18)","v":""},{"$f":"IF(ISBLANK('DE01-F12'!P2542),\"\",('DE01-F12'!P2542))","v":""},{"$f":"IF(ISBLANK('DE01-F12'!Q2542),\"\",('DE01-F12'!Q2542))","v":""},{"$f":"IF(ISBLANK('DE01-F12'!S2542),\"\",('DE01-F12'!S2542))","v":0}]
[{"$f":"IF(ISBLANK('DE01-F12'!N2543),\"\",('DE01-F12'!N2543))","v":""},{"$f":"MID('DE01-F12'!G2543,1,18)","v":""},{"$f":"IF(ISBLANK('DE01-F12'!P2543),\"\",('DE01-F12'!P2543))","v":""},{"$f":"IF(ISBLANK('DE01-F12'!Q2543),\"\",('DE01-F12'!Q2543))","v":""},{"$f":"IF(ISBLANK('DE01-F12'!S2543),\"\",('DE01-F12'!S2543))","v":0}]
[{"$f":"IF(ISBLANK('DE01-F12'!N2544),\"\",('DE01-F12'!N2544))","v":""},{"$f":"MID('DE01-F12'!G2544,1,18)","v":""},{"$f":"IF(ISBLANK('DE01-F12'!P2544),\"\",('DE01-F12'!P2544))","v":""},{"$f":"IF(ISBLANK('DE01-F12'!Q2544),\"\",('DE01-F12'!Q2544))","v":""},{"$f":"IF(ISBLANK('DE01-F12'!S2544),\"\",('DE01-F12'!S2544))","v":0}]
[{"$f":"IF(ISBLANK('DE01-F12'!N2545),\"\",('DE01-F12'!N2545))","v":""},{"$f":"MID('DE01-F12'!G2545,1,18)","v":""},{"$f":"IF(ISBLANK('DE01-F12'!P2545),\"\",('DE01-F12'!P2545))","v":""},{"$f":"IF(ISBLANK('DE01-F12'!Q2545),\"\",('DE01-F12'!Q2545))","v":""},{"$f":"IF(ISBLANK('DE01-F12'!S2545),\"\",('DE01-F12'!S2545))","v":0}]
[{"$f":"IF(ISBLANK('DE01-F12'!N2546),\"\",('DE01-F12'!N2546))","v":""},{"$f":"MID('DE01-F12'!G2546,1,18)","v":""},{"$f":"IF(ISBLANK('DE01-F12'!P2546),\"\",('DE01-F12'!P2546))","v":""},{"$f":"IF(ISBLANK('DE01-F12'!Q2546),\"\",('DE01-F12'!Q2546))","v":""},{"$f":"IF(ISBLANK('DE01-F12'!S2546),\"\",('DE01-F12'!S2546))","v":0}]
[{"$f":"IF(ISBLANK('DE01-F12'!N2547),\"\",('DE01-F12'!N2547))","v":""},{"$f":"MID('DE01-F12'!G2547,1,18)","v":""},{"$f":"IF(ISBLANK('DE01-F12'!P2547),\"\",('DE01-F12'!P2547))","v":""},{"$f":"IF(ISBLANK('DE01-F12'!Q2547),\"\",('DE01-F12'!Q2547))","v":""},{"$f":"IF(ISBLANK('DE01-F12'!S2547),\"\",('DE01-F12'!S2547))","v":0}]
[{"$f":"IF(ISBLANK('DE01-F12'!N2548),\"\",('DE01-F12'!N2548))","v":""},{"$f":"MID('DE01-F12'!G2548,1,18)","v":""},{"$f":"IF(ISBLANK('DE01-F12'!P2548),\"\",('DE01-F12'!P2548))","v":""},{"$f":"IF(ISBLANK('DE01-F12'!Q2548),\"\",('DE01-F12'!Q2548))","v":""},{"$f":"IF(ISBLANK('DE01-F12'!S2548),\"\",('DE01-F12'!S2548))","v":0}]
[{"$f":"IF(ISBLANK('DE01-F12'!N2549),\"\",('DE01-F12'!N2549))","v":""},{"$f":"MID('DE01-F12'!G2549,1,18)","v":""},{"$f":"IF(ISBLANK('DE01-F12'!P2549),\"\",('DE01-F12'!P2549))","v":""},{"$f":"IF(ISBLANK('DE01-F12'!Q2549),\"\",('DE01-F12'!Q2549))","v":""},{"$f":"IF(ISBLANK('DE01-F12'!S2549),\"\",('DE01-F12'!S2549))","v":0}]
[{"$f":"IF(ISBLANK('DE01-F12'!N2550),\"\",('DE01-F12'!N2550))","v":""},{"$f":"MID('DE01-F12'!G2550,1,18)","v":""},{"$f":"IF(ISBLANK('DE01-F12'!P2550),\"\",('DE01-F12'!P2550))","v":""},{"$f":"IF(ISBLANK('DE01-F12'!Q2550),\"\",('DE01-F12'!Q2550))","v":""},{"$f":"IF(ISBLANK('DE01-F12'!S2550),\"\",('DE01-F12'!S2550))","v":0}]
[{"$f":"IF(ISBLANK('DE01-F12'!N2551),\"\",('DE01-F12'!N2551))","v":""},{"$f":"MID('DE01-F12'!G2551,1,18)","v":""},{"$f":"IF(ISBLANK('DE01-F12'!P2551),\"\",('DE01-F12'!P2551))","v":""},{"$f":"IF(ISBLANK('DE01-F12'!Q2551),\"\",('DE01-F12'!Q2551))","v":""},{"$f":"IF(ISBLANK('DE01-F12'!S2551),\"\",('DE01-F12'!S2551))","v":0}]
[{"$f":"IF(ISBLANK('DE01-F12'!N2552),\"\",('DE01-F12'!N2552))","v":""},{"$f":"MID('DE01-F12'!G2552,1,18)","v":""},{"$f":"IF(ISBLANK('DE01-F12'!P2552),\"\",('DE01-F12'!P2552))","v":""},{"$f":"IF(ISBLANK('DE01-F12'!Q2552),\"\",('DE01-F12'!Q2552))","v":""},{"$f":"IF(ISBLANK('DE01-F12'!S2552),\"\",('DE01-F12'!S2552))","v":0}]
[{"$f":"IF(ISBLANK('DE01-F12'!N2553),\"\",('DE01-F12'!N2553))","v":""},{"$f":"MID('DE01-F12'!G2553,1,18)","v":""},{"$f":"IF(ISBLANK('DE01-F12'!P2553),\"\",('DE01-F12'!P2553))","v":""},{"$f":"IF(ISBLANK('DE01-F12'!Q2553),\"\",('DE01-F12'!Q2553))","v":""},{"$f":"IF(ISBLANK('DE01-F12'!S2553),\"\",('DE01-F12'!S2553))","v":0}]
[{"$f":"IF(ISBLANK('DE01-F12'!N2554),\"\",('DE01-F12'!N2554))","v":""},{"$f":"MID('DE01-F12'!G2554,1,18)","v":""},{"$f":"IF(ISBLANK('DE01-F12'!P2554),\"\",('DE01-F12'!P2554))","v":""},{"$f":"IF(ISBLANK('DE01-F12'!Q2554),\"\",('DE01-F12'!Q2554))","v":""},{"$f":"IF(ISBLANK('DE01-F12'!S2554),\"\",('DE01-F12'!S2554))","v":0}]
[{"$f":"IF(ISBLANK('DE01-F12'!N2555),\"\",('DE01-F12'!N2555))","v":""},{"$f":"MID('DE01-F12'!G2555,1,18)","v":""},{"$f":"IF(ISBLANK('DE01-F12'!P2555),\"\",('DE01-F12'!P2555))","v":""},{"$f":"IF(ISBLANK('DE01-F12'!Q2555),\"\",('DE01-F12'!Q2555))","v":""},{"$f":"IF(ISBLANK('DE01-F12'!S2555),\"\",('DE01-F12'!S2555))","v":0}]
[{"$f":"IF(ISBLANK('DE01-F12'!N2556),\"\",('DE01-F12'!N2556))","v":""},{"$f":"MID('DE01-F12'!G2556,1,18)","v":""},{"$f":"IF(ISBLANK('DE01-F12'!P2556),\"\",('DE01-F12'!P2556))","v":""},{"$f":"IF(ISBLANK('DE01-F12'!Q2556),\"\",('DE01-F12'!Q2556))","v":""},{"$f":"IF(ISBLANK('DE01-F12'!S2556),\"\",('DE01-F12'!S2556))","v":0}]
[{"$f":"IF(ISBLANK('DE01-F12'!N2557),\"\",('DE01-F12'!N2557))","v":""},{"$f":"MID('DE01-F12'!G2557,1,18)","v":""},{"$f":"IF(ISBLANK('DE01-F12'!P2557),\"\",('DE01-F12'!P2557))","v":""},{"$f":"IF(ISBLANK('DE01-F12'!Q2557),\"\",('DE01-F12'!Q2557))","v":""},{"$f":"IF(ISBLANK('DE01-F12'!S2557),\"\",('DE01-F12'!S2557))","v":0}]
[{"$f":"IF(ISBLANK('DE01-F12'!N2558),\"\",('DE01-F12'!N2558))","v":""},{"$f":"MID('DE01-F12'!G2558,1,18)","v":""},{"$f":"IF(ISBLANK('DE01-F12'!P2558),\"\",('DE01-F12'!P2558))","v":""},{"$f":"IF(ISBLANK('DE01-F12'!Q2558),\"\",('DE01-F12'!Q2558))","v":""},{"$f":"IF(ISBLANK('DE01-F12'!S2558),\"\",('DE01-F12'!S2558))","v":0}]
[{"$f":"IF(ISBLANK('DE01-F12'!N2559),\"\",('DE01-F12'!N2559))","v":""},{"$f":"MID('DE01-F12'!G2559,1,18)","v":""},{"$f":"IF(ISBLANK('DE01-F12'!P2559),\"\",('DE01-F12'!P2559))","v":""},{"$f":"IF(ISBLANK('DE01-F12'!Q2559),\"\",('DE01-F12'!Q2559))","v":""},{"$f":"IF(ISBLANK('DE01-F12'!S2559),\"\",('DE01-F12'!S2559))","v":0}]
[{"$f":"IF(ISBLANK('DE01-F12'!N2560),\"\",('DE01-F12'!N2560))","v":""},{"$f":"MID('DE01-F12'!G2560,1,18)","v":""},{"$f":"IF(ISBLANK('DE01-F12'!P2560),\"\",('DE01-F12'!P2560))","v":""},{"$f":"IF(ISBLANK('DE01-F12'!Q2560),\"\",('DE01-F12'!Q2560))","v":""},{"$f":"IF(ISBLANK('DE01-F12'!S2560),\"\",('DE01-F12'!S2560))","v":0}]
[{"$f":"IF(ISBLANK('DE01-F12'!N2561),\"\",('DE01-F12'!N2561))","v":""},{"$f":"MID('DE01-F12'!G2561,1,18)","v":""},{"$f":"IF(ISBLANK('DE01-F12'!P2561),\"\",('DE01-F12'!P2561))","v":""},{"$f":"IF(ISBLANK('DE01-F12'!Q2561),\"\",('DE01-F12'!Q2561))","v":""},{"$f":"IF(ISBLANK('DE01-F12'!S2561),\"\",('DE01-F12'!S2561))","v":0}]
[{"$f":"IF(ISBLANK('DE01-F12'!N2562),\"\",('DE01-F12'!N2562))","v":""},{"$f":"MID('DE01-F12'!G2562,1,18)","v":""},{"$f":"IF(ISBLANK('DE01-F12'!P2562),\"\",('DE01-F12'!P2562))","v":""},{"$f":"IF(ISBLANK('DE01-F12'!Q2562),\"\",('DE01-F12'!Q2562))","v":""},{"$f":"IF(ISBLANK('DE01-F12'!S2562),\"\",('DE01-F12'!S2562))","v":0}]
[{"$f":"IF(ISBLANK('DE01-F12'!N2563),\"\",('DE01-F12'!N2563))","v":""},{"$f":"MID('DE01-F12'!G2563,1,18)","v":""},{"$f":"IF(ISBLANK('DE01-F12'!P2563),\"\",('DE01-F12'!P2563))","v":""},{"$f":"IF(ISBLANK('DE01-F12'!Q2563),\"\",('DE01-F12'!Q2563))","v":""},{"$f":"IF(ISBLANK('DE01-F12'!S2563),\"\",('DE01-F12'!S2563))","v":0}]
[{"$f":"IF(ISBLANK('DE01-F12'!N2564),\"\",('DE01-F12'!N2564))","v":""},{"$f":"MID('DE01-F12'!G2564,1,18)","v":""},{"$f":"IF(ISBLANK('DE01-F12'!P2564),\"\",('DE01-F12'!P2564))","v":""},{"$f":"IF(ISBLANK('DE01-F12'!Q2564),\"\",('DE01-F12'!Q2564))","v":""},{"$f":"IF(ISBLANK('DE01-F12'!S2564),\"\",('DE01-F12'!S2564))","v":0}]
[{"$f":"IF(ISBLANK('DE01-F12'!N2565),\"\",('DE01-F12'!N2565))","v":""},{"$f":"MID('DE01-F12'!G2565,1,18)","v":""},{"$f":"IF(ISBLANK('DE01-F12'!P2565),\"\",('DE01-F12'!P2565))","v":""},{"$f":"IF(ISBLANK('DE01-F12'!Q2565),\"\",('DE01-F12'!Q2565))","v":""},{"$f":"IF(ISBLANK('DE01-F12'!S2565),\"\",('DE01-F12'!S2565))","v":0}]
[{"$f":"IF(ISBLANK('DE01-F12'!N2566),\"\",('DE01-F12'!N2566))","v":""},{"$f":"MID('DE01-F12'!G2566,1,18)","v":""},{"$f":"IF(ISBLANK('DE01-F12'!P2566),\"\",('DE01-F12'!P2566))","v":""},{"$f":"IF(ISBLANK('DE01-F12'!Q2566),\"\",('DE01-F12'!Q2566))","v":""},{"$f":"IF(ISBLANK('DE01-F12'!S2566),\"\",('DE01-F12'!S2566))","v":0}]
[{"$f":"IF(ISBLANK('DE01-F12'!N2567),\"\",('DE01-F12'!N2567))","v":""},{"$f":"MID('DE01-F12'!G2567,1,18)","v":""},{"$f":"IF(ISBLANK('DE01-F12'!P2567),\"\",('DE01-F12'!P2567))","v":""},{"$f":"IF(ISBLANK('DE01-F12'!Q2567),\"\",('DE01-F12'!Q2567))","v":""},{"$f":"IF(ISBLANK('DE01-F12'!S2567),\"\",('DE01-F12'!S2567))","v":0}]
[{"$f":"IF(ISBLANK('DE01-F12'!N2568),\"\",('DE01-F12'!N2568))","v":""},{"$f":"MID('DE01-F12'!G2568,1,18)","v":""},{"$f":"IF(ISBLANK('DE01-F12'!P2568),\"\",('DE01-F12'!P2568))","v":""},{"$f":"IF(ISBLANK('DE01-F12'!Q2568),\"\",('DE01-F12'!Q2568))","v":""},{"$f":"IF(ISBLANK('DE01-F12'!S2568),\"\",('DE01-F12'!S2568))","v":0}]
[{"$f":"IF(ISBLANK('DE01-F12'!N2569),\"\",('DE01-F12'!N2569))","v":""},{"$f":"MID('DE01-F12'!G2569,1,18)","v":""},{"$f":"IF(ISBLANK('DE01-F12'!P2569),\"\",('DE01-F12'!P2569))","v":""},{"$f":"IF(ISBLANK('DE01-F12'!Q2569),\"\",('DE01-F12'!Q2569))","v":""},{"$f":"IF(ISBLANK('DE01-F12'!S2569),\"\",('DE01-F12'!S2569))","v":0}]
[{"$f":"IF(ISBLANK('DE01-F12'!N2570),\"\",('DE01-F12'!N2570))","v":""},{"$f":"MID('DE01-F12'!G2570,1,18)","v":""},{"$f":"IF(ISBLANK('DE01-F12'!P2570),\"\",('DE01-F12'!P2570))","v":""},{"$f":"IF(ISBLANK('DE01-F12'!Q2570),\"\",('DE01-F12'!Q2570))","v":""},{"$f":"IF(ISBLANK('DE01-F12'!S2570),\"\",('DE01-F12'!S2570))","v":0}]
[{"$f":"IF(ISBLANK('DE01-F12'!N2571),\"\",('DE01-F12'!N2571))","v":""},{"$f":"MID('DE01-F12'!G2571,1,18)","v":""},{"$f":"IF(ISBLANK('DE01-F12'!P2571),\"\",('DE01-F12'!P2571))","v":""},{"$f":"IF(ISBLANK('DE01-F12'!Q2571),\"\",('DE01-F12'!Q2571))","v":""},{"$f":"IF(ISBLANK('DE01-F12'!S2571),\"\",('DE01-F12'!S2571))","v":0}]
[{"$f":"IF(ISBLANK('DE01-F12'!N2572),\"\",('DE01-F12'!N2572))","v":""},{"$f":"MID('DE01-F12'!G2572,1,18)","v":""},{"$f":"IF(ISBLANK('DE01-F12'!P2572),\"\",('DE01-F12'!P2572))","v":""},{"$f":"IF(ISBLANK('DE01-F12'!Q2572),\"\",('DE01-F12'!Q2572))","v":""},{"$f":"IF(ISBLANK('DE01-F12'!S2572),\"\",('DE01-F12'!S2572))","v":0}]
[{"$f":"IF(ISBLANK('DE01-F12'!N2573),\"\",('DE01-F12'!N2573))","v":""},{"$f":"MID('DE01-F12'!G2573,1,18)","v":""},{"$f":"IF(ISBLANK('DE01-F12'!P2573),\"\",('DE01-F12'!P2573))","v":""},{"$f":"IF(ISBLANK('DE01-F12'!Q2573),\"\",('DE01-F12'!Q2573))","v":""},{"$f":"IF(ISBLANK('DE01-F12'!S2573),\"\",('DE01-F12'!S2573))","v":0}]
[{"$f":"IF(ISBLANK('DE01-F12'!N2574),\"\",('DE01-F12'!N2574))","v":""},{"$f":"MID('DE01-F12'!G2574,1,18)","v":""},{"$f":"IF(ISBLANK('DE01-F12'!P2574),\"\",('DE01-F12'!P2574))","v":""},{"$f":"IF(ISBLANK('DE01-F12'!Q2574),\"\",('DE01-F12'!Q2574))","v":""},{"$f":"IF(ISBLANK('DE01-F12'!S2574),\"\",('DE01-F12'!S2574))","v":0}]
[{"$f":"IF(ISBLANK('DE01-F12'!N2575),\"\",('DE01-F12'!N2575))","v":""},{"$f":"MID('DE01-F12'!G2575,1,18)","v":""},{"$f":"IF(ISBLANK('DE01-F12'!P2575),\"\",('DE01-F12'!P2575))","v":""},{"$f":"IF(ISBLANK('DE01-F12'!Q2575),\"\",('DE01-F12'!Q2575))","v":""},{"$f":"IF(ISBLANK('DE01-F12'!S2575),\"\",('DE01-F12'!S2575))","v":0}]
[{"$f":"IF(ISBLANK('DE01-F12'!N2576),\"\",('DE01-F12'!N2576))","v":""},{"$f":"MID('DE01-F12'!G2576,1,18)","v":""},{"$f":"IF(ISBLANK('DE01-F12'!P2576),\"\",('DE01-F12'!P2576))","v":""},{"$f":"IF(ISBLANK('DE01-F12'!Q2576),\"\",('DE01-F12'!Q2576))","v":""},{"$f":"IF(ISBLANK('DE01-F12'!S2576),\"\",('DE01-F12'!S2576))","v":0}]
[{"$f":"IF(ISBLANK('DE01-F12'!N2577),\"\",('DE01-F12'!N2577))","v":""},{"$f":"MID('DE01-F12'!G2577,1,18)","v":""},{"$f":"IF(ISBLANK('DE01-F12'!P2577),\"\",('DE01-F12'!P2577))","v":""},{"$f":"IF(ISBLANK('DE01-F12'!Q2577),\"\",('DE01-F12'!Q2577))","v":""},{"$f":"IF(ISBLANK('DE01-F12'!S2577),\"\",('DE01-F12'!S2577))","v":0}]
[{"$f":"IF(ISBLANK('DE01-F12'!N2578),\"\",('DE01-F12'!N2578))","v":""},{"$f":"MID('DE01-F12'!G2578,1,18)","v":""},{"$f":"IF(ISBLANK('DE01-F12'!P2578),\"\",('DE01-F12'!P2578))","v":""},{"$f":"IF(ISBLANK('DE01-F12'!Q2578),\"\",('DE01-F12'!Q2578))","v":""},{"$f":"IF(ISBLANK('DE01-F12'!S2578),\"\",('DE01-F12'!S2578))","v":0}]
[{"$f":"IF(ISBLANK('DE01-F12'!N2579),\"\",('DE01-F12'!N2579))","v":""},{"$f":"MID('DE01-F12'!G2579,1,18)","v":""},{"$f":"IF(ISBLANK('DE01-F12'!P2579),\"\",('DE01-F12'!P2579))","v":""},{"$f":"IF(ISBLANK('DE01-F12'!Q2579),\"\",('DE01-F12'!Q2579))","v":""},{"$f":"IF(ISBLANK('DE01-F12'!S2579),\"\",('DE01-F12'!S2579))","v":0}]
[{"$f":"IF(ISBLANK('DE01-F12'!N2580),\"\",('DE01-F12'!N2580))","v":""},{"$f":"MID('DE01-F12'!G2580,1,18)","v":""},{"$f":"IF(ISBLANK('DE01-F12'!P2580),\"\",('DE01-F12'!P2580))","v":""},{"$f":"IF(ISBLANK('DE01-F12'!Q2580),\"\",('DE01-F12'!Q2580))","v":""},{"$f":"IF(ISBLANK('DE01-F12'!S2580),\"\",('DE01-F12'!S2580))","v":0}]
[{"$f":"IF(ISBLANK('DE01-F12'!N2581),\"\",('DE01-F12'!N2581))","v":""},{"$f":"MID('DE01-F12'!G2581,1,18)","v":""},{"$f":"IF(ISBLANK('DE01-F12'!P2581),\"\",('DE01-F12'!P2581))","v":""},{"$f":"IF(ISBLANK('DE01-F12'!Q2581),\"\",('DE01-F12'!Q2581))","v":""},{"$f":"IF(ISBLANK('DE01-F12'!S2581),\"\",('DE01-F12'!S2581))","v":0}]
[{"$f":"IF(ISBLANK('DE01-F12'!N2582),\"\",('DE01-F12'!N2582))","v":""},{"$f":"MID('DE01-F12'!G2582,1,18)","v":""},{"$f":"IF(ISBLANK('DE01-F12'!P2582),\"\",('DE01-F12'!P2582))","v":""},{"$f":"IF(ISBLANK('DE01-F12'!Q2582),\"\",('DE01-F12'!Q2582))","v":""},{"$f":"IF(ISBLANK('DE01-F12'!S2582),\"\",('DE01-F12'!S2582))","v":0}]
[{"$f":"IF(ISBLANK('DE01-F12'!N2583),\"\",('DE01-F12'!N2583))","v":""},{"$f":"MID('DE01-F12'!G2583,1,18)","v":""},{"$f":"IF(ISBLANK('DE01-F12'!P2583),\"\",('DE01-F12'!P2583))","v":""},{"$f":"IF(ISBLANK('DE01-F12'!Q2583),\"\",('DE01-F12'!Q2583))","v":""},{"$f":"IF(ISBLANK('DE01-F12'!S2583),\"\",('DE01-F12'!S2583))","v":0}]
[{"$f":"IF(ISBLANK('DE01-F12'!N2584),\"\",('DE01-F12'!N2584))","v":""},{"$f":"MID('DE01-F12'!G2584,1,18)","v":""},{"$f":"IF(ISBLANK('DE01-F12'!P2584),\"\",('DE01-F12'!P2584))","v":""},{"$f":"IF(ISBLANK('DE01-F12'!Q2584),\"\",('DE01-F12'!Q2584))","v":""},{"$f":"IF(ISBLANK('DE01-F12'!S2584),\"\",('DE01-F12'!S2584))","v":0}]
[{"$f":"IF(ISBLANK('DE01-F12'!N2585),\"\",('DE01-F12'!N2585))","v":""},{"$f":"MID('DE01-F12'!G2585,1,18)","v":""},{"$f":"IF(ISBLANK('DE01-F12'!P2585),\"\",('DE01-F12'!P2585))","v":""},{"$f":"IF(ISBLANK('DE01-F12'!Q2585),\"\",('DE01-F12'!Q2585))","v":""},{"$f":"IF(ISBLANK('DE01-F12'!S2585),\"\",('DE01-F12'!S2585))","v":0}]
[{"$f":"IF(ISBLANK('DE01-F12'!N2586),\"\",('DE01-F12'!N2586))","v":""},{"$f":"MID('DE01-F12'!G2586,1,18)","v":""},{"$f":"IF(ISBLANK('DE01-F12'!P2586),\"\",('DE01-F12'!P2586))","v":""},{"$f":"IF(ISBLANK('DE01-F12'!Q2586),\"\",('DE01-F12'!Q2586))","v":""},{"$f":"IF(ISBLANK('DE01-F12'!S2586),\"\",('DE01-F12'!S2586))","v":0}]
[{"$f":"IF(ISBLANK('DE01-F12'!N2587),\"\",('DE01-F12'!N2587))","v":""},{"$f":"MID('DE01-F12'!G2587,1,18)","v":""},{"$f":"IF(ISBLANK('DE01-F12'!P2587),\"\",('DE01-F12'!P2587))","v":""},{"$f":"IF(ISBLANK('DE01-F12'!Q2587),\"\",('DE01-F12'!Q2587))","v":""},{"$f":"IF(ISBLANK('DE01-F12'!S2587),\"\",('DE01-F12'!S2587))","v":0}]
[{"$f":"IF(ISBLANK('DE01-F12'!N2588),\"\",('DE01-F12'!N2588))","v":""},{"$f":"MID('DE01-F12'!G2588,1,18)","v":""},{"$f":"IF(ISBLANK('DE01-F12'!P2588),\"\",('DE01-F12'!P2588))","v":""},{"$f":"IF(ISBLANK('DE01-F12'!Q2588),\"\",('DE01-F12'!Q2588))","v":""},{"$f":"IF(ISBLANK('DE01-F12'!S2588),\"\",('DE01-F12'!S2588))","v":0}]
[{"$f":"IF(ISBLANK('DE01-F12'!N2589),\"\",('DE01-F12'!N2589))","v":""},{"$f":"MID('DE01-F12'!G2589,1,18)","v":""},{"$f":"IF(ISBLANK('DE01-F12'!P2589),\"\",('DE01-F12'!P2589))","v":""},{"$f":"IF(ISBLANK('DE01-F12'!Q2589),\"\",('DE01-F12'!Q2589))","v":""},{"$f":"IF(ISBLANK('DE01-F12'!S2589),\"\",('DE01-F12'!S2589))","v":0}]
[{"$f":"IF(ISBLANK('DE01-F12'!N2590),\"\",('DE01-F12'!N2590))","v":""},{"$f":"MID('DE01-F12'!G2590,1,18)","v":""},{"$f":"IF(ISBLANK('DE01-F12'!P2590),\"\",('DE01-F12'!P2590))","v":""},{"$f":"IF(ISBLANK('DE01-F12'!Q2590),\"\",('DE01-F12'!Q2590))","v":""},{"$f":"IF(ISBLANK('DE01-F12'!S2590),\"\",('DE01-F12'!S2590))","v":0}]
[{"$f":"IF(ISBLANK('DE01-F12'!N2591),\"\",('DE01-F12'!N2591))","v":""},{"$f":"MID('DE01-F12'!G2591,1,18)","v":""},{"$f":"IF(ISBLANK('DE01-F12'!P2591),\"\",('DE01-F12'!P2591))","v":""},{"$f":"IF(ISBLANK('DE01-F12'!Q2591),\"\",('DE01-F12'!Q2591))","v":""},{"$f":"IF(ISBLANK('DE01-F12'!S2591),\"\",('DE01-F12'!S2591))","v":0}]
[{"$f":"IF(ISBLANK('DE01-F12'!N2592),\"\",('DE01-F12'!N2592))","v":""},{"$f":"MID('DE01-F12'!G2592,1,18)","v":""},{"$f":"IF(ISBLANK('DE01-F12'!P2592),\"\",('DE01-F12'!P2592))","v":""},{"$f":"IF(ISBLANK('DE01-F12'!Q2592),\"\",('DE01-F12'!Q2592))","v":""},{"$f":"IF(ISBLANK('DE01-F12'!S2592),\"\",('DE01-F12'!S2592))","v":0}]
[{"$f":"IF(ISBLANK('DE01-F12'!N2593),\"\",('DE01-F12'!N2593))","v":""},{"$f":"MID('DE01-F12'!G2593,1,18)","v":""},{"$f":"IF(ISBLANK('DE01-F12'!P2593),\"\",('DE01-F12'!P2593))","v":""},{"$f":"IF(ISBLANK('DE01-F12'!Q2593),\"\",('DE01-F12'!Q2593))","v":""},{"$f":"IF(ISBLANK('DE01-F12'!S2593),\"\",('DE01-F12'!S2593))","v":0}]
[{"$f":"IF(ISBLANK('DE01-F12'!N2594),\"\",('DE01-F12'!N2594))","v":""},{"$f":"MID('DE01-F12'!G2594,1,18)","v":""},{"$f":"IF(ISBLANK('DE01-F12'!P2594),\"\",('DE01-F12'!P2594))","v":""},{"$f":"IF(ISBLANK('DE01-F12'!Q2594),\"\",('DE01-F12'!Q2594))","v":""},{"$f":"IF(ISBLANK('DE01-F12'!S2594),\"\",('DE01-F12'!S2594))","v":0}]
[{"$f":"IF(ISBLANK('DE01-F12'!N2595),\"\",('DE01-F12'!N2595))","v":""},{"$f":"MID('DE01-F12'!G2595,1,18)","v":""},{"$f":"IF(ISBLANK('DE01-F12'!P2595),\"\",('DE01-F12'!P2595))","v":""},{"$f":"IF(ISBLANK('DE01-F12'!Q2595),\"\",('DE01-F12'!Q2595))","v":""},{"$f":"IF(ISBLANK('DE01-F12'!S2595),\"\",('DE01-F12'!S2595))","v":0}]
[{"$f":"IF(ISBLANK('DE01-F12'!N2596),\"\",('DE01-F12'!N2596))","v":""},{"$f":"MID('DE01-F12'!G2596,1,18)","v":""},{"$f":"IF(ISBLANK('DE01-F12'!P2596),\"\",('DE01-F12'!P2596))","v":""},{"$f":"IF(ISBLANK('DE01-F12'!Q2596),\"\",('DE01-F12'!Q2596))","v":""},{"$f":"IF(ISBLANK('DE01-F12'!S2596),\"\",('DE01-F12'!S2596))","v":0}]
[{"$f":"IF(ISBLANK('DE01-F12'!N2597),\"\",('DE01-F12'!N2597))","v":""},{"$f":"MID('DE01-F12'!G2597,1,18)","v":""},{"$f":"IF(ISBLANK('DE01-F12'!P2597),\"\",('DE01-F12'!P2597))","v":""},{"$f":"IF(ISBLANK('DE01-F12'!Q2597),\"\",('DE01-F12'!Q2597))","v":""},{"$f":"IF(ISBLANK('DE01-F12'!S2597),\"\",('DE01-F12'!S2597))","v":0}]
[{"$f":"IF(ISBLANK('DE01-F12'!N2598),\"\",('DE01-F12'!N2598))","v":""},{"$f":"MID('DE01-F12'!G2598,1,18)","v":""},{"$f":"IF(ISBLANK('DE01-F12'!P2598),\"\",('DE01-F12'!P2598))","v":""},{"$f":"IF(ISBLANK('DE01-F12'!Q2598),\"\",('DE01-F12'!Q2598))","v":""},{"$f":"IF(ISBLANK('DE01-F12'!S2598),\"\",('DE01-F12'!S2598))","v":0}]
[{"$f":"IF(ISBLANK('DE01-F12'!N2599),\"\",('DE01-F12'!N2599))","v":""},{"$f":"MID('DE01-F12'!G2599,1,18)","v":""},{"$f":"IF(ISBLANK('DE01-F12'!P2599),\"\",('DE01-F12'!P2599))","v":""},{"$f":"IF(ISBLANK('DE01-F12'!Q2599),\"\",('DE01-F12'!Q2599))","v":""},{"$f":"IF(ISBLANK('DE01-F12'!S2599),\"\",('DE01-F12'!S2599))","v":0}]
[{"$f":"IF(ISBLANK('DE01-F12'!N2600),\"\",('DE01-F12'!N2600))","v":""},{"$f":"MID('DE01-F12'!G2600,1,18)","v":""},{"$f":"IF(ISBLANK('DE01-F12'!P2600),\"\",('DE01-F12'!P2600))","v":""},{"$f":"IF(ISBLANK('DE01-F12'!Q2600),\"\",('DE01-F12'!Q2600))","v":""},{"$f":"IF(ISBLANK('DE01-F12'!S2600),\"\",('DE01-F12'!S2600))","v":0}]
[{"$f":"IF(ISBLANK('DE01-F12'!N2601),\"\",('DE01-F12'!N2601))","v":""},{"$f":"MID('DE01-F12'!G2601,1,18)","v":""},{"$f":"IF(ISBLANK('DE01-F12'!P2601),\"\",('DE01-F12'!P2601))","v":""},{"$f":"IF(ISBLANK('DE01-F12'!Q2601),\"\",('DE01-F12'!Q2601))","v":""},{"$f":"IF(ISBLANK('DE01-F12'!S2601),\"\",('DE01-F12'!S2601))","v":0}]
[{"$f":"IF(ISBLANK('DE01-F12'!N2602),\"\",('DE01-F12'!N2602))","v":""},{"$f":"MID('DE01-F12'!G2602,1,18)","v":""},{"$f":"IF(ISBLANK('DE01-F12'!P2602),\"\",('DE01-F12'!P2602))","v":""},{"$f":"IF(ISBLANK('DE01-F12'!Q2602),\"\",('DE01-F12'!Q2602))","v":""},{"$f":"IF(ISBLANK('DE01-F12'!S2602),\"\",('DE01-F12'!S2602))","v":0}]
[{"$f":"IF(ISBLANK('DE01-F12'!N2603),\"\",('DE01-F12'!N2603))","v":""},{"$f":"MID('DE01-F12'!G2603,1,18)","v":""},{"$f":"IF(ISBLANK('DE01-F12'!P2603),\"\",('DE01-F12'!P2603))","v":""},{"$f":"IF(ISBLANK('DE01-F12'!Q2603),\"\",('DE01-F12'!Q2603))","v":""},{"$f":"IF(ISBLANK('DE01-F12'!S2603),\"\",('DE01-F12'!S2603))","v":0}]
[{"$f":"IF(ISBLANK('DE01-F12'!N2604),\"\",('DE01-F12'!N2604))","v":""},{"$f":"MID('DE01-F12'!G2604,1,18)","v":""},{"$f":"IF(ISBLANK('DE01-F12'!P2604),\"\",('DE01-F12'!P2604))","v":""},{"$f":"IF(ISBLANK('DE01-F12'!Q2604),\"\",('DE01-F12'!Q2604))","v":""},{"$f":"IF(ISBLANK('DE01-F12'!S2604),\"\",('DE01-F12'!S2604))","v":0}]
[{"$f":"IF(ISBLANK('DE01-F12'!N2605),\"\",('DE01-F12'!N2605))","v":""},{"$f":"MID('DE01-F12'!G2605,1,18)","v":""},{"$f":"IF(ISBLANK('DE01-F12'!P2605),\"\",('DE01-F12'!P2605))","v":""},{"$f":"IF(ISBLANK('DE01-F12'!Q2605),\"\",('DE01-F12'!Q2605))","v":""},{"$f":"IF(ISBLANK('DE01-F12'!S2605),\"\",('DE01-F12'!S2605))","v":0}]
[{"$f":"IF(ISBLANK('DE01-F12'!N2606),\"\",('DE01-F12'!N2606))","v":""},{"$f":"MID('DE01-F12'!G2606,1,18)","v":""},{"$f":"IF(ISBLANK('DE01-F12'!P2606),\"\",('DE01-F12'!P2606))","v":""},{"$f":"IF(ISBLANK('DE01-F12'!Q2606),\"\",('DE01-F12'!Q2606))","v":""},{"$f":"IF(ISBLANK('DE01-F12'!S2606),\"\",('DE01-F12'!S2606))","v":0}]
[{"$f":"IF(ISBLANK('DE01-F12'!N2607),\"\",('DE01-F12'!N2607))","v":""},{"$f":"MID('DE01-F12'!G2607,1,18)","v":""},{"$f":"IF(ISBLANK('DE01-F12'!P2607),\"\",('DE01-F12'!P2607))","v":""},{"$f":"IF(ISBLANK('DE01-F12'!Q2607),\"\",('DE01-F12'!Q2607))","v":""},{"$f":"IF(ISBLANK('DE01-F12'!S2607),\"\",('DE01-F12'!S2607))","v":0}]
[{"$f":"IF(ISBLANK('DE01-F12'!N2608),\"\",('DE01-F12'!N2608))","v":""},{"$f":"MID('DE01-F12'!G2608,1,18)","v":""},{"$f":"IF(ISBLANK('DE01-F12'!P2608),\"\",('DE01-F12'!P2608))","v":""},{"$f":"IF(ISBLANK('DE01-F12'!Q2608),\"\",('DE01-F12'!Q2608))","v":""},{"$f":"IF(ISBLANK('DE01-F12'!S2608),\"\",('DE01-F12'!S2608))","v":0}]
[{"$f":"IF(ISBLANK('DE01-F12'!N2609),\"\",('DE01-F12'!N2609))","v":""},{"$f":"MID('DE01-F12'!G2609,1,18)","v":""},{"$f":"IF(ISBLANK('DE01-F12'!P2609),\"\",('DE01-F12'!P2609))","v":""},{"$f":"IF(ISBLANK('DE01-F12'!Q2609),\"\",('DE01-F12'!Q2609))","v":""},{"$f":"IF(ISBLANK('DE01-F12'!S2609),\"\",('DE01-F12'!S2609))","v":0}]
[{"$f":"IF(ISBLANK('DE01-F12'!N2610),\"\",('DE01-F12'!N2610))","v":""},{"$f":"MID('DE01-F12'!G2610,1,18)","v":""},{"$f":"IF(ISBLANK('DE01-F12'!P2610),\"\",('DE01-F12'!P2610))","v":""},{"$f":"IF(ISBLANK('DE01-F12'!Q2610),\"\",('DE01-F12'!Q2610))","v":""},{"$f":"IF(ISBLANK('DE01-F12'!S2610),\"\",('DE01-F12'!S2610))","v":0}]
[{"$f":"IF(ISBLANK('DE01-F12'!N2611),\"\",('DE01-F12'!N2611))","v":""},{"$f":"MID('DE01-F12'!G2611,1,18)","v":""},{"$f":"IF(ISBLANK('DE01-F12'!P2611),\"\",('DE01-F12'!P2611))","v":""},{"$f":"IF(ISBLANK('DE01-F12'!Q2611),\"\",('DE01-F12'!Q2611))","v":""},{"$f":"IF(ISBLANK('DE01-F12'!S2611),\"\",('DE01-F12'!S2611))","v":0}]
[{"$f":"IF(ISBLANK('DE01-F12'!N2612),\"\",('DE01-F12'!N2612))","v":""},{"$f":"MID('DE01-F12'!G2612,1,18)","v":""},{"$f":"IF(ISBLANK('DE01-F12'!P2612),\"\",('DE01-F12'!P2612))","v":""},{"$f":"IF(ISBLANK('DE01-F12'!Q2612),\"\",('DE01-F12'!Q2612))","v":""},{"$f":"IF(ISBLANK('DE01-F12'!S2612),\"\",('DE01-F12'!S2612))","v":0}]
[{"$f":"IF(ISBLANK('DE01-F12'!N2613),\"\",('DE01-F12'!N2613))","v":""},{"$f":"MID('DE01-F12'!G2613,1,18)","v":""},{"$f":"IF(ISBLANK('DE01-F12'!P2613),\"\",('DE01-F12'!P2613))","v":""},{"$f":"IF(ISBLANK('DE01-F12'!Q2613),\"\",('DE01-F12'!Q2613))","v":""},{"$f":"IF(ISBLANK('DE01-F12'!S2613),\"\",('DE01-F12'!S2613))","v":0}]
[{"$f":"IF(ISBLANK('DE01-F12'!N2614),\"\",('DE01-F12'!N2614))","v":""},{"$f":"MID('DE01-F12'!G2614,1,18)","v":""},{"$f":"IF(ISBLANK('DE01-F12'!P2614),\"\",('DE01-F12'!P2614))","v":""},{"$f":"IF(ISBLANK('DE01-F12'!Q2614),\"\",('DE01-F12'!Q2614))","v":""},{"$f":"IF(ISBLANK('DE01-F12'!S2614),\"\",('DE01-F12'!S2614))","v":0}]
[{"$f":"IF(ISBLANK('DE01-F12'!N2615),\"\",('DE01-F12'!N2615))","v":""},{"$f":"MID('DE01-F12'!G2615,1,18)","v":""},{"$f":"IF(ISBLANK('DE01-F12'!P2615),\"\",('DE01-F12'!P2615))","v":""},{"$f":"IF(ISBLANK('DE01-F12'!Q2615),\"\",('DE01-F12'!Q2615))","v":""},{"$f":"IF(ISBLANK('DE01-F12'!S2615),\"\",('DE01-F12'!S2615))","v":0}]
[{"$f":"IF(ISBLANK('DE01-F12'!N2616),\"\",('DE01-F12'!N2616))","v":""},{"$f":"MID('DE01-F12'!G2616,1,18)","v":""},{"$f":"IF(ISBLANK('DE01-F12'!P2616),\"\",('DE01-F12'!P2616))","v":""},{"$f":"IF(ISBLANK('DE01-F12'!Q2616),\"\",('DE01-F12'!Q2616))","v":""},{"$f":"IF(ISBLANK('DE01-F12'!S2616),\"\",('DE01-F12'!S2616))","v":0}]
[{"$f":"IF(ISBLANK('DE01-F12'!N2617),\"\",('DE01-F12'!N2617))","v":""},{"$f":"MID('DE01-F12'!G2617,1,18)","v":""},{"$f":"IF(ISBLANK('DE01-F12'!P2617),\"\",('DE01-F12'!P2617))","v":""},{"$f":"IF(ISBLANK('DE01-F12'!Q2617),\"\",('DE01-F12'!Q2617))","v":""},{"$f":"IF(ISBLANK('DE01-F12'!S2617),\"\",('DE01-F12'!S2617))","v":0}]
[{"$f":"IF(ISBLANK('DE01-F12'!N2618),\"\",('DE01-F12'!N2618))","v":""},{"$f":"MID('DE01-F12'!G2618,1,18)","v":""},{"$f":"IF(ISBLANK('DE01-F12'!P2618),\"\",('DE01-F12'!P2618))","v":""},{"$f":"IF(ISBLANK('DE01-F12'!Q2618),\"\",('DE01-F12'!Q2618))","v":""},{"$f":"IF(ISBLANK('DE01-F12'!S2618),\"\",('DE01-F12'!S2618))","v":0}]
[{"$f":"IF(ISBLANK('DE01-F12'!N2619),\"\",('DE01-F12'!N2619))","v":""},{"$f":"MID('DE01-F12'!G2619,1,18)","v":""},{"$f":"IF(ISBLANK('DE01-F12'!P2619),\"\",('DE01-F12'!P2619))","v":""},{"$f":"IF(ISBLANK('DE01-F12'!Q2619),\"\",('DE01-F12'!Q2619))","v":""},{"$f":"IF(ISBLANK('DE01-F12'!S2619),\"\",('DE01-F12'!S2619))","v":0}]
[{"$f":"IF(ISBLANK('DE01-F12'!N2620),\"\",('DE01-F12'!N2620))","v":""},{"$f":"MID('DE01-F12'!G2620,1,18)","v":""},{"$f":"IF(ISBLANK('DE01-F12'!P2620),\"\",('DE01-F12'!P2620))","v":""},{"$f":"IF(ISBLANK('DE01-F12'!Q2620),\"\",('DE01-F12'!Q2620))","v":""},{"$f":"IF(ISBLANK('DE01-F12'!S2620),\"\",('DE01-F12'!S2620))","v":0}]
[{"$f":"IF(ISBLANK('DE01-F12'!N2621),\"\",('DE01-F12'!N2621))","v":""},{"$f":"MID('DE01-F12'!G2621,1,18)","v":""},{"$f":"IF(ISBLANK('DE01-F12'!P2621),\"\",('DE01-F12'!P2621))","v":""},{"$f":"IF(ISBLANK('DE01-F12'!Q2621),\"\",('DE01-F12'!Q2621))","v":""},{"$f":"IF(ISBLANK('DE01-F12'!S2621),\"\",('DE01-F12'!S2621))","v":0}]
[{"$f":"IF(ISBLANK('DE01-F12'!N2622),\"\",('DE01-F12'!N2622))","v":""},{"$f":"MID('DE01-F12'!G2622,1,18)","v":""},{"$f":"IF(ISBLANK('DE01-F12'!P2622),\"\",('DE01-F12'!P2622))","v":""},{"$f":"IF(ISBLANK('DE01-F12'!Q2622),\"\",('DE01-F12'!Q2622))","v":""},{"$f":"IF(ISBLANK('DE01-F12'!S2622),\"\",('DE01-F12'!S2622))","v":0}]
[{"$f":"IF(ISBLANK('DE01-F12'!N2623),\"\",('DE01-F12'!N2623))","v":""},{"$f":"MID('DE01-F12'!G2623,1,18)","v":""},{"$f":"IF(ISBLANK('DE01-F12'!P2623),\"\",('DE01-F12'!P2623))","v":""},{"$f":"IF(ISBLANK('DE01-F12'!Q2623),\"\",('DE01-F12'!Q2623))","v":""},{"$f":"IF(ISBLANK('DE01-F12'!S2623),\"\",('DE01-F12'!S2623))","v":0}]
[{"$f":"IF(ISBLANK('DE01-F12'!N2624),\"\",('DE01-F12'!N2624))","v":""},{"$f":"MID('DE01-F12'!G2624,1,18)","v":""},{"$f":"IF(ISBLANK('DE01-F12'!P2624),\"\",('DE01-F12'!P2624))","v":""},{"$f":"IF(ISBLANK('DE01-F12'!Q2624),\"\",('DE01-F12'!Q2624))","v":""},{"$f":"IF(ISBLANK('DE01-F12'!S2624),\"\",('DE01-F12'!S2624))","v":0}]
[{"$f":"IF(ISBLANK('DE01-F12'!N2625),\"\",('DE01-F12'!N2625))","v":""},{"$f":"MID('DE01-F12'!G2625,1,18)","v":""},{"$f":"IF(ISBLANK('DE01-F12'!P2625),\"\",('DE01-F12'!P2625))","v":""},{"$f":"IF(ISBLANK('DE01-F12'!Q2625),\"\",('DE01-F12'!Q2625))","v":""},{"$f":"IF(ISBLANK('DE01-F12'!S2625),\"\",('DE01-F12'!S2625))","v":0}]
[{"$f":"IF(ISBLANK('DE01-F12'!N2626),\"\",('DE01-F12'!N2626))","v":""},{"$f":"MID('DE01-F12'!G2626,1,18)","v":""},{"$f":"IF(ISBLANK('DE01-F12'!P2626),\"\",('DE01-F12'!P2626))","v":""},{"$f":"IF(ISBLANK('DE01-F12'!Q2626),\"\",('DE01-F12'!Q2626))","v":""},{"$f":"IF(ISBLANK('DE01-F12'!S2626),\"\",('DE01-F12'!S2626))","v":0}]
[{"$f":"IF(ISBLANK('DE01-F12'!N2627),\"\",('DE01-F12'!N2627))","v":""},{"$f":"MID('DE01-F12'!G2627,1,18)","v":""},{"$f":"IF(ISBLANK('DE01-F12'!P2627),\"\",('DE01-F12'!P2627))","v":""},{"$f":"IF(ISBLANK('DE01-F12'!Q2627),\"\",('DE01-F12'!Q2627))","v":""},{"$f":"IF(ISBLANK('DE01-F12'!S2627),\"\",('DE01-F12'!S2627))","v":0}]
[{"$f":"IF(ISBLANK('DE01-F12'!N2628),\"\",('DE01-F12'!N2628))","v":""},{"$f":"MID('DE01-F12'!G2628,1,18)","v":""},{"$f":"IF(ISBLANK('DE01-F12'!P2628),\"\",('DE01-F12'!P2628))","v":""},{"$f":"IF(ISBLANK('DE01-F12'!Q2628),\"\",('DE01-F12'!Q2628))","v":""},{"$f":"IF(ISBLANK('DE01-F12'!S2628),\"\",('DE01-F12'!S2628))","v":0}]
[{"$f":"IF(ISBLANK('DE01-F12'!N2629),\"\",('DE01-F12'!N2629))","v":""},{"$f":"MID('DE01-F12'!G2629,1,18)","v":""},{"$f":"IF(ISBLANK('DE01-F12'!P2629),\"\",('DE01-F12'!P2629))","v":""},{"$f":"IF(ISBLANK('DE01-F12'!Q2629),\"\",('DE01-F12'!Q2629))","v":""},{"$f":"IF(ISBLANK('DE01-F12'!S2629),\"\",('DE01-F12'!S2629))","v":0}]
[{"$f":"IF(ISBLANK('DE01-F12'!N2630),\"\",('DE01-F12'!N2630))","v":""},{"$f":"MID('DE01-F12'!G2630,1,18)","v":""},{"$f":"IF(ISBLANK('DE01-F12'!P2630),\"\",('DE01-F12'!P2630))","v":""},{"$f":"IF(ISBLANK('DE01-F12'!Q2630),\"\",('DE01-F12'!Q2630))","v":""},{"$f":"IF(ISBLANK('DE01-F12'!S2630),\"\",('DE01-F12'!S2630))","v":0}]
[{"$f":"IF(ISBLANK('DE01-F12'!N2631),\"\",('DE01-F12'!N2631))","v":""},{"$f":"MID('DE01-F12'!G2631,1,18)","v":""},{"$f":"IF(ISBLANK('DE01-F12'!P2631),\"\",('DE01-F12'!P2631))","v":""},{"$f":"IF(ISBLANK('DE01-F12'!Q2631),\"\",('DE01-F12'!Q2631))","v":""},{"$f":"IF(ISBLANK('DE01-F12'!S2631),\"\",('DE01-F12'!S2631))","v":0}]
[{"$f":"IF(ISBLANK('DE01-F12'!N2632),\"\",('DE01-F12'!N2632))","v":""},{"$f":"MID('DE01-F12'!G2632,1,18)","v":""},{"$f":"IF(ISBLANK('DE01-F12'!P2632),\"\",('DE01-F12'!P2632))","v":""},{"$f":"IF(ISBLANK('DE01-F12'!Q2632),\"\",('DE01-F12'!Q2632))","v":""},{"$f":"IF(ISBLANK('DE01-F12'!S2632),\"\",('DE01-F12'!S2632))","v":0}]
[{"$f":"IF(ISBLANK('DE01-F12'!N2633),\"\",('DE01-F12'!N2633))","v":""},{"$f":"MID('DE01-F12'!G2633,1,18)","v":""},{"$f":"IF(ISBLANK('DE01-F12'!P2633),\"\",('DE01-F12'!P2633))","v":""},{"$f":"IF(ISBLANK('DE01-F12'!Q2633),\"\",('DE01-F12'!Q2633))","v":""},{"$f":"IF(ISBLANK('DE01-F12'!S2633),\"\",('DE01-F12'!S2633))","v":0}]
[{"$f":"IF(ISBLANK('DE01-F12'!N2634),\"\",('DE01-F12'!N2634))","v":""},{"$f":"MID('DE01-F12'!G2634,1,18)","v":""},{"$f":"IF(ISBLANK('DE01-F12'!P2634),\"\",('DE01-F12'!P2634))","v":""},{"$f":"IF(ISBLANK('DE01-F12'!Q2634),\"\",('DE01-F12'!Q2634))","v":""},{"$f":"IF(ISBLANK('DE01-F12'!S2634),\"\",('DE01-F12'!S2634))","v":0}]
[{"$f":"IF(ISBLANK('DE01-F12'!N2635),\"\",('DE01-F12'!N2635))","v":""},{"$f":"MID('DE01-F12'!G2635,1,18)","v":""},{"$f":"IF(ISBLANK('DE01-F12'!P2635),\"\",('DE01-F12'!P2635))","v":""},{"$f":"IF(ISBLANK('DE01-F12'!Q2635),\"\",('DE01-F12'!Q2635))","v":""},{"$f":"IF(ISBLANK('DE01-F12'!S2635),\"\",('DE01-F12'!S2635))","v":0}]
[{"$f":"IF(ISBLANK('DE01-F12'!N2636),\"\",('DE01-F12'!N2636))","v":""},{"$f":"MID('DE01-F12'!G2636,1,18)","v":""},{"$f":"IF(ISBLANK('DE01-F12'!P2636),\"\",('DE01-F12'!P2636))","v":""},{"$f":"IF(ISBLANK('DE01-F12'!Q2636),\"\",('DE01-F12'!Q2636))","v":""},{"$f":"IF(ISBLANK('DE01-F12'!S2636),\"\",('DE01-F12'!S2636))","v":0}]
[{"$f":"IF(ISBLANK('DE01-F12'!N2637),\"\",('DE01-F12'!N2637))","v":""},{"$f":"MID('DE01-F12'!G2637,1,18)","v":""},{"$f":"IF(ISBLANK('DE01-F12'!P2637),\"\",('DE01-F12'!P2637))","v":""},{"$f":"IF(ISBLANK('DE01-F12'!Q2637),\"\",('DE01-F12'!Q2637))","v":""},{"$f":"IF(ISBLANK('DE01-F12'!S2637),\"\",('DE01-F12'!S2637))","v":0}]
[{"$f":"IF(ISBLANK('DE01-F12'!N2638),\"\",('DE01-F12'!N2638))","v":""},{"$f":"MID('DE01-F12'!G2638,1,18)","v":""},{"$f":"IF(ISBLANK('DE01-F12'!P2638),\"\",('DE01-F12'!P2638))","v":""},{"$f":"IF(ISBLANK('DE01-F12'!Q2638),\"\",('DE01-F12'!Q2638))","v":""},{"$f":"IF(ISBLANK('DE01-F12'!S2638),\"\",('DE01-F12'!S2638))","v":0}]
[{"$f":"IF(ISBLANK('DE01-F12'!N2639),\"\",('DE01-F12'!N2639))","v":""},{"$f":"MID('DE01-F12'!G2639,1,18)","v":""},{"$f":"IF(ISBLANK('DE01-F12'!P2639),\"\",('DE01-F12'!P2639))","v":""},{"$f":"IF(ISBLANK('DE01-F12'!Q2639),\"\",('DE01-F12'!Q2639))","v":""},{"$f":"IF(ISBLANK('DE01-F12'!S2639),\"\",('DE01-F12'!S2639))","v":0}]
[{"$f":"IF(ISBLANK('DE01-F12'!N2640),\"\",('DE01-F12'!N2640))","v":""},{"$f":"MID('DE01-F12'!G2640,1,18)","v":""},{"$f":"IF(ISBLANK('DE01-F12'!P2640),\"\",('DE01-F12'!P2640))","v":""},{"$f":"IF(ISBLANK('DE01-F12'!Q2640),\"\",('DE01-F12'!Q2640))","v":""},{"$f":"IF(ISBLANK('DE01-F12'!S2640),\"\",('DE01-F12'!S2640))","v":0}]
[{"$f":"IF(ISBLANK('DE01-F12'!N2641),\"\",('DE01-F12'!N2641))","v":""},{"$f":"MID('DE01-F12'!G2641,1,18)","v":""},{"$f":"IF(ISBLANK('DE01-F12'!P2641),\"\",('DE01-F12'!P2641))","v":""},{"$f":"IF(ISBLANK('DE01-F12'!Q2641),\"\",('DE01-F12'!Q2641))","v":""},{"$f":"IF(ISBLANK('DE01-F12'!S2641),\"\",('DE01-F12'!S2641))","v":0}]
[{"$f":"IF(ISBLANK('DE01-F12'!N2642),\"\",('DE01-F12'!N2642))","v":""},{"$f":"MID('DE01-F12'!G2642,1,18)","v":""},{"$f":"IF(ISBLANK('DE01-F12'!P2642),\"\",('DE01-F12'!P2642))","v":""},{"$f":"IF(ISBLANK('DE01-F12'!Q2642),\"\",('DE01-F12'!Q2642))","v":""},{"$f":"IF(ISBLANK('DE01-F12'!S2642),\"\",('DE01-F12'!S2642))","v":0}]
[{"$f":"IF(ISBLANK('DE01-F12'!N2643),\"\",('DE01-F12'!N2643))","v":""},{"$f":"MID('DE01-F12'!G2643,1,18)","v":""},{"$f":"IF(ISBLANK('DE01-F12'!P2643),\"\",('DE01-F12'!P2643))","v":""},{"$f":"IF(ISBLANK('DE01-F12'!Q2643),\"\",('DE01-F12'!Q2643))","v":""},{"$f":"IF(ISBLANK('DE01-F12'!S2643),\"\",('DE01-F12'!S2643))","v":0}]
[{"$f":"IF(ISBLANK('DE01-F12'!N2644),\"\",('DE01-F12'!N2644))","v":""},{"$f":"MID('DE01-F12'!G2644,1,18)","v":""},{"$f":"IF(ISBLANK('DE01-F12'!P2644),\"\",('DE01-F12'!P2644))","v":""},{"$f":"IF(ISBLANK('DE01-F12'!Q2644),\"\",('DE01-F12'!Q2644))","v":""},{"$f":"IF(ISBLANK('DE01-F12'!S2644),\"\",('DE01-F12'!S2644))","v":0}]
[{"$f":"IF(ISBLANK('DE01-F12'!N2645),\"\",('DE01-F12'!N2645))","v":""},{"$f":"MID('DE01-F12'!G2645,1,18)","v":""},{"$f":"IF(ISBLANK('DE01-F12'!P2645),\"\",('DE01-F12'!P2645))","v":""},{"$f":"IF(ISBLANK('DE01-F12'!Q2645),\"\",('DE01-F12'!Q2645))","v":""},{"$f":"IF(ISBLANK('DE01-F12'!S2645),\"\",('DE01-F12'!S2645))","v":0}]
[{"$f":"IF(ISBLANK('DE01-F12'!N2646),\"\",('DE01-F12'!N2646))","v":""},{"$f":"MID('DE01-F12'!G2646,1,18)","v":""},{"$f":"IF(ISBLANK('DE01-F12'!P2646),\"\",('DE01-F12'!P2646))","v":""},{"$f":"IF(ISBLANK('DE01-F12'!Q2646),\"\",('DE01-F12'!Q2646))","v":""},{"$f":"IF(ISBLANK('DE01-F12'!S2646),\"\",('DE01-F12'!S2646))","v":0}]
[{"$f":"IF(ISBLANK('DE01-F12'!N2647),\"\",('DE01-F12'!N2647))","v":""},{"$f":"MID('DE01-F12'!G2647,1,18)","v":""},{"$f":"IF(ISBLANK('DE01-F12'!P2647),\"\",('DE01-F12'!P2647))","v":""},{"$f":"IF(ISBLANK('DE01-F12'!Q2647),\"\",('DE01-F12'!Q2647))","v":""},{"$f":"IF(ISBLANK('DE01-F12'!S2647),\"\",('DE01-F12'!S2647))","v":0}]
[{"$f":"IF(ISBLANK('DE01-F12'!N2648),\"\",('DE01-F12'!N2648))","v":""},{"$f":"MID('DE01-F12'!G2648,1,18)","v":""},{"$f":"IF(ISBLANK('DE01-F12'!P2648),\"\",('DE01-F12'!P2648))","v":""},{"$f":"IF(ISBLANK('DE01-F12'!Q2648),\"\",('DE01-F12'!Q2648))","v":""},{"$f":"IF(ISBLANK('DE01-F12'!S2648),\"\",('DE01-F12'!S2648))","v":0}]
[{"$f":"IF(ISBLANK('DE01-F12'!N2649),\"\",('DE01-F12'!N2649))","v":""},{"$f":"MID('DE01-F12'!G2649,1,18)","v":""},{"$f":"IF(ISBLANK('DE01-F12'!P2649),\"\",('DE01-F12'!P2649))","v":""},{"$f":"IF(ISBLANK('DE01-F12'!Q2649),\"\",('DE01-F12'!Q2649))","v":""},{"$f":"IF(ISBLANK('DE01-F12'!S2649),\"\",('DE01-F12'!S2649))","v":0}]
[{"$f":"IF(ISBLANK('DE01-F12'!N2650),\"\",('DE01-F12'!N2650))","v":""},{"$f":"MID('DE01-F12'!G2650,1,18)","v":""},{"$f":"IF(ISBLANK('DE01-F12'!P2650),\"\",('DE01-F12'!P2650))","v":""},{"$f":"IF(ISBLANK('DE01-F12'!Q2650),\"\",('DE01-F12'!Q2650))","v":""},{"$f":"IF(ISBLANK('DE01-F12'!S2650),\"\",('DE01-F12'!S2650))","v":0}]
[{"$f":"IF(ISBLANK('DE01-F12'!N2651),\"\",('DE01-F12'!N2651))","v":""},{"$f":"MID('DE01-F12'!G2651,1,18)","v":""},{"$f":"IF(ISBLANK('DE01-F12'!P2651),\"\",('DE01-F12'!P2651))","v":""},{"$f":"IF(ISBLANK('DE01-F12'!Q2651),\"\",('DE01-F12'!Q2651))","v":""},{"$f":"IF(ISBLANK('DE01-F12'!S2651),\"\",('DE01-F12'!S2651))","v":0}]
[{"$f":"IF(ISBLANK('DE01-F12'!N2652),\"\",('DE01-F12'!N2652))","v":""},{"$f":"MID('DE01-F12'!G2652,1,18)","v":""},{"$f":"IF(ISBLANK('DE01-F12'!P2652),\"\",('DE01-F12'!P2652))","v":""},{"$f":"IF(ISBLANK('DE01-F12'!Q2652),\"\",('DE01-F12'!Q2652))","v":""},{"$f":"IF(ISBLANK('DE01-F12'!S2652),\"\",('DE01-F12'!S2652))","v":0}]
[{"$f":"IF(ISBLANK('DE01-F12'!N2653),\"\",('DE01-F12'!N2653))","v":""},{"$f":"MID('DE01-F12'!G2653,1,18)","v":""},{"$f":"IF(ISBLANK('DE01-F12'!P2653),\"\",('DE01-F12'!P2653))","v":""},{"$f":"IF(ISBLANK('DE01-F12'!Q2653),\"\",('DE01-F12'!Q2653))","v":""},{"$f":"IF(ISBLANK('DE01-F12'!S2653),\"\",('DE01-F12'!S2653))","v":0}]
[{"$f":"IF(ISBLANK('DE01-F12'!N2654),\"\",('DE01-F12'!N2654))","v":""},{"$f":"MID('DE01-F12'!G2654,1,18)","v":""},{"$f":"IF(ISBLANK('DE01-F12'!P2654),\"\",('DE01-F12'!P2654))","v":""},{"$f":"IF(ISBLANK('DE01-F12'!Q2654),\"\",('DE01-F12'!Q2654))","v":""},{"$f":"IF(ISBLANK('DE01-F12'!S2654),\"\",('DE01-F12'!S2654))","v":0}]
[{"$f":"IF(ISBLANK('DE01-F12'!N2655),\"\",('DE01-F12'!N2655))","v":""},{"$f":"MID('DE01-F12'!G2655,1,18)","v":""},{"$f":"IF(ISBLANK('DE01-F12'!P2655),\"\",('DE01-F12'!P2655))","v":""},{"$f":"IF(ISBLANK('DE01-F12'!Q2655),\"\",('DE01-F12'!Q2655))","v":""},{"$f":"IF(ISBLANK('DE01-F12'!S2655),\"\",('DE01-F12'!S2655))","v":0}]
[{"$f":"IF(ISBLANK('DE01-F12'!N2656),\"\",('DE01-F12'!N2656))","v":""},{"$f":"MID('DE01-F12'!G2656,1,18)","v":""},{"$f":"IF(ISBLANK('DE01-F12'!P2656),\"\",('DE01-F12'!P2656))","v":""},{"$f":"IF(ISBLANK('DE01-F12'!Q2656),\"\",('DE01-F12'!Q2656))","v":""},{"$f":"IF(ISBLANK('DE01-F12'!S2656),\"\",('DE01-F12'!S2656))","v":0}]
[{"$f":"IF(ISBLANK('DE01-F12'!N2657),\"\",('DE01-F12'!N2657))","v":""},{"$f":"MID('DE01-F12'!G2657,1,18)","v":""},{"$f":"IF(ISBLANK('DE01-F12'!P2657),\"\",('DE01-F12'!P2657))","v":""},{"$f":"IF(ISBLANK('DE01-F12'!Q2657),\"\",('DE01-F12'!Q2657))","v":""},{"$f":"IF(ISBLANK('DE01-F12'!S2657),\"\",('DE01-F12'!S2657))","v":0}]
[{"$f":"IF(ISBLANK('DE01-F12'!N2658),\"\",('DE01-F12'!N2658))","v":""},{"$f":"MID('DE01-F12'!G2658,1,18)","v":""},{"$f":"IF(ISBLANK('DE01-F12'!P2658),\"\",('DE01-F12'!P2658))","v":""},{"$f":"IF(ISBLANK('DE01-F12'!Q2658),\"\",('DE01-F12'!Q2658))","v":""},{"$f":"IF(ISBLANK('DE01-F12'!S2658),\"\",('DE01-F12'!S2658))","v":0}]
[{"$f":"IF(ISBLANK('DE01-F12'!N2659),\"\",('DE01-F12'!N2659))","v":""},{"$f":"MID('DE01-F12'!G2659,1,18)","v":""},{"$f":"IF(ISBLANK('DE01-F12'!P2659),\"\",('DE01-F12'!P2659))","v":""},{"$f":"IF(ISBLANK('DE01-F12'!Q2659),\"\",('DE01-F12'!Q2659))","v":""},{"$f":"IF(ISBLANK('DE01-F12'!S2659),\"\",('DE01-F12'!S2659))","v":0}]
[{"$f":"IF(ISBLANK('DE01-F12'!N2660),\"\",('DE01-F12'!N2660))","v":""},{"$f":"MID('DE01-F12'!G2660,1,18)","v":""},{"$f":"IF(ISBLANK('DE01-F12'!P2660),\"\",('DE01-F12'!P2660))","v":""},{"$f":"IF(ISBLANK('DE01-F12'!Q2660),\"\",('DE01-F12'!Q2660))","v":""},{"$f":"IF(ISBLANK('DE01-F12'!S2660),\"\",('DE01-F12'!S2660))","v":0}]
[{"$f":"IF(ISBLANK('DE01-F12'!N2661),\"\",('DE01-F12'!N2661))","v":""},{"$f":"MID('DE01-F12'!G2661,1,18)","v":""},{"$f":"IF(ISBLANK('DE01-F12'!P2661),\"\",('DE01-F12'!P2661))","v":""},{"$f":"IF(ISBLANK('DE01-F12'!Q2661),\"\",('DE01-F12'!Q2661))","v":""},{"$f":"IF(ISBLANK('DE01-F12'!S2661),\"\",('DE01-F12'!S2661))","v":0}]
[{"$f":"IF(ISBLANK('DE01-F12'!N2662),\"\",('DE01-F12'!N2662))","v":""},{"$f":"MID('DE01-F12'!G2662,1,18)","v":""},{"$f":"IF(ISBLANK('DE01-F12'!P2662),\"\",('DE01-F12'!P2662))","v":""},{"$f":"IF(ISBLANK('DE01-F12'!Q2662),\"\",('DE01-F12'!Q2662))","v":""},{"$f":"IF(ISBLANK('DE01-F12'!S2662),\"\",('DE01-F12'!S2662))","v":0}]
[{"$f":"IF(ISBLANK('DE01-F12'!N2663),\"\",('DE01-F12'!N2663))","v":""},{"$f":"MID('DE01-F12'!G2663,1,18)","v":""},{"$f":"IF(ISBLANK('DE01-F12'!P2663),\"\",('DE01-F12'!P2663))","v":""},{"$f":"IF(ISBLANK('DE01-F12'!Q2663),\"\",('DE01-F12'!Q2663))","v":""},{"$f":"IF(ISBLANK('DE01-F12'!S2663),\"\",('DE01-F12'!S2663))","v":0}]
[{"$f":"IF(ISBLANK('DE01-F12'!N2664),\"\",('DE01-F12'!N2664))","v":""},{"$f":"MID('DE01-F12'!G2664,1,18)","v":""},{"$f":"IF(ISBLANK('DE01-F12'!P2664),\"\",('DE01-F12'!P2664))","v":""},{"$f":"IF(ISBLANK('DE01-F12'!Q2664),\"\",('DE01-F12'!Q2664))","v":""},{"$f":"IF(ISBLANK('DE01-F12'!S2664),\"\",('DE01-F12'!S2664))","v":0}]
[{"$f":"IF(ISBLANK('DE01-F12'!N2665),\"\",('DE01-F12'!N2665))","v":""},{"$f":"MID('DE01-F12'!G2665,1,18)","v":""},{"$f":"IF(ISBLANK('DE01-F12'!P2665),\"\",('DE01-F12'!P2665))","v":""},{"$f":"IF(ISBLANK('DE01-F12'!Q2665),\"\",('DE01-F12'!Q2665))","v":""},{"$f":"IF(ISBLANK('DE01-F12'!S2665),\"\",('DE01-F12'!S2665))","v":0}]
[{"$f":"IF(ISBLANK('DE01-F12'!N2666),\"\",('DE01-F12'!N2666))","v":""},{"$f":"MID('DE01-F12'!G2666,1,18)","v":""},{"$f":"IF(ISBLANK('DE01-F12'!P2666),\"\",('DE01-F12'!P2666))","v":""},{"$f":"IF(ISBLANK('DE01-F12'!Q2666),\"\",('DE01-F12'!Q2666))","v":""},{"$f":"IF(ISBLANK('DE01-F12'!S2666),\"\",('DE01-F12'!S2666))","v":0}]
[{"$f":"IF(ISBLANK('DE01-F12'!N2667),\"\",('DE01-F12'!N2667))","v":""},{"$f":"MID('DE01-F12'!G2667,1,18)","v":""},{"$f":"IF(ISBLANK('DE01-F12'!P2667),\"\",('DE01-F12'!P2667))","v":""},{"$f":"IF(ISBLANK('DE01-F12'!Q2667),\"\",('DE01-F12'!Q2667))","v":""},{"$f":"IF(ISBLANK('DE01-F12'!S2667),\"\",('DE01-F12'!S2667))","v":0}]
[{"$f":"IF(ISBLANK('DE01-F12'!N2668),\"\",('DE01-F12'!N2668))","v":""},{"$f":"MID('DE01-F12'!G2668,1,18)","v":""},{"$f":"IF(ISBLANK('DE01-F12'!P2668),\"\",('DE01-F12'!P2668))","v":""},{"$f":"IF(ISBLANK('DE01-F12'!Q2668),\"\",('DE01-F12'!Q2668))","v":""},{"$f":"IF(ISBLANK('DE01-F12'!S2668),\"\",('DE01-F12'!S2668))","v":0}]
[{"$f":"IF(ISBLANK('DE01-F12'!N2669),\"\",('DE01-F12'!N2669))","v":""},{"$f":"MID('DE01-F12'!G2669,1,18)","v":""},{"$f":"IF(ISBLANK('DE01-F12'!P2669),\"\",('DE01-F12'!P2669))","v":""},{"$f":"IF(ISBLANK('DE01-F12'!Q2669),\"\",('DE01-F12'!Q2669))","v":""},{"$f":"IF(ISBLANK('DE01-F12'!S2669),\"\",('DE01-F12'!S2669))","v":0}]
[{"$f":"IF(ISBLANK('DE01-F12'!N2670),\"\",('DE01-F12'!N2670))","v":""},{"$f":"MID('DE01-F12'!G2670,1,18)","v":""},{"$f":"IF(ISBLANK('DE01-F12'!P2670),\"\",('DE01-F12'!P2670))","v":""},{"$f":"IF(ISBLANK('DE01-F12'!Q2670),\"\",('DE01-F12'!Q2670))","v":""},{"$f":"IF(ISBLANK('DE01-F12'!S2670),\"\",('DE01-F12'!S2670))","v":0}]
[{"$f":"IF(ISBLANK('DE01-F12'!N2671),\"\",('DE01-F12'!N2671))","v":""},{"$f":"MID('DE01-F12'!G2671,1,18)","v":""},{"$f":"IF(ISBLANK('DE01-F12'!P2671),\"\",('DE01-F12'!P2671))","v":""},{"$f":"IF(ISBLANK('DE01-F12'!Q2671),\"\",('DE01-F12'!Q2671))","v":""},{"$f":"IF(ISBLANK('DE01-F12'!S2671),\"\",('DE01-F12'!S2671))","v":0}]
[{"$f":"IF(ISBLANK('DE01-F12'!N2672),\"\",('DE01-F12'!N2672))","v":""},{"$f":"MID('DE01-F12'!G2672,1,18)","v":""},{"$f":"IF(ISBLANK('DE01-F12'!P2672),\"\",('DE01-F12'!P2672))","v":""},{"$f":"IF(ISBLANK('DE01-F12'!Q2672),\"\",('DE01-F12'!Q2672))","v":""},{"$f":"IF(ISBLANK('DE01-F12'!S2672),\"\",('DE01-F12'!S2672))","v":0}]
[{"$f":"IF(ISBLANK('DE01-F12'!N2673),\"\",('DE01-F12'!N2673))","v":""},{"$f":"MID('DE01-F12'!G2673,1,18)","v":""},{"$f":"IF(ISBLANK('DE01-F12'!P2673),\"\",('DE01-F12'!P2673))","v":""},{"$f":"IF(ISBLANK('DE01-F12'!Q2673),\"\",('DE01-F12'!Q2673))","v":""},{"$f":"IF(ISBLANK('DE01-F12'!S2673),\"\",('DE01-F12'!S2673))","v":0}]
[{"$f":"IF(ISBLANK('DE01-F12'!N2674),\"\",('DE01-F12'!N2674))","v":""},{"$f":"MID('DE01-F12'!G2674,1,18)","v":""},{"$f":"IF(ISBLANK('DE01-F12'!P2674),\"\",('DE01-F12'!P2674))","v":""},{"$f":"IF(ISBLANK('DE01-F12'!Q2674),\"\",('DE01-F12'!Q2674))","v":""},{"$f":"IF(ISBLANK('DE01-F12'!S2674),\"\",('DE01-F12'!S2674))","v":0}]
[{"$f":"IF(ISBLANK('DE01-F12'!N2675),\"\",('DE01-F12'!N2675))","v":""},{"$f":"MID('DE01-F12'!G2675,1,18)","v":""},{"$f":"IF(ISBLANK('DE01-F12'!P2675),\"\",('DE01-F12'!P2675))","v":""},{"$f":"IF(ISBLANK('DE01-F12'!Q2675),\"\",('DE01-F12'!Q2675))","v":""},{"$f":"IF(ISBLANK('DE01-F12'!S2675),\"\",('DE01-F12'!S2675))","v":0}]
[{"$f":"IF(ISBLANK('DE01-F12'!N2676),\"\",('DE01-F12'!N2676))","v":""},{"$f":"MID('DE01-F12'!G2676,1,18)","v":""},{"$f":"IF(ISBLANK('DE01-F12'!P2676),\"\",('DE01-F12'!P2676))","v":""},{"$f":"IF(ISBLANK('DE01-F12'!Q2676),\"\",('DE01-F12'!Q2676))","v":""},{"$f":"IF(ISBLANK('DE01-F12'!S2676),\"\",('DE01-F12'!S2676))","v":0}]
[{"$f":"IF(ISBLANK('DE01-F12'!N2677),\"\",('DE01-F12'!N2677))","v":""},{"$f":"MID('DE01-F12'!G2677,1,18)","v":""},{"$f":"IF(ISBLANK('DE01-F12'!P2677),\"\",('DE01-F12'!P2677))","v":""},{"$f":"IF(ISBLANK('DE01-F12'!Q2677),\"\",('DE01-F12'!Q2677))","v":""},{"$f":"IF(ISBLANK('DE01-F12'!S2677),\"\",('DE01-F12'!S2677))","v":0}]
[{"$f":"IF(ISBLANK('DE01-F12'!N2678),\"\",('DE01-F12'!N2678))","v":""},{"$f":"MID('DE01-F12'!G2678,1,18)","v":""},{"$f":"IF(ISBLANK('DE01-F12'!P2678),\"\",('DE01-F12'!P2678))","v":""},{"$f":"IF(ISBLANK('DE01-F12'!Q2678),\"\",('DE01-F12'!Q2678))","v":""},{"$f":"IF(ISBLANK('DE01-F12'!S2678),\"\",('DE01-F12'!S2678))","v":0}]
[{"$f":"IF(ISBLANK('DE01-F12'!N2679),\"\",('DE01-F12'!N2679))","v":""},{"$f":"MID('DE01-F12'!G2679,1,18)","v":""},{"$f":"IF(ISBLANK('DE01-F12'!P2679),\"\",('DE01-F12'!P2679))","v":""},{"$f":"IF(ISBLANK('DE01-F12'!Q2679),\"\",('DE01-F12'!Q2679))","v":""},{"$f":"IF(ISBLANK('DE01-F12'!S2679),\"\",('DE01-F12'!S2679))","v":0}]
[{"$f":"IF(ISBLANK('DE01-F12'!N2680),\"\",('DE01-F12'!N2680))","v":""},{"$f":"MID('DE01-F12'!G2680,1,18)","v":""},{"$f":"IF(ISBLANK('DE01-F12'!P2680),\"\",('DE01-F12'!P2680))","v":""},{"$f":"IF(ISBLANK('DE01-F12'!Q2680),\"\",('DE01-F12'!Q2680))","v":""},{"$f":"IF(ISBLANK('DE01-F12'!S2680),\"\",('DE01-F12'!S2680))","v":0}]
[{"$f":"IF(ISBLANK('DE01-F12'!N2681),\"\",('DE01-F12'!N2681))","v":""},{"$f":"MID('DE01-F12'!G2681,1,18)","v":""},{"$f":"IF(ISBLANK('DE01-F12'!P2681),\"\",('DE01-F12'!P2681))","v":""},{"$f":"IF(ISBLANK('DE01-F12'!Q2681),\"\",('DE01-F12'!Q2681))","v":""},{"$f":"IF(ISBLANK('DE01-F12'!S2681),\"\",('DE01-F12'!S2681))","v":0}]
[{"$f":"IF(ISBLANK('DE01-F12'!N2682),\"\",('DE01-F12'!N2682))","v":""},{"$f":"MID('DE01-F12'!G2682,1,18)","v":""},{"$f":"IF(ISBLANK('DE01-F12'!P2682),\"\",('DE01-F12'!P2682))","v":""},{"$f":"IF(ISBLANK('DE01-F12'!Q2682),\"\",('DE01-F12'!Q2682))","v":""},{"$f":"IF(ISBLANK('DE01-F12'!S2682),\"\",('DE01-F12'!S2682))","v":0}]
[{"$f":"IF(ISBLANK('DE01-F12'!N2683),\"\",('DE01-F12'!N2683))","v":""},{"$f":"MID('DE01-F12'!G2683,1,18)","v":""},{"$f":"IF(ISBLANK('DE01-F12'!P2683),\"\",('DE01-F12'!P2683))","v":""},{"$f":"IF(ISBLANK('DE01-F12'!Q2683),\"\",('DE01-F12'!Q2683))","v":""},{"$f":"IF(ISBLANK('DE01-F12'!S2683),\"\",('DE01-F12'!S2683))","v":0}]
[{"$f":"IF(ISBLANK('DE01-F12'!N2684),\"\",('DE01-F12'!N2684))","v":""},{"$f":"MID('DE01-F12'!G2684,1,18)","v":""},{"$f":"IF(ISBLANK('DE01-F12'!P2684),\"\",('DE01-F12'!P2684))","v":""},{"$f":"IF(ISBLANK('DE01-F12'!Q2684),\"\",('DE01-F12'!Q2684))","v":""},{"$f":"IF(ISBLANK('DE01-F12'!S2684),\"\",('DE01-F12'!S2684))","v":0}]
[{"$f":"IF(ISBLANK('DE01-F12'!N2685),\"\",('DE01-F12'!N2685))","v":""},{"$f":"MID('DE01-F12'!G2685,1,18)","v":""},{"$f":"IF(ISBLANK('DE01-F12'!P2685),\"\",('DE01-F12'!P2685))","v":""},{"$f":"IF(ISBLANK('DE01-F12'!Q2685),\"\",('DE01-F12'!Q2685))","v":""},{"$f":"IF(ISBLANK('DE01-F12'!S2685),\"\",('DE01-F12'!S2685))","v":0}]
[{"$f":"IF(ISBLANK('DE01-F12'!N2686),\"\",('DE01-F12'!N2686))","v":""},{"$f":"MID('DE01-F12'!G2686,1,18)","v":""},{"$f":"IF(ISBLANK('DE01-F12'!P2686),\"\",('DE01-F12'!P2686))","v":""},{"$f":"IF(ISBLANK('DE01-F12'!Q2686),\"\",('DE01-F12'!Q2686))","v":""},{"$f":"IF(ISBLANK('DE01-F12'!S2686),\"\",('DE01-F12'!S2686))","v":0}]
[{"$f":"IF(ISBLANK('DE01-F12'!N2687),\"\",('DE01-F12'!N2687))","v":""},{"$f":"MID('DE01-F12'!G2687,1,18)","v":""},{"$f":"IF(ISBLANK('DE01-F12'!P2687),\"\",('DE01-F12'!P2687))","v":""},{"$f":"IF(ISBLANK('DE01-F12'!Q2687),\"\",('DE01-F12'!Q2687))","v":""},{"$f":"IF(ISBLANK('DE01-F12'!S2687),\"\",('DE01-F12'!S2687))","v":0}]
[{"$f":"IF(ISBLANK('DE01-F12'!N2688),\"\",('DE01-F12'!N2688))","v":""},{"$f":"MID('DE01-F12'!G2688,1,18)","v":""},{"$f":"IF(ISBLANK('DE01-F12'!P2688),\"\",('DE01-F12'!P2688))","v":""},{"$f":"IF(ISBLANK('DE01-F12'!Q2688),\"\",('DE01-F12'!Q2688))","v":""},{"$f":"IF(ISBLANK('DE01-F12'!S2688),\"\",('DE01-F12'!S2688))","v":0}]
[{"$f":"IF(ISBLANK('DE01-F12'!N2689),\"\",('DE01-F12'!N2689))","v":""},{"$f":"MID('DE01-F12'!G2689,1,18)","v":""},{"$f":"IF(ISBLANK('DE01-F12'!P2689),\"\",('DE01-F12'!P2689))","v":""},{"$f":"IF(ISBLANK('DE01-F12'!Q2689),\"\",('DE01-F12'!Q2689))","v":""},{"$f":"IF(ISBLANK('DE01-F12'!S2689),\"\",('DE01-F12'!S2689))","v":0}]
[{"$f":"IF(ISBLANK('DE01-F12'!N2690),\"\",('DE01-F12'!N2690))","v":""},{"$f":"MID('DE01-F12'!G2690,1,18)","v":""},{"$f":"IF(ISBLANK('DE01-F12'!P2690),\"\",('DE01-F12'!P2690))","v":""},{"$f":"IF(ISBLANK('DE01-F12'!Q2690),\"\",('DE01-F12'!Q2690))","v":""},{"$f":"IF(ISBLANK('DE01-F12'!S2690),\"\",('DE01-F12'!S2690))","v":0}]
[{"$f":"IF(ISBLANK('DE01-F12'!N2691),\"\",('DE01-F12'!N2691))","v":""},{"$f":"MID('DE01-F12'!G2691,1,18)","v":""},{"$f":"IF(ISBLANK('DE01-F12'!P2691),\"\",('DE01-F12'!P2691))","v":""},{"$f":"IF(ISBLANK('DE01-F12'!Q2691),\"\",('DE01-F12'!Q2691))","v":""},{"$f":"IF(ISBLANK('DE01-F12'!S2691),\"\",('DE01-F12'!S2691))","v":0}]
[{"$f":"IF(ISBLANK('DE01-F12'!N2692),\"\",('DE01-F12'!N2692))","v":""},{"$f":"MID('DE01-F12'!G2692,1,18)","v":""},{"$f":"IF(ISBLANK('DE01-F12'!P2692),\"\",('DE01-F12'!P2692))","v":""},{"$f":"IF(ISBLANK('DE01-F12'!Q2692),\"\",('DE01-F12'!Q2692))","v":""},{"$f":"IF(ISBLANK('DE01-F12'!S2692),\"\",('DE01-F12'!S2692))","v":0}]
[{"$f":"IF(ISBLANK('DE01-F12'!N2693),\"\",('DE01-F12'!N2693))","v":""},{"$f":"MID('DE01-F12'!G2693,1,18)","v":""},{"$f":"IF(ISBLANK('DE01-F12'!P2693),\"\",('DE01-F12'!P2693))","v":""},{"$f":"IF(ISBLANK('DE01-F12'!Q2693),\"\",('DE01-F12'!Q2693))","v":""},{"$f":"IF(ISBLANK('DE01-F12'!S2693),\"\",('DE01-F12'!S2693))","v":0}]
[{"$f":"IF(ISBLANK('DE01-F12'!N2694),\"\",('DE01-F12'!N2694))","v":""},{"$f":"MID('DE01-F12'!G2694,1,18)","v":""},{"$f":"IF(ISBLANK('DE01-F12'!P2694),\"\",('DE01-F12'!P2694))","v":""},{"$f":"IF(ISBLANK('DE01-F12'!Q2694),\"\",('DE01-F12'!Q2694))","v":""},{"$f":"IF(ISBLANK('DE01-F12'!S2694),\"\",('DE01-F12'!S2694))","v":0}]
[{"$f":"IF(ISBLANK('DE01-F12'!N2695),\"\",('DE01-F12'!N2695))","v":""},{"$f":"MID('DE01-F12'!G2695,1,18)","v":""},{"$f":"IF(ISBLANK('DE01-F12'!P2695),\"\",('DE01-F12'!P2695))","v":""},{"$f":"IF(ISBLANK('DE01-F12'!Q2695),\"\",('DE01-F12'!Q2695))","v":""},{"$f":"IF(ISBLANK('DE01-F12'!S2695),\"\",('DE01-F12'!S2695))","v":0}]
[{"$f":"IF(ISBLANK('DE01-F12'!N2696),\"\",('DE01-F12'!N2696))","v":""},{"$f":"MID('DE01-F12'!G2696,1,18)","v":""},{"$f":"IF(ISBLANK('DE01-F12'!P2696),\"\",('DE01-F12'!P2696))","v":""},{"$f":"IF(ISBLANK('DE01-F12'!Q2696),\"\",('DE01-F12'!Q2696))","v":""},{"$f":"IF(ISBLANK('DE01-F12'!S2696),\"\",('DE01-F12'!S2696))","v":0}]
[{"$f":"IF(ISBLANK('DE01-F12'!N2697),\"\",('DE01-F12'!N2697))","v":""},{"$f":"MID('DE01-F12'!G2697,1,18)","v":""},{"$f":"IF(ISBLANK('DE01-F12'!P2697),\"\",('DE01-F12'!P2697))","v":""},{"$f":"IF(ISBLANK('DE01-F12'!Q2697),\"\",('DE01-F12'!Q2697))","v":""},{"$f":"IF(ISBLANK('DE01-F12'!S2697),\"\",('DE01-F12'!S2697))","v":0}]
[{"$f":"IF(ISBLANK('DE01-F12'!N2698),\"\",('DE01-F12'!N2698))","v":""},{"$f":"MID('DE01-F12'!G2698,1,18)","v":""},{"$f":"IF(ISBLANK('DE01-F12'!P2698),\"\",('DE01-F12'!P2698))","v":""},{"$f":"IF(ISBLANK('DE01-F12'!Q2698),\"\",('DE01-F12'!Q2698))","v":""},{"$f":"IF(ISBLANK('DE01-F12'!S2698),\"\",('DE01-F12'!S2698))","v":0}]
[{"$f":"IF(ISBLANK('DE01-F12'!N2699),\"\",('DE01-F12'!N2699))","v":""},{"$f":"MID('DE01-F12'!G2699,1,18)","v":""},{"$f":"IF(ISBLANK('DE01-F12'!P2699),\"\",('DE01-F12'!P2699))","v":""},{"$f":"IF(ISBLANK('DE01-F12'!Q2699),\"\",('DE01-F12'!Q2699))","v":""},{"$f":"IF(ISBLANK('DE01-F12'!S2699),\"\",('DE01-F12'!S2699))","v":0}]
[{"$f":"IF(ISBLANK('DE01-F12'!N2700),\"\",('DE01-F12'!N2700))","v":""},{"$f":"MID('DE01-F12'!G2700,1,18)","v":""},{"$f":"IF(ISBLANK('DE01-F12'!P2700),\"\",('DE01-F12'!P2700))","v":""},{"$f":"IF(ISBLANK('DE01-F12'!Q2700),\"\",('DE01-F12'!Q2700))","v":""},{"$f":"IF(ISBLANK('DE01-F12'!S2700),\"\",('DE01-F12'!S2700))","v":0}]
[{"$f":"IF(ISBLANK('DE01-F12'!N2701),\"\",('DE01-F12'!N2701))","v":""},{"$f":"MID('DE01-F12'!G2701,1,18)","v":""},{"$f":"IF(ISBLANK('DE01-F12'!P2701),\"\",('DE01-F12'!P2701))","v":""},{"$f":"IF(ISBLANK('DE01-F12'!Q2701),\"\",('DE01-F12'!Q2701))","v":""},{"$f":"IF(ISBLANK('DE01-F12'!S2701),\"\",('DE01-F12'!S2701))","v":0}]
[{"$f":"IF(ISBLANK('DE01-F12'!N2702),\"\",('DE01-F12'!N2702))","v":""},{"$f":"MID('DE01-F12'!G2702,1,18)","v":""},{"$f":"IF(ISBLANK('DE01-F12'!P2702),\"\",('DE01-F12'!P2702))","v":""},{"$f":"IF(ISBLANK('DE01-F12'!Q2702),\"\",('DE01-F12'!Q2702))","v":""},{"$f":"IF(ISBLANK('DE01-F12'!S2702),\"\",('DE01-F12'!S2702))","v":0}]
[{"$f":"IF(ISBLANK('DE01-F12'!N2703),\"\",('DE01-F12'!N2703))","v":""},{"$f":"MID('DE01-F12'!G2703,1,18)","v":""},{"$f":"IF(ISBLANK('DE01-F12'!P2703),\"\",('DE01-F12'!P2703))","v":""},{"$f":"IF(ISBLANK('DE01-F12'!Q2703),\"\",('DE01-F12'!Q2703))","v":""},{"$f":"IF(ISBLANK('DE01-F12'!S2703),\"\",('DE01-F12'!S2703))","v":0}]
[{"$f":"IF(ISBLANK('DE01-F12'!N2704),\"\",('DE01-F12'!N2704))","v":""},{"$f":"MID('DE01-F12'!G2704,1,18)","v":""},{"$f":"IF(ISBLANK('DE01-F12'!P2704),\"\",('DE01-F12'!P2704))","v":""},{"$f":"IF(ISBLANK('DE01-F12'!Q2704),\"\",('DE01-F12'!Q2704))","v":""},{"$f":"IF(ISBLANK('DE01-F12'!S2704),\"\",('DE01-F12'!S2704))","v":0}]
[{"$f":"IF(ISBLANK('DE01-F12'!N2705),\"\",('DE01-F12'!N2705))","v":""},{"$f":"MID('DE01-F12'!G2705,1,18)","v":""},{"$f":"IF(ISBLANK('DE01-F12'!P2705),\"\",('DE01-F12'!P2705))","v":""},{"$f":"IF(ISBLANK('DE01-F12'!Q2705),\"\",('DE01-F12'!Q2705))","v":""},{"$f":"IF(ISBLANK('DE01-F12'!S2705),\"\",('DE01-F12'!S2705))","v":0}]
[{"$f":"IF(ISBLANK('DE01-F12'!N2706),\"\",('DE01-F12'!N2706))","v":""},{"$f":"MID('DE01-F12'!G2706,1,18)","v":""},{"$f":"IF(ISBLANK('DE01-F12'!P2706),\"\",('DE01-F12'!P2706))","v":""},{"$f":"IF(ISBLANK('DE01-F12'!Q2706),\"\",('DE01-F12'!Q2706))","v":""},{"$f":"IF(ISBLANK('DE01-F12'!S2706),\"\",('DE01-F12'!S2706))","v":0}]
[{"$f":"IF(ISBLANK('DE01-F12'!N2707),\"\",('DE01-F12'!N2707))","v":""},{"$f":"MID('DE01-F12'!G2707,1,18)","v":""},{"$f":"IF(ISBLANK('DE01-F12'!P2707),\"\",('DE01-F12'!P2707))","v":""},{"$f":"IF(ISBLANK('DE01-F12'!Q2707),\"\",('DE01-F12'!Q2707))","v":""},{"$f":"IF(ISBLANK('DE01-F12'!S2707),\"\",('DE01-F12'!S2707))","v":0}]
[{"$f":"IF(ISBLANK('DE01-F12'!N2708),\"\",('DE01-F12'!N2708))","v":""},{"$f":"MID('DE01-F12'!G2708,1,18)","v":""},{"$f":"IF(ISBLANK('DE01-F12'!P2708),\"\",('DE01-F12'!P2708))","v":""},{"$f":"IF(ISBLANK('DE01-F12'!Q2708),\"\",('DE01-F12'!Q2708))","v":""},{"$f":"IF(ISBLANK('DE01-F12'!S2708),\"\",('DE01-F12'!S2708))","v":0}]
[{"$f":"IF(ISBLANK('DE01-F12'!N2709),\"\",('DE01-F12'!N2709))","v":""},{"$f":"MID('DE01-F12'!G2709,1,18)","v":""},{"$f":"IF(ISBLANK('DE01-F12'!P2709),\"\",('DE01-F12'!P2709))","v":""},{"$f":"IF(ISBLANK('DE01-F12'!Q2709),\"\",('DE01-F12'!Q2709))","v":""},{"$f":"IF(ISBLANK('DE01-F12'!S2709),\"\",('DE01-F12'!S2709))","v":0}]
[{"$f":"IF(ISBLANK('DE01-F12'!N2710),\"\",('DE01-F12'!N2710))","v":""},{"$f":"MID('DE01-F12'!G2710,1,18)","v":""},{"$f":"IF(ISBLANK('DE01-F12'!P2710),\"\",('DE01-F12'!P2710))","v":""},{"$f":"IF(ISBLANK('DE01-F12'!Q2710),\"\",('DE01-F12'!Q2710))","v":""},{"$f":"IF(ISBLANK('DE01-F12'!S2710),\"\",('DE01-F12'!S2710))","v":0}]
[{"$f":"IF(ISBLANK('DE01-F12'!N2711),\"\",('DE01-F12'!N2711))","v":""},{"$f":"MID('DE01-F12'!G2711,1,18)","v":""},{"$f":"IF(ISBLANK('DE01-F12'!P2711),\"\",('DE01-F12'!P2711))","v":""},{"$f":"IF(ISBLANK('DE01-F12'!Q2711),\"\",('DE01-F12'!Q2711))","v":""},{"$f":"IF(ISBLANK('DE01-F12'!S2711),\"\",('DE01-F12'!S2711))","v":0}]
[{"$f":"IF(ISBLANK('DE01-F12'!N2712),\"\",('DE01-F12'!N2712))","v":""},{"$f":"MID('DE01-F12'!G2712,1,18)","v":""},{"$f":"IF(ISBLANK('DE01-F12'!P2712),\"\",('DE01-F12'!P2712))","v":""},{"$f":"IF(ISBLANK('DE01-F12'!Q2712),\"\",('DE01-F12'!Q2712))","v":""},{"$f":"IF(ISBLANK('DE01-F12'!S2712),\"\",('DE01-F12'!S2712))","v":0}]
[{"$f":"IF(ISBLANK('DE01-F12'!N2713),\"\",('DE01-F12'!N2713))","v":""},{"$f":"MID('DE01-F12'!G2713,1,18)","v":""},{"$f":"IF(ISBLANK('DE01-F12'!P2713),\"\",('DE01-F12'!P2713))","v":""},{"$f":"IF(ISBLANK('DE01-F12'!Q2713),\"\",('DE01-F12'!Q2713))","v":""},{"$f":"IF(ISBLANK('DE01-F12'!S2713),\"\",('DE01-F12'!S2713))","v":0}]
[{"$f":"IF(ISBLANK('DE01-F12'!N2714),\"\",('DE01-F12'!N2714))","v":""},{"$f":"MID('DE01-F12'!G2714,1,18)","v":""},{"$f":"IF(ISBLANK('DE01-F12'!P2714),\"\",('DE01-F12'!P2714))","v":""},{"$f":"IF(ISBLANK('DE01-F12'!Q2714),\"\",('DE01-F12'!Q2714))","v":""},{"$f":"IF(ISBLANK('DE01-F12'!S2714),\"\",('DE01-F12'!S2714))","v":0}]
[{"$f":"IF(ISBLANK('DE01-F12'!N2715),\"\",('DE01-F12'!N2715))","v":""},{"$f":"MID('DE01-F12'!G2715,1,18)","v":""},{"$f":"IF(ISBLANK('DE01-F12'!P2715),\"\",('DE01-F12'!P2715))","v":""},{"$f":"IF(ISBLANK('DE01-F12'!Q2715),\"\",('DE01-F12'!Q2715))","v":""},{"$f":"IF(ISBLANK('DE01-F12'!S2715),\"\",('DE01-F12'!S2715))","v":0}]
[{"$f":"IF(ISBLANK('DE01-F12'!N2716),\"\",('DE01-F12'!N2716))","v":""},{"$f":"MID('DE01-F12'!G2716,1,18)","v":""},{"$f":"IF(ISBLANK('DE01-F12'!P2716),\"\",('DE01-F12'!P2716))","v":""},{"$f":"IF(ISBLANK('DE01-F12'!Q2716),\"\",('DE01-F12'!Q2716))","v":""},{"$f":"IF(ISBLANK('DE01-F12'!S2716),\"\",('DE01-F12'!S2716))","v":0}]
[{"$f":"IF(ISBLANK('DE01-F12'!N2717),\"\",('DE01-F12'!N2717))","v":""},{"$f":"MID('DE01-F12'!G2717,1,18)","v":""},{"$f":"IF(ISBLANK('DE01-F12'!P2717),\"\",('DE01-F12'!P2717))","v":""},{"$f":"IF(ISBLANK('DE01-F12'!Q2717),\"\",('DE01-F12'!Q2717))","v":""},{"$f":"IF(ISBLANK('DE01-F12'!S2717),\"\",('DE01-F12'!S2717))","v":0}]
[{"$f":"IF(ISBLANK('DE01-F12'!N2718),\"\",('DE01-F12'!N2718))","v":""},{"$f":"MID('DE01-F12'!G2718,1,18)","v":""},{"$f":"IF(ISBLANK('DE01-F12'!P2718),\"\",('DE01-F12'!P2718))","v":""},{"$f":"IF(ISBLANK('DE01-F12'!Q2718),\"\",('DE01-F12'!Q2718))","v":""},{"$f":"IF(ISBLANK('DE01-F12'!S2718),\"\",('DE01-F12'!S2718))","v":0}]
[{"$f":"IF(ISBLANK('DE01-F12'!N2719),\"\",('DE01-F12'!N2719))","v":""},{"$f":"MID('DE01-F12'!G2719,1,18)","v":""},{"$f":"IF(ISBLANK('DE01-F12'!P2719),\"\",('DE01-F12'!P2719))","v":""},{"$f":"IF(ISBLANK('DE01-F12'!Q2719),\"\",('DE01-F12'!Q2719))","v":""},{"$f":"IF(ISBLANK('DE01-F12'!S2719),\"\",('DE01-F12'!S2719))","v":0}]
[{"$f":"IF(ISBLANK('DE01-F12'!N2720),\"\",('DE01-F12'!N2720))","v":""},{"$f":"MID('DE01-F12'!G2720,1,18)","v":""},{"$f":"IF(ISBLANK('DE01-F12'!P2720),\"\",('DE01-F12'!P2720))","v":""},{"$f":"IF(ISBLANK('DE01-F12'!Q2720),\"\",('DE01-F12'!Q2720))","v":""},{"$f":"IF(ISBLANK('DE01-F12'!S2720),\"\",('DE01-F12'!S2720))","v":0}]
[{"$f":"IF(ISBLANK('DE01-F12'!N2721),\"\",('DE01-F12'!N2721))","v":""},{"$f":"MID('DE01-F12'!G2721,1,18)","v":""},{"$f":"IF(ISBLANK('DE01-F12'!P2721),\"\",('DE01-F12'!P2721))","v":""},{"$f":"IF(ISBLANK('DE01-F12'!Q2721),\"\",('DE01-F12'!Q2721))","v":""},{"$f":"IF(ISBLANK('DE01-F12'!S2721),\"\",('DE01-F12'!S2721))","v":0}]
[{"$f":"IF(ISBLANK('DE01-F12'!N2722),\"\",('DE01-F12'!N2722))","v":""},{"$f":"MID('DE01-F12'!G2722,1,18)","v":""},{"$f":"IF(ISBLANK('DE01-F12'!P2722),\"\",('DE01-F12'!P2722))","v":""},{"$f":"IF(ISBLANK('DE01-F12'!Q2722),\"\",('DE01-F12'!Q2722))","v":""},{"$f":"IF(ISBLANK('DE01-F12'!S2722),\"\",('DE01-F12'!S2722))","v":0}]
[{"$f":"IF(ISBLANK('DE01-F12'!N2723),\"\",('DE01-F12'!N2723))","v":""},{"$f":"MID('DE01-F12'!G2723,1,18)","v":""},{"$f":"IF(ISBLANK('DE01-F12'!P2723),\"\",('DE01-F12'!P2723))","v":""},{"$f":"IF(ISBLANK('DE01-F12'!Q2723),\"\",('DE01-F12'!Q2723))","v":""},{"$f":"IF(ISBLANK('DE01-F12'!S2723),\"\",('DE01-F12'!S2723))","v":0}]
[{"$f":"IF(ISBLANK('DE01-F12'!N2724),\"\",('DE01-F12'!N2724))","v":""},{"$f":"MID('DE01-F12'!G2724,1,18)","v":""},{"$f":"IF(ISBLANK('DE01-F12'!P2724),\"\",('DE01-F12'!P2724))","v":""},{"$f":"IF(ISBLANK('DE01-F12'!Q2724),\"\",('DE01-F12'!Q2724))","v":""},{"$f":"IF(ISBLANK('DE01-F12'!S2724),\"\",('DE01-F12'!S2724))","v":0}]
[{"$f":"IF(ISBLANK('DE01-F12'!N2725),\"\",('DE01-F12'!N2725))","v":""},{"$f":"MID('DE01-F12'!G2725,1,18)","v":""},{"$f":"IF(ISBLANK('DE01-F12'!P2725),\"\",('DE01-F12'!P2725))","v":""},{"$f":"IF(ISBLANK('DE01-F12'!Q2725),\"\",('DE01-F12'!Q2725))","v":""},{"$f":"IF(ISBLANK('DE01-F12'!S2725),\"\",('DE01-F12'!S2725))","v":0}]
[{"$f":"IF(ISBLANK('DE01-F12'!N2726),\"\",('DE01-F12'!N2726))","v":""},{"$f":"MID('DE01-F12'!G2726,1,18)","v":""},{"$f":"IF(ISBLANK('DE01-F12'!P2726),\"\",('DE01-F12'!P2726))","v":""},{"$f":"IF(ISBLANK('DE01-F12'!Q2726),\"\",('DE01-F12'!Q2726))","v":""},{"$f":"IF(ISBLANK('DE01-F12'!S2726),\"\",('DE01-F12'!S2726))","v":0}]
[{"$f":"IF(ISBLANK('DE01-F12'!N2727),\"\",('DE01-F12'!N2727))","v":""},{"$f":"MID('DE01-F12'!G2727,1,18)","v":""},{"$f":"IF(ISBLANK('DE01-F12'!P2727),\"\",('DE01-F12'!P2727))","v":""},{"$f":"IF(ISBLANK('DE01-F12'!Q2727),\"\",('DE01-F12'!Q2727))","v":""},{"$f":"IF(ISBLANK('DE01-F12'!S2727),\"\",('DE01-F12'!S2727))","v":0}]
[{"$f":"IF(ISBLANK('DE01-F12'!N2728),\"\",('DE01-F12'!N2728))","v":""},{"$f":"MID('DE01-F12'!G2728,1,18)","v":""},{"$f":"IF(ISBLANK('DE01-F12'!P2728),\"\",('DE01-F12'!P2728))","v":""},{"$f":"IF(ISBLANK('DE01-F12'!Q2728),\"\",('DE01-F12'!Q2728))","v":""},{"$f":"IF(ISBLANK('DE01-F12'!S2728),\"\",('DE01-F12'!S2728))","v":0}]
[{"$f":"IF(ISBLANK('DE01-F12'!N2729),\"\",('DE01-F12'!N2729))","v":""},{"$f":"MID('DE01-F12'!G2729,1,18)","v":""},{"$f":"IF(ISBLANK('DE01-F12'!P2729),\"\",('DE01-F12'!P2729))","v":""},{"$f":"IF(ISBLANK('DE01-F12'!Q2729),\"\",('DE01-F12'!Q2729))","v":""},{"$f":"IF(ISBLANK('DE01-F12'!S2729),\"\",('DE01-F12'!S2729))","v":0}]
[{"$f":"IF(ISBLANK('DE01-F12'!N2730),\"\",('DE01-F12'!N2730))","v":""},{"$f":"MID('DE01-F12'!G2730,1,18)","v":""},{"$f":"IF(ISBLANK('DE01-F12'!P2730),\"\",('DE01-F12'!P2730))","v":""},{"$f":"IF(ISBLANK('DE01-F12'!Q2730),\"\",('DE01-F12'!Q2730))","v":""},{"$f":"IF(ISBLANK('DE01-F12'!S2730),\"\",('DE01-F12'!S2730))","v":0}]
[{"$f":"IF(ISBLANK('DE01-F12'!N2731),\"\",('DE01-F12'!N2731))","v":""},{"$f":"MID('DE01-F12'!G2731,1,18)","v":""},{"$f":"IF(ISBLANK('DE01-F12'!P2731),\"\",('DE01-F12'!P2731))","v":""},{"$f":"IF(ISBLANK('DE01-F12'!Q2731),\"\",('DE01-F12'!Q2731))","v":""},{"$f":"IF(ISBLANK('DE01-F12'!S2731),\"\",('DE01-F12'!S2731))","v":0}]
[{"$f":"IF(ISBLANK('DE01-F12'!N2732),\"\",('DE01-F12'!N2732))","v":""},{"$f":"MID('DE01-F12'!G2732,1,18)","v":""},{"$f":"IF(ISBLANK('DE01-F12'!P2732),\"\",('DE01-F12'!P2732))","v":""},{"$f":"IF(ISBLANK('DE01-F12'!Q2732),\"\",('DE01-F12'!Q2732))","v":""},{"$f":"IF(ISBLANK('DE01-F12'!S2732),\"\",('DE01-F12'!S2732))","v":0}]
[{"$f":"IF(ISBLANK('DE01-F12'!N2733),\"\",('DE01-F12'!N2733))","v":""},{"$f":"MID('DE01-F12'!G2733,1,18)","v":""},{"$f":"IF(ISBLANK('DE01-F12'!P2733),\"\",('DE01-F12'!P2733))","v":""},{"$f":"IF(ISBLANK('DE01-F12'!Q2733),\"\",('DE01-F12'!Q2733))","v":""},{"$f":"IF(ISBLANK('DE01-F12'!S2733),\"\",('DE01-F12'!S2733))","v":0}]
[{"$f":"IF(ISBLANK('DE01-F12'!N2734),\"\",('DE01-F12'!N2734))","v":""},{"$f":"MID('DE01-F12'!G2734,1,18)","v":""},{"$f":"IF(ISBLANK('DE01-F12'!P2734),\"\",('DE01-F12'!P2734))","v":""},{"$f":"IF(ISBLANK('DE01-F12'!Q2734),\"\",('DE01-F12'!Q2734))","v":""},{"$f":"IF(ISBLANK('DE01-F12'!S2734),\"\",('DE01-F12'!S2734))","v":0}]
[{"$f":"IF(ISBLANK('DE01-F12'!N2735),\"\",('DE01-F12'!N2735))","v":""},{"$f":"MID('DE01-F12'!G2735,1,18)","v":""},{"$f":"IF(ISBLANK('DE01-F12'!P2735),\"\",('DE01-F12'!P2735))","v":""},{"$f":"IF(ISBLANK('DE01-F12'!Q2735),\"\",('DE01-F12'!Q2735))","v":""},{"$f":"IF(ISBLANK('DE01-F12'!S2735),\"\",('DE01-F12'!S2735))","v":0}]
[{"$f":"IF(ISBLANK('DE01-F12'!N2736),\"\",('DE01-F12'!N2736))","v":""},{"$f":"MID('DE01-F12'!G2736,1,18)","v":""},{"$f":"IF(ISBLANK('DE01-F12'!P2736),\"\",('DE01-F12'!P2736))","v":""},{"$f":"IF(ISBLANK('DE01-F12'!Q2736),\"\",('DE01-F12'!Q2736))","v":""},{"$f":"IF(ISBLANK('DE01-F12'!S2736),\"\",('DE01-F12'!S2736))","v":0}]
[{"$f":"IF(ISBLANK('DE01-F12'!N2737),\"\",('DE01-F12'!N2737))","v":""},{"$f":"MID('DE01-F12'!G2737,1,18)","v":""},{"$f":"IF(ISBLANK('DE01-F12'!P2737),\"\",('DE01-F12'!P2737))","v":""},{"$f":"IF(ISBLANK('DE01-F12'!Q2737),\"\",('DE01-F12'!Q2737))","v":""},{"$f":"IF(ISBLANK('DE01-F12'!S2737),\"\",('DE01-F12'!S2737))","v":0}]
[{"$f":"IF(ISBLANK('DE01-F12'!N2738),\"\",('DE01-F12'!N2738))","v":""},{"$f":"MID('DE01-F12'!G2738,1,18)","v":""},{"$f":"IF(ISBLANK('DE01-F12'!P2738),\"\",('DE01-F12'!P2738))","v":""},{"$f":"IF(ISBLANK('DE01-F12'!Q2738),\"\",('DE01-F12'!Q2738))","v":""},{"$f":"IF(ISBLANK('DE01-F12'!S2738),\"\",('DE01-F12'!S2738))","v":0}]
[{"$f":"IF(ISBLANK('DE01-F12'!N2739),\"\",('DE01-F12'!N2739))","v":""},{"$f":"MID('DE01-F12'!G2739,1,18)","v":""},{"$f":"IF(ISBLANK('DE01-F12'!P2739),\"\",('DE01-F12'!P2739))","v":""},{"$f":"IF(ISBLANK('DE01-F12'!Q2739),\"\",('DE01-F12'!Q2739))","v":""},{"$f":"IF(ISBLANK('DE01-F12'!S2739),\"\",('DE01-F12'!S2739))","v":0}]
[{"$f":"IF(ISBLANK('DE01-F12'!N2740),\"\",('DE01-F12'!N2740))","v":""},{"$f":"MID('DE01-F12'!G2740,1,18)","v":""},{"$f":"IF(ISBLANK('DE01-F12'!P2740),\"\",('DE01-F12'!P2740))","v":""},{"$f":"IF(ISBLANK('DE01-F12'!Q2740),\"\",('DE01-F12'!Q2740))","v":""},{"$f":"IF(ISBLANK('DE01-F12'!S2740),\"\",('DE01-F12'!S2740))","v":0}]
[{"$f":"IF(ISBLANK('DE01-F12'!N2741),\"\",('DE01-F12'!N2741))","v":""},{"$f":"MID('DE01-F12'!G2741,1,18)","v":""},{"$f":"IF(ISBLANK('DE01-F12'!P2741),\"\",('DE01-F12'!P2741))","v":""},{"$f":"IF(ISBLANK('DE01-F12'!Q2741),\"\",('DE01-F12'!Q2741))","v":""},{"$f":"IF(ISBLANK('DE01-F12'!S2741),\"\",('DE01-F12'!S2741))","v":0}]
[{"$f":"IF(ISBLANK('DE01-F12'!N2742),\"\",('DE01-F12'!N2742))","v":""},{"$f":"MID('DE01-F12'!G2742,1,18)","v":""},{"$f":"IF(ISBLANK('DE01-F12'!P2742),\"\",('DE01-F12'!P2742))","v":""},{"$f":"IF(ISBLANK('DE01-F12'!Q2742),\"\",('DE01-F12'!Q2742))","v":""},{"$f":"IF(ISBLANK('DE01-F12'!S2742),\"\",('DE01-F12'!S2742))","v":0}]
[{"$f":"IF(ISBLANK('DE01-F12'!N2743),\"\",('DE01-F12'!N2743))","v":""},{"$f":"MID('DE01-F12'!G2743,1,18)","v":""},{"$f":"IF(ISBLANK('DE01-F12'!P2743),\"\",('DE01-F12'!P2743))","v":""},{"$f":"IF(ISBLANK('DE01-F12'!Q2743),\"\",('DE01-F12'!Q2743))","v":""},{"$f":"IF(ISBLANK('DE01-F12'!S2743),\"\",('DE01-F12'!S2743))","v":0}]
[{"$f":"IF(ISBLANK('DE01-F12'!N2744),\"\",('DE01-F12'!N2744))","v":""},{"$f":"MID('DE01-F12'!G2744,1,18)","v":""},{"$f":"IF(ISBLANK('DE01-F12'!P2744),\"\",('DE01-F12'!P2744))","v":""},{"$f":"IF(ISBLANK('DE01-F12'!Q2744),\"\",('DE01-F12'!Q2744))","v":""},{"$f":"IF(ISBLANK('DE01-F12'!S2744),\"\",('DE01-F12'!S2744))","v":0}]
[{"$f":"IF(ISBLANK('DE01-F12'!N2745),\"\",('DE01-F12'!N2745))","v":""},{"$f":"MID('DE01-F12'!G2745,1,18)","v":""},{"$f":"IF(ISBLANK('DE01-F12'!P2745),\"\",('DE01-F12'!P2745))","v":""},{"$f":"IF(ISBLANK('DE01-F12'!Q2745),\"\",('DE01-F12'!Q2745))","v":""},{"$f":"IF(ISBLANK('DE01-F12'!S2745),\"\",('DE01-F12'!S2745))","v":0}]
[{"$f":"IF(ISBLANK('DE01-F12'!N2746),\"\",('DE01-F12'!N2746))","v":""},{"$f":"MID('DE01-F12'!G2746,1,18)","v":""},{"$f":"IF(ISBLANK('DE01-F12'!P2746),\"\",('DE01-F12'!P2746))","v":""},{"$f":"IF(ISBLANK('DE01-F12'!Q2746),\"\",('DE01-F12'!Q2746))","v":""},{"$f":"IF(ISBLANK('DE01-F12'!S2746),\"\",('DE01-F12'!S2746))","v":0}]
[{"$f":"IF(ISBLANK('DE01-F12'!N2747),\"\",('DE01-F12'!N2747))","v":""},{"$f":"MID('DE01-F12'!G2747,1,18)","v":""},{"$f":"IF(ISBLANK('DE01-F12'!P2747),\"\",('DE01-F12'!P2747))","v":""},{"$f":"IF(ISBLANK('DE01-F12'!Q2747),\"\",('DE01-F12'!Q2747))","v":""},{"$f":"IF(ISBLANK('DE01-F12'!S2747),\"\",('DE01-F12'!S2747))","v":0}]
[{"$f":"IF(ISBLANK('DE01-F12'!N2748),\"\",('DE01-F12'!N2748))","v":""},{"$f":"MID('DE01-F12'!G2748,1,18)","v":""},{"$f":"IF(ISBLANK('DE01-F12'!P2748),\"\",('DE01-F12'!P2748))","v":""},{"$f":"IF(ISBLANK('DE01-F12'!Q2748),\"\",('DE01-F12'!Q2748))","v":""},{"$f":"IF(ISBLANK('DE01-F12'!S2748),\"\",('DE01-F12'!S2748))","v":0}]
[{"$f":"IF(ISBLANK('DE01-F12'!N2749),\"\",('DE01-F12'!N2749))","v":""},{"$f":"MID('DE01-F12'!G2749,1,18)","v":""},{"$f":"IF(ISBLANK('DE01-F12'!P2749),\"\",('DE01-F12'!P2749))","v":""},{"$f":"IF(ISBLANK('DE01-F12'!Q2749),\"\",('DE01-F12'!Q2749))","v":""},{"$f":"IF(ISBLANK('DE01-F12'!S2749),\"\",('DE01-F12'!S2749))","v":0}]
[{"$f":"IF(ISBLANK('DE01-F12'!N2750),\"\",('DE01-F12'!N2750))","v":""},{"$f":"MID('DE01-F12'!G2750,1,18)","v":""},{"$f":"IF(ISBLANK('DE01-F12'!P2750),\"\",('DE01-F12'!P2750))","v":""},{"$f":"IF(ISBLANK('DE01-F12'!Q2750),\"\",('DE01-F12'!Q2750))","v":""},{"$f":"IF(ISBLANK('DE01-F12'!S2750),\"\",('DE01-F12'!S2750))","v":0}]
[{"$f":"IF(ISBLANK('DE01-F12'!N2751),\"\",('DE01-F12'!N2751))","v":""},{"$f":"MID('DE01-F12'!G2751,1,18)","v":""},{"$f":"IF(ISBLANK('DE01-F12'!P2751),\"\",('DE01-F12'!P2751))","v":""},{"$f":"IF(ISBLANK('DE01-F12'!Q2751),\"\",('DE01-F12'!Q2751))","v":""},{"$f":"IF(ISBLANK('DE01-F12'!S2751),\"\",('DE01-F12'!S2751))","v":0}]
[{"$f":"IF(ISBLANK('DE01-F12'!N2752),\"\",('DE01-F12'!N2752))","v":""},{"$f":"MID('DE01-F12'!G2752,1,18)","v":""},{"$f":"IF(ISBLANK('DE01-F12'!P2752),\"\",('DE01-F12'!P2752))","v":""},{"$f":"IF(ISBLANK('DE01-F12'!Q2752),\"\",('DE01-F12'!Q2752))","v":""},{"$f":"IF(ISBLANK('DE01-F12'!S2752),\"\",('DE01-F12'!S2752))","v":0}]
[{"$f":"IF(ISBLANK('DE01-F12'!N2753),\"\",('DE01-F12'!N2753))","v":""},{"$f":"MID('DE01-F12'!G2753,1,18)","v":""},{"$f":"IF(ISBLANK('DE01-F12'!P2753),\"\",('DE01-F12'!P2753))","v":""},{"$f":"IF(ISBLANK('DE01-F12'!Q2753),\"\",('DE01-F12'!Q2753))","v":""},{"$f":"IF(ISBLANK('DE01-F12'!S2753),\"\",('DE01-F12'!S2753))","v":0}]
[{"$f":"IF(ISBLANK('DE01-F12'!N2754),\"\",('DE01-F12'!N2754))","v":""},{"$f":"MID('DE01-F12'!G2754,1,18)","v":""},{"$f":"IF(ISBLANK('DE01-F12'!P2754),\"\",('DE01-F12'!P2754))","v":""},{"$f":"IF(ISBLANK('DE01-F12'!Q2754),\"\",('DE01-F12'!Q2754))","v":""},{"$f":"IF(ISBLANK('DE01-F12'!S2754),\"\",('DE01-F12'!S2754))","v":0}]
[{"$f":"IF(ISBLANK('DE01-F12'!N2755),\"\",('DE01-F12'!N2755))","v":""},{"$f":"MID('DE01-F12'!G2755,1,18)","v":""},{"$f":"IF(ISBLANK('DE01-F12'!P2755),\"\",('DE01-F12'!P2755))","v":""},{"$f":"IF(ISBLANK('DE01-F12'!Q2755),\"\",('DE01-F12'!Q2755))","v":""},{"$f":"IF(ISBLANK('DE01-F12'!S2755),\"\",('DE01-F12'!S2755))","v":0}]
[{"$f":"IF(ISBLANK('DE01-F12'!N2756),\"\",('DE01-F12'!N2756))","v":""},{"$f":"MID('DE01-F12'!G2756,1,18)","v":""},{"$f":"IF(ISBLANK('DE01-F12'!P2756),\"\",('DE01-F12'!P2756))","v":""},{"$f":"IF(ISBLANK('DE01-F12'!Q2756),\"\",('DE01-F12'!Q2756))","v":""},{"$f":"IF(ISBLANK('DE01-F12'!S2756),\"\",('DE01-F12'!S2756))","v":0}]
[{"$f":"IF(ISBLANK('DE01-F12'!N2757),\"\",('DE01-F12'!N2757))","v":""},{"$f":"MID('DE01-F12'!G2757,1,18)","v":""},{"$f":"IF(ISBLANK('DE01-F12'!P2757),\"\",('DE01-F12'!P2757))","v":""},{"$f":"IF(ISBLANK('DE01-F12'!Q2757),\"\",('DE01-F12'!Q2757))","v":""},{"$f":"IF(ISBLANK('DE01-F12'!S2757),\"\",('DE01-F12'!S2757))","v":0}]
[{"$f":"IF(ISBLANK('DE01-F12'!N2758),\"\",('DE01-F12'!N2758))","v":""},{"$f":"MID('DE01-F12'!G2758,1,18)","v":""},{"$f":"IF(ISBLANK('DE01-F12'!P2758),\"\",('DE01-F12'!P2758))","v":""},{"$f":"IF(ISBLANK('DE01-F12'!Q2758),\"\",('DE01-F12'!Q2758))","v":""},{"$f":"IF(ISBLANK('DE01-F12'!S2758),\"\",('DE01-F12'!S2758))","v":0}]
[{"$f":"IF(ISBLANK('DE01-F12'!N2759),\"\",('DE01-F12'!N2759))","v":""},{"$f":"MID('DE01-F12'!G2759,1,18)","v":""},{"$f":"IF(ISBLANK('DE01-F12'!P2759),\"\",('DE01-F12'!P2759))","v":""},{"$f":"IF(ISBLANK('DE01-F12'!Q2759),\"\",('DE01-F12'!Q2759))","v":""},{"$f":"IF(ISBLANK('DE01-F12'!S2759),\"\",('DE01-F12'!S2759))","v":0}]
[{"$f":"IF(ISBLANK('DE01-F12'!N2760),\"\",('DE01-F12'!N2760))","v":""},{"$f":"MID('DE01-F12'!G2760,1,18)","v":""},{"$f":"IF(ISBLANK('DE01-F12'!P2760),\"\",('DE01-F12'!P2760))","v":""},{"$f":"IF(ISBLANK('DE01-F12'!Q2760),\"\",('DE01-F12'!Q2760))","v":""},{"$f":"IF(ISBLANK('DE01-F12'!S2760),\"\",('DE01-F12'!S2760))","v":0}]
[{"$f":"IF(ISBLANK('DE01-F12'!N2761),\"\",('DE01-F12'!N2761))","v":""},{"$f":"MID('DE01-F12'!G2761,1,18)","v":""},{"$f":"IF(ISBLANK('DE01-F12'!P2761),\"\",('DE01-F12'!P2761))","v":""},{"$f":"IF(ISBLANK('DE01-F12'!Q2761),\"\",('DE01-F12'!Q2761))","v":""},{"$f":"IF(ISBLANK('DE01-F12'!S2761),\"\",('DE01-F12'!S2761))","v":0}]
[{"$f":"IF(ISBLANK('DE01-F12'!N2762),\"\",('DE01-F12'!N2762))","v":""},{"$f":"MID('DE01-F12'!G2762,1,18)","v":""},{"$f":"IF(ISBLANK('DE01-F12'!P2762),\"\",('DE01-F12'!P2762))","v":""},{"$f":"IF(ISBLANK('DE01-F12'!Q2762),\"\",('DE01-F12'!Q2762))","v":""},{"$f":"IF(ISBLANK('DE01-F12'!S2762),\"\",('DE01-F12'!S2762))","v":0}]
[{"$f":"IF(ISBLANK('DE01-F12'!N2763),\"\",('DE01-F12'!N2763))","v":""},{"$f":"MID('DE01-F12'!G2763,1,18)","v":""},{"$f":"IF(ISBLANK('DE01-F12'!P2763),\"\",('DE01-F12'!P2763))","v":""},{"$f":"IF(ISBLANK('DE01-F12'!Q2763),\"\",('DE01-F12'!Q2763))","v":""},{"$f":"IF(ISBLANK('DE01-F12'!S2763),\"\",('DE01-F12'!S2763))","v":0}]
[{"$f":"IF(ISBLANK('DE01-F12'!N2764),\"\",('DE01-F12'!N2764))","v":""},{"$f":"MID('DE01-F12'!G2764,1,18)","v":""},{"$f":"IF(ISBLANK('DE01-F12'!P2764),\"\",('DE01-F12'!P2764))","v":""},{"$f":"IF(ISBLANK('DE01-F12'!Q2764),\"\",('DE01-F12'!Q2764))","v":""},{"$f":"IF(ISBLANK('DE01-F12'!S2764),\"\",('DE01-F12'!S2764))","v":0}]
[{"$f":"IF(ISBLANK('DE01-F12'!N2765),\"\",('DE01-F12'!N2765))","v":""},{"$f":"MID('DE01-F12'!G2765,1,18)","v":""},{"$f":"IF(ISBLANK('DE01-F12'!P2765),\"\",('DE01-F12'!P2765))","v":""},{"$f":"IF(ISBLANK('DE01-F12'!Q2765),\"\",('DE01-F12'!Q2765))","v":""},{"$f":"IF(ISBLANK('DE01-F12'!S2765),\"\",('DE01-F12'!S2765))","v":0}]
[{"$f":"IF(ISBLANK('DE01-F12'!N2766),\"\",('DE01-F12'!N2766))","v":""},{"$f":"MID('DE01-F12'!G2766,1,18)","v":""},{"$f":"IF(ISBLANK('DE01-F12'!P2766),\"\",('DE01-F12'!P2766))","v":""},{"$f":"IF(ISBLANK('DE01-F12'!Q2766),\"\",('DE01-F12'!Q2766))","v":""},{"$f":"IF(ISBLANK('DE01-F12'!S2766),\"\",('DE01-F12'!S2766))","v":0}]
[{"$f":"IF(ISBLANK('DE01-F12'!N2767),\"\",('DE01-F12'!N2767))","v":""},{"$f":"MID('DE01-F12'!G2767,1,18)","v":""},{"$f":"IF(ISBLANK('DE01-F12'!P2767),\"\",('DE01-F12'!P2767))","v":""},{"$f":"IF(ISBLANK('DE01-F12'!Q2767),\"\",('DE01-F12'!Q2767))","v":""},{"$f":"IF(ISBLANK('DE01-F12'!S2767),\"\",('DE01-F12'!S2767))","v":0}]
[{"$f":"IF(ISBLANK('DE01-F12'!N2768),\"\",('DE01-F12'!N2768))","v":""},{"$f":"MID('DE01-F12'!G2768,1,18)","v":""},{"$f":"IF(ISBLANK('DE01-F12'!P2768),\"\",('DE01-F12'!P2768))","v":""},{"$f":"IF(ISBLANK('DE01-F12'!Q2768),\"\",('DE01-F12'!Q2768))","v":""},{"$f":"IF(ISBLANK('DE01-F12'!S2768),\"\",('DE01-F12'!S2768))","v":0}]
[{"$f":"IF(ISBLANK('DE01-F12'!N2769),\"\",('DE01-F12'!N2769))","v":""},{"$f":"MID('DE01-F12'!G2769,1,18)","v":""},{"$f":"IF(ISBLANK('DE01-F12'!P2769),\"\",('DE01-F12'!P2769))","v":""},{"$f":"IF(ISBLANK('DE01-F12'!Q2769),\"\",('DE01-F12'!Q2769))","v":""},{"$f":"IF(ISBLANK('DE01-F12'!S2769),\"\",('DE01-F12'!S2769))","v":0}]
[{"$f":"IF(ISBLANK('DE01-F12'!N2770),\"\",('DE01-F12'!N2770))","v":""},{"$f":"MID('DE01-F12'!G2770,1,18)","v":""},{"$f":"IF(ISBLANK('DE01-F12'!P2770),\"\",('DE01-F12'!P2770))","v":""},{"$f":"IF(ISBLANK('DE01-F12'!Q2770),\"\",('DE01-F12'!Q2770))","v":""},{"$f":"IF(ISBLANK('DE01-F12'!S2770),\"\",('DE01-F12'!S2770))","v":0}]
[{"$f":"IF(ISBLANK('DE01-F12'!N2771),\"\",('DE01-F12'!N2771))","v":""},{"$f":"MID('DE01-F12'!G2771,1,18)","v":""},{"$f":"IF(ISBLANK('DE01-F12'!P2771),\"\",('DE01-F12'!P2771))","v":""},{"$f":"IF(ISBLANK('DE01-F12'!Q2771),\"\",('DE01-F12'!Q2771))","v":""},{"$f":"IF(ISBLANK('DE01-F12'!S2771),\"\",('DE01-F12'!S2771))","v":0}]
[{"$f":"IF(ISBLANK('DE01-F12'!N2772),\"\",('DE01-F12'!N2772))","v":""},{"$f":"MID('DE01-F12'!G2772,1,18)","v":""},{"$f":"IF(ISBLANK('DE01-F12'!P2772),\"\",('DE01-F12'!P2772))","v":""},{"$f":"IF(ISBLANK('DE01-F12'!Q2772),\"\",('DE01-F12'!Q2772))","v":""},{"$f":"IF(ISBLANK('DE01-F12'!S2772),\"\",('DE01-F12'!S2772))","v":0}]
[{"$f":"IF(ISBLANK('DE01-F12'!N2773),\"\",('DE01-F12'!N2773))","v":""},{"$f":"MID('DE01-F12'!G2773,1,18)","v":""},{"$f":"IF(ISBLANK('DE01-F12'!P2773),\"\",('DE01-F12'!P2773))","v":""},{"$f":"IF(ISBLANK('DE01-F12'!Q2773),\"\",('DE01-F12'!Q2773))","v":""},{"$f":"IF(ISBLANK('DE01-F12'!S2773),\"\",('DE01-F12'!S2773))","v":0}]
[{"$f":"IF(ISBLANK('DE01-F12'!N2774),\"\",('DE01-F12'!N2774))","v":""},{"$f":"MID('DE01-F12'!G2774,1,18)","v":""},{"$f":"IF(ISBLANK('DE01-F12'!P2774),\"\",('DE01-F12'!P2774))","v":""},{"$f":"IF(ISBLANK('DE01-F12'!Q2774),\"\",('DE01-F12'!Q2774))","v":""},{"$f":"IF(ISBLANK('DE01-F12'!S2774),\"\",('DE01-F12'!S2774))","v":0}]
[{"$f":"IF(ISBLANK('DE01-F12'!N2775),\"\",('DE01-F12'!N2775))","v":""},{"$f":"MID('DE01-F12'!G2775,1,18)","v":""},{"$f":"IF(ISBLANK('DE01-F12'!P2775),\"\",('DE01-F12'!P2775))","v":""},{"$f":"IF(ISBLANK('DE01-F12'!Q2775),\"\",('DE01-F12'!Q2775))","v":""},{"$f":"IF(ISBLANK('DE01-F12'!S2775),\"\",('DE01-F12'!S2775))","v":0}]
[{"$f":"IF(ISBLANK('DE01-F12'!N2776),\"\",('DE01-F12'!N2776))","v":""},{"$f":"MID('DE01-F12'!G2776,1,18)","v":""},{"$f":"IF(ISBLANK('DE01-F12'!P2776),\"\",('DE01-F12'!P2776))","v":""},{"$f":"IF(ISBLANK('DE01-F12'!Q2776),\"\",('DE01-F12'!Q2776))","v":""},{"$f":"IF(ISBLANK('DE01-F12'!S2776),\"\",('DE01-F12'!S2776))","v":0}]
[{"$f":"IF(ISBLANK('DE01-F12'!N2777),\"\",('DE01-F12'!N2777))","v":""},{"$f":"MID('DE01-F12'!G2777,1,18)","v":""},{"$f":"IF(ISBLANK('DE01-F12'!P2777),\"\",('DE01-F12'!P2777))","v":""},{"$f":"IF(ISBLANK('DE01-F12'!Q2777),\"\",('DE01-F12'!Q2777))","v":""},{"$f":"IF(ISBLANK('DE01-F12'!S2777),\"\",('DE01-F12'!S2777))","v":0}]
[{"$f":"IF(ISBLANK('DE01-F12'!N2778),\"\",('DE01-F12'!N2778))","v":""},{"$f":"MID('DE01-F12'!G2778,1,18)","v":""},{"$f":"IF(ISBLANK('DE01-F12'!P2778),\"\",('DE01-F12'!P2778))","v":""},{"$f":"IF(ISBLANK('DE01-F12'!Q2778),\"\",('DE01-F12'!Q2778))","v":""},{"$f":"IF(ISBLANK('DE01-F12'!S2778),\"\",('DE01-F12'!S2778))","v":0}]
[{"$f":"IF(ISBLANK('DE01-F12'!N2779),\"\",('DE01-F12'!N2779))","v":""},{"$f":"MID('DE01-F12'!G2779,1,18)","v":""},{"$f":"IF(ISBLANK('DE01-F12'!P2779),\"\",('DE01-F12'!P2779))","v":""},{"$f":"IF(ISBLANK('DE01-F12'!Q2779),\"\",('DE01-F12'!Q2779))","v":""},{"$f":"IF(ISBLANK('DE01-F12'!S2779),\"\",('DE01-F12'!S2779))","v":0}]
[{"$f":"IF(ISBLANK('DE01-F12'!N2780),\"\",('DE01-F12'!N2780))","v":""},{"$f":"MID('DE01-F12'!G2780,1,18)","v":""},{"$f":"IF(ISBLANK('DE01-F12'!P2780),\"\",('DE01-F12'!P2780))","v":""},{"$f":"IF(ISBLANK('DE01-F12'!Q2780),\"\",('DE01-F12'!Q2780))","v":""},{"$f":"IF(ISBLANK('DE01-F12'!S2780),\"\",('DE01-F12'!S2780))","v":0}]
[{"$f":"IF(ISBLANK('DE01-F12'!N2781),\"\",('DE01-F12'!N2781))","v":""},{"$f":"MID('DE01-F12'!G2781,1,18)","v":""},{"$f":"IF(ISBLANK('DE01-F12'!P2781),\"\",('DE01-F12'!P2781))","v":""},{"$f":"IF(ISBLANK('DE01-F12'!Q2781),\"\",('DE01-F12'!Q2781))","v":""},{"$f":"IF(ISBLANK('DE01-F12'!S2781),\"\",('DE01-F12'!S2781))","v":0}]
[{"$f":"IF(ISBLANK('DE01-F12'!N2782),\"\",('DE01-F12'!N2782))","v":""},{"$f":"MID('DE01-F12'!G2782,1,18)","v":""},{"$f":"IF(ISBLANK('DE01-F12'!P2782),\"\",('DE01-F12'!P2782))","v":""},{"$f":"IF(ISBLANK('DE01-F12'!Q2782),\"\",('DE01-F12'!Q2782))","v":""},{"$f":"IF(ISBLANK('DE01-F12'!S2782),\"\",('DE01-F12'!S2782))","v":0}]
[{"$f":"IF(ISBLANK('DE01-F12'!N2783),\"\",('DE01-F12'!N2783))","v":""},{"$f":"MID('DE01-F12'!G2783,1,18)","v":""},{"$f":"IF(ISBLANK('DE01-F12'!P2783),\"\",('DE01-F12'!P2783))","v":""},{"$f":"IF(ISBLANK('DE01-F12'!Q2783),\"\",('DE01-F12'!Q2783))","v":""},{"$f":"IF(ISBLANK('DE01-F12'!S2783),\"\",('DE01-F12'!S2783))","v":0}]
[{"$f":"IF(ISBLANK('DE01-F12'!N2784),\"\",('DE01-F12'!N2784))","v":""},{"$f":"MID('DE01-F12'!G2784,1,18)","v":""},{"$f":"IF(ISBLANK('DE01-F12'!P2784),\"\",('DE01-F12'!P2784))","v":""},{"$f":"IF(ISBLANK('DE01-F12'!Q2784),\"\",('DE01-F12'!Q2784))","v":""},{"$f":"IF(ISBLANK('DE01-F12'!S2784),\"\",('DE01-F12'!S2784))","v":0}]
[{"$f":"IF(ISBLANK('DE01-F12'!N2785),\"\",('DE01-F12'!N2785))","v":""},{"$f":"MID('DE01-F12'!G2785,1,18)","v":""},{"$f":"IF(ISBLANK('DE01-F12'!P2785),\"\",('DE01-F12'!P2785))","v":""},{"$f":"IF(ISBLANK('DE01-F12'!Q2785),\"\",('DE01-F12'!Q2785))","v":""},{"$f":"IF(ISBLANK('DE01-F12'!S2785),\"\",('DE01-F12'!S2785))","v":0}]
[{"$f":"IF(ISBLANK('DE01-F12'!N2786),\"\",('DE01-F12'!N2786))","v":""},{"$f":"MID('DE01-F12'!G2786,1,18)","v":""},{"$f":"IF(ISBLANK('DE01-F12'!P2786),\"\",('DE01-F12'!P2786))","v":""},{"$f":"IF(ISBLANK('DE01-F12'!Q2786),\"\",('DE01-F12'!Q2786))","v":""},{"$f":"IF(ISBLANK('DE01-F12'!S2786),\"\",('DE01-F12'!S2786))","v":0}]
[{"$f":"IF(ISBLANK('DE01-F12'!N2787),\"\",('DE01-F12'!N2787))","v":""},{"$f":"MID('DE01-F12'!G2787,1,18)","v":""},{"$f":"IF(ISBLANK('DE01-F12'!P2787),\"\",('DE01-F12'!P2787))","v":""},{"$f":"IF(ISBLANK('DE01-F12'!Q2787),\"\",('DE01-F12'!Q2787))","v":""},{"$f":"IF(ISBLANK('DE01-F12'!S2787),\"\",('DE01-F12'!S2787))","v":0}]
[{"$f":"IF(ISBLANK('DE01-F12'!N2788),\"\",('DE01-F12'!N2788))","v":""},{"$f":"MID('DE01-F12'!G2788,1,18)","v":""},{"$f":"IF(ISBLANK('DE01-F12'!P2788),\"\",('DE01-F12'!P2788))","v":""},{"$f":"IF(ISBLANK('DE01-F12'!Q2788),\"\",('DE01-F12'!Q2788))","v":""},{"$f":"IF(ISBLANK('DE01-F12'!S2788),\"\",('DE01-F12'!S2788))","v":0}]
[{"$f":"IF(ISBLANK('DE01-F12'!N2789),\"\",('DE01-F12'!N2789))","v":""},{"$f":"MID('DE01-F12'!G2789,1,18)","v":""},{"$f":"IF(ISBLANK('DE01-F12'!P2789),\"\",('DE01-F12'!P2789))","v":""},{"$f":"IF(ISBLANK('DE01-F12'!Q2789),\"\",('DE01-F12'!Q2789))","v":""},{"$f":"IF(ISBLANK('DE01-F12'!S2789),\"\",('DE01-F12'!S2789))","v":0}]
[{"$f":"IF(ISBLANK('DE01-F12'!N2790),\"\",('DE01-F12'!N2790))","v":""},{"$f":"MID('DE01-F12'!G2790,1,18)","v":""},{"$f":"IF(ISBLANK('DE01-F12'!P2790),\"\",('DE01-F12'!P2790))","v":""},{"$f":"IF(ISBLANK('DE01-F12'!Q2790),\"\",('DE01-F12'!Q2790))","v":""},{"$f":"IF(ISBLANK('DE01-F12'!S2790),\"\",('DE01-F12'!S2790))","v":0}]
[{"$f":"IF(ISBLANK('DE01-F12'!N2791),\"\",('DE01-F12'!N2791))","v":""},{"$f":"MID('DE01-F12'!G2791,1,18)","v":""},{"$f":"IF(ISBLANK('DE01-F12'!P2791),\"\",('DE01-F12'!P2791))","v":""},{"$f":"IF(ISBLANK('DE01-F12'!Q2791),\"\",('DE01-F12'!Q2791))","v":""},{"$f":"IF(ISBLANK('DE01-F12'!S2791),\"\",('DE01-F12'!S2791))","v":0}]
[{"$f":"IF(ISBLANK('DE01-F12'!N2792),\"\",('DE01-F12'!N2792))","v":""},{"$f":"MID('DE01-F12'!G2792,1,18)","v":""},{"$f":"IF(ISBLANK('DE01-F12'!P2792),\"\",('DE01-F12'!P2792))","v":""},{"$f":"IF(ISBLANK('DE01-F12'!Q2792),\"\",('DE01-F12'!Q2792))","v":""},{"$f":"IF(ISBLANK('DE01-F12'!S2792),\"\",('DE01-F12'!S2792))","v":0}]
[{"$f":"IF(ISBLANK('DE01-F12'!N2793),\"\",('DE01-F12'!N2793))","v":""},{"$f":"MID('DE01-F12'!G2793,1,18)","v":""},{"$f":"IF(ISBLANK('DE01-F12'!P2793),\"\",('DE01-F12'!P2793))","v":""},{"$f":"IF(ISBLANK('DE01-F12'!Q2793),\"\",('DE01-F12'!Q2793))","v":""},{"$f":"IF(ISBLANK('DE01-F12'!S2793),\"\",('DE01-F12'!S2793))","v":0}]
[{"$f":"IF(ISBLANK('DE01-F12'!N2794),\"\",('DE01-F12'!N2794))","v":""},{"$f":"MID('DE01-F12'!G2794,1,18)","v":""},{"$f":"IF(ISBLANK('DE01-F12'!P2794),\"\",('DE01-F12'!P2794))","v":""},{"$f":"IF(ISBLANK('DE01-F12'!Q2794),\"\",('DE01-F12'!Q2794))","v":""},{"$f":"IF(ISBLANK('DE01-F12'!S2794),\"\",('DE01-F12'!S2794))","v":0}]
[{"$f":"IF(ISBLANK('DE01-F12'!N2795),\"\",('DE01-F12'!N2795))","v":""},{"$f":"MID('DE01-F12'!G2795,1,18)","v":""},{"$f":"IF(ISBLANK('DE01-F12'!P2795),\"\",('DE01-F12'!P2795))","v":""},{"$f":"IF(ISBLANK('DE01-F12'!Q2795),\"\",('DE01-F12'!Q2795))","v":""},{"$f":"IF(ISBLANK('DE01-F12'!S2795),\"\",('DE01-F12'!S2795))","v":0}]
[{"$f":"IF(ISBLANK('DE01-F12'!N2796),\"\",('DE01-F12'!N2796))","v":""},{"$f":"MID('DE01-F12'!G2796,1,18)","v":""},{"$f":"IF(ISBLANK('DE01-F12'!P2796),\"\",('DE01-F12'!P2796))","v":""},{"$f":"IF(ISBLANK('DE01-F12'!Q2796),\"\",('DE01-F12'!Q2796))","v":""},{"$f":"IF(ISBLANK('DE01-F12'!S2796),\"\",('DE01-F12'!S2796))","v":0}]
[{"$f":"IF(ISBLANK('DE01-F12'!N2797),\"\",('DE01-F12'!N2797))","v":""},{"$f":"MID('DE01-F12'!G2797,1,18)","v":""},{"$f":"IF(ISBLANK('DE01-F12'!P2797),\"\",('DE01-F12'!P2797))","v":""},{"$f":"IF(ISBLANK('DE01-F12'!Q2797),\"\",('DE01-F12'!Q2797))","v":""},{"$f":"IF(ISBLANK('DE01-F12'!S2797),\"\",('DE01-F12'!S2797))","v":0}]
[{"$f":"IF(ISBLANK('DE01-F12'!N2798),\"\",('DE01-F12'!N2798))","v":""},{"$f":"MID('DE01-F12'!G2798,1,18)","v":""},{"$f":"IF(ISBLANK('DE01-F12'!P2798),\"\",('DE01-F12'!P2798))","v":""},{"$f":"IF(ISBLANK('DE01-F12'!Q2798),\"\",('DE01-F12'!Q2798))","v":""},{"$f":"IF(ISBLANK('DE01-F12'!S2798),\"\",('DE01-F12'!S2798))","v":0}]
[{"$f":"IF(ISBLANK('DE01-F12'!N2799),\"\",('DE01-F12'!N2799))","v":""},{"$f":"MID('DE01-F12'!G2799,1,18)","v":""},{"$f":"IF(ISBLANK('DE01-F12'!P2799),\"\",('DE01-F12'!P2799))","v":""},{"$f":"IF(ISBLANK('DE01-F12'!Q2799),\"\",('DE01-F12'!Q2799))","v":""},{"$f":"IF(ISBLANK('DE01-F12'!S2799),\"\",('DE01-F12'!S2799))","v":0}]
[{"$f":"IF(ISBLANK('DE01-F12'!N2800),\"\",('DE01-F12'!N2800))","v":""},{"$f":"MID('DE01-F12'!G2800,1,18)","v":""},{"$f":"IF(ISBLANK('DE01-F12'!P2800),\"\",('DE01-F12'!P2800))","v":""},{"$f":"IF(ISBLANK('DE01-F12'!Q2800),\"\",('DE01-F12'!Q2800))","v":""},{"$f":"IF(ISBLANK('DE01-F12'!S2800),\"\",('DE01-F12'!S2800))","v":0}]
[{"$f":"IF(ISBLANK('DE01-F12'!N2801),\"\",('DE01-F12'!N2801))","v":""},{"$f":"MID('DE01-F12'!G2801,1,18)","v":""},{"$f":"IF(ISBLANK('DE01-F12'!P2801),\"\",('DE01-F12'!P2801))","v":""},{"$f":"IF(ISBLANK('DE01-F12'!Q2801),\"\",('DE01-F12'!Q2801))","v":""},{"$f":"IF(ISBLANK('DE01-F12'!S2801),\"\",('DE01-F12'!S2801))","v":0}]
[{"$f":"IF(ISBLANK('DE01-F12'!N2802),\"\",('DE01-F12'!N2802))","v":""},{"$f":"MID('DE01-F12'!G2802,1,18)","v":""},{"$f":"IF(ISBLANK('DE01-F12'!P2802),\"\",('DE01-F12'!P2802))","v":""},{"$f":"IF(ISBLANK('DE01-F12'!Q2802),\"\",('DE01-F12'!Q2802))","v":""},{"$f":"IF(ISBLANK('DE01-F12'!S2802),\"\",('DE01-F12'!S2802))","v":0}]
[{"$f":"IF(ISBLANK('DE01-F12'!N2803),\"\",('DE01-F12'!N2803))","v":""},{"$f":"MID('DE01-F12'!G2803,1,18)","v":""},{"$f":"IF(ISBLANK('DE01-F12'!P2803),\"\",('DE01-F12'!P2803))","v":""},{"$f":"IF(ISBLANK('DE01-F12'!Q2803),\"\",('DE01-F12'!Q2803))","v":""},{"$f":"IF(ISBLANK('DE01-F12'!S2803),\"\",('DE01-F12'!S2803))","v":0}]
[{"$f":"IF(ISBLANK('DE01-F12'!N2804),\"\",('DE01-F12'!N2804))","v":""},{"$f":"MID('DE01-F12'!G2804,1,18)","v":""},{"$f":"IF(ISBLANK('DE01-F12'!P2804),\"\",('DE01-F12'!P2804))","v":""},{"$f":"IF(ISBLANK('DE01-F12'!Q2804),\"\",('DE01-F12'!Q2804))","v":""},{"$f":"IF(ISBLANK('DE01-F12'!S2804),\"\",('DE01-F12'!S2804))","v":0}]
[{"$f":"IF(ISBLANK('DE01-F12'!N2805),\"\",('DE01-F12'!N2805))","v":""},{"$f":"MID('DE01-F12'!G2805,1,18)","v":""},{"$f":"IF(ISBLANK('DE01-F12'!P2805),\"\",('DE01-F12'!P2805))","v":""},{"$f":"IF(ISBLANK('DE01-F12'!Q2805),\"\",('DE01-F12'!Q2805))","v":""},{"$f":"IF(ISBLANK('DE01-F12'!S2805),\"\",('DE01-F12'!S2805))","v":0}]
[{"$f":"IF(ISBLANK('DE01-F12'!N2806),\"\",('DE01-F12'!N2806))","v":""},{"$f":"MID('DE01-F12'!G2806,1,18)","v":""},{"$f":"IF(ISBLANK('DE01-F12'!P2806),\"\",('DE01-F12'!P2806))","v":""},{"$f":"IF(ISBLANK('DE01-F12'!Q2806),\"\",('DE01-F12'!Q2806))","v":""},{"$f":"IF(ISBLANK('DE01-F12'!S2806),\"\",('DE01-F12'!S2806))","v":0}]
[{"$f":"IF(ISBLANK('DE01-F12'!N2807),\"\",('DE01-F12'!N2807))","v":""},{"$f":"MID('DE01-F12'!G2807,1,18)","v":""},{"$f":"IF(ISBLANK('DE01-F12'!P2807),\"\",('DE01-F12'!P2807))","v":""},{"$f":"IF(ISBLANK('DE01-F12'!Q2807),\"\",('DE01-F12'!Q2807))","v":""},{"$f":"IF(ISBLANK('DE01-F12'!S2807),\"\",('DE01-F12'!S2807))","v":0}]
[{"$f":"IF(ISBLANK('DE01-F12'!N2808),\"\",('DE01-F12'!N2808))","v":""},{"$f":"MID('DE01-F12'!G2808,1,18)","v":""},{"$f":"IF(ISBLANK('DE01-F12'!P2808),\"\",('DE01-F12'!P2808))","v":""},{"$f":"IF(ISBLANK('DE01-F12'!Q2808),\"\",('DE01-F12'!Q2808))","v":""},{"$f":"IF(ISBLANK('DE01-F12'!S2808),\"\",('DE01-F12'!S2808))","v":0}]
[{"$f":"IF(ISBLANK('DE01-F12'!N2809),\"\",('DE01-F12'!N2809))","v":""},{"$f":"MID('DE01-F12'!G2809,1,18)","v":""},{"$f":"IF(ISBLANK('DE01-F12'!P2809),\"\",('DE01-F12'!P2809))","v":""},{"$f":"IF(ISBLANK('DE01-F12'!Q2809),\"\",('DE01-F12'!Q2809))","v":""},{"$f":"IF(ISBLANK('DE01-F12'!S2809),\"\",('DE01-F12'!S2809))","v":0}]
[{"$f":"IF(ISBLANK('DE01-F12'!N2810),\"\",('DE01-F12'!N2810))","v":""},{"$f":"MID('DE01-F12'!G2810,1,18)","v":""},{"$f":"IF(ISBLANK('DE01-F12'!P2810),\"\",('DE01-F12'!P2810))","v":""},{"$f":"IF(ISBLANK('DE01-F12'!Q2810),\"\",('DE01-F12'!Q2810))","v":""},{"$f":"IF(ISBLANK('DE01-F12'!S2810),\"\",('DE01-F12'!S2810))","v":0}]
[{"$f":"IF(ISBLANK('DE01-F12'!N2811),\"\",('DE01-F12'!N2811))","v":""},{"$f":"MID('DE01-F12'!G2811,1,18)","v":""},{"$f":"IF(ISBLANK('DE01-F12'!P2811),\"\",('DE01-F12'!P2811))","v":""},{"$f":"IF(ISBLANK('DE01-F12'!Q2811),\"\",('DE01-F12'!Q2811))","v":""},{"$f":"IF(ISBLANK('DE01-F12'!S2811),\"\",('DE01-F12'!S2811))","v":0}]
[{"$f":"IF(ISBLANK('DE01-F12'!N2812),\"\",('DE01-F12'!N2812))","v":""},{"$f":"MID('DE01-F12'!G2812,1,18)","v":""},{"$f":"IF(ISBLANK('DE01-F12'!P2812),\"\",('DE01-F12'!P2812))","v":""},{"$f":"IF(ISBLANK('DE01-F12'!Q2812),\"\",('DE01-F12'!Q2812))","v":""},{"$f":"IF(ISBLANK('DE01-F12'!S2812),\"\",('DE01-F12'!S2812))","v":0}]
[{"$f":"IF(ISBLANK('DE01-F12'!N2813),\"\",('DE01-F12'!N2813))","v":""},{"$f":"MID('DE01-F12'!G2813,1,18)","v":""},{"$f":"IF(ISBLANK('DE01-F12'!P2813),\"\",('DE01-F12'!P2813))","v":""},{"$f":"IF(ISBLANK('DE01-F12'!Q2813),\"\",('DE01-F12'!Q2813))","v":""},{"$f":"IF(ISBLANK('DE01-F12'!S2813),\"\",('DE01-F12'!S2813))","v":0}]
[{"$f":"IF(ISBLANK('DE01-F12'!N2814),\"\",('DE01-F12'!N2814))","v":""},{"$f":"MID('DE01-F12'!G2814,1,18)","v":""},{"$f":"IF(ISBLANK('DE01-F12'!P2814),\"\",('DE01-F12'!P2814))","v":""},{"$f":"IF(ISBLANK('DE01-F12'!Q2814),\"\",('DE01-F12'!Q2814))","v":""},{"$f":"IF(ISBLANK('DE01-F12'!S2814),\"\",('DE01-F12'!S2814))","v":0}]
[{"$f":"IF(ISBLANK('DE01-F12'!N2815),\"\",('DE01-F12'!N2815))","v":""},{"$f":"MID('DE01-F12'!G2815,1,18)","v":""},{"$f":"IF(ISBLANK('DE01-F12'!P2815),\"\",('DE01-F12'!P2815))","v":""},{"$f":"IF(ISBLANK('DE01-F12'!Q2815),\"\",('DE01-F12'!Q2815))","v":""},{"$f":"IF(ISBLANK('DE01-F12'!S2815),\"\",('DE01-F12'!S2815))","v":0}]
[{"$f":"IF(ISBLANK('DE01-F12'!N2816),\"\",('DE01-F12'!N2816))","v":""},{"$f":"MID('DE01-F12'!G2816,1,18)","v":""},{"$f":"IF(ISBLANK('DE01-F12'!P2816),\"\",('DE01-F12'!P2816))","v":""},{"$f":"IF(ISBLANK('DE01-F12'!Q2816),\"\",('DE01-F12'!Q2816))","v":""},{"$f":"IF(ISBLANK('DE01-F12'!S2816),\"\",('DE01-F12'!S2816))","v":0}]
[{"$f":"IF(ISBLANK('DE01-F12'!N2817),\"\",('DE01-F12'!N2817))","v":""},{"$f":"MID('DE01-F12'!G2817,1,18)","v":""},{"$f":"IF(ISBLANK('DE01-F12'!P2817),\"\",('DE01-F12'!P2817))","v":""},{"$f":"IF(ISBLANK('DE01-F12'!Q2817),\"\",('DE01-F12'!Q2817))","v":""},{"$f":"IF(ISBLANK('DE01-F12'!S2817),\"\",('DE01-F12'!S2817))","v":0}]
[{"$f":"IF(ISBLANK('DE01-F12'!N2818),\"\",('DE01-F12'!N2818))","v":""},{"$f":"MID('DE01-F12'!G2818,1,18)","v":""},{"$f":"IF(ISBLANK('DE01-F12'!P2818),\"\",('DE01-F12'!P2818))","v":""},{"$f":"IF(ISBLANK('DE01-F12'!Q2818),\"\",('DE01-F12'!Q2818))","v":""},{"$f":"IF(ISBLANK('DE01-F12'!S2818),\"\",('DE01-F12'!S2818))","v":0}]
[{"$f":"IF(ISBLANK('DE01-F12'!N2819),\"\",('DE01-F12'!N2819))","v":""},{"$f":"MID('DE01-F12'!G2819,1,18)","v":""},{"$f":"IF(ISBLANK('DE01-F12'!P2819),\"\",('DE01-F12'!P2819))","v":""},{"$f":"IF(ISBLANK('DE01-F12'!Q2819),\"\",('DE01-F12'!Q2819))","v":""},{"$f":"IF(ISBLANK('DE01-F12'!S2819),\"\",('DE01-F12'!S2819))","v":0}]
[{"$f":"IF(ISBLANK('DE01-F12'!N2820),\"\",('DE01-F12'!N2820))","v":""},{"$f":"MID('DE01-F12'!G2820,1,18)","v":""},{"$f":"IF(ISBLANK('DE01-F12'!P2820),\"\",('DE01-F12'!P2820))","v":""},{"$f":"IF(ISBLANK('DE01-F12'!Q2820),\"\",('DE01-F12'!Q2820))","v":""},{"$f":"IF(ISBLANK('DE01-F12'!S2820),\"\",('DE01-F12'!S2820))","v":0}]
[{"$f":"IF(ISBLANK('DE01-F12'!N2821),\"\",('DE01-F12'!N2821))","v":""},{"$f":"MID('DE01-F12'!G2821,1,18)","v":""},{"$f":"IF(ISBLANK('DE01-F12'!P2821),\"\",('DE01-F12'!P2821))","v":""},{"$f":"IF(ISBLANK('DE01-F12'!Q2821),\"\",('DE01-F12'!Q2821))","v":""},{"$f":"IF(ISBLANK('DE01-F12'!S2821),\"\",('DE01-F12'!S2821))","v":0}]
[{"$f":"IF(ISBLANK('DE01-F12'!N2822),\"\",('DE01-F12'!N2822))","v":""},{"$f":"MID('DE01-F12'!G2822,1,18)","v":""},{"$f":"IF(ISBLANK('DE01-F12'!P2822),\"\",('DE01-F12'!P2822))","v":""},{"$f":"IF(ISBLANK('DE01-F12'!Q2822),\"\",('DE01-F12'!Q2822))","v":""},{"$f":"IF(ISBLANK('DE01-F12'!S2822),\"\",('DE01-F12'!S2822))","v":0}]
[{"$f":"IF(ISBLANK('DE01-F12'!N2823),\"\",('DE01-F12'!N2823))","v":""},{"$f":"MID('DE01-F12'!G2823,1,18)","v":""},{"$f":"IF(ISBLANK('DE01-F12'!P2823),\"\",('DE01-F12'!P2823))","v":""},{"$f":"IF(ISBLANK('DE01-F12'!Q2823),\"\",('DE01-F12'!Q2823))","v":""},{"$f":"IF(ISBLANK('DE01-F12'!S2823),\"\",('DE01-F12'!S2823))","v":0}]
[{"$f":"IF(ISBLANK('DE01-F12'!N2824),\"\",('DE01-F12'!N2824))","v":""},{"$f":"MID('DE01-F12'!G2824,1,18)","v":""},{"$f":"IF(ISBLANK('DE01-F12'!P2824),\"\",('DE01-F12'!P2824))","v":""},{"$f":"IF(ISBLANK('DE01-F12'!Q2824),\"\",('DE01-F12'!Q2824))","v":""},{"$f":"IF(ISBLANK('DE01-F12'!S2824),\"\",('DE01-F12'!S2824))","v":0}]
[{"$f":"IF(ISBLANK('DE01-F12'!N2825),\"\",('DE01-F12'!N2825))","v":""},{"$f":"MID('DE01-F12'!G2825,1,18)","v":""},{"$f":"IF(ISBLANK('DE01-F12'!P2825),\"\",('DE01-F12'!P2825))","v":""},{"$f":"IF(ISBLANK('DE01-F12'!Q2825),\"\",('DE01-F12'!Q2825))","v":""},{"$f":"IF(ISBLANK('DE01-F12'!S2825),\"\",('DE01-F12'!S2825))","v":0}]
[{"$f":"IF(ISBLANK('DE01-F12'!N2826),\"\",('DE01-F12'!N2826))","v":""},{"$f":"MID('DE01-F12'!G2826,1,18)","v":""},{"$f":"IF(ISBLANK('DE01-F12'!P2826),\"\",('DE01-F12'!P2826))","v":""},{"$f":"IF(ISBLANK('DE01-F12'!Q2826),\"\",('DE01-F12'!Q2826))","v":""},{"$f":"IF(ISBLANK('DE01-F12'!S2826),\"\",('DE01-F12'!S2826))","v":0}]
[{"$f":"IF(ISBLANK('DE01-F12'!N2827),\"\",('DE01-F12'!N2827))","v":""},{"$f":"MID('DE01-F12'!G2827,1,18)","v":""},{"$f":"IF(ISBLANK('DE01-F12'!P2827),\"\",('DE01-F12'!P2827))","v":""},{"$f":"IF(ISBLANK('DE01-F12'!Q2827),\"\",('DE01-F12'!Q2827))","v":""},{"$f":"IF(ISBLANK('DE01-F12'!S2827),\"\",('DE01-F12'!S2827))","v":0}]
[{"$f":"IF(ISBLANK('DE01-F12'!N2828),\"\",('DE01-F12'!N2828))","v":""},{"$f":"MID('DE01-F12'!G2828,1,18)","v":""},{"$f":"IF(ISBLANK('DE01-F12'!P2828),\"\",('DE01-F12'!P2828))","v":""},{"$f":"IF(ISBLANK('DE01-F12'!Q2828),\"\",('DE01-F12'!Q2828))","v":""},{"$f":"IF(ISBLANK('DE01-F12'!S2828),\"\",('DE01-F12'!S2828))","v":0}]
[{"$f":"IF(ISBLANK('DE01-F12'!N2829),\"\",('DE01-F12'!N2829))","v":""},{"$f":"MID('DE01-F12'!G2829,1,18)","v":""},{"$f":"IF(ISBLANK('DE01-F12'!P2829),\"\",('DE01-F12'!P2829))","v":""},{"$f":"IF(ISBLANK('DE01-F12'!Q2829),\"\",('DE01-F12'!Q2829))","v":""},{"$f":"IF(ISBLANK('DE01-F12'!S2829),\"\",('DE01-F12'!S2829))","v":0}]
[{"$f":"IF(ISBLANK('DE01-F12'!N2830),\"\",('DE01-F12'!N2830))","v":""},{"$f":"MID('DE01-F12'!G2830,1,18)","v":""},{"$f":"IF(ISBLANK('DE01-F12'!P2830),\"\",('DE01-F12'!P2830))","v":""},{"$f":"IF(ISBLANK('DE01-F12'!Q2830),\"\",('DE01-F12'!Q2830))","v":""},{"$f":"IF(ISBLANK('DE01-F12'!S2830),\"\",('DE01-F12'!S2830))","v":0}]
[{"$f":"IF(ISBLANK('DE01-F12'!N2831),\"\",('DE01-F12'!N2831))","v":""},{"$f":"MID('DE01-F12'!G2831,1,18)","v":""},{"$f":"IF(ISBLANK('DE01-F12'!P2831),\"\",('DE01-F12'!P2831))","v":""},{"$f":"IF(ISBLANK('DE01-F12'!Q2831),\"\",('DE01-F12'!Q2831))","v":""},{"$f":"IF(ISBLANK('DE01-F12'!S2831),\"\",('DE01-F12'!S2831))","v":0}]
[{"$f":"IF(ISBLANK('DE01-F12'!N2832),\"\",('DE01-F12'!N2832))","v":""},{"$f":"MID('DE01-F12'!G2832,1,18)","v":""},{"$f":"IF(ISBLANK('DE01-F12'!P2832),\"\",('DE01-F12'!P2832))","v":""},{"$f":"IF(ISBLANK('DE01-F12'!Q2832),\"\",('DE01-F12'!Q2832))","v":""},{"$f":"IF(ISBLANK('DE01-F12'!S2832),\"\",('DE01-F12'!S2832))","v":0}]
[{"$f":"IF(ISBLANK('DE01-F12'!N2833),\"\",('DE01-F12'!N2833))","v":""},{"$f":"MID('DE01-F12'!G2833,1,18)","v":""},{"$f":"IF(ISBLANK('DE01-F12'!P2833),\"\",('DE01-F12'!P2833))","v":""},{"$f":"IF(ISBLANK('DE01-F12'!Q2833),\"\",('DE01-F12'!Q2833))","v":""},{"$f":"IF(ISBLANK('DE01-F12'!S2833),\"\",('DE01-F12'!S2833))","v":0}]
[{"$f":"IF(ISBLANK('DE01-F12'!N2834),\"\",('DE01-F12'!N2834))","v":""},{"$f":"MID('DE01-F12'!G2834,1,18)","v":""},{"$f":"IF(ISBLANK('DE01-F12'!P2834),\"\",('DE01-F12'!P2834))","v":""},{"$f":"IF(ISBLANK('DE01-F12'!Q2834),\"\",('DE01-F12'!Q2834))","v":""},{"$f":"IF(ISBLANK('DE01-F12'!S2834),\"\",('DE01-F12'!S2834))","v":0}]
[{"$f":"IF(ISBLANK('DE01-F12'!N2835),\"\",('DE01-F12'!N2835))","v":""},{"$f":"MID('DE01-F12'!G2835,1,18)","v":""},{"$f":"IF(ISBLANK('DE01-F12'!P2835),\"\",('DE01-F12'!P2835))","v":""},{"$f":"IF(ISBLANK('DE01-F12'!Q2835),\"\",('DE01-F12'!Q2835))","v":""},{"$f":"IF(ISBLANK('DE01-F12'!S2835),\"\",('DE01-F12'!S2835))","v":0}]
[{"$f":"IF(ISBLANK('DE01-F12'!N2836),\"\",('DE01-F12'!N2836))","v":""},{"$f":"MID('DE01-F12'!G2836,1,18)","v":""},{"$f":"IF(ISBLANK('DE01-F12'!P2836),\"\",('DE01-F12'!P2836))","v":""},{"$f":"IF(ISBLANK('DE01-F12'!Q2836),\"\",('DE01-F12'!Q2836))","v":""},{"$f":"IF(ISBLANK('DE01-F12'!S2836),\"\",('DE01-F12'!S2836))","v":0}]
[{"$f":"IF(ISBLANK('DE01-F12'!N2837),\"\",('DE01-F12'!N2837))","v":""},{"$f":"MID('DE01-F12'!G2837,1,18)","v":""},{"$f":"IF(ISBLANK('DE01-F12'!P2837),\"\",('DE01-F12'!P2837))","v":""},{"$f":"IF(ISBLANK('DE01-F12'!Q2837),\"\",('DE01-F12'!Q2837))","v":""},{"$f":"IF(ISBLANK('DE01-F12'!S2837),\"\",('DE01-F12'!S2837))","v":0}]
[{"$f":"IF(ISBLANK('DE01-F12'!N2838),\"\",('DE01-F12'!N2838))","v":""},{"$f":"MID('DE01-F12'!G2838,1,18)","v":""},{"$f":"IF(ISBLANK('DE01-F12'!P2838),\"\",('DE01-F12'!P2838))","v":""},{"$f":"IF(ISBLANK('DE01-F12'!Q2838),\"\",('DE01-F12'!Q2838))","v":""},{"$f":"IF(ISBLANK('DE01-F12'!S2838),\"\",('DE01-F12'!S2838))","v":0}]
[{"$f":"IF(ISBLANK('DE01-F12'!N2839),\"\",('DE01-F12'!N2839))","v":""},{"$f":"MID('DE01-F12'!G2839,1,18)","v":""},{"$f":"IF(ISBLANK('DE01-F12'!P2839),\"\",('DE01-F12'!P2839))","v":""},{"$f":"IF(ISBLANK('DE01-F12'!Q2839),\"\",('DE01-F12'!Q2839))","v":""},{"$f":"IF(ISBLANK('DE01-F12'!S2839),\"\",('DE01-F12'!S2839))","v":0}]
[{"$f":"IF(ISBLANK('DE01-F12'!N2840),\"\",('DE01-F12'!N2840))","v":""},{"$f":"MID('DE01-F12'!G2840,1,18)","v":""},{"$f":"IF(ISBLANK('DE01-F12'!P2840),\"\",('DE01-F12'!P2840))","v":""},{"$f":"IF(ISBLANK('DE01-F12'!Q2840),\"\",('DE01-F12'!Q2840))","v":""},{"$f":"IF(ISBLANK('DE01-F12'!S2840),\"\",('DE01-F12'!S2840))","v":0}]
[{"$f":"IF(ISBLANK('DE01-F12'!N2841),\"\",('DE01-F12'!N2841))","v":""},{"$f":"MID('DE01-F12'!G2841,1,18)","v":""},{"$f":"IF(ISBLANK('DE01-F12'!P2841),\"\",('DE01-F12'!P2841))","v":""},{"$f":"IF(ISBLANK('DE01-F12'!Q2841),\"\",('DE01-F12'!Q2841))","v":""},{"$f":"IF(ISBLANK('DE01-F12'!S2841),\"\",('DE01-F12'!S2841))","v":0}]
[{"$f":"IF(ISBLANK('DE01-F12'!N2842),\"\",('DE01-F12'!N2842))","v":""},{"$f":"MID('DE01-F12'!G2842,1,18)","v":""},{"$f":"IF(ISBLANK('DE01-F12'!P2842),\"\",('DE01-F12'!P2842))","v":""},{"$f":"IF(ISBLANK('DE01-F12'!Q2842),\"\",('DE01-F12'!Q2842))","v":""},{"$f":"IF(ISBLANK('DE01-F12'!S2842),\"\",('DE01-F12'!S2842))","v":0}]
[{"$f":"IF(ISBLANK('DE01-F12'!N2843),\"\",('DE01-F12'!N2843))","v":""},{"$f":"MID('DE01-F12'!G2843,1,18)","v":""},{"$f":"IF(ISBLANK('DE01-F12'!P2843),\"\",('DE01-F12'!P2843))","v":""},{"$f":"IF(ISBLANK('DE01-F12'!Q2843),\"\",('DE01-F12'!Q2843))","v":""},{"$f":"IF(ISBLANK('DE01-F12'!S2843),\"\",('DE01-F12'!S2843))","v":0}]
[{"$f":"IF(ISBLANK('DE01-F12'!N2844),\"\",('DE01-F12'!N2844))","v":""},{"$f":"MID('DE01-F12'!G2844,1,18)","v":""},{"$f":"IF(ISBLANK('DE01-F12'!P2844),\"\",('DE01-F12'!P2844))","v":""},{"$f":"IF(ISBLANK('DE01-F12'!Q2844),\"\",('DE01-F12'!Q2844))","v":""},{"$f":"IF(ISBLANK('DE01-F12'!S2844),\"\",('DE01-F12'!S2844))","v":0}]
[{"$f":"IF(ISBLANK('DE01-F12'!N2845),\"\",('DE01-F12'!N2845))","v":""},{"$f":"MID('DE01-F12'!G2845,1,18)","v":""},{"$f":"IF(ISBLANK('DE01-F12'!P2845),\"\",('DE01-F12'!P2845))","v":""},{"$f":"IF(ISBLANK('DE01-F12'!Q2845),\"\",('DE01-F12'!Q2845))","v":""},{"$f":"IF(ISBLANK('DE01-F12'!S2845),\"\",('DE01-F12'!S2845))","v":0}]
[{"$f":"IF(ISBLANK('DE01-F12'!N2846),\"\",('DE01-F12'!N2846))","v":""},{"$f":"MID('DE01-F12'!G2846,1,18)","v":""},{"$f":"IF(ISBLANK('DE01-F12'!P2846),\"\",('DE01-F12'!P2846))","v":""},{"$f":"IF(ISBLANK('DE01-F12'!Q2846),\"\",('DE01-F12'!Q2846))","v":""},{"$f":"IF(ISBLANK('DE01-F12'!S2846),\"\",('DE01-F12'!S2846))","v":0}]
[{"$f":"IF(ISBLANK('DE01-F12'!N2847),\"\",('DE01-F12'!N2847))","v":""},{"$f":"MID('DE01-F12'!G2847,1,18)","v":""},{"$f":"IF(ISBLANK('DE01-F12'!P2847),\"\",('DE01-F12'!P2847))","v":""},{"$f":"IF(ISBLANK('DE01-F12'!Q2847),\"\",('DE01-F12'!Q2847))","v":""},{"$f":"IF(ISBLANK('DE01-F12'!S2847),\"\",('DE01-F12'!S2847))","v":0}]
[{"$f":"IF(ISBLANK('DE01-F12'!N2848),\"\",('DE01-F12'!N2848))","v":""},{"$f":"MID('DE01-F12'!G2848,1,18)","v":""},{"$f":"IF(ISBLANK('DE01-F12'!P2848),\"\",('DE01-F12'!P2848))","v":""},{"$f":"IF(ISBLANK('DE01-F12'!Q2848),\"\",('DE01-F12'!Q2848))","v":""},{"$f":"IF(ISBLANK('DE01-F12'!S2848),\"\",('DE01-F12'!S2848))","v":0}]
[{"$f":"IF(ISBLANK('DE01-F12'!N2849),\"\",('DE01-F12'!N2849))","v":""},{"$f":"MID('DE01-F12'!G2849,1,18)","v":""},{"$f":"IF(ISBLANK('DE01-F12'!P2849),\"\",('DE01-F12'!P2849))","v":""},{"$f":"IF(ISBLANK('DE01-F12'!Q2849),\"\",('DE01-F12'!Q2849))","v":""},{"$f":"IF(ISBLANK('DE01-F12'!S2849),\"\",('DE01-F12'!S2849))","v":0}]
[{"$f":"IF(ISBLANK('DE01-F12'!N2850),\"\",('DE01-F12'!N2850))","v":""},{"$f":"MID('DE01-F12'!G2850,1,18)","v":""},{"$f":"IF(ISBLANK('DE01-F12'!P2850),\"\",('DE01-F12'!P2850))","v":""},{"$f":"IF(ISBLANK('DE01-F12'!Q2850),\"\",('DE01-F12'!Q2850))","v":""},{"$f":"IF(ISBLANK('DE01-F12'!S2850),\"\",('DE01-F12'!S2850))","v":0}]
[{"$f":"IF(ISBLANK('DE01-F12'!N2851),\"\",('DE01-F12'!N2851))","v":""},{"$f":"MID('DE01-F12'!G2851,1,18)","v":""},{"$f":"IF(ISBLANK('DE01-F12'!P2851),\"\",('DE01-F12'!P2851))","v":""},{"$f":"IF(ISBLANK('DE01-F12'!Q2851),\"\",('DE01-F12'!Q2851))","v":""},{"$f":"IF(ISBLANK('DE01-F12'!S2851),\"\",('DE01-F12'!S2851))","v":0}]
[{"$f":"IF(ISBLANK('DE01-F12'!N2852),\"\",('DE01-F12'!N2852))","v":""},{"$f":"MID('DE01-F12'!G2852,1,18)","v":""},{"$f":"IF(ISBLANK('DE01-F12'!P2852),\"\",('DE01-F12'!P2852))","v":""},{"$f":"IF(ISBLANK('DE01-F12'!Q2852),\"\",('DE01-F12'!Q2852))","v":""},{"$f":"IF(ISBLANK('DE01-F12'!S2852),\"\",('DE01-F12'!S2852))","v":0}]
[{"$f":"IF(ISBLANK('DE01-F12'!N2853),\"\",('DE01-F12'!N2853))","v":""},{"$f":"MID('DE01-F12'!G2853,1,18)","v":""},{"$f":"IF(ISBLANK('DE01-F12'!P2853),\"\",('DE01-F12'!P2853))","v":""},{"$f":"IF(ISBLANK('DE01-F12'!Q2853),\"\",('DE01-F12'!Q2853))","v":""},{"$f":"IF(ISBLANK('DE01-F12'!S2853),\"\",('DE01-F12'!S2853))","v":0}]
[{"$f":"IF(ISBLANK('DE01-F12'!N2854),\"\",('DE01-F12'!N2854))","v":""},{"$f":"MID('DE01-F12'!G2854,1,18)","v":""},{"$f":"IF(ISBLANK('DE01-F12'!P2854),\"\",('DE01-F12'!P2854))","v":""},{"$f":"IF(ISBLANK('DE01-F12'!Q2854),\"\",('DE01-F12'!Q2854))","v":""},{"$f":"IF(ISBLANK('DE01-F12'!S2854),\"\",('DE01-F12'!S2854))","v":0}]
[{"$f":"IF(ISBLANK('DE01-F12'!N2855),\"\",('DE01-F12'!N2855))","v":""},{"$f":"MID('DE01-F12'!G2855,1,18)","v":""},{"$f":"IF(ISBLANK('DE01-F12'!P2855),\"\",('DE01-F12'!P2855))","v":""},{"$f":"IF(ISBLANK('DE01-F12'!Q2855),\"\",('DE01-F12'!Q2855))","v":""},{"$f":"IF(ISBLANK('DE01-F12'!S2855),\"\",('DE01-F12'!S2855))","v":0}]
[{"$f":"IF(ISBLANK('DE01-F12'!N2856),\"\",('DE01-F12'!N2856))","v":""},{"$f":"MID('DE01-F12'!G2856,1,18)","v":""},{"$f":"IF(ISBLANK('DE01-F12'!P2856),\"\",('DE01-F12'!P2856))","v":""},{"$f":"IF(ISBLANK('DE01-F12'!Q2856),\"\",('DE01-F12'!Q2856))","v":""},{"$f":"IF(ISBLANK('DE01-F12'!S2856),\"\",('DE01-F12'!S2856))","v":0}]
[{"$f":"IF(ISBLANK('DE01-F12'!N2857),\"\",('DE01-F12'!N2857))","v":""},{"$f":"MID('DE01-F12'!G2857,1,18)","v":""},{"$f":"IF(ISBLANK('DE01-F12'!P2857),\"\",('DE01-F12'!P2857))","v":""},{"$f":"IF(ISBLANK('DE01-F12'!Q2857),\"\",('DE01-F12'!Q2857))","v":""},{"$f":"IF(ISBLANK('DE01-F12'!S2857),\"\",('DE01-F12'!S2857))","v":0}]
[{"$f":"IF(ISBLANK('DE01-F12'!N2858),\"\",('DE01-F12'!N2858))","v":""},{"$f":"MID('DE01-F12'!G2858,1,18)","v":""},{"$f":"IF(ISBLANK('DE01-F12'!P2858),\"\",('DE01-F12'!P2858))","v":""},{"$f":"IF(ISBLANK('DE01-F12'!Q2858),\"\",('DE01-F12'!Q2858))","v":""},{"$f":"IF(ISBLANK('DE01-F12'!S2858),\"\",('DE01-F12'!S2858))","v":0}]
[{"$f":"IF(ISBLANK('DE01-F12'!N2859),\"\",('DE01-F12'!N2859))","v":""},{"$f":"MID('DE01-F12'!G2859,1,18)","v":""},{"$f":"IF(ISBLANK('DE01-F12'!P2859),\"\",('DE01-F12'!P2859))","v":""},{"$f":"IF(ISBLANK('DE01-F12'!Q2859),\"\",('DE01-F12'!Q2859))","v":""},{"$f":"IF(ISBLANK('DE01-F12'!S2859),\"\",('DE01-F12'!S2859))","v":0}]
[{"$f":"IF(ISBLANK('DE01-F12'!N2860),\"\",('DE01-F12'!N2860))","v":""},{"$f":"MID('DE01-F12'!G2860,1,18)","v":""},{"$f":"IF(ISBLANK('DE01-F12'!P2860),\"\",('DE01-F12'!P2860))","v":""},{"$f":"IF(ISBLANK('DE01-F12'!Q2860),\"\",('DE01-F12'!Q2860))","v":""},{"$f":"IF(ISBLANK('DE01-F12'!S2860),\"\",('DE01-F12'!S2860))","v":0}]
[{"$f":"IF(ISBLANK('DE01-F12'!N2861),\"\",('DE01-F12'!N2861))","v":""},{"$f":"MID('DE01-F12'!G2861,1,18)","v":""},{"$f":"IF(ISBLANK('DE01-F12'!P2861),\"\",('DE01-F12'!P2861))","v":""},{"$f":"IF(ISBLANK('DE01-F12'!Q2861),\"\",('DE01-F12'!Q2861))","v":""},{"$f":"IF(ISBLANK('DE01-F12'!S2861),\"\",('DE01-F12'!S2861))","v":0}]
[{"$f":"IF(ISBLANK('DE01-F12'!N2862),\"\",('DE01-F12'!N2862))","v":""},{"$f":"MID('DE01-F12'!G2862,1,18)","v":""},{"$f":"IF(ISBLANK('DE01-F12'!P2862),\"\",('DE01-F12'!P2862))","v":""},{"$f":"IF(ISBLANK('DE01-F12'!Q2862),\"\",('DE01-F12'!Q2862))","v":""},{"$f":"IF(ISBLANK('DE01-F12'!S2862),\"\",('DE01-F12'!S2862))","v":0}]
[{"$f":"IF(ISBLANK('DE01-F12'!N2863),\"\",('DE01-F12'!N2863))","v":""},{"$f":"MID('DE01-F12'!G2863,1,18)","v":""},{"$f":"IF(ISBLANK('DE01-F12'!P2863),\"\",('DE01-F12'!P2863))","v":""},{"$f":"IF(ISBLANK('DE01-F12'!Q2863),\"\",('DE01-F12'!Q2863))","v":""},{"$f":"IF(ISBLANK('DE01-F12'!S2863),\"\",('DE01-F12'!S2863))","v":0}]
[{"$f":"IF(ISBLANK('DE01-F12'!N2864),\"\",('DE01-F12'!N2864))","v":""},{"$f":"MID('DE01-F12'!G2864,1,18)","v":""},{"$f":"IF(ISBLANK('DE01-F12'!P2864),\"\",('DE01-F12'!P2864))","v":""},{"$f":"IF(ISBLANK('DE01-F12'!Q2864),\"\",('DE01-F12'!Q2864))","v":""},{"$f":"IF(ISBLANK('DE01-F12'!S2864),\"\",('DE01-F12'!S2864))","v":0}]
[{"$f":"IF(ISBLANK('DE01-F12'!N2865),\"\",('DE01-F12'!N2865))","v":""},{"$f":"MID('DE01-F12'!G2865,1,18)","v":""},{"$f":"IF(ISBLANK('DE01-F12'!P2865),\"\",('DE01-F12'!P2865))","v":""},{"$f":"IF(ISBLANK('DE01-F12'!Q2865),\"\",('DE01-F12'!Q2865))","v":""},{"$f":"IF(ISBLANK('DE01-F12'!S2865),\"\",('DE01-F12'!S2865))","v":0}]
[{"$f":"IF(ISBLANK('DE01-F12'!N2866),\"\",('DE01-F12'!N2866))","v":""},{"$f":"MID('DE01-F12'!G2866,1,18)","v":""},{"$f":"IF(ISBLANK('DE01-F12'!P2866),\"\",('DE01-F12'!P2866))","v":""},{"$f":"IF(ISBLANK('DE01-F12'!Q2866),\"\",('DE01-F12'!Q2866))","v":""},{"$f":"IF(ISBLANK('DE01-F12'!S2866),\"\",('DE01-F12'!S2866))","v":0}]
[{"$f":"IF(ISBLANK('DE01-F12'!N2867),\"\",('DE01-F12'!N2867))","v":""},{"$f":"MID('DE01-F12'!G2867,1,18)","v":""},{"$f":"IF(ISBLANK('DE01-F12'!P2867),\"\",('DE01-F12'!P2867))","v":""},{"$f":"IF(ISBLANK('DE01-F12'!Q2867),\"\",('DE01-F12'!Q2867))","v":""},{"$f":"IF(ISBLANK('DE01-F12'!S2867),\"\",('DE01-F12'!S2867))","v":0}]
[{"$f":"IF(ISBLANK('DE01-F12'!N2868),\"\",('DE01-F12'!N2868))","v":""},{"$f":"MID('DE01-F12'!G2868,1,18)","v":""},{"$f":"IF(ISBLANK('DE01-F12'!P2868),\"\",('DE01-F12'!P2868))","v":""},{"$f":"IF(ISBLANK('DE01-F12'!Q2868),\"\",('DE01-F12'!Q2868))","v":""},{"$f":"IF(ISBLANK('DE01-F12'!S2868),\"\",('DE01-F12'!S2868))","v":0}]
[{"$f":"IF(ISBLANK('DE01-F12'!N2869),\"\",('DE01-F12'!N2869))","v":""},{"$f":"MID('DE01-F12'!G2869,1,18)","v":""},{"$f":"IF(ISBLANK('DE01-F12'!P2869),\"\",('DE01-F12'!P2869))","v":""},{"$f":"IF(ISBLANK('DE01-F12'!Q2869),\"\",('DE01-F12'!Q2869))","v":""},{"$f":"IF(ISBLANK('DE01-F12'!S2869),\"\",('DE01-F12'!S2869))","v":0}]
[{"$f":"IF(ISBLANK('DE01-F12'!N2870),\"\",('DE01-F12'!N2870))","v":""},{"$f":"MID('DE01-F12'!G2870,1,18)","v":""},{"$f":"IF(ISBLANK('DE01-F12'!P2870),\"\",('DE01-F12'!P2870))","v":""},{"$f":"IF(ISBLANK('DE01-F12'!Q2870),\"\",('DE01-F12'!Q2870))","v":""},{"$f":"IF(ISBLANK('DE01-F12'!S2870),\"\",('DE01-F12'!S2870))","v":0}]
[{"$f":"IF(ISBLANK('DE01-F12'!N2871),\"\",('DE01-F12'!N2871))","v":""},{"$f":"MID('DE01-F12'!G2871,1,18)","v":""},{"$f":"IF(ISBLANK('DE01-F12'!P2871),\"\",('DE01-F12'!P2871))","v":""},{"$f":"IF(ISBLANK('DE01-F12'!Q2871),\"\",('DE01-F12'!Q2871))","v":""},{"$f":"IF(ISBLANK('DE01-F12'!S2871),\"\",('DE01-F12'!S2871))","v":0}]
[{"$f":"IF(ISBLANK('DE01-F12'!N2872),\"\",('DE01-F12'!N2872))","v":""},{"$f":"MID('DE01-F12'!G2872,1,18)","v":""},{"$f":"IF(ISBLANK('DE01-F12'!P2872),\"\",('DE01-F12'!P2872))","v":""},{"$f":"IF(ISBLANK('DE01-F12'!Q2872),\"\",('DE01-F12'!Q2872))","v":""},{"$f":"IF(ISBLANK('DE01-F12'!S2872),\"\",('DE01-F12'!S2872))","v":0}]
[{"$f":"IF(ISBLANK('DE01-F12'!N2873),\"\",('DE01-F12'!N2873))","v":""},{"$f":"MID('DE01-F12'!G2873,1,18)","v":""},{"$f":"IF(ISBLANK('DE01-F12'!P2873),\"\",('DE01-F12'!P2873))","v":""},{"$f":"IF(ISBLANK('DE01-F12'!Q2873),\"\",('DE01-F12'!Q2873))","v":""},{"$f":"IF(ISBLANK('DE01-F12'!S2873),\"\",('DE01-F12'!S2873))","v":0}]
[{"$f":"IF(ISBLANK('DE01-F12'!N2874),\"\",('DE01-F12'!N2874))","v":""},{"$f":"MID('DE01-F12'!G2874,1,18)","v":""},{"$f":"IF(ISBLANK('DE01-F12'!P2874),\"\",('DE01-F12'!P2874))","v":""},{"$f":"IF(ISBLANK('DE01-F12'!Q2874),\"\",('DE01-F12'!Q2874))","v":""},{"$f":"IF(ISBLANK('DE01-F12'!S2874),\"\",('DE01-F12'!S2874))","v":0}]
[{"$f":"IF(ISBLANK('DE01-F12'!N2875),\"\",('DE01-F12'!N2875))","v":""},{"$f":"MID('DE01-F12'!G2875,1,18)","v":""},{"$f":"IF(ISBLANK('DE01-F12'!P2875),\"\",('DE01-F12'!P2875))","v":""},{"$f":"IF(ISBLANK('DE01-F12'!Q2875),\"\",('DE01-F12'!Q2875))","v":""},{"$f":"IF(ISBLANK('DE01-F12'!S2875),\"\",('DE01-F12'!S2875))","v":0}]
[{"$f":"IF(ISBLANK('DE01-F12'!N2876),\"\",('DE01-F12'!N2876))","v":""},{"$f":"MID('DE01-F12'!G2876,1,18)","v":""},{"$f":"IF(ISBLANK('DE01-F12'!P2876),\"\",('DE01-F12'!P2876))","v":""},{"$f":"IF(ISBLANK('DE01-F12'!Q2876),\"\",('DE01-F12'!Q2876))","v":""},{"$f":"IF(ISBLANK('DE01-F12'!S2876),\"\",('DE01-F12'!S2876))","v":0}]
[{"$f":"IF(ISBLANK('DE01-F12'!N2877),\"\",('DE01-F12'!N2877))","v":""},{"$f":"MID('DE01-F12'!G2877,1,18)","v":""},{"$f":"IF(ISBLANK('DE01-F12'!P2877),\"\",('DE01-F12'!P2877))","v":""},{"$f":"IF(ISBLANK('DE01-F12'!Q2877),\"\",('DE01-F12'!Q2877))","v":""},{"$f":"IF(ISBLANK('DE01-F12'!S2877),\"\",('DE01-F12'!S2877))","v":0}]
[{"$f":"IF(ISBLANK('DE01-F12'!N2878),\"\",('DE01-F12'!N2878))","v":""},{"$f":"MID('DE01-F12'!G2878,1,18)","v":""},{"$f":"IF(ISBLANK('DE01-F12'!P2878),\"\",('DE01-F12'!P2878))","v":""},{"$f":"IF(ISBLANK('DE01-F12'!Q2878),\"\",('DE01-F12'!Q2878))","v":""},{"$f":"IF(ISBLANK('DE01-F12'!S2878),\"\",('DE01-F12'!S2878))","v":0}]
[{"$f":"IF(ISBLANK('DE01-F12'!N2879),\"\",('DE01-F12'!N2879))","v":""},{"$f":"MID('DE01-F12'!G2879,1,18)","v":""},{"$f":"IF(ISBLANK('DE01-F12'!P2879),\"\",('DE01-F12'!P2879))","v":""},{"$f":"IF(ISBLANK('DE01-F12'!Q2879),\"\",('DE01-F12'!Q2879))","v":""},{"$f":"IF(ISBLANK('DE01-F12'!S2879),\"\",('DE01-F12'!S2879))","v":0}]
[{"$f":"IF(ISBLANK('DE01-F12'!N2880),\"\",('DE01-F12'!N2880))","v":""},{"$f":"MID('DE01-F12'!G2880,1,18)","v":""},{"$f":"IF(ISBLANK('DE01-F12'!P2880),\"\",('DE01-F12'!P2880))","v":""},{"$f":"IF(ISBLANK('DE01-F12'!Q2880),\"\",('DE01-F12'!Q2880))","v":""},{"$f":"IF(ISBLANK('DE01-F12'!S2880),\"\",('DE01-F12'!S2880))","v":0}]
[{"$f":"IF(ISBLANK('DE01-F12'!N2881),\"\",('DE01-F12'!N2881))","v":""},{"$f":"MID('DE01-F12'!G2881,1,18)","v":""},{"$f":"IF(ISBLANK('DE01-F12'!P2881),\"\",('DE01-F12'!P2881))","v":""},{"$f":"IF(ISBLANK('DE01-F12'!Q2881),\"\",('DE01-F12'!Q2881))","v":""},{"$f":"IF(ISBLANK('DE01-F12'!S2881),\"\",('DE01-F12'!S2881))","v":0}]
[{"$f":"IF(ISBLANK('DE01-F12'!N2882),\"\",('DE01-F12'!N2882))","v":""},{"$f":"MID('DE01-F12'!G2882,1,18)","v":""},{"$f":"IF(ISBLANK('DE01-F12'!P2882),\"\",('DE01-F12'!P2882))","v":""},{"$f":"IF(ISBLANK('DE01-F12'!Q2882),\"\",('DE01-F12'!Q2882))","v":""},{"$f":"IF(ISBLANK('DE01-F12'!S2882),\"\",('DE01-F12'!S2882))","v":0}]
[{"$f":"IF(ISBLANK('DE01-F12'!N2883),\"\",('DE01-F12'!N2883))","v":""},{"$f":"MID('DE01-F12'!G2883,1,18)","v":""},{"$f":"IF(ISBLANK('DE01-F12'!P2883),\"\",('DE01-F12'!P2883))","v":""},{"$f":"IF(ISBLANK('DE01-F12'!Q2883),\"\",('DE01-F12'!Q2883))","v":""},{"$f":"IF(ISBLANK('DE01-F12'!S2883),\"\",('DE01-F12'!S2883))","v":0}]
[{"$f":"IF(ISBLANK('DE01-F12'!N2884),\"\",('DE01-F12'!N2884))","v":""},{"$f":"MID('DE01-F12'!G2884,1,18)","v":""},{"$f":"IF(ISBLANK('DE01-F12'!P2884),\"\",('DE01-F12'!P2884))","v":""},{"$f":"IF(ISBLANK('DE01-F12'!Q2884),\"\",('DE01-F12'!Q2884))","v":""},{"$f":"IF(ISBLANK('DE01-F12'!S2884),\"\",('DE01-F12'!S2884))","v":0}]
[{"$f":"IF(ISBLANK('DE01-F12'!N2885),\"\",('DE01-F12'!N2885))","v":""},{"$f":"MID('DE01-F12'!G2885,1,18)","v":""},{"$f":"IF(ISBLANK('DE01-F12'!P2885),\"\",('DE01-F12'!P2885))","v":""},{"$f":"IF(ISBLANK('DE01-F12'!Q2885),\"\",('DE01-F12'!Q2885))","v":""},{"$f":"IF(ISBLANK('DE01-F12'!S2885),\"\",('DE01-F12'!S2885))","v":0}]
[{"$f":"IF(ISBLANK('DE01-F12'!N2886),\"\",('DE01-F12'!N2886))","v":""},{"$f":"MID('DE01-F12'!G2886,1,18)","v":""},{"$f":"IF(ISBLANK('DE01-F12'!P2886),\"\",('DE01-F12'!P2886))","v":""},{"$f":"IF(ISBLANK('DE01-F12'!Q2886),\"\",('DE01-F12'!Q2886))","v":""},{"$f":"IF(ISBLANK('DE01-F12'!S2886),\"\",('DE01-F12'!S2886))","v":0}]
[{"$f":"IF(ISBLANK('DE01-F12'!N2887),\"\",('DE01-F12'!N2887))","v":""},{"$f":"MID('DE01-F12'!G2887,1,18)","v":""},{"$f":"IF(ISBLANK('DE01-F12'!P2887),\"\",('DE01-F12'!P2887))","v":""},{"$f":"IF(ISBLANK('DE01-F12'!Q2887),\"\",('DE01-F12'!Q2887))","v":""},{"$f":"IF(ISBLANK('DE01-F12'!S2887),\"\",('DE01-F12'!S2887))","v":0}]
[{"$f":"IF(ISBLANK('DE01-F12'!N2888),\"\",('DE01-F12'!N2888))","v":""},{"$f":"MID('DE01-F12'!G2888,1,18)","v":""},{"$f":"IF(ISBLANK('DE01-F12'!P2888),\"\",('DE01-F12'!P2888))","v":""},{"$f":"IF(ISBLANK('DE01-F12'!Q2888),\"\",('DE01-F12'!Q2888))","v":""},{"$f":"IF(ISBLANK('DE01-F12'!S2888),\"\",('DE01-F12'!S2888))","v":0}]
[{"$f":"IF(ISBLANK('DE01-F12'!N2889),\"\",('DE01-F12'!N2889))","v":""},{"$f":"MID('DE01-F12'!G2889,1,18)","v":""},{"$f":"IF(ISBLANK('DE01-F12'!P2889),\"\",('DE01-F12'!P2889))","v":""},{"$f":"IF(ISBLANK('DE01-F12'!Q2889),\"\",('DE01-F12'!Q2889))","v":""},{"$f":"IF(ISBLANK('DE01-F12'!S2889),\"\",('DE01-F12'!S2889))","v":0}]
[{"$f":"IF(ISBLANK('DE01-F12'!N2890),\"\",('DE01-F12'!N2890))","v":""},{"$f":"MID('DE01-F12'!G2890,1,18)","v":""},{"$f":"IF(ISBLANK('DE01-F12'!P2890),\"\",('DE01-F12'!P2890))","v":""},{"$f":"IF(ISBLANK('DE01-F12'!Q2890),\"\",('DE01-F12'!Q2890))","v":""},{"$f":"IF(ISBLANK('DE01-F12'!S2890),\"\",('DE01-F12'!S2890))","v":0}]
[{"$f":"IF(ISBLANK('DE01-F12'!N2891),\"\",('DE01-F12'!N2891))","v":""},{"$f":"MID('DE01-F12'!G2891,1,18)","v":""},{"$f":"IF(ISBLANK('DE01-F12'!P2891),\"\",('DE01-F12'!P2891))","v":""},{"$f":"IF(ISBLANK('DE01-F12'!Q2891),\"\",('DE01-F12'!Q2891))","v":""},{"$f":"IF(ISBLANK('DE01-F12'!S2891),\"\",('DE01-F12'!S2891))","v":0}]
[{"$f":"IF(ISBLANK('DE01-F12'!N2892),\"\",('DE01-F12'!N2892))","v":""},{"$f":"MID('DE01-F12'!G2892,1,18)","v":""},{"$f":"IF(ISBLANK('DE01-F12'!P2892),\"\",('DE01-F12'!P2892))","v":""},{"$f":"IF(ISBLANK('DE01-F12'!Q2892),\"\",('DE01-F12'!Q2892))","v":""},{"$f":"IF(ISBLANK('DE01-F12'!S2892),\"\",('DE01-F12'!S2892))","v":0}]
[{"$f":"IF(ISBLANK('DE01-F12'!N2893),\"\",('DE01-F12'!N2893))","v":""},{"$f":"MID('DE01-F12'!G2893,1,18)","v":""},{"$f":"IF(ISBLANK('DE01-F12'!P2893),\"\",('DE01-F12'!P2893))","v":""},{"$f":"IF(ISBLANK('DE01-F12'!Q2893),\"\",('DE01-F12'!Q2893))","v":""},{"$f":"IF(ISBLANK('DE01-F12'!S2893),\"\",('DE01-F12'!S2893))","v":0}]
[{"$f":"IF(ISBLANK('DE01-F12'!N2894),\"\",('DE01-F12'!N2894))","v":""},{"$f":"MID('DE01-F12'!G2894,1,18)","v":""},{"$f":"IF(ISBLANK('DE01-F12'!P2894),\"\",('DE01-F12'!P2894))","v":""},{"$f":"IF(ISBLANK('DE01-F12'!Q2894),\"\",('DE01-F12'!Q2894))","v":""},{"$f":"IF(ISBLANK('DE01-F12'!S2894),\"\",('DE01-F12'!S2894))","v":0}]
[{"$f":"IF(ISBLANK('DE01-F12'!N2895),\"\",('DE01-F12'!N2895))","v":""},{"$f":"MID('DE01-F12'!G2895,1,18)","v":""},{"$f":"IF(ISBLANK('DE01-F12'!P2895),\"\",('DE01-F12'!P2895))","v":""},{"$f":"IF(ISBLANK('DE01-F12'!Q2895),\"\",('DE01-F12'!Q2895))","v":""},{"$f":"IF(ISBLANK('DE01-F12'!S2895),\"\",('DE01-F12'!S2895))","v":0}]
[{"$f":"IF(ISBLANK('DE01-F12'!N2896),\"\",('DE01-F12'!N2896))","v":""},{"$f":"MID('DE01-F12'!G2896,1,18)","v":""},{"$f":"IF(ISBLANK('DE01-F12'!P2896),\"\",('DE01-F12'!P2896))","v":""},{"$f":"IF(ISBLANK('DE01-F12'!Q2896),\"\",('DE01-F12'!Q2896))","v":""},{"$f":"IF(ISBLANK('DE01-F12'!S2896),\"\",('DE01-F12'!S2896))","v":0}]
[{"$f":"IF(ISBLANK('DE01-F12'!N2897),\"\",('DE01-F12'!N2897))","v":""},{"$f":"MID('DE01-F12'!G2897,1,18)","v":""},{"$f":"IF(ISBLANK('DE01-F12'!P2897),\"\",('DE01-F12'!P2897))","v":""},{"$f":"IF(ISBLANK('DE01-F12'!Q2897),\"\",('DE01-F12'!Q2897))","v":""},{"$f":"IF(ISBLANK('DE01-F12'!S2897),\"\",('DE01-F12'!S2897))","v":0}]
[{"$f":"IF(ISBLANK('DE01-F12'!N2898),\"\",('DE01-F12'!N2898))","v":""},{"$f":"MID('DE01-F12'!G2898,1,18)","v":""},{"$f":"IF(ISBLANK('DE01-F12'!P2898),\"\",('DE01-F12'!P2898))","v":""},{"$f":"IF(ISBLANK('DE01-F12'!Q2898),\"\",('DE01-F12'!Q2898))","v":""},{"$f":"IF(ISBLANK('DE01-F12'!S2898),\"\",('DE01-F12'!S2898))","v":0}]
[{"$f":"IF(ISBLANK('DE01-F12'!N2899),\"\",('DE01-F12'!N2899))","v":""},{"$f":"MID('DE01-F12'!G2899,1,18)","v":""},{"$f":"IF(ISBLANK('DE01-F12'!P2899),\"\",('DE01-F12'!P2899))","v":""},{"$f":"IF(ISBLANK('DE01-F12'!Q2899),\"\",('DE01-F12'!Q2899))","v":""},{"$f":"IF(ISBLANK('DE01-F12'!S2899),\"\",('DE01-F12'!S2899))","v":0}]
[{"$f":"IF(ISBLANK('DE01-F12'!N2900),\"\",('DE01-F12'!N2900))","v":""},{"$f":"MID('DE01-F12'!G2900,1,18)","v":""},{"$f":"IF(ISBLANK('DE01-F12'!P2900),\"\",('DE01-F12'!P2900))","v":""},{"$f":"IF(ISBLANK('DE01-F12'!Q2900),\"\",('DE01-F12'!Q2900))","v":""},{"$f":"IF(ISBLANK('DE01-F12'!S2900),\"\",('DE01-F12'!S2900))","v":0}]
[{"$f":"IF(ISBLANK('DE01-F12'!N2901),\"\",('DE01-F12'!N2901))","v":""},{"$f":"MID('DE01-F12'!G2901,1,18)","v":""},{"$f":"IF(ISBLANK('DE01-F12'!P2901),\"\",('DE01-F12'!P2901))","v":""},{"$f":"IF(ISBLANK('DE01-F12'!Q2901),\"\",('DE01-F12'!Q2901))","v":""},{"$f":"IF(ISBLANK('DE01-F12'!S2901),\"\",('DE01-F12'!S2901))","v":0}]
[{"$f":"IF(ISBLANK('DE01-F12'!N2902),\"\",('DE01-F12'!N2902))","v":""},{"$f":"MID('DE01-F12'!G2902,1,18)","v":""},{"$f":"IF(ISBLANK('DE01-F12'!P2902),\"\",('DE01-F12'!P2902))","v":""},{"$f":"IF(ISBLANK('DE01-F12'!Q2902),\"\",('DE01-F12'!Q2902))","v":""},{"$f":"IF(ISBLANK('DE01-F12'!S2902),\"\",('DE01-F12'!S2902))","v":0}]
[{"$f":"IF(ISBLANK('DE01-F12'!N2903),\"\",('DE01-F12'!N2903))","v":""},{"$f":"MID('DE01-F12'!G2903,1,18)","v":""},{"$f":"IF(ISBLANK('DE01-F12'!P2903),\"\",('DE01-F12'!P2903))","v":""},{"$f":"IF(ISBLANK('DE01-F12'!Q2903),\"\",('DE01-F12'!Q2903))","v":""},{"$f":"IF(ISBLANK('DE01-F12'!S2903),\"\",('DE01-F12'!S2903))","v":0}]
[{"$f":"IF(ISBLANK('DE01-F12'!N2904),\"\",('DE01-F12'!N2904))","v":""},{"$f":"MID('DE01-F12'!G2904,1,18)","v":""},{"$f":"IF(ISBLANK('DE01-F12'!P2904),\"\",('DE01-F12'!P2904))","v":""},{"$f":"IF(ISBLANK('DE01-F12'!Q2904),\"\",('DE01-F12'!Q2904))","v":""},{"$f":"IF(ISBLANK('DE01-F12'!S2904),\"\",('DE01-F12'!S2904))","v":0}]
[{"$f":"IF(ISBLANK('DE01-F12'!N2905),\"\",('DE01-F12'!N2905))","v":""},{"$f":"MID('DE01-F12'!G2905,1,18)","v":""},{"$f":"IF(ISBLANK('DE01-F12'!P2905),\"\",('DE01-F12'!P2905))","v":""},{"$f":"IF(ISBLANK('DE01-F12'!Q2905),\"\",('DE01-F12'!Q2905))","v":""},{"$f":"IF(ISBLANK('DE01-F12'!S2905),\"\",('DE01-F12'!S2905))","v":0}]
[{"$f":"IF(ISBLANK('DE01-F12'!N2906),\"\",('DE01-F12'!N2906))","v":""},{"$f":"MID('DE01-F12'!G2906,1,18)","v":""},{"$f":"IF(ISBLANK('DE01-F12'!P2906),\"\",('DE01-F12'!P2906))","v":""},{"$f":"IF(ISBLANK('DE01-F12'!Q2906),\"\",('DE01-F12'!Q2906))","v":""},{"$f":"IF(ISBLANK('DE01-F12'!S2906),\"\",('DE01-F12'!S2906))","v":0}]
[{"$f":"IF(ISBLANK('DE01-F12'!N2907),\"\",('DE01-F12'!N2907))","v":""},{"$f":"MID('DE01-F12'!G2907,1,18)","v":""},{"$f":"IF(ISBLANK('DE01-F12'!P2907),\"\",('DE01-F12'!P2907))","v":""},{"$f":"IF(ISBLANK('DE01-F12'!Q2907),\"\",('DE01-F12'!Q2907))","v":""},{"$f":"IF(ISBLANK('DE01-F12'!S2907),\"\",('DE01-F12'!S2907))","v":0}]
[{"$f":"IF(ISBLANK('DE01-F12'!N2908),\"\",('DE01-F12'!N2908))","v":""},{"$f":"MID('DE01-F12'!G2908,1,18)","v":""},{"$f":"IF(ISBLANK('DE01-F12'!P2908),\"\",('DE01-F12'!P2908))","v":""},{"$f":"IF(ISBLANK('DE01-F12'!Q2908),\"\",('DE01-F12'!Q2908))","v":""},{"$f":"IF(ISBLANK('DE01-F12'!S2908),\"\",('DE01-F12'!S2908))","v":0}]
[{"$f":"IF(ISBLANK('DE01-F12'!N2909),\"\",('DE01-F12'!N2909))","v":""},{"$f":"MID('DE01-F12'!G2909,1,18)","v":""},{"$f":"IF(ISBLANK('DE01-F12'!P2909),\"\",('DE01-F12'!P2909))","v":""},{"$f":"IF(ISBLANK('DE01-F12'!Q2909),\"\",('DE01-F12'!Q2909))","v":""},{"$f":"IF(ISBLANK('DE01-F12'!S2909),\"\",('DE01-F12'!S2909))","v":0}]
[{"$f":"IF(ISBLANK('DE01-F12'!N2910),\"\",('DE01-F12'!N2910))","v":""},{"$f":"MID('DE01-F12'!G2910,1,18)","v":""},{"$f":"IF(ISBLANK('DE01-F12'!P2910),\"\",('DE01-F12'!P2910))","v":""},{"$f":"IF(ISBLANK('DE01-F12'!Q2910),\"\",('DE01-F12'!Q2910))","v":""},{"$f":"IF(ISBLANK('DE01-F12'!S2910),\"\",('DE01-F12'!S2910))","v":0}]
[{"$f":"IF(ISBLANK('DE01-F12'!N2911),\"\",('DE01-F12'!N2911))","v":""},{"$f":"MID('DE01-F12'!G2911,1,18)","v":""},{"$f":"IF(ISBLANK('DE01-F12'!P2911),\"\",('DE01-F12'!P2911))","v":""},{"$f":"IF(ISBLANK('DE01-F12'!Q2911),\"\",('DE01-F12'!Q2911))","v":""},{"$f":"IF(ISBLANK('DE01-F12'!S2911),\"\",('DE01-F12'!S2911))","v":0}]
[{"$f":"IF(ISBLANK('DE01-F12'!N2912),\"\",('DE01-F12'!N2912))","v":""},{"$f":"MID('DE01-F12'!G2912,1,18)","v":""},{"$f":"IF(ISBLANK('DE01-F12'!P2912),\"\",('DE01-F12'!P2912))","v":""},{"$f":"IF(ISBLANK('DE01-F12'!Q2912),\"\",('DE01-F12'!Q2912))","v":""},{"$f":"IF(ISBLANK('DE01-F12'!S2912),\"\",('DE01-F12'!S2912))","v":0}]
[{"$f":"IF(ISBLANK('DE01-F12'!N2913),\"\",('DE01-F12'!N2913))","v":""},{"$f":"MID('DE01-F12'!G2913,1,18)","v":""},{"$f":"IF(ISBLANK('DE01-F12'!P2913),\"\",('DE01-F12'!P2913))","v":""},{"$f":"IF(ISBLANK('DE01-F12'!Q2913),\"\",('DE01-F12'!Q2913))","v":""},{"$f":"IF(ISBLANK('DE01-F12'!S2913),\"\",('DE01-F12'!S2913))","v":0}]
[{"$f":"IF(ISBLANK('DE01-F12'!N2914),\"\",('DE01-F12'!N2914))","v":""},{"$f":"MID('DE01-F12'!G2914,1,18)","v":""},{"$f":"IF(ISBLANK('DE01-F12'!P2914),\"\",('DE01-F12'!P2914))","v":""},{"$f":"IF(ISBLANK('DE01-F12'!Q2914),\"\",('DE01-F12'!Q2914))","v":""},{"$f":"IF(ISBLANK('DE01-F12'!S2914),\"\",('DE01-F12'!S2914))","v":0}]
[{"$f":"IF(ISBLANK('DE01-F12'!N2915),\"\",('DE01-F12'!N2915))","v":""},{"$f":"MID('DE01-F12'!G2915,1,18)","v":""},{"$f":"IF(ISBLANK('DE01-F12'!P2915),\"\",('DE01-F12'!P2915))","v":""},{"$f":"IF(ISBLANK('DE01-F12'!Q2915),\"\",('DE01-F12'!Q2915))","v":""},{"$f":"IF(ISBLANK('DE01-F12'!S2915),\"\",('DE01-F12'!S2915))","v":0}]
[{"$f":"IF(ISBLANK('DE01-F12'!N2916),\"\",('DE01-F12'!N2916))","v":""},{"$f":"MID('DE01-F12'!G2916,1,18)","v":""},{"$f":"IF(ISBLANK('DE01-F12'!P2916),\"\",('DE01-F12'!P2916))","v":""},{"$f":"IF(ISBLANK('DE01-F12'!Q2916),\"\",('DE01-F12'!Q2916))","v":""},{"$f":"IF(ISBLANK('DE01-F12'!S2916),\"\",('DE01-F12'!S2916))","v":0}]
[{"$f":"IF(ISBLANK('DE01-F12'!N2917),\"\",('DE01-F12'!N2917))","v":""},{"$f":"MID('DE01-F12'!G2917,1,18)","v":""},{"$f":"IF(ISBLANK('DE01-F12'!P2917),\"\",('DE01-F12'!P2917))","v":""},{"$f":"IF(ISBLANK('DE01-F12'!Q2917),\"\",('DE01-F12'!Q2917))","v":""},{"$f":"IF(ISBLANK('DE01-F12'!S2917),\"\",('DE01-F12'!S2917))","v":0}]
[{"$f":"IF(ISBLANK('DE01-F12'!N2918),\"\",('DE01-F12'!N2918))","v":""},{"$f":"MID('DE01-F12'!G2918,1,18)","v":""},{"$f":"IF(ISBLANK('DE01-F12'!P2918),\"\",('DE01-F12'!P2918))","v":""},{"$f":"IF(ISBLANK('DE01-F12'!Q2918),\"\",('DE01-F12'!Q2918))","v":""},{"$f":"IF(ISBLANK('DE01-F12'!S2918),\"\",('DE01-F12'!S2918))","v":0}]
[{"$f":"IF(ISBLANK('DE01-F12'!N2919),\"\",('DE01-F12'!N2919))","v":""},{"$f":"MID('DE01-F12'!G2919,1,18)","v":""},{"$f":"IF(ISBLANK('DE01-F12'!P2919),\"\",('DE01-F12'!P2919))","v":""},{"$f":"IF(ISBLANK('DE01-F12'!Q2919),\"\",('DE01-F12'!Q2919))","v":""},{"$f":"IF(ISBLANK('DE01-F12'!S2919),\"\",('DE01-F12'!S2919))","v":0}]
[{"$f":"IF(ISBLANK('DE01-F12'!N2920),\"\",('DE01-F12'!N2920))","v":""},{"$f":"MID('DE01-F12'!G2920,1,18)","v":""},{"$f":"IF(ISBLANK('DE01-F12'!P2920),\"\",('DE01-F12'!P2920))","v":""},{"$f":"IF(ISBLANK('DE01-F12'!Q2920),\"\",('DE01-F12'!Q2920))","v":""},{"$f":"IF(ISBLANK('DE01-F12'!S2920),\"\",('DE01-F12'!S2920))","v":0}]
[{"$f":"IF(ISBLANK('DE01-F12'!N2921),\"\",('DE01-F12'!N2921))","v":""},{"$f":"MID('DE01-F12'!G2921,1,18)","v":""},{"$f":"IF(ISBLANK('DE01-F12'!P2921),\"\",('DE01-F12'!P2921))","v":""},{"$f":"IF(ISBLANK('DE01-F12'!Q2921),\"\",('DE01-F12'!Q2921))","v":""},{"$f":"IF(ISBLANK('DE01-F12'!S2921),\"\",('DE01-F12'!S2921))","v":0}]
[{"$f":"IF(ISBLANK('DE01-F12'!N2922),\"\",('DE01-F12'!N2922))","v":""},{"$f":"MID('DE01-F12'!G2922,1,18)","v":""},{"$f":"IF(ISBLANK('DE01-F12'!P2922),\"\",('DE01-F12'!P2922))","v":""},{"$f":"IF(ISBLANK('DE01-F12'!Q2922),\"\",('DE01-F12'!Q2922))","v":""},{"$f":"IF(ISBLANK('DE01-F12'!S2922),\"\",('DE01-F12'!S2922))","v":0}]
[{"$f":"IF(ISBLANK('DE01-F12'!N2923),\"\",('DE01-F12'!N2923))","v":""},{"$f":"MID('DE01-F12'!G2923,1,18)","v":""},{"$f":"IF(ISBLANK('DE01-F12'!P2923),\"\",('DE01-F12'!P2923))","v":""},{"$f":"IF(ISBLANK('DE01-F12'!Q2923),\"\",('DE01-F12'!Q2923))","v":""},{"$f":"IF(ISBLANK('DE01-F12'!S2923),\"\",('DE01-F12'!S2923))","v":0}]
[{"$f":"IF(ISBLANK('DE01-F12'!N2924),\"\",('DE01-F12'!N2924))","v":""},{"$f":"MID('DE01-F12'!G2924,1,18)","v":""},{"$f":"IF(ISBLANK('DE01-F12'!P2924),\"\",('DE01-F12'!P2924))","v":""},{"$f":"IF(ISBLANK('DE01-F12'!Q2924),\"\",('DE01-F12'!Q2924))","v":""},{"$f":"IF(ISBLANK('DE01-F12'!S2924),\"\",('DE01-F12'!S2924))","v":0}]
[{"$f":"IF(ISBLANK('DE01-F12'!N2925),\"\",('DE01-F12'!N2925))","v":""},{"$f":"MID('DE01-F12'!G2925,1,18)","v":""},{"$f":"IF(ISBLANK('DE01-F12'!P2925),\"\",('DE01-F12'!P2925))","v":""},{"$f":"IF(ISBLANK('DE01-F12'!Q2925),\"\",('DE01-F12'!Q2925))","v":""},{"$f":"IF(ISBLANK('DE01-F12'!S2925),\"\",('DE01-F12'!S2925))","v":0}]
[{"$f":"IF(ISBLANK('DE01-F12'!N2926),\"\",('DE01-F12'!N2926))","v":""},{"$f":"MID('DE01-F12'!G2926,1,18)","v":""},{"$f":"IF(ISBLANK('DE01-F12'!P2926),\"\",('DE01-F12'!P2926))","v":""},{"$f":"IF(ISBLANK('DE01-F12'!Q2926),\"\",('DE01-F12'!Q2926))","v":""},{"$f":"IF(ISBLANK('DE01-F12'!S2926),\"\",('DE01-F12'!S2926))","v":0}]
[{"$f":"IF(ISBLANK('DE01-F12'!N2927),\"\",('DE01-F12'!N2927))","v":""},{"$f":"MID('DE01-F12'!G2927,1,18)","v":""},{"$f":"IF(ISBLANK('DE01-F12'!P2927),\"\",('DE01-F12'!P2927))","v":""},{"$f":"IF(ISBLANK('DE01-F12'!Q2927),\"\",('DE01-F12'!Q2927))","v":""},{"$f":"IF(ISBLANK('DE01-F12'!S2927),\"\",('DE01-F12'!S2927))","v":0}]
[{"$f":"IF(ISBLANK('DE01-F12'!N2928),\"\",('DE01-F12'!N2928))","v":""},{"$f":"MID('DE01-F12'!G2928,1,18)","v":""},{"$f":"IF(ISBLANK('DE01-F12'!P2928),\"\",('DE01-F12'!P2928))","v":""},{"$f":"IF(ISBLANK('DE01-F12'!Q2928),\"\",('DE01-F12'!Q2928))","v":""},{"$f":"IF(ISBLANK('DE01-F12'!S2928),\"\",('DE01-F12'!S2928))","v":0}]
[{"$f":"IF(ISBLANK('DE01-F12'!N2929),\"\",('DE01-F12'!N2929))","v":""},{"$f":"MID('DE01-F12'!G2929,1,18)","v":""},{"$f":"IF(ISBLANK('DE01-F12'!P2929),\"\",('DE01-F12'!P2929))","v":""},{"$f":"IF(ISBLANK('DE01-F12'!Q2929),\"\",('DE01-F12'!Q2929))","v":""},{"$f":"IF(ISBLANK('DE01-F12'!S2929),\"\",('DE01-F12'!S2929))","v":0}]
[{"$f":"IF(ISBLANK('DE01-F12'!N2930),\"\",('DE01-F12'!N2930))","v":""},{"$f":"MID('DE01-F12'!G2930,1,18)","v":""},{"$f":"IF(ISBLANK('DE01-F12'!P2930),\"\",('DE01-F12'!P2930))","v":""},{"$f":"IF(ISBLANK('DE01-F12'!Q2930),\"\",('DE01-F12'!Q2930))","v":""},{"$f":"IF(ISBLANK('DE01-F12'!S2930),\"\",('DE01-F12'!S2930))","v":0}]
[{"$f":"IF(ISBLANK('DE01-F12'!N2931),\"\",('DE01-F12'!N2931))","v":""},{"$f":"MID('DE01-F12'!G2931,1,18)","v":""},{"$f":"IF(ISBLANK('DE01-F12'!P2931),\"\",('DE01-F12'!P2931))","v":""},{"$f":"IF(ISBLANK('DE01-F12'!Q2931),\"\",('DE01-F12'!Q2931))","v":""},{"$f":"IF(ISBLANK('DE01-F12'!S2931),\"\",('DE01-F12'!S2931))","v":0}]
[{"$f":"IF(ISBLANK('DE01-F12'!N2932),\"\",('DE01-F12'!N2932))","v":""},{"$f":"MID('DE01-F12'!G2932,1,18)","v":""},{"$f":"IF(ISBLANK('DE01-F12'!P2932),\"\",('DE01-F12'!P2932))","v":""},{"$f":"IF(ISBLANK('DE01-F12'!Q2932),\"\",('DE01-F12'!Q2932))","v":""},{"$f":"IF(ISBLANK('DE01-F12'!S2932),\"\",('DE01-F12'!S2932))","v":0}]
[{"$f":"IF(ISBLANK('DE01-F12'!N2933),\"\",('DE01-F12'!N2933))","v":""},{"$f":"MID('DE01-F12'!G2933,1,18)","v":""},{"$f":"IF(ISBLANK('DE01-F12'!P2933),\"\",('DE01-F12'!P2933))","v":""},{"$f":"IF(ISBLANK('DE01-F12'!Q2933),\"\",('DE01-F12'!Q2933))","v":""},{"$f":"IF(ISBLANK('DE01-F12'!S2933),\"\",('DE01-F12'!S2933))","v":0}]
[{"$f":"IF(ISBLANK('DE01-F12'!N2934),\"\",('DE01-F12'!N2934))","v":""},{"$f":"MID('DE01-F12'!G2934,1,18)","v":""},{"$f":"IF(ISBLANK('DE01-F12'!P2934),\"\",('DE01-F12'!P2934))","v":""},{"$f":"IF(ISBLANK('DE01-F12'!Q2934),\"\",('DE01-F12'!Q2934))","v":""},{"$f":"IF(ISBLANK('DE01-F12'!S2934),\"\",('DE01-F12'!S2934))","v":0}]
[{"$f":"IF(ISBLANK('DE01-F12'!N2935),\"\",('DE01-F12'!N2935))","v":""},{"$f":"MID('DE01-F12'!G2935,1,18)","v":""},{"$f":"IF(ISBLANK('DE01-F12'!P2935),\"\",('DE01-F12'!P2935))","v":""},{"$f":"IF(ISBLANK('DE01-F12'!Q2935),\"\",('DE01-F12'!Q2935))","v":""},{"$f":"IF(ISBLANK('DE01-F12'!S2935),\"\",('DE01-F12'!S2935))","v":0}]
[{"$f":"IF(ISBLANK('DE01-F12'!N2936),\"\",('DE01-F12'!N2936))","v":""},{"$f":"MID('DE01-F12'!G2936,1,18)","v":""},{"$f":"IF(ISBLANK('DE01-F12'!P2936),\"\",('DE01-F12'!P2936))","v":""},{"$f":"IF(ISBLANK('DE01-F12'!Q2936),\"\",('DE01-F12'!Q2936))","v":""},{"$f":"IF(ISBLANK('DE01-F12'!S2936),\"\",('DE01-F12'!S2936))","v":0}]
[{"$f":"IF(ISBLANK('DE01-F12'!N2937),\"\",('DE01-F12'!N2937))","v":""},{"$f":"MID('DE01-F12'!G2937,1,18)","v":""},{"$f":"IF(ISBLANK('DE01-F12'!P2937),\"\",('DE01-F12'!P2937))","v":""},{"$f":"IF(ISBLANK('DE01-F12'!Q2937),\"\",('DE01-F12'!Q2937))","v":""},{"$f":"IF(ISBLANK('DE01-F12'!S2937),\"\",('DE01-F12'!S2937))","v":0}]
[{"$f":"IF(ISBLANK('DE01-F12'!N2938),\"\",('DE01-F12'!N2938))","v":""},{"$f":"MID('DE01-F12'!G2938,1,18)","v":""},{"$f":"IF(ISBLANK('DE01-F12'!P2938),\"\",('DE01-F12'!P2938))","v":""},{"$f":"IF(ISBLANK('DE01-F12'!Q2938),\"\",('DE01-F12'!Q2938))","v":""},{"$f":"IF(ISBLANK('DE01-F12'!S2938),\"\",('DE01-F12'!S2938))","v":0}]
[{"$f":"IF(ISBLANK('DE01-F12'!N2939),\"\",('DE01-F12'!N2939))","v":""},{"$f":"MID('DE01-F12'!G2939,1,18)","v":""},{"$f":"IF(ISBLANK('DE01-F12'!P2939),\"\",('DE01-F12'!P2939))","v":""},{"$f":"IF(ISBLANK('DE01-F12'!Q2939),\"\",('DE01-F12'!Q2939))","v":""},{"$f":"IF(ISBLANK('DE01-F12'!S2939),\"\",('DE01-F12'!S2939))","v":0}]
[{"$f":"IF(ISBLANK('DE01-F12'!N2940),\"\",('DE01-F12'!N2940))","v":""},{"$f":"MID('DE01-F12'!G2940,1,18)","v":""},{"$f":"IF(ISBLANK('DE01-F12'!P2940),\"\",('DE01-F12'!P2940))","v":""},{"$f":"IF(ISBLANK('DE01-F12'!Q2940),\"\",('DE01-F12'!Q2940))","v":""},{"$f":"IF(ISBLANK('DE01-F12'!S2940),\"\",('DE01-F12'!S2940))","v":0}]
[{"$f":"IF(ISBLANK('DE01-F12'!N2941),\"\",('DE01-F12'!N2941))","v":""},{"$f":"MID('DE01-F12'!G2941,1,18)","v":""},{"$f":"IF(ISBLANK('DE01-F12'!P2941),\"\",('DE01-F12'!P2941))","v":""},{"$f":"IF(ISBLANK('DE01-F12'!Q2941),\"\",('DE01-F12'!Q2941))","v":""},{"$f":"IF(ISBLANK('DE01-F12'!S2941),\"\",('DE01-F12'!S2941))","v":0}]
[{"$f":"IF(ISBLANK('DE01-F12'!N2942),\"\",('DE01-F12'!N2942))","v":""},{"$f":"MID('DE01-F12'!G2942,1,18)","v":""},{"$f":"IF(ISBLANK('DE01-F12'!P2942),\"\",('DE01-F12'!P2942))","v":""},{"$f":"IF(ISBLANK('DE01-F12'!Q2942),\"\",('DE01-F12'!Q2942))","v":""},{"$f":"IF(ISBLANK('DE01-F12'!S2942),\"\",('DE01-F12'!S2942))","v":0}]
[{"$f":"IF(ISBLANK('DE01-F12'!N2943),\"\",('DE01-F12'!N2943))","v":""},{"$f":"MID('DE01-F12'!G2943,1,18)","v":""},{"$f":"IF(ISBLANK('DE01-F12'!P2943),\"\",('DE01-F12'!P2943))","v":""},{"$f":"IF(ISBLANK('DE01-F12'!Q2943),\"\",('DE01-F12'!Q2943))","v":""},{"$f":"IF(ISBLANK('DE01-F12'!S2943),\"\",('DE01-F12'!S2943))","v":0}]
[{"$f":"IF(ISBLANK('DE01-F12'!N2944),\"\",('DE01-F12'!N2944))","v":""},{"$f":"MID('DE01-F12'!G2944,1,18)","v":""},{"$f":"IF(ISBLANK('DE01-F12'!P2944),\"\",('DE01-F12'!P2944))","v":""},{"$f":"IF(ISBLANK('DE01-F12'!Q2944),\"\",('DE01-F12'!Q2944))","v":""},{"$f":"IF(ISBLANK('DE01-F12'!S2944),\"\",('DE01-F12'!S2944))","v":0}]
[{"$f":"IF(ISBLANK('DE01-F12'!N2945),\"\",('DE01-F12'!N2945))","v":""},{"$f":"MID('DE01-F12'!G2945,1,18)","v":""},{"$f":"IF(ISBLANK('DE01-F12'!P2945),\"\",('DE01-F12'!P2945))","v":""},{"$f":"IF(ISBLANK('DE01-F12'!Q2945),\"\",('DE01-F12'!Q2945))","v":""},{"$f":"IF(ISBLANK('DE01-F12'!S2945),\"\",('DE01-F12'!S2945))","v":0}]
[{"$f":"IF(ISBLANK('DE01-F12'!N2946),\"\",('DE01-F12'!N2946))","v":""},{"$f":"MID('DE01-F12'!G2946,1,18)","v":""},{"$f":"IF(ISBLANK('DE01-F12'!P2946),\"\",('DE01-F12'!P2946))","v":""},{"$f":"IF(ISBLANK('DE01-F12'!Q2946),\"\",('DE01-F12'!Q2946))","v":""},{"$f":"IF(ISBLANK('DE01-F12'!S2946),\"\",('DE01-F12'!S2946))","v":0}]
[{"$f":"IF(ISBLANK('DE01-F12'!N2947),\"\",('DE01-F12'!N2947))","v":""},{"$f":"MID('DE01-F12'!G2947,1,18)","v":""},{"$f":"IF(ISBLANK('DE01-F12'!P2947),\"\",('DE01-F12'!P2947))","v":""},{"$f":"IF(ISBLANK('DE01-F12'!Q2947),\"\",('DE01-F12'!Q2947))","v":""},{"$f":"IF(ISBLANK('DE01-F12'!S2947),\"\",('DE01-F12'!S2947))","v":0}]
[{"$f":"IF(ISBLANK('DE01-F12'!N2948),\"\",('DE01-F12'!N2948))","v":""},{"$f":"MID('DE01-F12'!G2948,1,18)","v":""},{"$f":"IF(ISBLANK('DE01-F12'!P2948),\"\",('DE01-F12'!P2948))","v":""},{"$f":"IF(ISBLANK('DE01-F12'!Q2948),\"\",('DE01-F12'!Q2948))","v":""},{"$f":"IF(ISBLANK('DE01-F12'!S2948),\"\",('DE01-F12'!S2948))","v":0}]
[{"$f":"IF(ISBLANK('DE01-F12'!N2949),\"\",('DE01-F12'!N2949))","v":""},{"$f":"MID('DE01-F12'!G2949,1,18)","v":""},{"$f":"IF(ISBLANK('DE01-F12'!P2949),\"\",('DE01-F12'!P2949))","v":""},{"$f":"IF(ISBLANK('DE01-F12'!Q2949),\"\",('DE01-F12'!Q2949))","v":""},{"$f":"IF(ISBLANK('DE01-F12'!S2949),\"\",('DE01-F12'!S2949))","v":0}]
[{"$f":"IF(ISBLANK('DE01-F12'!N2950),\"\",('DE01-F12'!N2950))","v":""},{"$f":"MID('DE01-F12'!G2950,1,18)","v":""},{"$f":"IF(ISBLANK('DE01-F12'!P2950),\"\",('DE01-F12'!P2950))","v":""},{"$f":"IF(ISBLANK('DE01-F12'!Q2950),\"\",('DE01-F12'!Q2950))","v":""},{"$f":"IF(ISBLANK('DE01-F12'!S2950),\"\",('DE01-F12'!S2950))","v":0}]
[{"$f":"IF(ISBLANK('DE01-F12'!N2951),\"\",('DE01-F12'!N2951))","v":""},{"$f":"MID('DE01-F12'!G2951,1,18)","v":""},{"$f":"IF(ISBLANK('DE01-F12'!P2951),\"\",('DE01-F12'!P2951))","v":""},{"$f":"IF(ISBLANK('DE01-F12'!Q2951),\"\",('DE01-F12'!Q2951))","v":""},{"$f":"IF(ISBLANK('DE01-F12'!S2951),\"\",('DE01-F12'!S2951))","v":0}]
[{"$f":"IF(ISBLANK('DE01-F12'!N2952),\"\",('DE01-F12'!N2952))","v":""},{"$f":"MID('DE01-F12'!G2952,1,18)","v":""},{"$f":"IF(ISBLANK('DE01-F12'!P2952),\"\",('DE01-F12'!P2952))","v":""},{"$f":"IF(ISBLANK('DE01-F12'!Q2952),\"\",('DE01-F12'!Q2952))","v":""},{"$f":"IF(ISBLANK('DE01-F12'!S2952),\"\",('DE01-F12'!S2952))","v":0}]
[{"$f":"IF(ISBLANK('DE01-F12'!N2953),\"\",('DE01-F12'!N2953))","v":""},{"$f":"MID('DE01-F12'!G2953,1,18)","v":""},{"$f":"IF(ISBLANK('DE01-F12'!P2953),\"\",('DE01-F12'!P2953))","v":""},{"$f":"IF(ISBLANK('DE01-F12'!Q2953),\"\",('DE01-F12'!Q2953))","v":""},{"$f":"IF(ISBLANK('DE01-F12'!S2953),\"\",('DE01-F12'!S2953))","v":0}]
[{"$f":"IF(ISBLANK('DE01-F12'!N2954),\"\",('DE01-F12'!N2954))","v":""},{"$f":"MID('DE01-F12'!G2954,1,18)","v":""},{"$f":"IF(ISBLANK('DE01-F12'!P2954),\"\",('DE01-F12'!P2954))","v":""},{"$f":"IF(ISBLANK('DE01-F12'!Q2954),\"\",('DE01-F12'!Q2954))","v":""},{"$f":"IF(ISBLANK('DE01-F12'!S2954),\"\",('DE01-F12'!S2954))","v":0}]
[{"$f":"IF(ISBLANK('DE01-F12'!N2955),\"\",('DE01-F12'!N2955))","v":""},{"$f":"MID('DE01-F12'!G2955,1,18)","v":""},{"$f":"IF(ISBLANK('DE01-F12'!P2955),\"\",('DE01-F12'!P2955))","v":""},{"$f":"IF(ISBLANK('DE01-F12'!Q2955),\"\",('DE01-F12'!Q2955))","v":""},{"$f":"IF(ISBLANK('DE01-F12'!S2955),\"\",('DE01-F12'!S2955))","v":0}]
[{"$f":"IF(ISBLANK('DE01-F12'!N2956),\"\",('DE01-F12'!N2956))","v":""},{"$f":"MID('DE01-F12'!G2956,1,18)","v":""},{"$f":"IF(ISBLANK('DE01-F12'!P2956),\"\",('DE01-F12'!P2956))","v":""},{"$f":"IF(ISBLANK('DE01-F12'!Q2956),\"\",('DE01-F12'!Q2956))","v":""},{"$f":"IF(ISBLANK('DE01-F12'!S2956),\"\",('DE01-F12'!S2956))","v":0}]
[{"$f":"IF(ISBLANK('DE01-F12'!N2957),\"\",('DE01-F12'!N2957))","v":""},{"$f":"MID('DE01-F12'!G2957,1,18)","v":""},{"$f":"IF(ISBLANK('DE01-F12'!P2957),\"\",('DE01-F12'!P2957))","v":""},{"$f":"IF(ISBLANK('DE01-F12'!Q2957),\"\",('DE01-F12'!Q2957))","v":""},{"$f":"IF(ISBLANK('DE01-F12'!S2957),\"\",('DE01-F12'!S2957))","v":0}]
[{"$f":"IF(ISBLANK('DE01-F12'!N2958),\"\",('DE01-F12'!N2958))","v":""},{"$f":"MID('DE01-F12'!G2958,1,18)","v":""},{"$f":"IF(ISBLANK('DE01-F12'!P2958),\"\",('DE01-F12'!P2958))","v":""},{"$f":"IF(ISBLANK('DE01-F12'!Q2958),\"\",('DE01-F12'!Q2958))","v":""},{"$f":"IF(ISBLANK('DE01-F12'!S2958),\"\",('DE01-F12'!S2958))","v":0}]
[{"$f":"IF(ISBLANK('DE01-F12'!N2959),\"\",('DE01-F12'!N2959))","v":""},{"$f":"MID('DE01-F12'!G2959,1,18)","v":""},{"$f":"IF(ISBLANK('DE01-F12'!P2959),\"\",('DE01-F12'!P2959))","v":""},{"$f":"IF(ISBLANK('DE01-F12'!Q2959),\"\",('DE01-F12'!Q2959))","v":""},{"$f":"IF(ISBLANK('DE01-F12'!S2959),\"\",('DE01-F12'!S2959))","v":0}]
[{"$f":"IF(ISBLANK('DE01-F12'!N2960),\"\",('DE01-F12'!N2960))","v":""},{"$f":"MID('DE01-F12'!G2960,1,18)","v":""},{"$f":"IF(ISBLANK('DE01-F12'!P2960),\"\",('DE01-F12'!P2960))","v":""},{"$f":"IF(ISBLANK('DE01-F12'!Q2960),\"\",('DE01-F12'!Q2960))","v":""},{"$f":"IF(ISBLANK('DE01-F12'!S2960),\"\",('DE01-F12'!S2960))","v":0}]
[{"$f":"IF(ISBLANK('DE01-F12'!N2961),\"\",('DE01-F12'!N2961))","v":""},{"$f":"MID('DE01-F12'!G2961,1,18)","v":""},{"$f":"IF(ISBLANK('DE01-F12'!P2961),\"\",('DE01-F12'!P2961))","v":""},{"$f":"IF(ISBLANK('DE01-F12'!Q2961),\"\",('DE01-F12'!Q2961))","v":""},{"$f":"IF(ISBLANK('DE01-F12'!S2961),\"\",('DE01-F12'!S2961))","v":0}]
[{"$f":"IF(ISBLANK('DE01-F12'!N2962),\"\",('DE01-F12'!N2962))","v":""},{"$f":"MID('DE01-F12'!G2962,1,18)","v":""},{"$f":"IF(ISBLANK('DE01-F12'!P2962),\"\",('DE01-F12'!P2962))","v":""},{"$f":"IF(ISBLANK('DE01-F12'!Q2962),\"\",('DE01-F12'!Q2962))","v":""},{"$f":"IF(ISBLANK('DE01-F12'!S2962),\"\",('DE01-F12'!S2962))","v":0}]
[{"$f":"IF(ISBLANK('DE01-F12'!N2963),\"\",('DE01-F12'!N2963))","v":""},{"$f":"MID('DE01-F12'!G2963,1,18)","v":""},{"$f":"IF(ISBLANK('DE01-F12'!P2963),\"\",('DE01-F12'!P2963))","v":""},{"$f":"IF(ISBLANK('DE01-F12'!Q2963),\"\",('DE01-F12'!Q2963))","v":""},{"$f":"IF(ISBLANK('DE01-F12'!S2963),\"\",('DE01-F12'!S2963))","v":0}]
[{"$f":"IF(ISBLANK('DE01-F12'!N2964),\"\",('DE01-F12'!N2964))","v":""},{"$f":"MID('DE01-F12'!G2964,1,18)","v":""},{"$f":"IF(ISBLANK('DE01-F12'!P2964),\"\",('DE01-F12'!P2964))","v":""},{"$f":"IF(ISBLANK('DE01-F12'!Q2964),\"\",('DE01-F12'!Q2964))","v":""},{"$f":"IF(ISBLANK('DE01-F12'!S2964),\"\",('DE01-F12'!S2964))","v":0}]
[{"$f":"IF(ISBLANK('DE01-F12'!N2965),\"\",('DE01-F12'!N2965))","v":""},{"$f":"MID('DE01-F12'!G2965,1,18)","v":""},{"$f":"IF(ISBLANK('DE01-F12'!P2965),\"\",('DE01-F12'!P2965))","v":""},{"$f":"IF(ISBLANK('DE01-F12'!Q2965),\"\",('DE01-F12'!Q2965))","v":""},{"$f":"IF(ISBLANK('DE01-F12'!S2965),\"\",('DE01-F12'!S2965))","v":0}]
[{"$f":"IF(ISBLANK('DE01-F12'!N2966),\"\",('DE01-F12'!N2966))","v":""},{"$f":"MID('DE01-F12'!G2966,1,18)","v":""},{"$f":"IF(ISBLANK('DE01-F12'!P2966),\"\",('DE01-F12'!P2966))","v":""},{"$f":"IF(ISBLANK('DE01-F12'!Q2966),\"\",('DE01-F12'!Q2966))","v":""},{"$f":"IF(ISBLANK('DE01-F12'!S2966),\"\",('DE01-F12'!S2966))","v":0}]
[{"$f":"IF(ISBLANK('DE01-F12'!N2967),\"\",('DE01-F12'!N2967))","v":""},{"$f":"MID('DE01-F12'!G2967,1,18)","v":""},{"$f":"IF(ISBLANK('DE01-F12'!P2967),\"\",('DE01-F12'!P2967))","v":""},{"$f":"IF(ISBLANK('DE01-F12'!Q2967),\"\",('DE01-F12'!Q2967))","v":""},{"$f":"IF(ISBLANK('DE01-F12'!S2967),\"\",('DE01-F12'!S2967))","v":0}]
[{"$f":"IF(ISBLANK('DE01-F12'!N2968),\"\",('DE01-F12'!N2968))","v":""},{"$f":"MID('DE01-F12'!G2968,1,18)","v":""},{"$f":"IF(ISBLANK('DE01-F12'!P2968),\"\",('DE01-F12'!P2968))","v":""},{"$f":"IF(ISBLANK('DE01-F12'!Q2968),\"\",('DE01-F12'!Q2968))","v":""},{"$f":"IF(ISBLANK('DE01-F12'!S2968),\"\",('DE01-F12'!S2968))","v":0}]
[{"$f":"IF(ISBLANK('DE01-F12'!N2969),\"\",('DE01-F12'!N2969))","v":""},{"$f":"MID('DE01-F12'!G2969,1,18)","v":""},{"$f":"IF(ISBLANK('DE01-F12'!P2969),\"\",('DE01-F12'!P2969))","v":""},{"$f":"IF(ISBLANK('DE01-F12'!Q2969),\"\",('DE01-F12'!Q2969))","v":""},{"$f":"IF(ISBLANK('DE01-F12'!S2969),\"\",('DE01-F12'!S2969))","v":0}]
[{"$f":"IF(ISBLANK('DE01-F12'!N2970),\"\",('DE01-F12'!N2970))","v":""},{"$f":"MID('DE01-F12'!G2970,1,18)","v":""},{"$f":"IF(ISBLANK('DE01-F12'!P2970),\"\",('DE01-F12'!P2970))","v":""},{"$f":"IF(ISBLANK('DE01-F12'!Q2970),\"\",('DE01-F12'!Q2970))","v":""},{"$f":"IF(ISBLANK('DE01-F12'!S2970),\"\",('DE01-F12'!S2970))","v":0}]
[{"$f":"IF(ISBLANK('DE01-F12'!N2971),\"\",('DE01-F12'!N2971))","v":""},{"$f":"MID('DE01-F12'!G2971,1,18)","v":""},{"$f":"IF(ISBLANK('DE01-F12'!P2971),\"\",('DE01-F12'!P2971))","v":""},{"$f":"IF(ISBLANK('DE01-F12'!Q2971),\"\",('DE01-F12'!Q2971))","v":""},{"$f":"IF(ISBLANK('DE01-F12'!S2971),\"\",('DE01-F12'!S2971))","v":0}]
[{"$f":"IF(ISBLANK('DE01-F12'!N2972),\"\",('DE01-F12'!N2972))","v":""},{"$f":"MID('DE01-F12'!G2972,1,18)","v":""},{"$f":"IF(ISBLANK('DE01-F12'!P2972),\"\",('DE01-F12'!P2972))","v":""},{"$f":"IF(ISBLANK('DE01-F12'!Q2972),\"\",('DE01-F12'!Q2972))","v":""},{"$f":"IF(ISBLANK('DE01-F12'!S2972),\"\",('DE01-F12'!S2972))","v":0}]
[{"$f":"IF(ISBLANK('DE01-F12'!N2973),\"\",('DE01-F12'!N2973))","v":""},{"$f":"MID('DE01-F12'!G2973,1,18)","v":""},{"$f":"IF(ISBLANK('DE01-F12'!P2973),\"\",('DE01-F12'!P2973))","v":""},{"$f":"IF(ISBLANK('DE01-F12'!Q2973),\"\",('DE01-F12'!Q2973))","v":""},{"$f":"IF(ISBLANK('DE01-F12'!S2973),\"\",('DE01-F12'!S2973))","v":0}]
[{"$f":"IF(ISBLANK('DE01-F12'!N2974),\"\",('DE01-F12'!N2974))","v":""},{"$f":"MID('DE01-F12'!G2974,1,18)","v":""},{"$f":"IF(ISBLANK('DE01-F12'!P2974),\"\",('DE01-F12'!P2974))","v":""},{"$f":"IF(ISBLANK('DE01-F12'!Q2974),\"\",('DE01-F12'!Q2974))","v":""},{"$f":"IF(ISBLANK('DE01-F12'!S2974),\"\",('DE01-F12'!S2974))","v":0}]
[{"$f":"IF(ISBLANK('DE01-F12'!N2975),\"\",('DE01-F12'!N2975))","v":""},{"$f":"MID('DE01-F12'!G2975,1,18)","v":""},{"$f":"IF(ISBLANK('DE01-F12'!P2975),\"\",('DE01-F12'!P2975))","v":""},{"$f":"IF(ISBLANK('DE01-F12'!Q2975),\"\",('DE01-F12'!Q2975))","v":""},{"$f":"IF(ISBLANK('DE01-F12'!S2975),\"\",('DE01-F12'!S2975))","v":0}]
[{"$f":"IF(ISBLANK('DE01-F12'!N2976),\"\",('DE01-F12'!N2976))","v":""},{"$f":"MID('DE01-F12'!G2976,1,18)","v":""},{"$f":"IF(ISBLANK('DE01-F12'!P2976),\"\",('DE01-F12'!P2976))","v":""},{"$f":"IF(ISBLANK('DE01-F12'!Q2976),\"\",('DE01-F12'!Q2976))","v":""},{"$f":"IF(ISBLANK('DE01-F12'!S2976),\"\",('DE01-F12'!S2976))","v":0}]
[{"$f":"IF(ISBLANK('DE01-F12'!N2977),\"\",('DE01-F12'!N2977))","v":""},{"$f":"MID('DE01-F12'!G2977,1,18)","v":""},{"$f":"IF(ISBLANK('DE01-F12'!P2977),\"\",('DE01-F12'!P2977))","v":""},{"$f":"IF(ISBLANK('DE01-F12'!Q2977),\"\",('DE01-F12'!Q2977))","v":""},{"$f":"IF(ISBLANK('DE01-F12'!S2977),\"\",('DE01-F12'!S2977))","v":0}]
[{"$f":"IF(ISBLANK('DE01-F12'!N2978),\"\",('DE01-F12'!N2978))","v":""},{"$f":"MID('DE01-F12'!G2978,1,18)","v":""},{"$f":"IF(ISBLANK('DE01-F12'!P2978),\"\",('DE01-F12'!P2978))","v":""},{"$f":"IF(ISBLANK('DE01-F12'!Q2978),\"\",('DE01-F12'!Q2978))","v":""},{"$f":"IF(ISBLANK('DE01-F12'!S2978),\"\",('DE01-F12'!S2978))","v":0}]
[{"$f":"IF(ISBLANK('DE01-F12'!N2979),\"\",('DE01-F12'!N2979))","v":""},{"$f":"MID('DE01-F12'!G2979,1,18)","v":""},{"$f":"IF(ISBLANK('DE01-F12'!P2979),\"\",('DE01-F12'!P2979))","v":""},{"$f":"IF(ISBLANK('DE01-F12'!Q2979),\"\",('DE01-F12'!Q2979))","v":""},{"$f":"IF(ISBLANK('DE01-F12'!S2979),\"\",('DE01-F12'!S2979))","v":0}]
[{"$f":"IF(ISBLANK('DE01-F12'!N2980),\"\",('DE01-F12'!N2980))","v":""},{"$f":"MID('DE01-F12'!G2980,1,18)","v":""},{"$f":"IF(ISBLANK('DE01-F12'!P2980),\"\",('DE01-F12'!P2980))","v":""},{"$f":"IF(ISBLANK('DE01-F12'!Q2980),\"\",('DE01-F12'!Q2980))","v":""},{"$f":"IF(ISBLANK('DE01-F12'!S2980),\"\",('DE01-F12'!S2980))","v":0}]
[{"$f":"IF(ISBLANK('DE01-F12'!N2981),\"\",('DE01-F12'!N2981))","v":""},{"$f":"MID('DE01-F12'!G2981,1,18)","v":""},{"$f":"IF(ISBLANK('DE01-F12'!P2981),\"\",('DE01-F12'!P2981))","v":""},{"$f":"IF(ISBLANK('DE01-F12'!Q2981),\"\",('DE01-F12'!Q2981))","v":""},{"$f":"IF(ISBLANK('DE01-F12'!S2981),\"\",('DE01-F12'!S2981))","v":0}]
[{"$f":"IF(ISBLANK('DE01-F12'!N2982),\"\",('DE01-F12'!N2982))","v":""},{"$f":"MID('DE01-F12'!G2982,1,18)","v":""},{"$f":"IF(ISBLANK('DE01-F12'!P2982),\"\",('DE01-F12'!P2982))","v":""},{"$f":"IF(ISBLANK('DE01-F12'!Q2982),\"\",('DE01-F12'!Q2982))","v":""},{"$f":"IF(ISBLANK('DE01-F12'!S2982),\"\",('DE01-F12'!S2982))","v":0}]
[{"$f":"IF(ISBLANK('DE01-F12'!N2983),\"\",('DE01-F12'!N2983))","v":""},{"$f":"MID('DE01-F12'!G2983,1,18)","v":""},{"$f":"IF(ISBLANK('DE01-F12'!P2983),\"\",('DE01-F12'!P2983))","v":""},{"$f":"IF(ISBLANK('DE01-F12'!Q2983),\"\",('DE01-F12'!Q2983))","v":""},{"$f":"IF(ISBLANK('DE01-F12'!S2983),\"\",('DE01-F12'!S2983))","v":0}]
[{"$f":"IF(ISBLANK('DE01-F12'!N2984),\"\",('DE01-F12'!N2984))","v":""},{"$f":"MID('DE01-F12'!G2984,1,18)","v":""},{"$f":"IF(ISBLANK('DE01-F12'!P2984),\"\",('DE01-F12'!P2984))","v":""},{"$f":"IF(ISBLANK('DE01-F12'!Q2984),\"\",('DE01-F12'!Q2984))","v":""},{"$f":"IF(ISBLANK('DE01-F12'!S2984),\"\",('DE01-F12'!S2984))","v":0}]
[{"$f":"IF(ISBLANK('DE01-F12'!N2985),\"\",('DE01-F12'!N2985))","v":""},{"$f":"MID('DE01-F12'!G2985,1,18)","v":""},{"$f":"IF(ISBLANK('DE01-F12'!P2985),\"\",('DE01-F12'!P2985))","v":""},{"$f":"IF(ISBLANK('DE01-F12'!Q2985),\"\",('DE01-F12'!Q2985))","v":""},{"$f":"IF(ISBLANK('DE01-F12'!S2985),\"\",('DE01-F12'!S2985))","v":0}]
[{"$f":"IF(ISBLANK('DE01-F12'!N2986),\"\",('DE01-F12'!N2986))","v":""},{"$f":"MID('DE01-F12'!G2986,1,18)","v":""},{"$f":"IF(ISBLANK('DE01-F12'!P2986),\"\",('DE01-F12'!P2986))","v":""},{"$f":"IF(ISBLANK('DE01-F12'!Q2986),\"\",('DE01-F12'!Q2986))","v":""},{"$f":"IF(ISBLANK('DE01-F12'!S2986),\"\",('DE01-F12'!S2986))","v":0}]
[{"$f":"IF(ISBLANK('DE01-F12'!N2987),\"\",('DE01-F12'!N2987))","v":""},{"$f":"MID('DE01-F12'!G2987,1,18)","v":""},{"$f":"IF(ISBLANK('DE01-F12'!P2987),\"\",('DE01-F12'!P2987))","v":""},{"$f":"IF(ISBLANK('DE01-F12'!Q2987),\"\",('DE01-F12'!Q2987))","v":""},{"$f":"IF(ISBLANK('DE01-F12'!S2987),\"\",('DE01-F12'!S2987))","v":0}]
[{"$f":"IF(ISBLANK('DE01-F12'!N2988),\"\",('DE01-F12'!N2988))","v":""},{"$f":"MID('DE01-F12'!G2988,1,18)","v":""},{"$f":"IF(ISBLANK('DE01-F12'!P2988),\"\",('DE01-F12'!P2988))","v":""},{"$f":"IF(ISBLANK('DE01-F12'!Q2988),\"\",('DE01-F12'!Q2988))","v":""},{"$f":"IF(ISBLANK('DE01-F12'!S2988),\"\",('DE01-F12'!S2988))","v":0}]
[{"$f":"IF(ISBLANK('DE01-F12'!N2989),\"\",('DE01-F12'!N2989))","v":""},{"$f":"MID('DE01-F12'!G2989,1,18)","v":""},{"$f":"IF(ISBLANK('DE01-F12'!P2989),\"\",('DE01-F12'!P2989))","v":""},{"$f":"IF(ISBLANK('DE01-F12'!Q2989),\"\",('DE01-F12'!Q2989))","v":""},{"$f":"IF(ISBLANK('DE01-F12'!S2989),\"\",('DE01-F12'!S2989))","v":0}]
[{"$f":"IF(ISBLANK('DE01-F12'!N2990),\"\",('DE01-F12'!N2990))","v":""},{"$f":"MID('DE01-F12'!G2990,1,18)","v":""},{"$f":"IF(ISBLANK('DE01-F12'!P2990),\"\",('DE01-F12'!P2990))","v":""},{"$f":"IF(ISBLANK('DE01-F12'!Q2990),\"\",('DE01-F12'!Q2990))","v":""},{"$f":"IF(ISBLANK('DE01-F12'!S2990),\"\",('DE01-F12'!S2990))","v":0}]
[{"$f":"IF(ISBLANK('DE01-F12'!N2991),\"\",('DE01-F12'!N2991))","v":""},{"$f":"MID('DE01-F12'!G2991,1,18)","v":""},{"$f":"IF(ISBLANK('DE01-F12'!P2991),\"\",('DE01-F12'!P2991))","v":""},{"$f":"IF(ISBLANK('DE01-F12'!Q2991),\"\",('DE01-F12'!Q2991))","v":""},{"$f":"IF(ISBLANK('DE01-F12'!S2991),\"\",('DE01-F12'!S2991))","v":0}]
[{"$f":"IF(ISBLANK('DE01-F12'!N2992),\"\",('DE01-F12'!N2992))","v":""},{"$f":"MID('DE01-F12'!G2992,1,18)","v":""},{"$f":"IF(ISBLANK('DE01-F12'!P2992),\"\",('DE01-F12'!P2992))","v":""},{"$f":"IF(ISBLANK('DE01-F12'!Q2992),\"\",('DE01-F12'!Q2992))","v":""},{"$f":"IF(ISBLANK('DE01-F12'!S2992),\"\",('DE01-F12'!S2992))","v":0}]
[{"$f":"IF(ISBLANK('DE01-F12'!N2993),\"\",('DE01-F12'!N2993))","v":""},{"$f":"MID('DE01-F12'!G2993,1,18)","v":""},{"$f":"IF(ISBLANK('DE01-F12'!P2993),\"\",('DE01-F12'!P2993))","v":""},{"$f":"IF(ISBLANK('DE01-F12'!Q2993),\"\",('DE01-F12'!Q2993))","v":""},{"$f":"IF(ISBLANK('DE01-F12'!S2993),\"\",('DE01-F12'!S2993))","v":0}]
[{"$f":"IF(ISBLANK('DE01-F12'!N2994),\"\",('DE01-F12'!N2994))","v":""},{"$f":"MID('DE01-F12'!G2994,1,18)","v":""},{"$f":"IF(ISBLANK('DE01-F12'!P2994),\"\",('DE01-F12'!P2994))","v":""},{"$f":"IF(ISBLANK('DE01-F12'!Q2994),\"\",('DE01-F12'!Q2994))","v":""},{"$f":"IF(ISBLANK('DE01-F12'!S2994),\"\",('DE01-F12'!S2994))","v":0}]
[{"$f":"IF(ISBLANK('DE01-F12'!N2995),\"\",('DE01-F12'!N2995))","v":""},{"$f":"MID('DE01-F12'!G2995,1,18)","v":""},{"$f":"IF(ISBLANK('DE01-F12'!P2995),\"\",('DE01-F12'!P2995))","v":""},{"$f":"IF(ISBLANK('DE01-F12'!Q2995),\"\",('DE01-F12'!Q2995))","v":""},{"$f":"IF(ISBLANK('DE01-F12'!S2995),\"\",('DE01-F12'!S2995))","v":0}]
[{"$f":"IF(ISBLANK('DE01-F12'!N2996),\"\",('DE01-F12'!N2996))","v":""},{"$f":"MID('DE01-F12'!G2996,1,18)","v":""},{"$f":"IF(ISBLANK('DE01-F12'!P2996),\"\",('DE01-F12'!P2996))","v":""},{"$f":"IF(ISBLANK('DE01-F12'!Q2996),\"\",('DE01-F12'!Q2996))","v":""},{"$f":"IF(ISBLANK('DE01-F12'!S2996),\"\",('DE01-F12'!S2996))","v":0}]
[{"$f":"IF(ISBLANK('DE01-F12'!N2997),\"\",('DE01-F12'!N2997))","v":""},{"$f":"MID('DE01-F12'!G2997,1,18)","v":""},{"$f":"IF(ISBLANK('DE01-F12'!P2997),\"\",('DE01-F12'!P2997))","v":""},{"$f":"IF(ISBLANK('DE01-F12'!Q2997),\"\",('DE01-F12'!Q2997))","v":""},{"$f":"IF(ISBLANK('DE01-F12'!S2997),\"\",('DE01-F12'!S2997))","v":0}]
[{"$f":"IF(ISBLANK('DE01-F12'!N2998),\"\",('DE01-F12'!N2998))","v":""},{"$f":"MID('DE01-F12'!G2998,1,18)","v":""},{"$f":"IF(ISBLANK('DE01-F12'!P2998),\"\",('DE01-F12'!P2998))","v":""},{"$f":"IF(ISBLANK('DE01-F12'!Q2998),\"\",('DE01-F12'!Q2998))","v":""},{"$f":"IF(ISBLANK('DE01-F12'!S2998),\"\",('DE01-F12'!S2998))","v":0}]
[{"$f":"IF(ISBLANK('DE01-F12'!N2999),\"\",('DE01-F12'!N2999))","v":""},{"$f":"MID('DE01-F12'!G2999,1,18)","v":""},{"$f":"IF(ISBLANK('DE01-F12'!P2999),\"\",('DE01-F12'!P2999))","v":""},{"$f":"IF(ISBLANK('DE01-F12'!Q2999),\"\",('DE01-F12'!Q2999))","v":""},{"$f":"IF(ISBLANK('DE01-F12'!S2999),\"\",('DE01-F12'!S2999))","v":0}]
[{"$f":"IF(ISBLANK('DE01-F12'!N3000),\"\",('DE01-F12'!N3000))","v":""},{"$f":"MID('DE01-F12'!G3000,1,18)","v":""},{"$f":"IF(ISBLANK('DE01-F12'!P3000),\"\",('DE01-F12'!P3000))","v":""},{"$f":"IF(ISBLANK('DE01-F12'!Q3000),\"\",('DE01-F12'!Q3000))","v":""},{"$f":"IF(ISBLANK('DE01-F12'!S3000),\"\",('DE01-F12'!S3000))","v":0}]
[{"$f":"IF(ISBLANK('DE01-F12'!N3001),\"\",('DE01-F12'!N3001))","v":""},{"$f":"MID('DE01-F12'!G3001,1,18)","v":""},{"$f":"IF(ISBLANK('DE01-F12'!P3001),\"\",('DE01-F12'!P3001))","v":""},{"$f":"IF(ISBLANK('DE01-F12'!Q3001),\"\",('DE01-F12'!Q3001))","v":""},{"$f":"IF(ISBLANK('DE01-F12'!S3001),\"\",('DE01-F12'!S3001))","v":""}]
[{"$f":"IF(ISBLANK('DE01-F12'!N3002),\"\",('DE01-F12'!N3002))","v":""},{"$f":"MID('DE01-F12'!G3002,1,18)","v":""},{"$f":"IF(ISBLANK('DE01-F12'!P3002),\"\",('DE01-F12'!P3002))","v":""},{"$f":"IF(ISBLANK('DE01-F12'!Q3002),\"\",('DE01-F12'!Q3002))","v":""},{"$f":"IF(ISBLANK('DE01-F12'!S3002),\"\",('DE01-F12'!S3002))","v":""}]
[{"$f":"IF(ISBLANK('DE01-F12'!N3003),\"\",('DE01-F12'!N3003))","v":""},{"$f":"MID('DE01-F12'!G3003,1,18)","v":""},{"$f":"IF(ISBLANK('DE01-F12'!P3003),\"\",('DE01-F12'!P3003))","v":""},{"$f":"IF(ISBLANK('DE01-F12'!Q3003),\"\",('DE01-F12'!Q3003))","v":""},{"$f":"IF(ISBLANK('DE01-F12'!S3003),\"\",('DE01-F12'!S3003))","v":""}]
[{"$f":"IF(ISBLANK('DE01-F12'!N3004),\"\",('DE01-F12'!N3004))","v":""},{"$f":"MID('DE01-F12'!G3004,1,18)","v":""},{"$f":"IF(ISBLANK('DE01-F12'!P3004),\"\",('DE01-F12'!P3004))","v":""},{"$f":"IF(ISBLANK('DE01-F12'!Q3004),\"\",('DE01-F12'!Q3004))","v":""},{"$f":"IF(ISBLANK('DE01-F12'!S3004),\"\",('DE01-F12'!S3004))","v":""}]
[{"$f":"IF(ISBLANK('DE01-F12'!N3005),\"\",('DE01-F12'!N3005))","v":""},{"$f":"MID('DE01-F12'!G3005,1,18)","v":""},{"$f":"IF(ISBLANK('DE01-F12'!P3005),\"\",('DE01-F12'!P3005))","v":""},{"$f":"IF(ISBLANK('DE01-F12'!Q3005),\"\",('DE01-F12'!Q3005))","v":""},{"$f":"IF(ISBLANK('DE01-F12'!S3005),\"\",('DE01-F12'!S3005))","v":""}]
[{"$f":"IF(ISBLANK('DE01-F12'!N3006),\"\",('DE01-F12'!N3006))","v":""},{"$f":"MID('DE01-F12'!G3006,1,18)","v":""},{"$f":"IF(ISBLANK('DE01-F12'!P3006),\"\",('DE01-F12'!P3006))","v":""},{"$f":"IF(ISBLANK('DE01-F12'!Q3006),\"\",('DE01-F12'!Q3006))","v":""},{"$f":"IF(ISBLANK('DE01-F12'!S3006),\"\",('DE01-F12'!S3006))","v":""}]
[{"$f":"IF(ISBLANK('DE01-F12'!N3007),\"\",('DE01-F12'!N3007))","v":""},{"$f":"MID('DE01-F12'!G3007,1,18)","v":""},{"$f":"IF(ISBLANK('DE01-F12'!P3007),\"\",('DE01-F12'!P3007))","v":""},{"$f":"IF(ISBLANK('DE01-F12'!Q3007),\"\",('DE01-F12'!Q3007))","v":""},{"$f":"IF(ISBLANK('DE01-F12'!S3007),\"\",('DE01-F12'!S3007))","v":""}]
[{"$f":"IF(ISBLANK('DE01-F12'!N3008),\"\",('DE01-F12'!N3008))","v":""},{"$f":"MID('DE01-F12'!G3008,1,18)","v":""},{"$f":"IF(ISBLANK('DE01-F12'!P3008),\"\",('DE01-F12'!P3008))","v":""},{"$f":"IF(ISBLANK('DE01-F12'!Q3008),\"\",('DE01-F12'!Q3008))","v":""},{"$f":"IF(ISBLANK('DE01-F12'!S3008),\"\",('DE01-F12'!S3008))","v":""}]
[{"$f":"IF(ISBLANK('DE01-F12'!N3009),\"\",('DE01-F12'!N3009))","v":""},{"$f":"MID('DE01-F12'!G3009,1,18)","v":""},{"$f":"IF(ISBLANK('DE01-F12'!P3009),\"\",('DE01-F12'!P3009))","v":""},{"$f":"IF(ISBLANK('DE01-F12'!Q3009),\"\",('DE01-F12'!Q3009))","v":""},{"$f":"IF(ISBLANK('DE01-F12'!S3009),\"\",('DE01-F12'!S3009))","v":""}]
[{"$f":"IF(ISBLANK('DE01-F12'!N3010),\"\",('DE01-F12'!N3010))","v":""},{"$f":"MID('DE01-F12'!G3010,1,18)","v":""},{"$f":"IF(ISBLANK('DE01-F12'!P3010),\"\",('DE01-F12'!P3010))","v":""},{"$f":"IF(ISBLANK('DE01-F12'!Q3010),\"\",('DE01-F12'!Q3010))","v":""},{"$f":"IF(ISBLANK('DE01-F12'!S3010),\"\",('DE01-F12'!S3010))","v":""}]
[{"$f":"IF(ISBLANK('DE01-F12'!N3011),\"\",('DE01-F12'!N3011))","v":""},{"$f":"MID('DE01-F12'!G3011,1,18)","v":""},{"$f":"IF(ISBLANK('DE01-F12'!P3011),\"\",('DE01-F12'!P3011))","v":""},{"$f":"IF(ISBLANK('DE01-F12'!Q3011),\"\",('DE01-F12'!Q3011))","v":""},{"$f":"IF(ISBLANK('DE01-F12'!S3011),\"\",('DE01-F12'!S3011))","v":""}]
[{"$f":"IF(ISBLANK('DE01-F12'!N3012),\"\",('DE01-F12'!N3012))","v":""},{"$f":"MID('DE01-F12'!G3012,1,18)","v":""},{"$f":"IF(ISBLANK('DE01-F12'!P3012),\"\",('DE01-F12'!P3012))","v":""},{"$f":"IF(ISBLANK('DE01-F12'!Q3012),\"\",('DE01-F12'!Q3012))","v":""},{"$f":"IF(ISBLANK('DE01-F12'!S3012),\"\",('DE01-F12'!S3012))","v":""}]

{"sheet":"LISTAS","index":4,"n_rows":527,"n_cols":12,"rows_kept":527,"cut":false,"hidden":false,"merged":[[27,1,27,2],[1,1,1,2],[2,1,2,2],[19,1,19,2],[20,1,20,2],[26,1,26,2],[372,5,372,7],[33,1,33,2],[34,1,34,2],[40,1,41,1],[490,3,491,3],[372,2,372,4]]}
[]
[null,"Lista 2"]
[null,"Modalidad_de_selección ",null,"Meses "]
[null,"CCE-02","Licitación pública","Enero "]
[null,"CCE-03","Concurso de méritos con precalificación","Febrero"]
[null,"CCE-04","Concurso de méritos abierto","Marzo"]
[null,"CCE-05","Contratación directa","Abril"]
[null,"CCE-06","Selección abreviada menor cuantía","Mayo"]
[null,"CCE-07","Selección abreviada subasta inversa","Junio"]
[null,"CCE-07","Selección abreviada subasta inversa (No disponible)","Julio"]
[null,"CCE-10","Mínima cuantía","Agosto"]
[null,"CCE-11||01","Publicación contratación régimen especial - Selección de comisionista","Septiembre"]
[null,"CCE-11||02","Publicación contratación régimen especial - Enajenación de bienes para intermediarios idóneos","Octubre"]
[null,"CCE-11||03","Publicación contratación régimen especial - Régimen especial","Noviembre"]
[null,"CCE-11||04","Publicación contratación régimen especial - Banco multilateral y organismos multilaterales","Diciembre"]
[null,"CCE-99","Selección abreviada - acuerdo marco"]
[null,null,"N/A"]
[]
[]
[null,"Lista 3"]
[null,"Fuente_de_los_recursos"]
[null,0,"20-Ingresos corrientes"]
[null,0,"21-Otros recursos de tesorería"]
[null,1,"10-Recursos Corrientes"]
[null,1,"11-Otros Recursos del Tesoro"]
[]
[null,"Lista 4"]
[null,"¿Se requieren vigencias futuras?"]
[null,"0","No"]
[null,"1","SI"]
[null,"0","N/A"]
[]
[]
[null,"Lista 5"]
[null,"Estado_de_solicitud_de_vigencias_futuras"]
[null,0,"N/A"]
[null,1,"No solicitadas"]
[null,2,"Solicitadas"]
[null,3,"Aprobadas"]
[]
[null,"FORMULA PROYECTOS ","Área de Funcionamiento","NA"]
[null,null,"Proyecto de Inversión","PROYECTOS"]
[null,"Nombre_del_rubro","Objetivo_General_Proyecto","Reponsable","Código_pptal","Código_pdctos","Total",11,20,21]
[null,"Mejoramiento en la calidad de la gestión estratégica de la Superintendencia de Industria y Comercio a nivel Nacional","Mejorar la calidad de la gestión estratégica de la Superintendencia de Industria y Comercio","Jefe Oficina Asesora de Planeación","C-3599-0200-8","3599-0200-8-0000-3599072 / 3599-0200-8-0000-3599925",3279804223,0,3279804223,0,{"$f":"+G44-H44-I44-J44","v":0}]
[null,"Mejoramiento de los Sistemas de Información y servicios tecnológicos de la Superintendencia de Industria y Comercio en el territorio  Nacional","Mejorar los Sistemas de Información y servicios tecnológicos de la Superintendencia de Industria y Comercio, en el territorio nacional","Jefe Oficina de Tecnologia e Informatica","C-3599-0200-6","3599-0200-6-0000-3599922",32653683892,0,0,32653683892,0]
[null,"Fortalecimiento del Sistema de Atención al Ciudadano de la Superintendencia de Industria y Comercio a nivel  Nacional","Fortalecer el sistema de atención al ciudadano de la entidad a nivel nacional","Jefe de Oficina de Servicios al Consumidor y Apoyo Empresarial","C-3599-0200-5","3599-0200-5-0000-3599007 / 3599-0200-5-0000-3599066",32792335832,0,27738021797,5054314035,0]
[null,"Incremento de la cobertura de los servicios de la Red Nacional de Protección al Consumidor en el territorio  Nacional","Incrementar la cobertura de los servicios de la Red Nacional de Protección al Consumidor en el territorio nacional","Delegado  para la Protección del Consumidor","C-3503-0200-9","3503-0200-9-0000-3503008 / 3503-0200-9-0000-3503014 / 3503-0200-9-0000-3503024",31998915000,0,29666198108,2332716892,0]
[null,"Fortalecimiento de la función de inspección, control y vigilancia de la Superintendencia de Industria y Comercio en el marco del Subsistema Nacional de Calidad, el régimen de control de precios y el sector valuatorio a nivel  Nacional","Fortalecer la función de inspección, control y vigilancia en el marco del Subsistema Nacional de Calidad, el régimen de control de precios y el sector valuatorio del país","Delegado para el Control y Verificacion de Reglamentos Ténicos y la Metrologia Legal","C-3503-0200-16","3503-0200-16-0000-3503014 / 3503-0200-16-0000-3503016 / 3503-0200-16-0000-3503024",5548341297,256359403,0,5291981894,0]
[null,"Mejoramiento en la ejecución de las funciones asignadas en materia de protección al consumidor a nivel  Nacional","Mejorar la ejecución de las funciones asignadas en materia de protección al consumidor","Delegado para la Protección del Consumidor","C-3503-0200-15","3503-0200-15-0000-3503014 / 3503-0200-15-0000-3503017 / 3503-0200-15-0000-3503024",12056459921,0,5775039552,6281420369,{"$f":"+G49-H49-I49-J49","v":0}]
[null,"Fortalecimiento de la atención y promoción de trámites y servicios en el marco del sistema de propiedad industrial a nivel  Nacional","Fortalecer la atención y promoción de trámites y servicios en el marco del sistema de propiedad industrial en Colombia ","Delegado de la Delegatura para Propiedad Industrial","C-3503-0200-14","3503-0200-14-0000-3503014 / 3503-0200-14-0000-3503019 / 3503-0200-14-0000-3503020 / 3503-0200-14-0000-3503024",8695774102,0,0,8695774102,0]
[null,"Fortalecimiento del régimen de protección de la libre competencia económica en los mercados a nivel  Nacional","Fortalecer la implementación del régimen de protección de la libre competencia económica en los mercados","Delegado para la Protección de la Competencia","C-3503-0200-13","3503-0200-13-0000-3503014 / 3503-0200-13-0000-3503018",7555344485,0,0,7555344485,0]
[null,"Fortalecimiento de la protección de datos personales a nivel  Nacional","Fortalecer la protección de datos personales en el país","Delegado para la Protección de Datos Personales","C-3503-0200-12","3503-0200-12-0000-3503014 / 3503-0200-12-0000-3503022 / 3503-0200-12-0000-3503024",6316692367,0,0,6316692367,0]
[null,"Fortalecimiento de la función jurisdiccional de la Superintendencia de industria y comercio a nivel  Nacional","Fortalecer la función  jurisdiccional de la Superintendencia de Industria y Comercio en materia de protección al consumidor, competencia desleal y propiedad industrial","Delegado para Asuntos Jurisdiccionales","C-3503-0200-11","3503-0200-11-0000-3503014 / 3503-0200-11-0000-3503023",2339433872,0,2339433872,0,0]
[null,"TOTAL",null,null,null,null,{"$f":"SUM(G44:G53)","v":143236784991},{"$f":"SUM(H44:H53)","v":256359403},{"$f":"SUM(I44:I53)","v":68798497552},{"$f":"SUM(J44:J53)","v":74181928036},0]
[]
[]
[null,"NOMBRE_PROY.INV","PROY.INV","OBJ.GEN","OBJ.ESP","PRODUCTO","ACTIVIDAD"]
[null,"Fortalecimiento de la función jurisdiccional de la Superintendencia de industria y comercio a nivel  Nacional","C-3503-0200-11","Fortalecer la función  jurisdiccional de la Superintendencia de Industria y Comercio en materia de protección al consumidor, competencia desleal y propiedad industrial","Mejorar los niveles de atención y oportunidad de trámites jurisdiccionales","Servicio jurisdiccionales para la protección del consumidor, la competencia y la propiedad industrial","Atender trámites en materia de Asuntos Jurisdiccionales.  "]
[null,"Fortalecimiento de la función jurisdiccional de la Superintendencia de industria y comercio a nivel  Nacional","C-3503-0200-11","Fortalecer la función  jurisdiccional de la Superintendencia de Industria y Comercio en materia de protección al consumidor, competencia desleal y propiedad industrial","Mejorar los niveles de atención y oportunidad de trámites jurisdiccionales","Servicio jurisdiccionales para la protección del consumidor, la competencia y la propiedad industrial","Capacitar al recurso humano"]
[null,"Fortalecimiento de la función jurisdiccional de la Superintendencia de industria y comercio a nivel  Nacional","C-3503-0200-11","Fortalecer la función  jurisdiccional de la Superintendencia de Industria y Comercio en materia de protección al consumidor, competencia desleal y propiedad industrial","Mejorar los niveles de atención y oportunidad de trámites jurisdiccionales","Servicio jurisdiccionales para la protección del consumidor, la competencia y la propiedad industrial","Notificar los trámites judiciales en los terminos establecidos por la Ley."]
[null,"Fortalecimiento de la función jurisdiccional de la Superintendencia de industria y comercio a nivel  Nacional","C-3503-0200-11","Fortalecer la función  jurisdiccional de la Superintendencia de Industria y Comercio en materia de protección al consumidor, competencia desleal y propiedad industrial","Promover el uso de las normas procesales aplicables en temas jurisdiccionales","Servicio de divulgación de temas misionales de la SIC","Realizar eventos de divulgación en materia de procesos Jurisdiccionales"]
[null,"Fortalecimiento de la función jurisdiccional de la Superintendencia de industria y comercio a nivel  Nacional","C-3503-0200-11","Fortalecer la función  jurisdiccional de la Superintendencia de Industria y Comercio en materia de protección al consumidor, competencia desleal y propiedad industrial","Promover el uso de las normas procesales aplicables en temas jurisdiccionales","Servicio de divulgación de temas misionales de la SIC","Generar y divulgar contenidos en materia de Competencia Desleal, propiedad industrial y protección al consumidor, en medios digitales o impresos. "]
[null,"Mejoramiento en la ejecución de las funciones asignadas en materia de protección al consumidor a nivel  Nacional","C-3503-0200-15","Mejorar la ejecución de las funciones asignadas en materia de protección al consumidor","Mejorar los niveles de atención y oportunidad de los trámites y denuncias en materia de Protección al Consumidor","Servicios de protección al consumidor dentro de las competencias de la SIC","Atender trámites de Protección al Consumidor"]
[null,"Mejoramiento en la ejecución de las funciones asignadas en materia de protección al consumidor a nivel  Nacional","C-3503-0200-15","Mejorar la ejecución de las funciones asignadas en materia de protección al consumidor","Mejorar los niveles de atención y oportunidad de los trámites y denuncias en materia de Protección al Consumidor","Servicios de protección al consumidor dentro de las competencias de la SIC","Capacitar al recurso humano"]
[null,"Mejoramiento en la ejecución de las funciones asignadas en materia de protección al consumidor a nivel  Nacional","C-3503-0200-15","Mejorar la ejecución de las funciones asignadas en materia de protección al consumidor","Mejorar los niveles de atención y oportunidad de los trámites y denuncias en materia de Protección al Consumidor","Servicios de protección al consumidor dentro de las competencias de la SIC","Participar en las diferentes actividades programadas por organismos nacionales e internacionales "]
[null,"Mejoramiento en la ejecución de las funciones asignadas en materia de protección al consumidor a nivel  Nacional","C-3503-0200-15","Mejorar la ejecución de las funciones asignadas en materia de protección al consumidor","Promover el cumplimiento de las disposiciones legales en materia de protección al consumidor por parte de los vigilados","Servicios de educación informal en temas de la Superintendencia de Industria y Comercio","Elaborar talleres para el fortalecimiento de la red de producto seguro "]
[null,"Mejoramiento en la ejecución de las funciones asignadas en materia de protección al consumidor a nivel  Nacional","C-3503-0200-15","Mejorar la ejecución de las funciones asignadas en materia de protección al consumidor","Promover el cumplimiento de las disposiciones legales en materia de protección al consumidor por parte de los vigilados","Servicios de educación informal en temas de la Superintendencia de Industria y Comercio","Realizar charlas de difusión de los derechos de los consumidores en diferentes municipios del país."]
[null,"Mejoramiento en la ejecución de las funciones asignadas en materia de protección al consumidor a nivel  Nacional","C-3503-0200-15","Mejorar la ejecución de las funciones asignadas en materia de protección al consumidor","Promover el cumplimiento de las disposiciones legales en materia de protección al consumidor por parte de los vigilados","Servicio de divulgación de temas misionales de la SIC","Generar y divulgar contenidos en cartillas o folletos en medio digital o impreso"]
[null,"Mejoramiento en la ejecución de las funciones asignadas en materia de protección al consumidor a nivel  Nacional","C-3503-0200-15","Mejorar la ejecución de las funciones asignadas en materia de protección al consumidor","Promover el cumplimiento de las disposiciones legales en materia de protección al consumidor por parte de los vigilados","Servicio de divulgación de temas misionales de la SIC","Realizar programas educativos en medios masivos "]
[null,"Mejoramiento en la ejecución de las funciones asignadas en materia de protección al consumidor a nivel  Nacional","C-3503-0200-15","Mejorar la ejecución de las funciones asignadas en materia de protección al consumidor","Promover el cumplimiento de las disposiciones legales en materia de protección al consumidor por parte de los vigilados","Servicio de divulgación de temas misionales de la SIC","Realizar foros y/o eventos de carácter nacional e internacional."]
[null,"Fortalecimiento de la protección de datos personales a nivel  Nacional","C-3503-0200-12","Fortalecer la protección de datos personales en el país","Aumentar la eficiencia del control y vigilancia a los sujetos obligados","Servicios de inspección, vigilancia y control para la protección de los datos personales.","Administrar el Registro Nacional de Bases de Datos"]
[null,"Fortalecimiento de la protección de datos personales a nivel  Nacional","C-3503-0200-12","Fortalecer la protección de datos personales en el país","Aumentar la eficiencia del control y vigilancia a los sujetos obligados","Servicios de inspección, vigilancia y control para la protección de los datos personales.","Mantener y actualizar el Sistema Integral de Supervisión Inteligente - SISI y el Registro Nacional de Bases de Datos"]
[null,"Fortalecimiento de la protección de datos personales a nivel  Nacional","C-3503-0200-12","Fortalecer la protección de datos personales en el país","Aumentar la eficiencia del control y vigilancia a los sujetos obligados","Servicios de inspección, vigilancia y control para la protección de los datos personales.","Realizar procesos de supervisión"]
[null,"Fortalecimiento de la protección de datos personales a nivel  Nacional","C-3503-0200-12","Fortalecer la protección de datos personales en el país","Aumentar la eficiencia del control y vigilancia a los sujetos obligados","Servicios de inspección, vigilancia y control para la protección de los datos personales.","Implementar y mantener una herramienta para la optimización y aprovechamiento de la información contenida en el Sistema Integral de Supervisión Inteligente - SISI "]
[null,"Fortalecimiento de la protección de datos personales a nivel  Nacional","C-3503-0200-12","Fortalecer la protección de datos personales en el país","Aumentar la eficiencia del control y vigilancia a los sujetos obligados","Servicios de inspección, vigilancia y control para la protección de los datos personales.","Participar en las diferentes actividades programadas por organismos nacionales e internacionales "]
[null,"Fortalecimiento de la protección de datos personales a nivel  Nacional","C-3503-0200-12","Fortalecer la protección de datos personales en el país","Aumentar la eficiencia del control y vigilancia a los sujetos obligados","Servicios de inspección, vigilancia y control para la protección de los datos personales.","Capacitar al recurso humano en temas de protección a datos personales"]
[null,"Fortalecimiento de la protección de datos personales a nivel  Nacional","C-3503-0200-12","Fortalecer la protección de datos personales en el país","Promover el conocimiento de los titulares y vigilados sobre la normatividad del derecho de protección de datos personales","Servicios de educación informal en temas de la Superintendencia de Industria y Comercio","Realizar capacitaciones sobre el cumplimiento de deberes de los sujetos obligados "]
[null,"Fortalecimiento de la protección de datos personales a nivel  Nacional","C-3503-0200-12","Fortalecer la protección de datos personales en el país","Promover el conocimiento de los titulares y vigilados sobre la normatividad del derecho de protección de datos personales","Servicios de educación informal en temas de la Superintendencia de Industria y Comercio","Realizar capacitaciones para promover y divulgar el derecho fundamental a la protección de datos personales a los Titulares y vigilados"]
[null,"Fortalecimiento de la protección de datos personales a nivel  Nacional","C-3503-0200-12","Fortalecer la protección de datos personales en el país","Promover el conocimiento de los titulares y vigilados sobre la normatividad del derecho de protección de datos personales","Servicio de divulgación de temas misionales de la SIC","Realizar campañas de divulgación en materia de protección de datos personales"]
[null,"Fortalecimiento de la protección de datos personales a nivel  Nacional","C-3503-0200-12","Fortalecer la protección de datos personales en el país","Promover el conocimiento de los titulares y vigilados sobre la normatividad del derecho de protección de datos personales","Servicio de divulgación de temas misionales de la SIC","Realizar foros y eventos de divulgación en materia de protección de datos personales dirigidas a Titulares y Vigilados "]
[null,"Fortalecimiento de la protección de datos personales a nivel  Nacional","C-3503-0200-12","Fortalecer la protección de datos personales en el país","Promover el conocimiento de los titulares y vigilados sobre la normatividad del derecho de protección de datos personales","Servicio de divulgación de temas misionales de la SIC","Generar y divulgar guías y cartillas relacionadas con las funciones de la SIC en materia de protección de datos personales"]
[null,"Fortalecimiento de la función de inspección, control y vigilancia de la Superintendencia de Industria y Comercio en el marco del Subsistema Nacional de Calidad, el régimen de control de precios y el sector valuatorio a nivel  Nacional","C-3503-0200-16","Fortalecer la función de inspección, control y vigilancia en el marco del Subsistema Nacional de Calidad, el régimen de control de precios y el sector valuatorio del país","Mejorar los niveles de atención y oportunidad de trámites en materia de inspección,  vigilancia y control  en temas asociados al SICAL, al régimen de control de precios y al sector valuatorio del país","Servicio de inspección, vigilancia y control en temas asociados al SICAL, al régimen de control de precios y al sector valuatorio del país","Atender trámites en materia del SICAL, al régimen de control de precios y al sector valuatorio del país"]
[null,"Fortalecimiento de la función de inspección, control y vigilancia de la Superintendencia de Industria y Comercio en el marco del Subsistema Nacional de Calidad, el régimen de control de precios y el sector valuatorio a nivel  Nacional","C-3503-0200-16","Fortalecer la función de inspección, control y vigilancia en el marco del Subsistema Nacional de Calidad, el régimen de control de precios y el sector valuatorio del país","Mejorar los niveles de atención y oportunidad de trámites en materia de inspección,  vigilancia y control  en temas asociados al SICAL, al régimen de control de precios y al sector valuatorio del país","Servicio de inspección, vigilancia y control en temas asociados al SICAL, al régimen de control de precios y al sector valuatorio del país","Expedir reglamentos técnicos metrológicos aplicables a instrumentos de medición sujetos a control metrológico."]
[null,"Fortalecimiento de la función de inspección, control y vigilancia de la Superintendencia de Industria y Comercio en el marco del Subsistema Nacional de Calidad, el régimen de control de precios y el sector valuatorio a nivel  Nacional","C-3503-0200-16","Fortalecer la función de inspección, control y vigilancia en el marco del Subsistema Nacional de Calidad, el régimen de control de precios y el sector valuatorio del país","Mejorar los niveles de atención y oportunidad de trámites en materia de inspección,  vigilancia y control  en temas asociados al SICAL, al régimen de control de precios y al sector valuatorio del país","Servicio de inspección, vigilancia y control en temas asociados al SICAL, al régimen de control de precios y al sector valuatorio del país","Mantener  e  implementar los laboratorios de calibración"]
[null,"Fortalecimiento de la función de inspección, control y vigilancia de la Superintendencia de Industria y Comercio en el marco del Subsistema Nacional de Calidad, el régimen de control de precios y el sector valuatorio a nivel  Nacional","C-3503-0200-16","Fortalecer la función de inspección, control y vigilancia en el marco del Subsistema Nacional de Calidad, el régimen de control de precios y el sector valuatorio del país","Mejorar los niveles de atención y oportunidad de trámites en materia de inspección,  vigilancia y control  en temas asociados al SICAL, al régimen de control de precios y al sector valuatorio del país","Servicio de inspección, vigilancia y control en temas asociados al SICAL, al régimen de control de precios y al sector valuatorio del país","Administrar y mantener los Sistemas de Información utilizados en el marco del SICAL"]
[null,"Fortalecimiento de la función de inspección, control y vigilancia de la Superintendencia de Industria y Comercio en el marco del Subsistema Nacional de Calidad, el régimen de control de precios y el sector valuatorio a nivel  Nacional","C-3503-0200-16","Fortalecer la función de inspección, control y vigilancia en el marco del Subsistema Nacional de Calidad, el régimen de control de precios y el sector valuatorio del país","Mejorar los niveles de atención y oportunidad de trámites en materia de inspección,  vigilancia y control  en temas asociados al SICAL, al régimen de control de precios y al sector valuatorio del país","Servicio de inspección, vigilancia y control en temas asociados al SICAL, al régimen de control de precios y al sector valuatorio del país","Capacitar al recurso humano"]
[null,"Fortalecimiento de la función de inspección, control y vigilancia de la Superintendencia de Industria y Comercio en el marco del Subsistema Nacional de Calidad, el régimen de control de precios y el sector valuatorio a nivel  Nacional","C-3503-0200-16","Fortalecer la función de inspección, control y vigilancia en el marco del Subsistema Nacional de Calidad, el régimen de control de precios y el sector valuatorio del país","Mejorar los niveles de atención y oportunidad de trámites en materia de inspección,  vigilancia y control  en temas asociados al SICAL, al régimen de control de precios y al sector valuatorio del país","Servicio de inspección, vigilancia y control en temas asociados al SICAL, al régimen de control de precios y al sector valuatorio del país","Participar en eventos de carácter nacional e internacional en temas de Metrología legal y Reglamentos técnicos."]
[null,"Fortalecimiento de la función de inspección, control y vigilancia de la Superintendencia de Industria y Comercio en el marco del Subsistema Nacional de Calidad, el régimen de control de precios y el sector valuatorio a nivel  Nacional","C-3503-0200-16","Fortalecer la función de inspección, control y vigilancia en el marco del Subsistema Nacional de Calidad, el régimen de control de precios y el sector valuatorio del país","Promover la divulgación de las actividades adelantadas por la SIC dentro del SICAL,  el régimen de control de  precios y el sistema valuatorio del país","Servicios de educación informal en temas de la Superintendencia de Industria y Comercio","Realizar capacitaciones en temas relacionados con la metrología legal "]
[null,"Fortalecimiento de la función de inspección, control y vigilancia de la Superintendencia de Industria y Comercio en el marco del Subsistema Nacional de Calidad, el régimen de control de precios y el sector valuatorio a nivel  Nacional","C-3503-0200-16","Fortalecer la función de inspección, control y vigilancia en el marco del Subsistema Nacional de Calidad, el régimen de control de precios y el sector valuatorio del país","Promover la divulgación de las actividades adelantadas por la SIC dentro del SICAL,  el régimen de control de  precios y el sistema valuatorio del país","Servicios de educación informal en temas de la Superintendencia de Industria y Comercio","Realizar capacitaciones en temas relacionados con reglamentos técnicos "]
[null,"Fortalecimiento de la función de inspección, control y vigilancia de la Superintendencia de Industria y Comercio en el marco del Subsistema Nacional de Calidad, el régimen de control de precios y el sector valuatorio a nivel  Nacional","C-3503-0200-16","Fortalecer la función de inspección, control y vigilancia en el marco del Subsistema Nacional de Calidad, el régimen de control de precios y el sector valuatorio del país","Promover la divulgación de las actividades adelantadas por la SIC dentro del SICAL,  el régimen de control de  precios y el sistema valuatorio del país","Servicio de divulgación de temas misionales de la SIC","Realizar foros y/o eventos de carácter nacional e internacional."]
[null,"Fortalecimiento de la función de inspección, control y vigilancia de la Superintendencia de Industria y Comercio en el marco del Subsistema Nacional de Calidad, el régimen de control de precios y el sector valuatorio a nivel  Nacional","C-3503-0200-16","Fortalecer la función de inspección, control y vigilancia en el marco del Subsistema Nacional de Calidad, el régimen de control de precios y el sector valuatorio del país","Promover la divulgación de las actividades adelantadas por la SIC dentro del SICAL,  el régimen de control de  precios y el sistema valuatorio del país","Servicio de divulgación de temas misionales de la SIC","Generar y divulgar contenidos en cartillas o folletos en medio digital o impreso"]
[null,"Fortalecimiento de la atención y promoción de trámites y servicios en el marco del sistema de propiedad industrial a nivel  Nacional","C-3503-0200-14","Fortalecer la atención y promoción de trámites y servicios en el marco del sistema de propiedad industrial en Colombia ","Mejorar la atención de trámites y servicios en materia de Propiedad Industrial","Servicio de registro de propiedad industrial e información tecnológica","Atender los servicios de información tecnológica con las herramientas necesarias para su trámite."]
[null,"Fortalecimiento de la atención y promoción de trámites y servicios en el marco del sistema de propiedad industrial a nivel  Nacional","C-3503-0200-14","Fortalecer la atención y promoción de trámites y servicios en el marco del sistema de propiedad industrial en Colombia ","Mejorar la atención de trámites y servicios en materia de Propiedad Industrial","Servicio de registro de propiedad industrial e información tecnológica","Atender las solicitudes presentadas en materia de signos distintivos y nuevas creaciones."]
[null,"Fortalecimiento de la atención y promoción de trámites y servicios en el marco del sistema de propiedad industrial a nivel  Nacional","C-3503-0200-14","Fortalecer la atención y promoción de trámites y servicios en el marco del sistema de propiedad industrial en Colombia ","Aumentar la cobertura en la difusión del sistema de Propiedad industrial y sus beneficios","Servicio para promover la propiedad industrial ","Mantener e implementar los Centros de apoyo a la Tecnologia e Innovación en el país"]
[null,"Fortalecimiento de la atención y promoción de trámites y servicios en el marco del sistema de propiedad industrial a nivel  Nacional","C-3503-0200-14","Fortalecer la atención y promoción de trámites y servicios en el marco del sistema de propiedad industrial en Colombia ","Aumentar la cobertura en la difusión del sistema de Propiedad industrial y sus beneficios","Servicio para promover la propiedad industrial ","Realizar orientaciones a los usuarios en temas de propiedad industrial."]
[null,"Fortalecimiento de la atención y promoción de trámites y servicios en el marco del sistema de propiedad industrial a nivel  Nacional","C-3503-0200-14","Fortalecer la atención y promoción de trámites y servicios en el marco del sistema de propiedad industrial en Colombia ","Aumentar la cobertura en la difusión del sistema de Propiedad industrial y sus beneficios","Servicio para promover la propiedad industrial ","Participar en programas que promuevan la presentación de solicitudes de patente por parte de residentes a nivel nacional e internacional."]
[null,"Fortalecimiento de la atención y promoción de trámites y servicios en el marco del sistema de propiedad industrial a nivel  Nacional","C-3503-0200-14","Fortalecer la atención y promoción de trámites y servicios en el marco del sistema de propiedad industrial en Colombia ","Aumentar la cobertura en la difusión del sistema de Propiedad industrial y sus beneficios","Servicio de divulgación de temas misionales de la SIC","Realizar y/o participar en foros o eventos de carácter nacional o internacional en materia de Propiedad Industrial"]
[null,"Fortalecimiento de la atención y promoción de trámites y servicios en el marco del sistema de propiedad industrial a nivel  Nacional","C-3503-0200-14","Fortalecer la atención y promoción de trámites y servicios en el marco del sistema de propiedad industrial en Colombia ","Aumentar la cobertura en la difusión del sistema de Propiedad industrial y sus beneficios","Servicio de divulgación de temas misionales de la SIC","Generar y divulgar publicaciones en materia de propiedad industrial en medios impresos o digitales"]
[null,"Fortalecimiento de la atención y promoción de trámites y servicios en el marco del sistema de propiedad industrial a nivel  Nacional","C-3503-0200-14","Fortalecer la atención y promoción de trámites y servicios en el marco del sistema de propiedad industrial en Colombia ","Aumentar la cobertura en la difusión del sistema de Propiedad industrial y sus beneficios","Servicios de educación informal en temas de la Superintendencia de Industria y Comercio","Realizar talleres de transferencia de tecnología, para inventores nacionales. "]
[null,"Fortalecimiento de la atención y promoción de trámites y servicios en el marco del sistema de propiedad industrial a nivel  Nacional","C-3503-0200-14","Fortalecer la atención y promoción de trámites y servicios en el marco del sistema de propiedad industrial en Colombia ","Aumentar la cobertura en la difusión del sistema de Propiedad industrial y sus beneficios","Servicios de educación informal en temas de la Superintendencia de Industria y Comercio","Realizar talleres de formación dentro del programa CATI."]
[null,"Mejoramiento del control y vigilancia a las cámaras de comercio y comerciantes a nivel  Nacional","C-3503-0200-10","Mejorar el control y vigilancia a las cámaras de comercio y comerciantes","Ampliar la cobertura de control y vigilancia a las cámaras de comercio y comerciantes del país","Servicios de inspección,vigilancia y control a las cámaras de comercio y comerciantes","Atender los trámites relacionados con la Vigilancia a las Cámaras de Comercio y comerciantes"]
[null,"Mejoramiento del control y vigilancia a las cámaras de comercio y comerciantes a nivel  Nacional","C-3503-0200-10","Mejorar el control y vigilancia a las cámaras de comercio y comerciantes","Ampliar la cobertura de control y vigilancia a las cámaras de comercio y comerciantes del país","Servicios de inspección,vigilancia y control a las cámaras de comercio y comerciantes","Capacitar al recurso humano en temas relacionados con el control y la vigilancia a las Cámaras de Comercio y a los Comerciantes"]
[null,"Mejoramiento del control y vigilancia a las cámaras de comercio y comerciantes a nivel  Nacional","C-3503-0200-10","Mejorar el control y vigilancia a las cámaras de comercio y comerciantes","Ampliar la cobertura de control y vigilancia a las cámaras de comercio y comerciantes del país","Servicios de inspección,vigilancia y control a las cámaras de comercio y comerciantes","Participar en las diferentes actividades programadas por organismos nacionales e internacionales "]
[null,"Mejoramiento del control y vigilancia a las cámaras de comercio y comerciantes a nivel  Nacional","C-3503-0200-10","Mejorar el control y vigilancia a las cámaras de comercio y comerciantes","Ampliar la cobertura de control y vigilancia a las cámaras de comercio y comerciantes del país","Servicios de inspección,vigilancia y control a las cámaras de comercio y comerciantes","Realizar mantenimiento y actualización del Sistema de Administración Integral de Riesgos - SAIR"]
[null,"Mejoramiento del control y vigilancia a las cámaras de comercio y comerciantes a nivel  Nacional","C-3503-0200-10","Mejorar el control y vigilancia a las cámaras de comercio y comerciantes","Promover las funciones de las cámaras de comercio y las obligaciones de los comerciantes frente a las normas que los rigen","Servicio de divulgación de temas misionales de la SIC","Realizar  foros, eventos y campañas de divulgación"]
[null,"Mejoramiento del control y vigilancia a las cámaras de comercio y comerciantes a nivel  Nacional","C-3503-0200-10","Mejorar el control y vigilancia a las cámaras de comercio y comerciantes","Promover las funciones de las cámaras de comercio y las obligaciones de los comerciantes frente a las normas que los rigen","Servicio de divulgación de temas misionales de la SIC","Generar y divulgar contenidos en cartillas o folletos en medio digital e impresos"]
[null,"Mejoramiento del control y vigilancia a las cámaras de comercio y comerciantes a nivel  Nacional","C-3503-0200-10","Mejorar el control y vigilancia a las cámaras de comercio y comerciantes","Aumentar el conocimiento en las normas por parte de las Cámaras de Comercio y comerciantes","Servicios de educación informal en temas de la Superintendencia de Industria y Comercio","Capacitar a las Cámaras de Comercio en temas relacionados con la normatividad aplicable"]
[null,"Mejoramiento del control y vigilancia a las cámaras de comercio y comerciantes a nivel  Nacional","C-3503-0200-10","Mejorar el control y vigilancia a las cámaras de comercio y comerciantes","Aumentar el conocimiento en las normas por parte de las Cámaras de Comercio y comerciantes","Servicios de educación informal en temas de la Superintendencia de Industria y Comercio","Capacitar los Comerciantes en temas relacionados con la normatividad aplicable"]
[null,"Mejoramiento de los Sistemas de Información y servicios tecnológicos de la Superintendencia de Industria y Comercio en el territorio  Nacional","C-3599-0200-6","Mejorar los Sistemas de Información y servicios tecnológicos de la Superintendencia de Industria y Comercio, en el territorio nacional","Garantizar Sistemas de información y servicios tecnológicos modernos y efectivos ","Servicios de información implementados","Mantener y actualizar el Modelo de Seguridad y Privacidad de la Información"]
[null,"Mejoramiento de los Sistemas de Información y servicios tecnológicos de la Superintendencia de Industria y Comercio en el territorio  Nacional","C-3599-0200-6","Mejorar los Sistemas de Información y servicios tecnológicos de la Superintendencia de Industria y Comercio, en el territorio nacional","Garantizar Sistemas de información y servicios tecnológicos modernos y efectivos ","Servicios de información implementados","Adquirir, instalar y mantener equipos, componentes y servicios  tecnológicos de procesamiento, almacenamiento y comunicaciones"]
[null,"Mejoramiento de los Sistemas de Información y servicios tecnológicos de la Superintendencia de Industria y Comercio en el territorio  Nacional","C-3599-0200-6","Mejorar los Sistemas de Información y servicios tecnológicos de la Superintendencia de Industria y Comercio, en el territorio nacional","Garantizar Sistemas de información y servicios tecnológicos modernos y efectivos ","Servicios de información implementados","Instalar y renovar software de la plataforma tecnológica existente y nueva"]
[null,"Mejoramiento de los Sistemas de Información y servicios tecnológicos de la Superintendencia de Industria y Comercio en el territorio  Nacional","C-3599-0200-6","Mejorar los Sistemas de Información y servicios tecnológicos de la Superintendencia de Industria y Comercio, en el territorio nacional","Garantizar Sistemas de información y servicios tecnológicos modernos y efectivos ","Servicios de información implementados","Realizar mejoramientos, soporte y mantenimiento  de soluciones informáticas actuales y desarrollos de nuevas soluciones"]
[null,"Mejoramiento de los Sistemas de Información y servicios tecnológicos de la Superintendencia de Industria y Comercio en el territorio  Nacional","C-3599-0200-6","Mejorar los Sistemas de Información y servicios tecnológicos de la Superintendencia de Industria y Comercio, en el territorio nacional","Garantizar Sistemas de información y servicios tecnológicos modernos y efectivos ","Servicios de información implementados","Implementar la mesa de servicios informaticos "]
[null,"Mejoramiento de los Sistemas de Información y servicios tecnológicos de la Superintendencia de Industria y Comercio en el territorio  Nacional","C-3599-0200-6","Mejorar los Sistemas de Información y servicios tecnológicos de la Superintendencia de Industria y Comercio, en el territorio nacional","Garantizar Sistemas de información y servicios tecnológicos modernos y efectivos ","Servicios de información implementados","Capacitar al recurso humano en  tecnologías de la información y las comunicaciones y metodologías de desarrollo"]
[null,"Mejoramiento de la infraestructura física de la sede de la Superintendencia de Industria y Comercio en  Bogotá","C-3599-0200-7","Mejorar la infraestructura física de la sede de la Superintendencia de Industria y Comercio","Contar con bienes muebles e inmuebles que cumplan con las normas sobre salud, seguridad y medio ambiente","Sedes adecuadas","Realizar adecuaciones físicas a la sede de la  Superintendencia de Industria y Comercio"]
[null,"Mejoramiento de la infraestructura física de la sede de la Superintendencia de Industria y Comercio en  Bogotá","C-3599-0200-7","Mejorar la infraestructura física de la sede de la Superintendencia de Industria y Comercio","Contar con bienes muebles e inmuebles que cumplan con las normas sobre salud, seguridad y medio ambiente","Sedes adecuadas","Dotar las instalaciones físicas de la  Superintendencia de Industria y Comercio"]
[null,"Mejoramiento de la infraestructura física de la sede de la Superintendencia de Industria y Comercio en  Bogotá","C-3599-0200-7","Mejorar la infraestructura física de la sede de la Superintendencia de Industria y Comercio","Contar con bienes muebles e inmuebles que cumplan con las normas sobre salud, seguridad y medio ambiente","Sedes adecuadas","Adquirir equipos, medios de seguridad y aparatos eléctricos para la  sede de la  Superintendencia de Industria y Comercio"]
[null,"Mejoramiento de la infraestructura física de la sede de la Superintendencia de Industria y Comercio en  Bogotá","C-3599-0200-7","Mejorar la infraestructura física de la sede de la Superintendencia de Industria y Comercio","Contar con bienes muebles e inmuebles que cumplan con las normas sobre salud, seguridad y medio ambiente","Sedes mantenidas","Realizar el mantenimiento preventivo a la sede de la  Superintendencia de Industria y Comercio"]
[null,"Mejoramiento de la infraestructura física de la sede de la Superintendencia de Industria y Comercio en  Bogotá","C-3599-0200-7","Mejorar la infraestructura física de la sede de la Superintendencia de Industria y Comercio","Contar con bienes muebles e inmuebles que cumplan con las normas sobre salud, seguridad y medio ambiente","Sedes mantenidas","Realizar el mantenimiento correctivo a la sede de la  Superintendencia de Industria y Comercio"]
[null,"Fortalecimiento del régimen de protección de la libre competencia económica en los mercados a nivel  Nacional","C-3503-0200-13","Fortalecer la implementación del régimen de protección de la libre competencia económica en los mercados","Mejorar los niveles de atención y oportunidad de los trámites y servicios en materia de protección de la competencia","Servicio para la protección de la competencia","Atender los casos y solicitudes presentadas en materia de protección de la libre competencia económica de los mercados. "]
[null,"Fortalecimiento del régimen de protección de la libre competencia económica en los mercados a nivel  Nacional","C-3503-0200-13","Fortalecer la implementación del régimen de protección de la libre competencia económica en los mercados","Mejorar los niveles de atención y oportunidad de los trámites y servicios en materia de protección de la competencia","Servicio para la protección de la competencia","Dotar el laboratorio de informática forense para su adecuado funcionamiento"]
[null,"Fortalecimiento del régimen de protección de la libre competencia económica en los mercados a nivel  Nacional","C-3503-0200-13","Fortalecer la implementación del régimen de protección de la libre competencia económica en los mercados","Mejorar los niveles de atención y oportunidad de los trámites y servicios en materia de protección de la competencia","Servicio para la protección de la competencia","Actualizar y mantener el laboratorio de informática forense para su adecuado funcionamiento"]
[null,"Fortalecimiento del régimen de protección de la libre competencia económica en los mercados a nivel  Nacional","C-3503-0200-13","Fortalecer la implementación del régimen de protección de la libre competencia económica en los mercados","Mejorar los niveles de atención y oportunidad de los trámites y servicios en materia de protección de la competencia","Servicio para la protección de la competencia","Participar en foros y eventos de caracter nacional e internacional "]
[null,"Fortalecimiento del régimen de protección de la libre competencia económica en los mercados a nivel  Nacional","C-3503-0200-13","Fortalecer la implementación del régimen de protección de la libre competencia económica en los mercados","Mejorar los niveles de atención y oportunidad de los trámites y servicios en materia de protección de la competencia","Servicio para la protección de la competencia","Capacitar al recurso humano en temas de libre competencia económica de los mercados. "]
[null,"Fortalecimiento del régimen de protección de la libre competencia económica en los mercados a nivel  Nacional","C-3503-0200-13","Fortalecer la implementación del régimen de protección de la libre competencia económica en los mercados","Promocionar los temas de protección a la competencia","Servicio de divulgación de temas misionales de la SIC","Realizar foros, eventos y campañas de divulgación"]
[null,"Fortalecimiento del régimen de protección de la libre competencia económica en los mercados a nivel  Nacional","C-3503-0200-13","Fortalecer la implementación del régimen de protección de la libre competencia económica en los mercados","Promocionar los temas de protección a la competencia","Servicio de divulgación de temas misionales de la SIC","Realizar campañas en medios de comunicación que promuevan la protección de la competencia"]
[null,"Fortalecimiento del régimen de protección de la libre competencia económica en los mercados a nivel  Nacional","C-3503-0200-13","Fortalecer la implementación del régimen de protección de la libre competencia económica en los mercados","Promocionar los temas de protección a la competencia","Servicio de divulgación de temas misionales de la SIC","Compilar los actos administrativos relacionados con funciones de la SIC en materia de Protección de la Competencia"]
[null,"Incremento de la cobertura de los servicios de la Red Nacional de Protección al Consumidor en el territorio  Nacional","C-3503-0200-9","Incrementar la cobertura de los servicios de la Red Nacional de Protección al Consumidor en el territorio nacional","Descentralizar los servicios de la Red Nacional de Protección al Consumidor","Servicios de apoyo para la consolidación de la red nacional de protección al consumidor","Implementar y mantener en operación las casas del consumidor a nivel nacional"]
[null,"Incremento de la cobertura de los servicios de la Red Nacional de Protección al Consumidor en el territorio  Nacional","C-3503-0200-9","Incrementar la cobertura de los servicios de la Red Nacional de Protección al Consumidor en el territorio nacional","Descentralizar los servicios de la Red Nacional de Protección al Consumidor","Servicios de apoyo para la consolidación de la red nacional de protección al consumidor","Implementar y mantener en operación las unidades móviles"]
[null,"Incremento de la cobertura de los servicios de la Red Nacional de Protección al Consumidor en el territorio  Nacional","C-3503-0200-9","Incrementar la cobertura de los servicios de la Red Nacional de Protección al Consumidor en el territorio nacional","Descentralizar los servicios de la Red Nacional de Protección al Consumidor","Servicios de apoyo para la consolidación de la red nacional de protección al consumidor","Ejecutar estrategias de promoción, prevención y articulación para la protección de los consumidores dirigidas a tenderos y comerciantes"]
[null,"Incremento de la cobertura de los servicios de la Red Nacional de Protección al Consumidor en el territorio  Nacional","C-3503-0200-9","Incrementar la cobertura de los servicios de la Red Nacional de Protección al Consumidor en el territorio nacional","Descentralizar los servicios de la Red Nacional de Protección al Consumidor","Servicios de apoyo para la consolidación de la red nacional de protección al consumidor","Ejecutar estrategias de acompañamiento y brindar apoyo de implementación, operación y sostenimiento a los proyectos elaborados por miembros de la Red Nacional de Protección al Consumidor a nivel regional."]
[null,"Incremento de la cobertura de los servicios de la Red Nacional de Protección al Consumidor en el territorio  Nacional","C-3503-0200-9","Incrementar la cobertura de los servicios de la Red Nacional de Protección al Consumidor en el territorio nacional","Descentralizar los servicios de la Red Nacional de Protección al Consumidor","Servicios de apoyo para la consolidación de la red nacional de protección al consumidor","Mantener y actualizar las soluciones informáticas para apoyar las actividades de la Red Nacional de Protección al Consumidor."]
[null,"Incremento de la cobertura de los servicios de la Red Nacional de Protección al Consumidor en el territorio  Nacional","C-3503-0200-9","Incrementar la cobertura de los servicios de la Red Nacional de Protección al Consumidor en el territorio nacional","Promover la cultura de consumo en temas relacionados con el Estatuto de Protección al Consumidor","Servicio de divulgación de temas misionales de la SIC","Generar y divulgar contenidos para dar a conocer el Estatuto de Protección al Consumidor"]
[null,"Incremento de la cobertura de los servicios de la Red Nacional de Protección al Consumidor en el territorio  Nacional","C-3503-0200-9","Incrementar la cobertura de los servicios de la Red Nacional de Protección al Consumidor en el territorio nacional","Promover la cultura de consumo en temas relacionados con el Estatuto de Protección al Consumidor","Servicio de divulgación de temas misionales de la SIC","Generar y divulgar material sobre las normas de protección al consumidor"]
[null,"Incremento de la cobertura de los servicios de la Red Nacional de Protección al Consumidor en el territorio  Nacional","C-3503-0200-9","Incrementar la cobertura de los servicios de la Red Nacional de Protección al Consumidor en el territorio nacional","Promover la cultura de consumo en temas relacionados con el Estatuto de Protección al Consumidor","Servicios de educación informal en temas de la Superintendencia de Industria y Comercio","Capacitar de forma activa y gradual a los miembros de la Red Nacional de Protección al Consumidor en todo el territorio nacional según la Ley 1480 de 2011"]
[null,"Incremento de la cobertura de los servicios de la Red Nacional de Protección al Consumidor en el territorio  Nacional","C-3503-0200-9","Incrementar la cobertura de los servicios de la Red Nacional de Protección al Consumidor en el territorio nacional","Promover la cultura de consumo en temas relacionados con el Estatuto de Protección al Consumidor","Servicios de educación informal en temas de la Superintendencia de Industria y Comercio","Realizar capacitaciones dirigidas a instituciones educativas, empresarios y población en el territorio nacional"]
[null,"Fortalecimiento del Sistema de Atención al Ciudadano de la Superintendencia de Industria y Comercio a nivel  Nacional","C-3599-0200-5","Fortalecer el sistema de atención al ciudadano de la entidad a nivel nacional","Mejorar el conocimiento y la comunicación con los ciudadanos, en relación con las funciones, trámites y servicios brindados por la entidad","Servicio de atención al ciudadano","Diseñar la estrategia de los  servicios de atención "]
[null,"Fortalecimiento del Sistema de Atención al Ciudadano de la Superintendencia de Industria y Comercio a nivel  Nacional","C-3599-0200-5","Fortalecer el sistema de atención al ciudadano de la entidad a nivel nacional","Mejorar el conocimiento y la comunicación con los ciudadanos, en relación con las funciones, trámites y servicios brindados por la entidad","Servicio de atención al ciudadano","Implementar y mantener las herramientas y plataformas del  servicio de atención"]
[null,"Fortalecimiento del Sistema de Atención al Ciudadano de la Superintendencia de Industria y Comercio a nivel  Nacional","C-3599-0200-5","Fortalecer el sistema de atención al ciudadano de la entidad a nivel nacional","Mejorar el conocimiento y la comunicación con los ciudadanos, en relación con las funciones, trámites y servicios brindados por la entidad","Servicio de atención al ciudadano","Diseñar e implementar cursos presenciales de formación."]
[null,"Fortalecimiento del Sistema de Atención al Ciudadano de la Superintendencia de Industria y Comercio a nivel  Nacional","C-3599-0200-5","Fortalecer el sistema de atención al ciudadano de la entidad a nivel nacional","Mejorar el conocimiento y la comunicación con los ciudadanos, en relación con las funciones, trámites y servicios brindados por la entidad","Servicio de atención al ciudadano","Diseñar e implementar cursos virtuales de formación."]
[null,"Fortalecimiento del Sistema de Atención al Ciudadano de la Superintendencia de Industria y Comercio a nivel  Nacional","C-3599-0200-5","Fortalecer el sistema de atención al ciudadano de la entidad a nivel nacional","Mejorar el conocimiento y la comunicación con los ciudadanos, en relación con las funciones, trámites y servicios brindados por la entidad","Servicio de atención al ciudadano","Diseñar e implementar la estrategia y/o campañas del servicio de divulgación"]
[null,"Fortalecimiento del Sistema de Atención al Ciudadano de la Superintendencia de Industria y Comercio a nivel  Nacional","C-3599-0200-5","Fortalecer el sistema de atención al ciudadano de la entidad a nivel nacional","Optimizar la Gestión Documental de la Entidad","Servicio de Gestión Documental","Tramitar los documentos de entrada y salida de la entidad"]
[null,"Fortalecimiento del Sistema de Atención al Ciudadano de la Superintendencia de Industria y Comercio a nivel  Nacional","C-3599-0200-5","Fortalecer el sistema de atención al ciudadano de la entidad a nivel nacional","Optimizar la Gestión Documental de la Entidad","Servicio de Gestión Documental","Digitalizar y Complementar expedientes de series documentales"]
[null,"Fortalecimiento del Sistema de Atención al Ciudadano de la Superintendencia de Industria y Comercio a nivel  Nacional","C-3599-0200-5","Fortalecer el sistema de atención al ciudadano de la entidad a nivel nacional","Optimizar la Gestión Documental de la Entidad","Servicio de Gestión Documental","Realizar inventario de series documentales "]
[null,"Fortalecimiento del Sistema de Atención al Ciudadano de la Superintendencia de Industria y Comercio a nivel  Nacional","C-3599-0200-5","Fortalecer el sistema de atención al ciudadano de la entidad a nivel nacional","Optimizar la Gestión Documental de la Entidad","Servicio de Gestión Documental","Implementar y mantener el Sistema de Documentos Electrónicos de la entidad"]
[null,"Fortalecimiento del Sistema de Atención al Ciudadano de la Superintendencia de Industria y Comercio a nivel  Nacional","C-3599-0200-5","Fortalecer el sistema de atención al ciudadano de la entidad a nivel nacional","Optimizar la Gestión Documental de la Entidad","Servicio de Gestión Documental","Implementar y mantener los programas de gestión documental "]
[null,"Fortalecimiento del Sistema de Atención al Ciudadano de la Superintendencia de Industria y Comercio a nivel  Nacional","C-3599-0200-5","Fortalecer el sistema de atención al ciudadano de la entidad a nivel nacional","Optimizar la Gestión Documental de la Entidad","Servicio de Gestión Documental","Capacitar al recurso humano en temas de gestión documental "]
[null,"Mejoramiento en la calidad de la gestión estratégica de la Superintendencia de Industria y Comercio a nivel Nacional","C-3599-0200-8","Mejorar la calidad de la gestión estratégica de la Superintendencia de Industria y Comercio","Fortalecer la implementación y  la articulación de los sistemas de  gestión","Servicio de Implementación Sistema de Gestión","Mejorar el  Sistema Integral de Gestión Institucional en el marco del Modelo Integrado de Planeación y Gestión"]
[null,"Mejoramiento en la calidad de la gestión estratégica de la Superintendencia de Industria y Comercio a nivel Nacional","C-3599-0200-8","Mejorar la calidad de la gestión estratégica de la Superintendencia de Industria y Comercio","Fortalecer la implementación y  la articulación de los sistemas de  gestión","Servicio de Implementación Sistema de Gestión","Diseñar e implementar el programa de Gestión de la Información y comunicación"]
[null,"Mejoramiento en la calidad de la gestión estratégica de la Superintendencia de Industria y Comercio a nivel Nacional","C-3599-0200-8","Mejorar la calidad de la gestión estratégica de la Superintendencia de Industria y Comercio","Fortalecer la implementación y  la articulación de los sistemas de  gestión","Servicio de Implementación Sistema de Gestión","Diseñar e implementar la estrategia de gestión de conocimiento e innovación "]
[null,"Mejoramiento en la calidad de la gestión estratégica de la Superintendencia de Industria y Comercio a nivel Nacional","C-3599-0200-8","Mejorar la calidad de la gestión estratégica de la Superintendencia de Industria y Comercio","Fortalecer la implementación y  la articulación de los sistemas de  gestión","Servicio de Implementación Sistema de Gestión","Diseñar e implementar las rutas de creación de valor de la política de gestión estratégica del talento humano"]
[null,"Mejoramiento en la calidad de la gestión estratégica de la Superintendencia de Industria y Comercio a nivel Nacional","C-3599-0200-8","Mejorar la calidad de la gestión estratégica de la Superintendencia de Industria y Comercio","Fortalecer la implementación y  la articulación de los sistemas de  gestión","Servicio de Implementación Sistema de Gestión","Rediseñar e implementar la política de direccionamiento estratégico y planeación institucional"]
[null,"Mejoramiento en la calidad de la gestión estratégica de la Superintendencia de Industria y Comercio a nivel Nacional","C-3599-0200-8","Mejorar la calidad de la gestión estratégica de la Superintendencia de Industria y Comercio","Fortalecer la implementación y  la articulación de los sistemas de  gestión","Servicio de Implementación Sistema de Gestión","Diseñar e implementar el modelo de seguimiento y evaluación del desempeño institucional"]
[null,"Mejoramiento en la calidad de la gestión estratégica de la Superintendencia de Industria y Comercio a nivel Nacional","C-3599-0200-8","Mejorar la calidad de la gestión estratégica de la Superintendencia de Industria y Comercio","Fortalecer la implementación y  la articulación de los sistemas de  gestión","Servicio de Implementación Sistema de Gestión","Rediseñar e implementar la política institucional de gestión del riesgo "]
[null,"Mejoramiento en la calidad de la gestión estratégica de la Superintendencia de Industria y Comercio a nivel Nacional","C-3599-0200-8","Mejorar la calidad de la gestión estratégica de la Superintendencia de Industria y Comercio","Fortalecer la implementación y  la articulación de los sistemas de  gestión","Servicio de Implementación Sistema de Gestión","Rediseñar e implementar la estrategia de transparencia y participación ciudadana"]
[null,"Mejoramiento en la calidad de la gestión estratégica de la Superintendencia de Industria y Comercio a nivel Nacional","C-3599-0200-8","Mejorar la calidad de la gestión estratégica de la Superintendencia de Industria y Comercio","Fortalecer la implementación y  la articulación de los sistemas de  gestión","Servicio de Implementación Sistema de Gestión","Mantener y mejorar la Política de Defensa Jurídica institucional"]
[null,"Mejoramiento en la calidad de la gestión estratégica de la Superintendencia de Industria y Comercio a nivel Nacional","C-3599-0200-8","Mejorar la calidad de la gestión estratégica de la Superintendencia de Industria y Comercio","Fortalecer la implementación y  la articulación de los sistemas de  gestión","Servicio de Educación informal para la gestión Administrativa","Capacitar a gerentes publicos en temas de  direccionamiento estratégico"]
[null,"Mejoramiento en la calidad de la gestión estratégica de la Superintendencia de Industria y Comercio a nivel Nacional","C-3599-0200-8","Mejorar la calidad de la gestión estratégica de la Superintendencia de Industria y Comercio","Fortalecer la implementación y  la articulación de los sistemas de  gestión","Servicio de Educación informal para la gestión Administrativa","Capacitar a los servidores publicos en competencias laborales y servicio al ciudadano"]
[]
[]
[]
[]
[]
[null,"PROY.INV","OBJ.ESP","PRODUCTO","ACTIVIDAD","PROY.INV","OBJ.ESP","PRODUCTO","ACTIVIDAD","FORMULA PARA INDIRECTO PRY.INV",null,"CCP"]
[null,"C-3503-0200-10","Ampliar la cobertura de control y vigilancia a las cámaras de comercio y comerciantes del país","Servicios de inspección,vigilancia y control a las cámaras de comercio y comerciantes","Atender los trámites relacionados con la Vigilancia a las Cámaras de Comercio y comerciantes","PRY_10","OBJ_10_1","PRO_10_1_1","ACT_10_1_1_1",{"$f":"IF('DE01-F12'!D3=\"Área de Funcionamiento\",\"NA\",VLOOKUP('DE01-F12'!C8,LISTAS!B165:F186,5,0))","v":{"$error":"#N/A"}},"C-3503-0200-0010-0000-3503021-02","CCP_1"]
[null,null,"Aumentar el conocimiento en las normas por parte de las Cámaras de Comercio y comerciantes","Servicios de educación informal en temas de la Superintendencia de Industria y Comercio (1)","Capacitar al recurso humano en temas relacionados con el control y la vigilancia a las Cámaras de Comercio y a los Comerciantes","PRY_10","OBJ_10_2","PRO_10_1_1","ACT_10_1_1_2",null,"C-3503-0200-0010-0000-3503024-02","CCP_2"]
[null,null,"Promover las funciones de las cámaras de comercio y las obligaciones de los comerciantes frente a las normas que los rigen","Servicio de divulgación de temas misionales de la SIC (1)","Participar en las diferentes actividades programadas por organismos nacionales e internacionales ","PRY_10","OBJ_10_3","PRO_10_1_1","ACT_10_1_1_3",null,"C-3503-0200-0010-0000-3503014-02","CCP_3"]
[null,"C-3503-0200-11","Mejorar los niveles de atención y oportunidad de trámites jurisdiccionales","Servicio jurisdiccionales para la protección del consumidor, la competencia y la propiedad industrial","Realizar mantenimiento y actualización del Sistema de Administración Integral de RiesgosSAIR","PRY_11","OBJ_11_1","PRO_10_1_1","ACT_10_1_1_4",null,"C-3503-0200-0011-0000-3503023-02","CCP_4"]
[null,null,"Promover el uso de las normas procesales aplicables en temas jurisdiccionales","Servicio de divulgación de temas misionales de la SIC (2)","Capacitar a las Cámaras de Comercio en temas relacionados con la normatividad aplicable","PRY_11","OBJ_11_2","PRO_10_2_1","ACT_10_2_1_1",null,"C-3503-0200-0011-0000-3503014-02","CCP_5"]
[null,"C-3503-0200-12","Aumentar la eficiencia del control y vigilancia a los sujetos obligados","Servicios de inspección, vigilancia y control para la protección de los datos personales.","Capacitar los Comerciantes en temas relacionados con la normatividad aplicable","PRY_12","OBJ_12_1","PRO_10_2_1","ACT_10_2_1_2",null,"C-3503-0200-0012-0000-3503022-02","CCP_6"]
[null,null,"Promover el conocimiento de los titulares y vigilados sobre la normatividad del derecho de protección de datos personales","Servicio de divulgación de temas misionales de la SIC (3)","Generar y divulgar contenidos en cartillas o folletos en medio digital e impresos","PRY_12","OBJ_12_2","PRO_10_3_1","ACT_10_3_1_1",null,"C-3503-0200-0012-0000-3503014-02","CCP_7"]
[null,"C-3503-0200-13","Mejorar los niveles de atención y oportunidad de los trámites y servicios en materia de protección de la competencia","Servicios de educación informal en temas de la Superintendencia de Industria y Comercio (2)","Realizar  foros, eventos y campañas de divulgación","PRY_13","OBJ_12_2","PRO_10_3_1","ACT_10_3_1_2",null,"C-3503-0200-0012-0000-3503024-02","CCP_8"]
[null,null,"Promocionar los temas de protección a la competencia","Servicio para la protección de la competencia","Atender trámites en materia de Asuntos Jurisdiccionales.  ","PRY_13","OBJ_13_1","PRO_11_1_1","ACT_11_1_1_1",null,"C-3503-0200-0013-0000-3503018-02","CCP_9"]
[null,"C-3503-0200-14","Aumentar la cobertura en la difusión del sistema de Propiedad industrial y sus beneficios","Servicio de divulgación de temas misionales de la SIC (4)","Capacitar al recurso humano","PRY_14","OBJ_13_2","PRO_11_1_1","ACT_11_1_1_2",null,"C-3503-0200-0013-0000-3503014-02","CCP_10"]
[null,null,"Mejorar la atención de trámites y servicios en materia de Propiedad Industrial","Servicio de divulgación de temas misionales de la SIC (5)","Notificar los trámites judiciales en los terminos establecidos por la Ley.","PRY_14","OBJ_14_1","PRO_11_1_1","ACT_11_1_1_3",null,"C-3503-0200-0014-0000-3503014-02","CCP_11"]
[null,"C-3503-0200-15","Mejorar los niveles de atención y oportunidad de los trámites y denuncias en materia de Protección al Consumidor","Servicio para promover la propiedad industrial ","Generar y divulgar contenidos en materia de Competencia Desleal, propiedad industrial y protección al consumidor, en medios digitales o impresos. ","PRY_15","OBJ_14_1","PRO_11_2_1","ACT_11_2_1_1",null,"C-3503-0200-0014-0000-3503019-02","CCP_12"]
[null,null,"Promover el cumplimiento de las disposiciones legales en materia de protección al consumidor por parte de los vigilados","Servicios de educación informal en temas de la Superintendencia de Industria y Comercio (3)","Realizar eventos de divulgación en materia de procesos Jurisdiccionales","PRY_15","OBJ_14_1","PRO_11_2_1","ACT_11_2_1_2",null,"C-3503-0200-0014-0000-3503024-02","CCP_13"]
[null,"C-3503-0200-16","Mejorar los niveles de atención y oportunidad de trámites en materia de inspección,  vigilancia y control  en temas asociados al SICAL, al régimen de control de precios y al sector valuatorio del país","Servicio de registro de propiedad industrial e información tecnológica","Administrar el Registro Nacional de Bases de Datos","PRY_16","OBJ_14_2","PRO_12_1_1","ACT_12_1_1_1",null,"C-3503-0200-0014-0000-3503020-02","CCP_14"]
[null,null,"Promover la divulgación de las actividades adelantadas por la SIC dentro del SICAL,  el régimen de control de  precios y el sistema valuatorio del país","Servicios de protección al consumidor dentro de las competencias de la SIC","Capacitar al recurso humano en temas de protección a datos personales","PRY_16","OBJ_15_1","PRO_12_1_1","ACT_12_1_1_2",null,"C-3503-0200-0015-0000-3503017-02","CCP_15"]
[null,"C-3503-0200-9","Descentralizar los servicios de la Red Nacional de Protección al Consumidor","Servicio de divulgación de temas misionales de la SIC (6)","Implementar y mantener una herramienta para la optimización y aprovechamiento de la información contenida en el Sistema Integral de Supervisión InteligenteSISI ","PRY_9","OBJ_15_2","PRO_12_1_1","ACT_12_1_1_3",null,"C-3503-0200-0015-0000-3503014-02","CCP_16"]
[null,null,"Promover la cultura de consumo en temas relacionados con el Estatuto de Protección al Consumidor","Servicios de educación informal en temas de la Superintendencia de Industria y Comercio (4)","Mantener y actualizar el Sistema Integral de Supervisión InteligenteSISI y el Registro Nacional de Bases de Datos","PRY_9","OBJ_15_2","PRO_12_1_1","ACT_12_1_1_4",null,"C-3503-0200-0015-0000-3503024-02","CCP_17"]
[null,"C-3599-0200-5","Mejorar el conocimiento y la comunicación con los ciudadanos, en relación con las funciones, trámites y servicios brindados por la entidad","Servicio de inspección, vigilancia y control en temas asociados al SICAL, al régimen de control de precios y al sector valuatorio del país","Participar en las diferentes actividades programadas por organismos nacionales e internacionales ","PRY_5","OBJ_16_1","PRO_12_1_1","ACT_12_1_1_5",null,"C-3503-0200-0016-0000-3503016-02","CCP_18"]
[null,null,"Optimizar la Gestión Documental de la Entidad","Servicio de divulgación de temas misionales de la SIC (7)","Realizar procesos de supervisión","PRY_5","OBJ_16_2","PRO_12_1_1","ACT_12_1_1_6",null,"C-3503-0200-0016-0000-3503014-02","CCP_19"]
[null,"C-3599-0200-6","Garantizar Sistemas de información y servicios tecnológicos modernos y efectivos ","Servicios de educación informal en temas de la Superintendencia de Industria y Comercio (5)","Generar y divulgar guías y cartillas relacionadas con las funciones de la SIC en materia de protección de datos personales","PRY_6","OBJ_16_2","PRO_12_2_1","ACT_12_2_1_1",null,"C-3503-0200-0016-0000-3503024-02","CCP_20"]
[null,"C-3599-0200-7","Contar con bienes muebles e inmuebles que cumplan con las normas sobre salud, seguridad y medio ambiente","Servicios de apoyo para la consolidación de la red nacional de protección al consumidor","Realizar campañas de divulgación en materia de protección de datos personales","PRY_7","OBJ_9_1","PRO_12_2_1","ACT_12_2_1_2",null,"C-3503-0200-0009-0000-3503008-02","CCP_21"]
[null,"C-3599-0200-8","Fortalecer la implementación y  la articulación de los sistemas de  gestión","Servicio de divulgación de temas misionales de la SIC (8)","Realizar foros y eventos de divulgación en materia de protección de datos personales dirigidas a Titulares y Vigilados ","PRY_8","OBJ_9_2","PRO_12_2_1","ACT_12_2_1_3",null,"C-3503-0200-0009-0000-3503014-02","CCP_22"]
[null,null,null,"Servicios de educación informal en temas de la Superintendencia de Industria y Comercio (6)","Realizar capacitaciones para promover y divulgar el derecho fundamental a la protección de datos personales a los Titulares y vigilados",null,"OBJ_9_2","PRO_12_2_2","ACT_12_2_2_1",null,"C-3503-0200-0009-0000-3503024-02","CCP_23"]
[null,null,null,"Servicio de atención al ciudadano","Realizar capacitaciones sobre el cumplimiento de deberes de los sujetos obligados ",null,"OBJ_5_1","PRO_12_2_2","ACT_12_2_2_2",null,"C-3599-0200-0005-0000-3599007-02","CCP_24"]
[null,null,null,"Servicio de Gestión Documental","Actualizar y mantener el laboratorio de informática forense para su adecuado funcionamiento",null,"OBJ_5_2","PRO_13_1_1","ACT_13_1_1_1",null,"C-3599-0200-0005-0000-3599066-02","CCP_25"]
[null,null,null,"Servicios de información implementados","Atender los casos y solicitudes presentadas en materia de protección de la libre competencia económica de los mercados. ",null,"OBJ_6_1","PRO_13_1_1","ACT_13_1_1_2",null,"C-3599-0200-0006-0000-3599922-02","CCP_26"]
[null,null,null,"Sedes adecuadas","Capacitar al recurso humano en temas de libre competencia económica de los mercados. ",null,"OBJ_7_1","PRO_13_1_1","ACT_13_1_1_3",null,"C-3599-0200-0007-0000-3599011-02","CCP_27"]
[null,null,null,"Sedes mantenidas","Dotar el laboratorio de informática forense para su adecuado funcionamiento",null,"OBJ_7_1","PRO_13_1_1","ACT_13_1_1_4",null,"C-3599-0200-0007-0000-3599016-02","CCP_28"]
[null,null,null,"Servicio de Educación informal para la gestión Administrativa","Participar en foros y eventos de caracter nacional e internacional ",null,"OBJ_8_1","PRO_13_1_1","ACT_13_1_1_5",null,"C-3599-0200-0008-0000-3599072-02","CCP_29"]
[null,null,null,"Servicio de Implementación Sistema de Gestión","Compilar los actos administrativos relacionados con funciones de la SIC en materia de Protección de la Competencia",null,"OBJ_8_1","PRO_13_2_1","ACT_13_2_1_1",null,"C-3599-0200-0008-0000-3599925-02","CCP_30"]
[null,null,null,null,"Realizar campañas en medios de comunicación que promuevan la protección de la competencia",null,null,"PRO_13_2_1","ACT_13_2_1_2"]
[null,null,null,null,"Realizar foros, eventos y campañas de divulgación",null,null,"PRO_13_2_1","ACT_13_2_1_3"]
[null,null,null,null,"Generar y divulgar publicaciones en materia de propiedad industrial en medios impresos o digitales",null,null,"PRO_14_1_1","ACT_14_1_1_1"]
[null,null,null,null,"Realizar y/o participar en foros o eventos de carácter nacional o internacional en materia de Propiedad Industrial",null,null,"PRO_14_1_1","ACT_14_1_1_2"]
[null,null,null,null,"Mantener e implementar los Centros de apoyo a la Tecnologia e Innovación en el país",null,null,"PRO_14_1_2","ACT_14_1_2_1"]
[null,null,null,null,"Participar en programas que promuevan la presentación de solicitudes de patente por parte de residentes a nivel nacional e internacional.",null,null,"PRO_14_1_2","ACT_14_1_2_2"]
[null,null,null,null,"Realizar orientaciones a los usuarios en temas de propiedad industrial.",null,null,"PRO_14_1_2","ACT_14_1_2_3"]
[null,null,null,null,"Realizar talleres de formación dentro del programa CATI.",null,null,"PRO_14_1_3","ACT_14_1_3_1"]
[null,null,null,null,"Realizar talleres de transferencia de tecnología, para inventores nacionales. ",null,null,"PRO_14_1_3","ACT_14_1_3_2"]
[null,null,null,null,"Atender las solicitudes presentadas en materia de signos distintivos y nuevas creaciones.",null,null,"PRO_14_2_1","ACT_14_2_1_1"]
[null,null,null,null,"Atender los servicios de información tecnológica con las herramientas necesarias para su trámite.",null,null,"PRO_14_2_1","ACT_14_2_1_2"]
[null,null,null,null,"Atender trámites de Protección al Consumidor",null,null,"PRO_15_1_1","ACT_15_1_1_1"]
[null,null,null,null,"Capacitar al recurso humano",null,null,"PRO_15_1_1","ACT_15_1_1_2"]
[null,null,null,null,"Participar en las diferentes actividades programadas por organismos nacionales e internacionales ",null,null,"PRO_15_1_1","ACT_15_1_1_3"]
[null,null,null,null,"Generar y divulgar contenidos en cartillas o folletos en medio digital o impreso",null,null,"PRO_15_2_1","ACT_15_2_1_1"]
[null,null,null,null,"Realizar foros y/o eventos de carácter nacional e internacional.",null,null,"PRO_15_2_1","ACT_15_2_1_2"]
[null,null,null,null,"Realizar programas educativos en medios masivos ",null,null,"PRO_15_2_1","ACT_15_2_1_3"]
[null,null,null,null,"Elaborar talleres para el fortalecimiento de la red de producto seguro ",null,null,"PRO_15_2_2","ACT_15_2_2_1"]
[null,null,null,null,"Realizar charlas de difusión de los derechos de los consumidores en diferentes municipios del país.",null,null,"PRO_15_2_2","ACT_15_2_2_2"]
[null,null,null,null,"Administrar y mantener los Sistemas de Información utilizados en el marco del SICAL",null,null,"PRO_16_1_1","ACT_16_1_1_1"]
[null,null,null,null,"Atender trámites en materia del SICAL, al régimen de control de precios y al sector valuatorio del país",null,null,"PRO_16_1_1","ACT_16_1_1_2"]
[null,null,null,null,"Capacitar al recurso humano",null,null,"PRO_16_1_1","ACT_16_1_1_3"]
[null,null,null,null,"Expedir reglamentos técnicos metrológicos aplicables a instrumentos de medición sujetos a control metrológico.",null,null,"PRO_16_1_1","ACT_16_1_1_4"]
[null,null,null,null,"Mantener  e  implementar los laboratorios de calibración",null,null,"PRO_16_1_1","ACT_16_1_1_5"]
[null,null,null,null,"Participar en eventos de carácter nacional e internacional en temas de Metrología legal y Reglamentos técnicos.",null,null,"PRO_16_1_1","ACT_16_1_1_6"]
[null,null,null,null,"Generar y divulgar contenidos en cartillas o folletos en medio digital o impreso",null,null,"PRO_16_2_1","ACT_16_2_1_1"]
[null,null,null,null,"Realizar foros y/o eventos de carácter nacional e internacional.",null,null,"PRO_16_2_1","ACT_16_2_1_2"]
[null,null,null,null,"Realizar capacitaciones en temas relacionados con la metrología legal ",null,null,"PRO_16_2_2","ACT_16_2_2_1"]
[null,null,null,null,"Realizar capacitaciones en temas relacionados con reglamentos técnicos ",null,null,"PRO_16_2_2","ACT_16_2_2_2"]
[null,null,null,null,"Ejecutar estrategias de acompañamiento y brindar apoyo de implementación, operación y sostenimiento a los proyectos elaborados por miembros de la Red Nacional de Protección al Consumidor a nivel regional.",null,null,"PRO_9_1_1","ACT_9_1_1_1"]
[null,null,null,null,"Ejecutar estrategias de promoción, prevención y articulación para la protección de los consumidores dirigidas a tenderos y comerciantes",null,null,"PRO_9_1_1","ACT_9_1_1_2"]
[null,null,null,null,"Implementar y mantener en operación las casas del consumidor a nivel nacional",null,null,"PRO_9_1_1","ACT_9_1_1_3"]
[null,null,null,null,"Implementar y mantener en operación las unidades móviles",null,null,"PRO_9_1_1","ACT_9_1_1_4"]
[null,null,null,null,"Mantener y actualizar las soluciones informáticas para apoyar las actividades de la Red Nacional de Protección al Consumidor.",null,null,"PRO_9_1_1","ACT_9_1_1_5"]
[null,null,null,null,"Generar y divulgar contenidos para dar a conocer el Estatuto de Protección al Consumidor",null,null,"PRO_9_2_1","ACT_9_2_1_1"]
[null,null,null,null,"Generar y divulgar material sobre las normas de protección al consumidor",null,null,"PRO_9_2_1","ACT_9_2_1_2"]
[null,null,null,null,"Realizar capacitaciones a los miembros de la Red Nacional de Protección al Consumidor en todo el territorio nacional según la Ley 480 de 2011",null,null,"PRO_9_2_2","ACT_9_2_2_1"]
[null,null,null,null,"Realizar capacitaciones dirigidas a instituciones educativas, empresarios y población en el territorio nacional",null,null,"PRO_9_2_2","ACT_9_2_2_2"]
[null,null,null,null,"Diseñar e implementar cursos presenciales de formación.",null,null,"PRO_5_1_1","ACT_5_1_1_1"]
[null,null,null,null,"Diseñar e implementar cursos virtuales de formación.",null,null,"PRO_5_1_1","ACT_5_1_1_2"]
[null,null,null,null,"Diseñar e implementar la estrategia y/o campañas del servicio de divulgación",null,null,"PRO_5_1_1","ACT_5_1_1_3"]
[null,null,null,null,"Diseñar la estrategia de los  servicios de atención ",null,null,"PRO_5_1_1","ACT_5_1_1_4"]
[null,null,null,null,"Implementar y mantener las herramientas y plataformas del  servicio de atención",null,null,"PRO_5_1_1","ACT_5_1_1_5"]
[null,null,null,null,"Capacitar al recurso humano en temas de gestión documental ",null,null,"PRO_5_2_1","ACT_5_2_1_1"]
[null,null,null,null,"Digitalizar y Complementar expedientes de series documentales",null,null,"PRO_5_2_1","ACT_5_2_1_2"]
[null,null,null,null,"Implementar y mantener el Sistema de Documentos Electrónicos de la entidad",null,null,"PRO_5_2_1","ACT_5_2_1_3"]
[null,null,null,null,"Implementar y mantener los programas de gestión documental ",null,null,"PRO_5_2_1","ACT_5_2_1_4"]
[null,null,null,null,"Realizar inventario de series documentales ",null,null,"PRO_5_2_1","ACT_5_2_1_5"]
[null,null,null,null,"Tramitar los documentos de entrada y salida de la entidad",null,null,"PRO_5_2_1","ACT_5_2_1_6"]
[null,null,null,null,"Adquirir, instalar y mantener equipos, componentes y servicios  tecnológicos de procesamiento, almacenamiento y comunicaciones",null,null,"PRO_6_1_1","ACT_6_1_1_1"]
[null,null,null,null,"Capacitar al recurso humano en  tecnologías de la información y las comunicaciones y metodologías de desarrollo",null,null,"PRO_6_1_1","ACT_6_1_1_2"]
[null,null,null,null,"Implementar la mesa de servicios informaticos ",null,null,"PRO_6_1_1","ACT_6_1_1_3"]
[null,null,null,null,"Instalar y renovar software de la plataforma tecnológica existente y nueva",null,null,"PRO_6_1_1","ACT_6_1_1_4"]
[null,null,null,null,"Mantener y actualizar el Modelo de Seguridad y Privacidad de la Información",null,null,"PRO_6_1_1","ACT_6_1_1_5"]
[null,null,null,null,"Realizar mejoramientos, soporte y mantenimiento  de soluciones informáticas actuales y desarrollos de nuevas soluciones",null,null,"PRO_6_1_1","ACT_6_1_1_6"]
[null,null,null,null,"Adquirir equipos, medios de seguridad y aparatos eléctricos para la  sede de la  Superintendencia de Industria y Comercio",null,null,"PRO_7_1_1","ACT_7_1_1_1"]
[null,null,null,null,"Dotar las instalaciones físicas de la  Superintendencia de Industria y Comercio",null,null,"PRO_7_1_1","ACT_7_1_1_2"]
[null,null,null,null,"Realizar adecuaciones físicas a la sede de la  Superintendencia de Industria y Comercio",null,null,"PRO_7_1_1","ACT_7_1_1_3"]
[null,null,null,null,"Realizar el mantenimiento correctivo a la sede de la  Superintendencia de Industria y Comercio",null,null,"PRO_7_1_2","ACT_7_1_2_1"]
[null,null,null,null,"Realizar el mantenimiento preventivo a la sede de la  Superintendencia de Industria y Comercio",null,null,"PRO_7_1_2","ACT_7_1_2_2"]
[null,null,null,null,"Capacitar a gerentes publicos en temas de  direccionamiento estratégico",null,null,"PRO_8_1_1","ACT_8_1_1_1"]
[null,null,null,null,"Capacitar a los servidores publicos en competencias laborales y servicio al ciudadano",null,null,"PRO_8_1_1","ACT_8_1_1_2"]
[null,null,null,null,"Diseñar e implementar el modelo de seguimiento y evaluación del desempeño institucional",null,null,"PRO_8_1_2","ACT_8_1_2_1"]
[null,null,null,null,"Diseñar e implementar el programa de Gestión de la Información y comunicación",null,null,"PRO_8_1_2","ACT_8_1_2_2"]
[null,null,null,null,"Diseñar e implementar la estrategia de gestión de conocimiento e innovación ",null,null,"PRO_8_1_2","ACT_8_1_2_3"]
[null,null,null,null,"Diseñar e implementar las rutas de creación de valor de la política de gestión estratégica del talento humano",null,null,"PRO_8_1_2","ACT_8_1_2_4"]
[null,null,null,null,"Mantener y mejorar la Política de Defensa Jurídica institucional",null,null,"PRO_8_1_2","ACT_8_1_2_5"]
[null,null,null,null,"Mejorar el  Sistema Integral de Gestión Institucional en el marco del Modelo Integrado de Planeación y Gestión",null,null,"PRO_8_1_2","ACT_8_1_2_6"]
[null,null,null,null,"Rediseñar e implementar la estrategia de transparencia y participación ciudadana",null,null,"PRO_8_1_2","ACT_8_1_2_7"]
[null,null,null,null,"Rediseñar e implementar la política de direccionamiento estratégico y planeación institucional",null,null,"PRO_8_1_2","ACT_8_1_2_8"]
[null,null,null,null,"Rediseñar e implementar la política institucional de gestión del riesgo ",null,null,"PRO_8_1_2","ACT_8_1_2_9"]
[null,null,"N/A"]
[]
[]
[null,"PROY.INV","OBJ.ESP","PRODUCTO","ACTIVIDAD","PROY.INV","OBJ.ESP","PRODUCTO","ACTIVIDAD"]
[null,"C-3503-0200-10","Ampliar la cobertura de control y vigilancia a las cámaras de comercio y comerciantes del país","Servicios de inspección,vigilancia y control a las cámaras de comercio y comerciantes","Atender los trámites relacionados con la Vigilancia a las Cámaras de Comercio y comerciantes","PRY_10","OBJ_10_1","PRO_10_1_1","ACT_10_1_1_1"]
[null,null,null,null,"Capacitar al recurso humano en temas relacionados con el control y la vigilancia a las Cámaras de Comercio y a los Comerciantes","PRY_10","OBJ_10_1","PRO_10_1_1","ACT_10_1_1_2"]
[null,null,null,null,"Participar en las diferentes actividades programadas por organismos nacionales e internacionales ","PRY_10","OBJ_10_1","PRO_10_1_1","ACT_10_1_1_3"]
[null,null,null,null,"Realizar mantenimiento y actualización del Sistema de Administración Integral de RiesgosSAIR","PRY_10","OBJ_10_1","PRO_10_1_1","ACT_10_1_1_4"]
[null,null,"Aumentar el conocimiento en las normas por parte de las Cámaras de Comercio y comerciantes","Servicios de educación informal en temas de la Superintendencia de Industria y Comercio (1)","Capacitar a las Cámaras de Comercio en temas relacionados con la normatividad aplicable","PRY_10","OBJ_10_2","PRO_10_2_1","ACT_10_2_1_1"]
[null,null,null,null,"Capacitar los Comerciantes en temas relacionados con la normatividad aplicable","PRY_10","OBJ_10_2","PRO_10_2_1","ACT_10_2_1_2"]
[null,null,"Promover las funciones de las cámaras de comercio y las obligaciones de los comerciantes frente a las normas que los rigen","Servicio de divulgación de temas misionales de la SIC (1)","Generar y divulgar contenidos en cartillas o folletos en medio digital e impresos","PRY_10","OBJ_10_3","PRO_10_3_1","ACT_10_3_1_1"]
[null,null,null,null,"Realizar  foros, eventos y campañas de divulgación","PRY_10","OBJ_10_3","PRO_10_3_1","ACT_10_3_1_2"]
[null,"C-3503-0200-11","Mejorar los niveles de atención y oportunidad de trámites jurisdiccionales","Servicio jurisdiccionales para la protección del consumidor, la competencia y la propiedad industrial","Atender trámites en materia de Asuntos Jurisdiccionales.  ","PRY_11","OBJ_11_1","PRO_11_1_1","ACT_11_1_1_1"]
[null,null,null,null,"Capacitar al recurso humano","PRY_11","OBJ_11_1","PRO_11_1_1","ACT_11_1_1_2"]
[null,null,null,null,"Notificar los trámites judiciales en los terminos establecidos por la Ley.","PRY_11","OBJ_11_1","PRO_11_1_1","ACT_11_1_1_3"]
[null,null,"Promover el uso de las normas procesales aplicables en temas jurisdiccionales","Servicio de divulgación de temas misionales de la SIC (2)","Generar y divulgar contenidos en materia de Competencia Desleal, propiedad industrial y protección al consumidor, en medios digitales o impresos. ","PRY_11","OBJ_11_2","PRO_11_2_1","ACT_11_2_1_1"]
[null,null,null,null,"Realizar eventos de divulgación en materia de procesos Jurisdiccionales","PRY_11","OBJ_11_2","PRO_11_2_1","ACT_11_2_1_2"]
[null,"C-3503-0200-12","Aumentar la eficiencia del control y vigilancia a los sujetos obligados","Servicios de inspección, vigilancia y control para la protección de los datos personales.","Administrar el Registro Nacional de Bases de Datos","PRY_12","OBJ_12_1","PRO_12_1_1","ACT_12_1_1_1"]
[null,null,null,null,"Capacitar al recurso humano en temas de protección a datos personales","PRY_12","OBJ_12_1","PRO_12_1_1","ACT_12_1_1_2"]
[null,null,null,null,"Implementar y mantener una herramienta para la optimización y aprovechamiento de la información contenida en el Sistema Integral de Supervisión InteligenteSISI ","PRY_12","OBJ_12_1","PRO_12_1_1","ACT_12_1_1_3"]
[null,null,null,null,"Mantener y actualizar el Sistema Integral de Supervisión InteligenteSISI y el Registro Nacional de Bases de Datos","PRY_12","OBJ_12_1","PRO_12_1_1","ACT_12_1_1_4"]
[null,null,null,null,"Participar en las diferentes actividades programadas por organismos nacionales e internacionales ","PRY_12","OBJ_12_1","PRO_12_1_1","ACT_12_1_1_5"]
[null,null,null,null,"Realizar procesos de supervisión","PRY_12","OBJ_12_1","PRO_12_1_1","ACT_12_1_1_6"]
[null,null,"Promover el conocimiento de los titulares y vigilados sobre la normatividad del derecho de protección de datos personales","Servicio de divulgación de temas misionales de la SIC (3)","Generar y divulgar guías y cartillas relacionadas con las funciones de la SIC en materia de protección de datos personales","PRY_12","OBJ_12_2","PRO_12_2_1","ACT_12_2_1_1"]
[null,null,null,null,"Realizar campañas de divulgación en materia de protección de datos personales","PRY_12","OBJ_12_2","PRO_12_2_1","ACT_12_2_1_2"]
[null,null,null,null,"Realizar foros y eventos de divulgación en materia de protección de datos personales dirigidas a Titulares y Vigilados ","PRY_12","OBJ_12_2","PRO_12_2_1","ACT_12_2_1_3"]
[null,null,null,"Servicios de educación informal en temas de la Superintendencia de Industria y Comercio (2)","Realizar capacitaciones para promover y divulgar el derecho fundamental a la protección de datos personales a los Titulares y vigilados","PRY_12","OBJ_12_2","PRO_12_2_2","ACT_12_2_2_1"]
[null,null,null,null,"Realizar capacitaciones sobre el cumplimiento de deberes de los sujetos obligados ","PRY_12","OBJ_12_2","PRO_12_2_2","ACT_12_2_2_2"]
[null,"C-3503-0200-13","Mejorar los niveles de atención y oportunidad de los trámites y servicios en materia de protección de la competencia","Servicio para la protección de la competencia","Actualizar y mantener el laboratorio de informática forense para su adecuado funcionamiento","PRY_13","OBJ_13_1","PRO_13_1_1","ACT_13_1_1_1"]
[null,null,null,null,"Atender los casos y solicitudes presentadas en materia de protección de la libre competencia económica de los mercados. ","PRY_13","OBJ_13_1","PRO_13_1_1","ACT_13_1_1_2"]
[null,null,null,null,"Capacitar al recurso humano en temas de libre competencia económica de los mercados. ","PRY_13","OBJ_13_1","PRO_13_1_1","ACT_13_1_1_3"]
[null,null,null,null,"Dotar el laboratorio de informática forense para su adecuado funcionamiento","PRY_13","OBJ_13_1","PRO_13_1_1","ACT_13_1_1_4"]
[null,null,null,null,"Participar en foros y eventos de caracter nacional e internacional ","PRY_13","OBJ_13_1","PRO_13_1_1","ACT_13_1_1_5"]
[null,null,"Promocionar los temas de protección a la competencia","Servicio de divulgación de temas misionales de la SIC (4)","Compilar los actos administrativos relacionados con funciones de la SIC en materia de Protección de la Competencia","PRY_13","OBJ_13_2","PRO_13_2_1","ACT_13_2_1_1"]
[null,null,null,null,"Realizar campañas en medios de comunicación que promuevan la protección de la competencia","PRY_13","OBJ_13_2","PRO_13_2_1","ACT_13_2_1_2"]
[null,null,null,null,"Realizar foros, eventos y campañas de divulgación","PRY_13","OBJ_13_2","PRO_13_2_1","ACT_13_2_1_3"]
[null,"C-3503-0200-14","Aumentar la cobertura en la difusión del sistema de Propiedad industrial y sus beneficios","Servicio de divulgación de temas misionales de la SIC (5)","Generar y divulgar publicaciones en materia de propiedad industrial en medios impresos o digitales","PRY_14","OBJ_14_1","PRO_14_1_1","ACT_14_1_1_1"]
[null,null,null,null,"Realizar y/o participar en foros o eventos de carácter nacional o internacional en materia de Propiedad Industrial","PRY_14","OBJ_14_1","PRO_14_1_1","ACT_14_1_1_2"]
[null,null,null,"Servicio para promover la propiedad industrial ","Mantener e implementar los Centros de apoyo a la Tecnologia e Innovación en el país","PRY_14","OBJ_14_1","PRO_14_1_2","ACT_14_1_2_1"]
[null,null,null,null,"Participar en programas que promuevan la presentación de solicitudes de patente por parte de residentes a nivel nacional e internacional.","PRY_14","OBJ_14_1","PRO_14_1_2","ACT_14_1_2_2"]
[null,null,null,null,"Realizar orientaciones a los usuarios en temas de propiedad industrial.","PRY_14","OBJ_14_1","PRO_14_1_2","ACT_14_1_2_3"]
[null,null,null,"Servicios de educación informal en temas de la Superintendencia de Industria y Comercio (3)","Realizar talleres de formación dentro del programa CATI.","PRY_14","OBJ_14_1","PRO_14_1_3","ACT_14_1_3_1"]
[null,null,null,null,"Realizar talleres de transferencia de tecnología, para inventores nacionales. ","PRY_14","OBJ_14_1","PRO_14_1_3","ACT_14_1_3_2"]
[null,null,"Mejorar la atención de trámites y servicios en materia de Propiedad Industrial","Servicio de registro de propiedad industrial e información tecnológica","Atender las solicitudes presentadas en materia de signos distintivos y nuevas creaciones.","PRY_14","OBJ_14_2","PRO_14_2_1","ACT_14_2_1_1"]
[null,null,null,null,"Atender los servicios de información tecnológica con las herramientas necesarias para su trámite.","PRY_14","OBJ_14_2","PRO_14_2_1","ACT_14_2_1_2"]
[null,"C-3503-0200-15","Mejorar los niveles de atención y oportunidad de los trámites y denuncias en materia de Protección al Consumidor","Servicios de protección al consumidor dentro de las competencias de la SIC","Atender trámites de Protección al Consumidor","PRY_15","OBJ_15_1","PRO_15_1_1","ACT_15_1_1_1"]
[null,null,null,null,"Capacitar al recurso humano","PRY_15","OBJ_15_1","PRO_15_1_1","ACT_15_1_1_2"]
[null,null,null,null,"Participar en las diferentes actividades programadas por organismos nacionales e internacionales ","PRY_15","OBJ_15_1","PRO_15_1_1","ACT_15_1_1_3"]
[null,null,"Promover el cumplimiento de las disposiciones legales en materia de protección al consumidor por parte de los vigilados","Servicio de divulgación de temas misionales de la SIC (6)","Generar y divulgar contenidos en cartillas o folletos en medio digital o impreso","PRY_15","OBJ_15_2","PRO_15_2_1","ACT_15_2_1_1"]
[null,null,null,null,"Realizar foros y/o eventos de carácter nacional e internacional.","PRY_15","OBJ_15_2","PRO_15_2_1","ACT_15_2_1_2"]
[null,null,null,null,"Realizar programas educativos en medios masivos ","PRY_15","OBJ_15_2","PRO_15_2_1","ACT_15_2_1_3"]
[null,null,null,"Servicios de educación informal en temas de la Superintendencia de Industria y Comercio (4)","Elaborar talleres para el fortalecimiento de la red de producto seguro ","PRY_15","OBJ_15_2","PRO_15_2_2","ACT_15_2_2_1"]
[null,null,null,null,"Realizar charlas de difusión de los derechos de los consumidores en diferentes municipios del país.","PRY_15","OBJ_15_2","PRO_15_2_2","ACT_15_2_2_2"]
[null,"C-3503-0200-16","Mejorar los niveles de atención y oportunidad de trámites en materia de inspección,  vigilancia y control  en temas asociados al SICAL, al régimen de control de precios y al sector valuatorio del país","Servicio de inspección, vigilancia y control en temas asociados al SICAL, al régimen de control de precios y al sector valuatorio del país","Administrar y mantener los Sistemas de Información utilizados en el marco del SICAL","PRY_16","OBJ_16_1","PRO_16_1_1","ACT_16_1_1_1"]
[null,null,null,null,"Atender trámites en materia del SICAL, al régimen de control de precios y al sector valuatorio del país","PRY_16","OBJ_16_1","PRO_16_1_1","ACT_16_1_1_2"]
[null,null,null,null,"Capacitar al recurso humano","PRY_16","OBJ_16_1","PRO_16_1_1","ACT_16_1_1_3"]
[null,null,null,null,"Expedir reglamentos técnicos metrológicos aplicables a instrumentos de medición sujetos a control metrológico.","PRY_16","OBJ_16_1","PRO_16_1_1","ACT_16_1_1_4"]
[null,null,null,null,"Mantener  e  implementar los laboratorios de calibración","PRY_16","OBJ_16_1","PRO_16_1_1","ACT_16_1_1_5"]
[null,null,null,null,"Participar en eventos de carácter nacional e internacional en temas de Metrología legal y Reglamentos técnicos.","PRY_16","OBJ_16_1","PRO_16_1_1","ACT_16_1_1_6"]
[null,null,"Promover la divulgación de las actividades adelantadas por la SIC dentro del SICAL,  el régimen de control de  precios y el sistema valuatorio del país","Servicio de divulgación de temas misionales de la SIC (7)","Generar y divulgar contenidos en cartillas o folletos en medio digital o impreso","PRY_16","OBJ_16_2","PRO_16_2_1","ACT_16_2_1_1"]
[null,null,null,null,"Realizar foros y/o eventos de carácter nacional e internacional.","PRY_16","OBJ_16_2","PRO_16_2_1","ACT_16_2_1_2"]
[null,null,null,"Servicios de educación informal en temas de la Superintendencia de Industria y Comercio (5)","Realizar capacitaciones en temas relacionados con la metrología legal ","PRY_16","OBJ_16_2","PRO_16_2_2","ACT_16_2_2_1"]
[null,null,null,null,"Realizar capacitaciones en temas relacionados con reglamentos técnicos ","PRY_16","OBJ_16_2","PRO_16_2_2","ACT_16_2_2_2"]
[null,"C-3503-0200-9","Descentralizar los servicios de la Red Nacional de Protección al Consumidor","Servicios de apoyo para la consolidación de la red nacional de protección al consumidor","Ejecutar estrategias de acompañamiento y brindar apoyo de implementación, operación y sostenimiento a los proyectos elaborados por miembros de la Red Nacional de Protección al Consumidor a nivel regional.","PRY_9","OBJ_9_1","PRO_9_1_1","ACT_9_1_1_1"]
[null,null,null,null,"Ejecutar estrategias de promoción, prevención y articulación para la protección de los consumidores dirigidas a tenderos y comerciantes","PRY_9","OBJ_9_1","PRO_9_1_1","ACT_9_1_1_2"]
[null,null,null,null,"Implementar y mantener en operación las casas del consumidor a nivel nacional","PRY_9","OBJ_9_1","PRO_9_1_1","ACT_9_1_1_3"]
[null,null,null,null,"Implementar y mantener en operación las unidades móviles","PRY_9","OBJ_9_1","PRO_9_1_1","ACT_9_1_1_4"]
[null,null,null,null,"Mantener y actualizar las soluciones informáticas para apoyar las actividades de la Red Nacional de Protección al Consumidor.","PRY_9","OBJ_9_1","PRO_9_1_1","ACT_9_1_1_5"]
[null,null,"Promover la cultura de consumo en temas relacionados con el Estatuto de Protección al Consumidor","Servicio de divulgación de temas misionales de la SIC (8)","Generar y divulgar contenidos para dar a conocer el Estatuto de Protección al Consumidor","PRY_9","OBJ_9_2","PRO_9_2_1","ACT_9_2_1_1"]
[null,null,null,null,"Generar y divulgar material sobre las normas de protección al consumidor","PRY_9","OBJ_9_2","PRO_9_2_1","ACT_9_2_1_2"]
[null,null,null,"Servicios de educación informal en temas de la Superintendencia de Industria y Comercio (6)","Capacitar de forma activa y gradual a los miembros de la Red Nacional de Protección al Consumidor en todo el territorio nacional según la Ley 480 de 20","PRY_9","OBJ_9_2","PRO_9_2_2","ACT_9_2_2_1"]
[null,null,null,null,"Realizar capacitaciones dirigidas a instituciones educativas, empresarios y población en el territorio nacional","PRY_9","OBJ_9_2","PRO_9_2_2","ACT_9_2_2_2"]
[null,"C-3599-0200-5","Mejorar el conocimiento y la comunicación con los ciudadanos, en relación con las funciones, trámites y servicios brindados por la entidad","Servicio de atención al ciudadano","Diseñar e implementar cursos presenciales de formación.","PRY_5","OBJ_5_1","PRO_5_1_1","ACT_5_1_1_1"]
[null,null,null,null,"Diseñar e implementar cursos virtuales de formación.","PRY_5","OBJ_5_1","PRO_5_1_1","ACT_5_1_1_2"]
[null,null,null,null,"Diseñar e implementar la estrategia y/o campañas del servicio de divulgación","PRY_5","OBJ_5_1","PRO_5_1_1","ACT_5_1_1_3"]
[null,null,null,null,"Diseñar la estrategia de los  servicios de atención ","PRY_5","OBJ_5_1","PRO_5_1_1","ACT_5_1_1_4"]
[null,null,null,null,"Implementar y mantener las herramientas y plataformas del  servicio de atención","PRY_5","OBJ_5_1","PRO_5_1_1","ACT_5_1_1_5"]
[null,null,"Optimizar la Gestión Documental de la Entidad","Servicio de Gestión Documental","Capacitar al recurso humano en temas de gestión documental ","PRY_5","OBJ_5_2","PRO_5_2_1","ACT_5_2_1_1"]
[null,null,null,null,"Digitalizar y Complementar expedientes de series documentales","PRY_5","OBJ_5_2","PRO_5_2_1","ACT_5_2_1_2"]
[null,null,null,null,"Implementar y mantener el Sistema de Documentos Electrónicos de la entidad","PRY_5","OBJ_5_2","PRO_5_2_1","ACT_5_2_1_3"]
[null,null,null,null,"Implementar y mantener los programas de gestión documental ","PRY_5","OBJ_5_2","PRO_5_2_1","ACT_5_2_1_4"]
[null,null,null,null,"Realizar inventario de series documentales ","PRY_5","OBJ_5_2","PRO_5_2_1","ACT_5_2_1_5"]
[null,null,null,null,"Tramitar los documentos de entrada y salida de la entidad","PRY_5","OBJ_5_2","PRO_5_2_1","ACT_5_2_1_6"]
[null,"C-3599-0200-6","Garantizar Sistemas de información y servicios tecnológicos modernos y efectivos ","Servicios de información implementados","Adquirir, instalar y mantener equipos, componentes y servicios  tecnológicos de procesamiento, almacenamiento y comunicaciones","PRY_6","OBJ_6_1","PRO_6_1_1","ACT_6_1_1_1"]
[null,null,null,null,"Capacitar al recurso humano en  tecnologías de la información y las comunicaciones y metodologías de desarrollo","PRY_6","OBJ_6_1","PRO_6_1_1","ACT_6_1_1_2"]
[null,null,null,null,"Implementar la mesa de servicios informaticos ","PRY_6","OBJ_6_1","PRO_6_1_1","ACT_6_1_1_3"]
[null,null,null,null,"Instalar y renovar software de la plataforma tecnológica existente y nueva","PRY_6","OBJ_6_1","PRO_6_1_1","ACT_6_1_1_4"]
[null,null,null,null,"Mantener y actualizar el Modelo de Seguridad y Privacidad de la Información","PRY_6","OBJ_6_1","PRO_6_1_1","ACT_6_1_1_5"]
[null,null,null,null,"Realizar mejoramientos, soporte y mantenimiento  de soluciones informáticas actuales y desarrollos de nuevas soluciones","PRY_6","OBJ_6_1","PRO_6_1_1","ACT_6_1_1_6"]
[null,"C-3599-0200-7","Contar con bienes muebles e inmuebles que cumplan con las normas sobre salud, seguridad y medio ambiente","Sedes adecuadas","Adquirir equipos, medios de seguridad y aparatos eléctricos para la  sede de la  Superintendencia de Industria y Comercio","PRY_7","OBJ_7_1","PRO_7_1_1","ACT_7_1_1_1"]
[null,null,null,null,"Dotar las instalaciones físicas de la  Superintendencia de Industria y Comercio","PRY_7","OBJ_7_1","PRO_7_1_1","ACT_7_1_1_2"]
[null,null,null,null,"Realizar adecuaciones físicas a la sede de la  Superintendencia de Industria y Comercio","PRY_7","OBJ_7_1","PRO_7_1_1","ACT_7_1_1_3"]
[null,null,null,"Sedes mantenidas","Realizar el mantenimiento correctivo a la sede de la  Superintendencia de Industria y Comercio","PRY_7","OBJ_7_1","PRO_7_1_2","ACT_7_1_2_1"]
[null,null,null,null,"Realizar el mantenimiento preventivo a la sede de la  Superintendencia de Industria y Comercio","PRY_7","OBJ_7_1","PRO_7_1_2","ACT_7_1_2_2"]
[null,"C-3599-0200-8","Fortalecer la implementación y  la articulación de los sistemas de  gestión","Servicio de Educación informal para la gestión Administrativa","Capacitar a gerentes publicos en temas de  direccionamiento estratégico","PRY_8","OBJ_8_1","PRO_8_1_1","ACT_8_1_1_1"]
[null,null,null,null,"Capacitar a los servidores publicos en competencias laborales y servicio al ciudadano","PRY_8","OBJ_8_1","PRO_8_1_1","ACT_8_1_1_2"]
[null,null,null,"Servicio de Implementación Sistema de Gestión","Diseñar e implementar el modelo de seguimiento y evaluación del desempeño institucional","PRY_8","OBJ_8_1","PRO_8_1_2","ACT_8_1_2_1"]
[null,null,null,null,"Diseñar e implementar el programa de Gestión de la Información y comunicación","PRY_8","OBJ_8_1","PRO_8_1_2","ACT_8_1_2_2"]
[null,null,null,null,"Diseñar e implementar la estrategia de gestión de conocimiento e innovación ","PRY_8","OBJ_8_1","PRO_8_1_2","ACT_8_1_2_3"]
[null,null,null,null,"Diseñar e implementar las rutas de creación de valor de la política de gestión estratégica del talento humano","PRY_8","OBJ_8_1","PRO_8_1_2","ACT_8_1_2_4"]
[null,null,null,null,"Mantener y mejorar la Política de Defensa Jurídica institucional","PRY_8","OBJ_8_1","PRO_8_1_2","ACT_8_1_2_5"]
[null,null,null,null,"Mejorar el  Sistema Integral de Gestión Institucional en el marco del Modelo Integrado de Planeación y Gestión","PRY_8","OBJ_8_1","PRO_8_1_2","ACT_8_1_2_6"]
[null,null,null,null,"Rediseñar e implementar la estrategia de transparencia y participación ciudadana","PRY_8","OBJ_8_1","PRO_8_1_2","ACT_8_1_2_7"]
[null,null,null,null,"Rediseñar e implementar la política de direccionamiento estratégico y planeación institucional","PRY_8","OBJ_8_1","PRO_8_1_2","ACT_8_1_2_8"]
[null,null,null,null,"Rediseñar e implementar la política institucional de gestión del riesgo ","PRY_8","OBJ_8_1","PRO_8_1_2","ACT_8_1_2_9"]
[]
[]
[null,null,"CUENTA SIMPLE",null,null,"CUENTA CONSOLIDADA"]
[null,"PROY.INV","OBJ.ESP","PRODUCTO","ACTIVIDAD","OBJ.ESP","PRODUCTO","ACTIVIDAD"]
[null,"C-3503-0200-10",1,1,1,{"$f":"+COUNT(C375:C382)","v":3},{"$f":"+COUNT(D375:D382)","v":3},{"$f":"+COUNT(E375:E382)","v":8}]
[null,null,null,null,2]
[null,null,null,null,3]
[null,null,null,null,4]
[null,null,2,1,1]
[null,null,null,null,2]
[null,null,3,1,1]
[null,null,null,null,2]
[null,"C-3503-0200-11",1,1,1,{"$f":"+COUNT(C383:C387)","v":2},{"$f":"+COUNT(D383:D387)","v":2},{"$f":"+COUNT(E383:E387)","v":5}]
[null,null,null,null,2]
[null,null,null,null,3]
[null,null,2,1,1]
[null,null,null,null,2]
[null,"C-3503-0200-12",1,1,1,{"$f":"+COUNT(C388:C398)","v":2},{"$f":"+COUNT(D388:D398)","v":3},{"$f":"+COUNT(E388:E398)","v":11}]
[null,null,null,null,2]
[null,null,null,null,3]
[null,null,null,null,4]
[null,null,null,null,5]
[null,null,null,null,6]
[null,null,2,1,1]
[null,null,null,null,2]
[null,null,null,null,3]
[null,null,null,2,1]
[null,null,null,null,2]
[null,"C-3503-0200-13",1,1,1,{"$f":"+COUNT(C399:C406)","v":2},{"$f":"+COUNT(D399:D406)","v":2},{"$f":"+COUNT(E399:E406)","v":8}]
[null,null,null,null,2]
[null,null,null,null,3]
[null,null,null,null,4]
[null,null,null,null,5]
[null,null,2,1,1]
[null,null,null,null,2]
[null,null,null,null,3]
[null,"C-3503-0200-14",1,1,1,{"$f":"+COUNT(C407:C415)","v":2},{"$f":"+COUNT(D407:D415)","v":4},{"$f":"+COUNT(E407:E415)","v":9}]
[null,null,null,null,2]
[null,null,null,2,1]
[null,null,null,null,2]
[null,null,null,null,3]
[null,null,null,3,1]
[null,null,null,null,2]
[null,null,2,1,1]
[null,null,null,null,2]
[null,"C-3503-0200-15",1,1,1,{"$f":"+COUNT(C416:C423)","v":2},{"$f":"+COUNT(D416:D423)","v":3},{"$f":"+COUNT(E416:E423)","v":8}]
[null,null,null,null,2]
[null,null,null,null,3]
[null,null,2,1,1]
[null,null,null,null,2]
[null,null,null,null,3]
[null,null,null,2,1]
[null,null,null,null,2]
[null,"C-3503-0200-16",1,1,1,{"$f":"+COUNT(C424:C433)","v":2},{"$f":"+COUNT(D424:D433)","v":3},{"$f":"+COUNT(E424:E433)","v":10}]
[null,null,null,null,2]
[null,null,null,null,3]
[null,null,null,null,4]
[null,null,null,null,5]
[null,null,null,null,6]
[null,null,2,1,1]
[null,null,null,null,2]
[null,null,null,2,1]
[null,null,null,null,2]
[null,"C-3503-0200-9",1,1,1,{"$f":"+COUNT(C434:C442)","v":2},{"$f":"+COUNT(D434:D442)","v":3},{"$f":"+COUNT(E434:E442)","v":9}]
[null,null,null,null,2]
[null,null,null,null,3]
[null,null,null,null,4]
[null,null,null,null,5]
[null,null,2,1,1]
[null,null,null,null,2]
[null,null,null,2,1]
[null,null,null,null,2]
[null,"C-3599-0200-5",1,1,1,{"$f":"+COUNT(C443:C453)","v":2},{"$f":"+COUNT(D443:D453)","v":2},{"$f":"+COUNT(E443:E453)","v":11}]
[null,null,null,null,2]
[null,null,null,null,3]
[null,null,null,null,4]
[null,null,null,null,5]
[null,null,2,1,1]
[null,null,null,null,2]
[null,null,null,null,3]
[null,null,null,null,4]
[null,null,null,null,5]
[null,null,null,null,6]
[null,"C-3599-0200-6",1,1,1,{"$f":"+COUNT(C454:C459)","v":1},{"$f":"+COUNT(D454:D459)","v":1},{"$f":"+COUNT(E454:E459)","v":6}]
[null,null,null,null,2]
[null,null,null,null,3]
[null,null,null,null,4]
[null,null,null,null,5]
[null,null,null,null,6]
[null,"C-3599-0200-7",1,1,1,{"$f":"+COUNT(C460:C464)","v":1},{"$f":"+COUNT(D460:D464)","v":2},{"$f":"+COUNT(E460:E464)","v":5}]
[null,null,null,null,2]
[null,null,null,null,3]
[null,null,null,2,1]
[null,null,null,null,2]
[null,"C-3599-0200-8",1,1,1,{"$f":"+COUNT(C465:C475)","v":1},{"$f":"+COUNT(D465:D475)","v":2},{"$f":"+COUNT(E465:E475)","v":11}]
[null,null,null,null,2]
[null,null,null,2,1]
[null,null,null,null,2]
[null,null,null,null,3]
[null,null,null,null,4]
[null,null,null,null,5]
[null,null,null,null,6]
[null,null,null,null,7]
[null,null,null,null,8]
[null,null,null,null,9]
[]
[]
[]
[]
[]
[]
[]
[null,"CCP FUNCIONAMIENTO",null,null,"ÁREA DE FUNCIONAMIENTO"]
[null,"A-02-01-01-003-008",null,null,"Grupo de Desarrollo de Talento Humano"]
[null,"A-02-01-01-004-004",null,null,"Despacho del Superintendente Delegado para la Proteccion del Consumidor"]
[null,"A-02-01-01-004-005",null,null,"Grupo de Administración de Personal"]
[null,"A-02-01-01-004-006",null,null,"Secretaria General"]
[null,"A-02-01-01-004-007",null,null,"Oficina de Tecnologia e Informatica"]
[null,"A-02-01-01-004-008",null,null,"Grupo de trabajo de Servicios Administrativos y Recursos Físicos"]
[null,"A-02-01-01-004-009"]
[null,"A-02-01-01-006-002",null,"Lista para columna \"D\" en formulación ASO_PLAN","SI"]
[null,"A-02-02-01-002-006",null,null,"NO"]
[null,"A-02-02-01-002-007"]
[null,"A-02-02-01-002-008"]
[null,"A-02-02-01-003-001"]
[null,"A-02-02-01-003-002"]
[null,"A-02-02-01-003-003"]
[null,"A-02-02-01-003-004"]
[null,"A-02-02-01-003-005"]
[null,"A-02-02-01-003-006"]
[null,"A-02-02-01-003-008"]
[null,"A-02-02-01-004-004"]
[null,"A-02-02-01-004-005"]
[null,"A-02-02-01-004-006"]
[null,"A-02-02-01-004-007"]
[null,"A-02-02-02-005-004"]
[null,"A-02-02-02-006-003"]
[null,"A-02-02-02-006-004"]
[null,"A-02-02-02-006-005"]
[null,"A-02-02-02-006-006"]
[null,"A-02-02-02-006-007"]
[null,"A-02-02-02-006-008"]
[null,"A-02-02-02-007-001"]
[null,"A-02-02-02-007-002"]
[null,"A-02-02-02-008-001"]
[null,"A-02-02-02-008-002"]
[null,"A-02-02-02-008-003"]
[null,"A-02-02-02-008-004"]
[null,"A-02-02-02-008-005"]
[null,"A-02-02-02-008-007"]
[null,"A-02-02-02-008-009"]
[null,"A-02-02-02-009-002"]
[null,"A-02-02-02-009-003"]
[null,"A-02-02-02-009-006"]
[null,"A-02-02-01-004-008"]
[null,"A-02-02-02-007-003"]
[null,"A-02-02-02-010"]